BEGIN:VCALENDAR
VERSION:2.0
PRODID:-//GoiásFomento - Agência de Fomento - ECPv6.15.20//NONSGML v1.0//EN
CALSCALE:GREGORIAN
METHOD:PUBLISH
X-ORIGINAL-URL:https://www.goiasfomento.com
X-WR-CALDESC:Eventos para GoiásFomento - Agência de Fomento
REFRESH-INTERVAL;VALUE=DURATION:PT1H
X-Robots-Tag:noindex
X-PUBLISHED-TTL:PT1H
BEGIN:VTIMEZONE
TZID:America/Sao_Paulo
BEGIN:STANDARD
TZOFFSETFROM:-0300
TZOFFSETTO:-0300
TZNAME:-03
DTSTART:20240101T000000
END:STANDARD
END:VTIMEZONE
BEGIN:VEVENT
DTSTART;VALUE=DATE:20251231
DTEND;VALUE=DATE:20260103
DTSTAMP:20260426T011043
CREATED:20251208T165552Z
LAST-MODIFIED:20251208T165552Z
UID:47516-1767139200-1767398399@www.goiasfomento.com
SUMMARY:Rivael Aguiar Pereira: Ponto Facultativo Conforme Decreto Estadual Nº 10.821 de 01 de dezembro de 2025.
DESCRIPTION:
URL:https://www.goiasfomento.com/agenda/rivael-aguiar-pereira-ponto-facultativo-conforme-decreto-estadual-no-10-821-de-01-de-dezembro-de-2025-2/
CATEGORIES:Presidência
END:VEVENT
BEGIN:VEVENT
DTSTART;VALUE=DATE:20251231
DTEND;VALUE=DATE:20260103
DTSTAMP:20260426T011043
CREATED:20251208T165941Z
LAST-MODIFIED:20251208T165941Z
UID:47520-1767139200-1767398399@www.goiasfomento.com
SUMMARY:Rufino Veríssimo: Ponto Facultativo Conforme Decreto Estadual Nº 10.821 de 01 de dezembro de 2025.
DESCRIPTION:
URL:https://www.goiasfomento.com/agenda/rufino-verissimo-ponto-facultativo-conforme-decreto-estadual-no-10-821-de-01-de-dezembro-de-2025-2/
CATEGORIES:Chefia de Gabinete
END:VEVENT
BEGIN:VEVENT
DTSTART;VALUE=DATE:20260101
DTEND;VALUE=DATE:20260102
DTSTAMP:20260426T011043
CREATED:20251202T115719Z
LAST-MODIFIED:20251202T115719Z
UID:47322-1767225600-1767311999@www.goiasfomento.com
SUMMARY:Vinícius Luz: Feriado Nacional – Dia Mundial da Paz.
DESCRIPTION:
URL:https://www.goiasfomento.com/agenda/vinicius-luz-feriado-nacional-dia-mundial-da-paz/
CATEGORIES:Diretoria de Operações
END:VEVENT
BEGIN:VEVENT
DTSTART;VALUE=DATE:20260101
DTEND;VALUE=DATE:20260102
DTSTAMP:20260426T011043
CREATED:20251202T115836Z
LAST-MODIFIED:20251202T115836Z
UID:47331-1767225600-1767311999@www.goiasfomento.com
SUMMARY:Lara Garcia: Feriado Nacional – Dia Mundial da Paz.
DESCRIPTION:
URL:https://www.goiasfomento.com/agenda/lara-garcia-feriado-nacional-dia-mundial-da-paz/
CATEGORIES:Diretoria Administrativa e Financeira
END:VEVENT
BEGIN:VEVENT
DTSTART;VALUE=DATE:20260102
DTEND;VALUE=DATE:20260103
DTSTAMP:20260426T011043
CREATED:20251202T111812Z
LAST-MODIFIED:20251202T111812Z
UID:47301-1767312000-1767398399@www.goiasfomento.com
SUMMARY:Vinícius Luz: Ponto Facultativo Conforme Decreto Estadual Nº 10.821 de 01 de dezembro de 2025.
DESCRIPTION:
URL:https://www.goiasfomento.com/agenda/vinicius-luz-ponto-facultativo-conforme-decreto-estadual-no-10-821-de-01-de-dezembro-de-2025-4/
CATEGORIES:Diretoria de Operações
END:VEVENT
BEGIN:VEVENT
DTSTART;VALUE=DATE:20260102
DTEND;VALUE=DATE:20260103
DTSTAMP:20260426T011043
CREATED:20251202T113737Z
LAST-MODIFIED:20251202T113737Z
UID:47317-1767312000-1767398399@www.goiasfomento.com
SUMMARY:Lara Garcia: Ponto Facultativo Conforme Decreto Estadual Nº 10.821 de 01 de dezembro de 2025.
DESCRIPTION:
URL:https://www.goiasfomento.com/agenda/lara-garcia-ponto-facultativo-conforme-decreto-estadual-no-10-821-de-01-de-dezembro-de-2025-4/
LOCATION:Gabinete da Diretoria Administrativa e Financeira – Agência de Fomento de Goiás.
CATEGORIES:Diretoria Administrativa e Financeira
END:VEVENT
BEGIN:VEVENT
DTSTART;TZID=America/Sao_Paulo:20260105T080000
DTEND;TZID=America/Sao_Paulo:20260105T120000
DTSTAMP:20260426T011043
CREATED:20260105T114554Z
LAST-MODIFIED:20260105T114554Z
UID:47794-1767600000-1767614400@www.goiasfomento.com
SUMMARY:Vinícius Luz (Diretor de Operações) em Substituição a Lara Garcia\, (férias do titular): Atendimentos e Despachos Internos.
DESCRIPTION:
URL:https://www.goiasfomento.com/agenda/vinicius-luz-diretor-de-operacoes-em-substituicao-a-lara-garcia-ferias-do-titular-atendimentos-e-despachos-internos-9/
LOCATION:Gabinete da Diretoria de Operações da GoiásFomento – Agência de Fomento de Goiás.
CATEGORIES:Diretoria Administrativa e Financeira
END:VEVENT
BEGIN:VEVENT
DTSTART;TZID=America/Sao_Paulo:20260105T080000
DTEND;TZID=America/Sao_Paulo:20260105T120000
DTSTAMP:20260426T011043
CREATED:20260105T132319Z
LAST-MODIFIED:20260105T132319Z
UID:47798-1767600000-1767614400@www.goiasfomento.com
SUMMARY:Vinícius Luz: Atendimentos e Despachos Internos.
DESCRIPTION:
URL:https://www.goiasfomento.com/agenda/vinicius-luz-atendimentos-e-despachos-internos-221/
LOCATION:Gabinete da Diretoria de Operações da GoiásFomento – Agência de Fomento de Goiás.
CATEGORIES:Diretoria de Operações
END:VEVENT
BEGIN:VEVENT
DTSTART;TZID=America/Sao_Paulo:20260105T080000
DTEND;TZID=America/Sao_Paulo:20260105T120000
DTSTAMP:20260426T011043
CREATED:20260105T132607Z
LAST-MODIFIED:20260105T132607Z
UID:47802-1767600000-1767614400@www.goiasfomento.com
SUMMARY:Rivael Aguiar Pereira: Atendimentos e Despachos Internos
DESCRIPTION:
URL:https://www.goiasfomento.com/agenda/rivael-aguiar-pereira-atendimentos-e-despachos-internos-221/
LOCATION:Gabinete da Presidência da GoiásFomento – Agência de Fomento de Goiás.
CATEGORIES:Presidência
END:VEVENT
BEGIN:VEVENT
DTSTART;TZID=America/Sao_Paulo:20260105T080000
DTEND;TZID=America/Sao_Paulo:20260105T120000
DTSTAMP:20260426T011043
CREATED:20260105T133843Z
LAST-MODIFIED:20260105T133843Z
UID:47823-1767600000-1767614400@www.goiasfomento.com
SUMMARY:Rufino Veríssimo: Atendimentos e Despachos Internos.
DESCRIPTION:
URL:https://www.goiasfomento.com/agenda/rufino-verissimo-atendimentos-e-despachos-internos-230/
LOCATION:Chefia de Gabinete – Agência de Fomento de Goiás
CATEGORIES:Chefia de Gabinete
END:VEVENT
BEGIN:VEVENT
DTSTART;TZID=America/Sao_Paulo:20260105T140000
DTEND;TZID=America/Sao_Paulo:20260105T180000
DTSTAMP:20260426T011043
CREATED:20260105T114618Z
LAST-MODIFIED:20260105T114618Z
UID:47796-1767621600-1767636000@www.goiasfomento.com
SUMMARY:Vinícius Luz (Diretor de Operações) em Substituição a Lara Garcia\, (férias do titular): Atendimentos e Despachos Internos.
DESCRIPTION:
URL:https://www.goiasfomento.com/agenda/vinicius-luz-diretor-de-operacoes-em-substituicao-a-lara-garcia-ferias-do-titular-atendimentos-e-despachos-internos-10/
LOCATION:Gabinete da Diretoria de Operações da GoiásFomento – Agência de Fomento de Goiás.
CATEGORIES:Diretoria Administrativa e Financeira
END:VEVENT
BEGIN:VEVENT
DTSTART;TZID=America/Sao_Paulo:20260105T140000
DTEND;TZID=America/Sao_Paulo:20260105T180000
DTSTAMP:20260426T011043
CREATED:20260105T132347Z
LAST-MODIFIED:20260105T132347Z
UID:47800-1767621600-1767636000@www.goiasfomento.com
SUMMARY:Vinícius Luz: Atendimentos e Despachos Internos.
DESCRIPTION:
URL:https://www.goiasfomento.com/agenda/vinicius-luz-atendimentos-e-despachos-internos-222/
LOCATION:Gabinete da Diretoria de Operações da GoiásFomento – Agência de Fomento de Goiás.
CATEGORIES:Diretoria de Operações
END:VEVENT
BEGIN:VEVENT
DTSTART;TZID=America/Sao_Paulo:20260105T140000
DTEND;TZID=America/Sao_Paulo:20260105T180000
DTSTAMP:20260426T011043
CREATED:20260105T132752Z
LAST-MODIFIED:20260105T132752Z
UID:47804-1767621600-1767636000@www.goiasfomento.com
SUMMARY:Rivael Aguiar Pereira: Atendimentos e Despachos Internos
DESCRIPTION:
URL:https://www.goiasfomento.com/agenda/rivael-aguiar-pereira-atendimentos-e-despachos-internos-222/
LOCATION:goias fomento
CATEGORIES:Presidência
END:VEVENT
BEGIN:VEVENT
DTSTART;TZID=America/Sao_Paulo:20260105T140000
DTEND;TZID=America/Sao_Paulo:20260105T180000
DTSTAMP:20260426T011043
CREATED:20260105T133953Z
LAST-MODIFIED:20260105T133953Z
UID:47825-1767621600-1767636000@www.goiasfomento.com
SUMMARY:Rufino Veríssimo: Atendimentos e Despachos Internos.
DESCRIPTION:
URL:https://www.goiasfomento.com/agenda/rufino-verissimo-atendimentos-e-despachos-internos-231/
LOCATION:Chefia de Gabinete – Agência de Fomento de Goiás
CATEGORIES:Chefia de Gabinete
END:VEVENT
BEGIN:VEVENT
DTSTART;TZID=America/Sao_Paulo:20260106T080000
DTEND;TZID=America/Sao_Paulo:20260106T120000
DTSTAMP:20260426T011043
CREATED:20260105T132842Z
LAST-MODIFIED:20260105T132842Z
UID:47807-1767686400-1767700800@www.goiasfomento.com
SUMMARY:Rivael Aguiar Pereira: Atendimentos e Despachos Internos
DESCRIPTION:
URL:https://www.goiasfomento.com/agenda/rivael-aguiar-pereira-atendimentos-e-despachos-internos-223/
LOCATION:goias fomento
CATEGORIES:Presidência
END:VEVENT
BEGIN:VEVENT
DTSTART;TZID=America/Sao_Paulo:20260106T080000
DTEND;TZID=America/Sao_Paulo:20260106T120000
DTSTAMP:20260426T011043
CREATED:20260105T162415Z
LAST-MODIFIED:20260105T162415Z
UID:47831-1767686400-1767700800@www.goiasfomento.com
SUMMARY:Rufino Veríssimo: Atendimentos e Despachos Internos.
DESCRIPTION:
URL:https://www.goiasfomento.com/agenda/rufino-verissimo-atendimentos-e-despachos-internos-232/
LOCATION:Chefia de Gabinete – Agência de Fomento de Goiás
CATEGORIES:Chefia de Gabinete
END:VEVENT
BEGIN:VEVENT
DTSTART;TZID=America/Sao_Paulo:20260106T080000
DTEND;TZID=America/Sao_Paulo:20260106T120000
DTSTAMP:20260426T011043
CREATED:20260106T124434Z
LAST-MODIFIED:20260106T124434Z
UID:47848-1767686400-1767700800@www.goiasfomento.com
SUMMARY:Vinícius Luz (Diretor de Operações) em Substituição a Lara Garcia\, (férias do titular): Atendimentos e Despachos Internos.
DESCRIPTION:
URL:https://www.goiasfomento.com/agenda/vinicius-luz-diretor-de-operacoes-em-substituicao-a-lara-garcia-ferias-do-titular-atendimentos-e-despachos-internos-11/
LOCATION:Gabinete da Diretoria de Operações da GoiásFomento – Agência de Fomento de Goiás.
CATEGORIES:Diretoria Administrativa e Financeira
END:VEVENT
BEGIN:VEVENT
DTSTART;TZID=America/Sao_Paulo:20260106T080000
DTEND;TZID=America/Sao_Paulo:20260106T120000
DTSTAMP:20260426T011043
CREATED:20260106T132956Z
LAST-MODIFIED:20260106T132956Z
UID:47886-1767686400-1767700800@www.goiasfomento.com
SUMMARY:Vinícius Luz: Atendimentos e Despachos Internos.
DESCRIPTION:
URL:https://www.goiasfomento.com/agenda/vinicius-luz-atendimentos-e-despachos-internos-223/
LOCATION:Gabinete da Diretoria de Operações da GoiásFomento – Agência de Fomento de Goiás.
CATEGORIES:Diretoria de Operações
END:VEVENT
BEGIN:VEVENT
DTSTART;TZID=America/Sao_Paulo:20260106T140000
DTEND;TZID=America/Sao_Paulo:20260106T180000
DTSTAMP:20260426T011043
CREATED:20260105T133101Z
LAST-MODIFIED:20260105T133101Z
UID:47809-1767708000-1767722400@www.goiasfomento.com
SUMMARY:Rivael Aguiar Pereira: Atendimentos e Despachos Internos
DESCRIPTION:
URL:https://www.goiasfomento.com/agenda/rivael-aguiar-pereira-atendimentos-e-despachos-internos-224/
LOCATION:GoiásFomento – Agência de Fomento de Goiás.
CATEGORIES:Presidência
END:VEVENT
BEGIN:VEVENT
DTSTART;TZID=America/Sao_Paulo:20260106T140000
DTEND;TZID=America/Sao_Paulo:20260106T180000
DTSTAMP:20260426T011043
CREATED:20260105T162503Z
LAST-MODIFIED:20260105T162503Z
UID:47833-1767708000-1767722400@www.goiasfomento.com
SUMMARY:Rufino Veríssimo: Atendimentos e Despachos Internos.
DESCRIPTION:
URL:https://www.goiasfomento.com/agenda/rufino-verissimo-atendimentos-e-despachos-internos-233/
LOCATION:Chefia de Gabinete – Agência de Fomento de Goiás
CATEGORIES:Chefia de Gabinete
END:VEVENT
BEGIN:VEVENT
DTSTART;TZID=America/Sao_Paulo:20260106T140000
DTEND;TZID=America/Sao_Paulo:20260106T180000
DTSTAMP:20260426T011043
CREATED:20260106T124626Z
LAST-MODIFIED:20260106T124626Z
UID:47850-1767708000-1767722400@www.goiasfomento.com
SUMMARY:Vinícius Luz (Diretor de Operações) em Substituição a Lara Garcia\, (férias do titular): Atendimentos e Despachos Internos.
DESCRIPTION:
URL:https://www.goiasfomento.com/agenda/vinicius-luz-diretor-de-operacoes-em-substituicao-a-lara-garcia-ferias-do-titular-atendimentos-e-despachos-internos-12/
LOCATION:Gabinete da Diretoria de Operações da GoiásFomento – Agência de Fomento de Goiás.
CATEGORIES:Diretoria Administrativa e Financeira
END:VEVENT
BEGIN:VEVENT
DTSTART;TZID=America/Sao_Paulo:20260106T140000
DTEND;TZID=America/Sao_Paulo:20260106T180000
DTSTAMP:20260426T011043
CREATED:20260106T133022Z
LAST-MODIFIED:20260106T133022Z
UID:47888-1767708000-1767722400@www.goiasfomento.com
SUMMARY:Vinícius Luz: Atendimentos e Despachos Internos.
DESCRIPTION:
URL:https://www.goiasfomento.com/agenda/vinicius-luz-atendimentos-e-despachos-internos-224/
LOCATION:Gabinete da Diretoria de Operações da GoiásFomento – Agência de Fomento de Goiás.
CATEGORIES:Diretoria de Operações
END:VEVENT
BEGIN:VEVENT
DTSTART;TZID=America/Sao_Paulo:20260107T080000
DTEND;TZID=America/Sao_Paulo:20260107T120000
DTSTAMP:20260426T011043
CREATED:20260105T133202Z
LAST-MODIFIED:20260105T133202Z
UID:47811-1767772800-1767787200@www.goiasfomento.com
SUMMARY:Rivael Aguiar Pereira: Atendimentos e Despachos Internos
DESCRIPTION:
URL:https://www.goiasfomento.com/agenda/rivael-aguiar-pereira-atendimentos-e-despachos-internos-225/
LOCATION:Gabinete da Presidência da GoiásFomento – Agência de Fomento de Goiás.
CATEGORIES:Presidência
END:VEVENT
BEGIN:VEVENT
DTSTART;TZID=America/Sao_Paulo:20260107T080000
DTEND;TZID=America/Sao_Paulo:20260107T120000
DTSTAMP:20260426T011043
CREATED:20260105T162556Z
LAST-MODIFIED:20260105T162556Z
UID:47836-1767772800-1767787200@www.goiasfomento.com
SUMMARY:Rufino Veríssimo: Atendimentos e Despachos Internos.
DESCRIPTION:
URL:https://www.goiasfomento.com/agenda/rufino-verissimo-atendimentos-e-despachos-internos-234/
LOCATION:Chefia de Gabinete – Agência de Fomento de Goiás
CATEGORIES:Chefia de Gabinete
END:VEVENT
BEGIN:VEVENT
DTSTART;TZID=America/Sao_Paulo:20260107T080000
DTEND;TZID=America/Sao_Paulo:20260107T120000
DTSTAMP:20260426T011043
CREATED:20260106T124800Z
LAST-MODIFIED:20260106T124800Z
UID:47852-1767772800-1767787200@www.goiasfomento.com
SUMMARY:Vinícius Luz (Diretor de Operações) em Substituição a Lara Garcia\, (férias do titular): Atendimentos e Despachos Internos.
DESCRIPTION:
URL:https://www.goiasfomento.com/agenda/vinicius-luz-diretor-de-operacoes-em-substituicao-a-lara-garcia-ferias-do-titular-atendimentos-e-despachos-internos-13/
LOCATION:Gabinete da Diretoria de Operações da GoiásFomento – Agência de Fomento de Goiás.
CATEGORIES:Diretoria Administrativa e Financeira
END:VEVENT
BEGIN:VEVENT
DTSTART;TZID=America/Sao_Paulo:20260107T080000
DTEND;TZID=America/Sao_Paulo:20260107T120000
DTSTAMP:20260426T011043
CREATED:20260107T184540Z
LAST-MODIFIED:20260107T184540Z
UID:47894-1767772800-1767787200@www.goiasfomento.com
SUMMARY:Vinícius Luz: Atendimentos e Despachos Internos.
DESCRIPTION:
URL:https://www.goiasfomento.com/agenda/vinicius-luz-atendimentos-e-despachos-internos-225/
LOCATION:Gabinete da Diretoria de Operações da GoiásFomento – Agência de Fomento de Goiás.
CATEGORIES:Diretoria de Operações
END:VEVENT
BEGIN:VEVENT
DTSTART;TZID=America/Sao_Paulo:20260107T140000
DTEND;TZID=America/Sao_Paulo:20260107T180000
DTSTAMP:20260426T011043
CREATED:20260105T133227Z
LAST-MODIFIED:20260105T133258Z
UID:47813-1767794400-1767808800@www.goiasfomento.com
SUMMARY:Rivael Aguiar Pereira: Atendimentos e Despachos Internos
DESCRIPTION:
URL:https://www.goiasfomento.com/agenda/rivael-aguiar-pereira-atendimentos-e-despachos-internos-226/
LOCATION:Gabinete da Presidência da GoiásFomento – Agência de Fomento de Goiás.
CATEGORIES:Presidência
END:VEVENT
BEGIN:VEVENT
DTSTART;TZID=America/Sao_Paulo:20260107T140000
DTEND;TZID=America/Sao_Paulo:20260107T180000
DTSTAMP:20260426T011043
CREATED:20260105T162620Z
LAST-MODIFIED:20260105T162620Z
UID:47838-1767794400-1767808800@www.goiasfomento.com
SUMMARY:Rufino Veríssimo: Atendimentos e Despachos Internos.
DESCRIPTION:
URL:https://www.goiasfomento.com/agenda/rufino-verissimo-atendimentos-e-despachos-internos-235/
LOCATION:Chefia de Gabinete – Agência de Fomento de Goiás
CATEGORIES:Chefia de Gabinete
END:VEVENT
BEGIN:VEVENT
DTSTART;TZID=America/Sao_Paulo:20260107T140000
DTEND;TZID=America/Sao_Paulo:20260107T180000
DTSTAMP:20260426T011043
CREATED:20260106T124833Z
LAST-MODIFIED:20260106T124833Z
UID:47854-1767794400-1767808800@www.goiasfomento.com
SUMMARY:Vinícius Luz (Diretor de Operações) em Substituição a Lara Garcia\, (férias do titular): Atendimentos e Despachos Internos.
DESCRIPTION:
URL:https://www.goiasfomento.com/agenda/vinicius-luz-diretor-de-operacoes-em-substituicao-a-lara-garcia-ferias-do-titular-atendimentos-e-despachos-internos-14/
LOCATION:Gabinete da Diretoria de Operações da GoiásFomento – Agência de Fomento de Goiás.
CATEGORIES:Diretoria Administrativa e Financeira
END:VEVENT
BEGIN:VEVENT
DTSTART;TZID=America/Sao_Paulo:20260107T140000
DTEND;TZID=America/Sao_Paulo:20260107T180000
DTSTAMP:20260426T011043
CREATED:20260107T184602Z
LAST-MODIFIED:20260107T184602Z
UID:47896-1767794400-1767808800@www.goiasfomento.com
SUMMARY:Vinícius Luz: Atendimentos e Despachos Internos.
DESCRIPTION:
URL:https://www.goiasfomento.com/agenda/vinicius-luz-atendimentos-e-despachos-internos-226/
LOCATION:Gabinete da Diretoria de Operações da GoiásFomento – Agência de Fomento de Goiás.
CATEGORIES:Diretoria de Operações
END:VEVENT
END:VCALENDAR