BEGIN:VCALENDAR
VERSION:2.0
PRODID:-//GoiásFomento - Agência de Fomento - ECPv6.15.20//NONSGML v1.0//EN
CALSCALE:GREGORIAN
METHOD:PUBLISH
X-ORIGINAL-URL:https://www.goiasfomento.com
X-WR-CALDESC:Eventos para GoiásFomento - Agência de Fomento
REFRESH-INTERVAL;VALUE=DURATION:PT1H
X-Robots-Tag:noindex
X-PUBLISHED-TTL:PT1H
BEGIN:VTIMEZONE
TZID:America/Sao_Paulo
BEGIN:STANDARD
TZOFFSETFROM:-0300
TZOFFSETTO:-0300
TZNAME:-03
DTSTART:20240101T000000
END:STANDARD
END:VTIMEZONE
BEGIN:VEVENT
DTSTART;TZID=America/Sao_Paulo:20250602T070000
DTEND;TZID=America/Sao_Paulo:20250602T100000
DTSTAMP:20260425T125203
CREATED:20250602T110528Z
LAST-MODIFIED:20250602T141048Z
UID:43734-1748847600-1748858400@www.goiasfomento.com
SUMMARY:Rufino Veríssimo: Atendimentos e Despachos Interno.
DESCRIPTION:
URL:https://www.goiasfomento.com/agenda/rufino-verissimo-atendimentos-e-despachos-interno-27/
LOCATION:Gabinete da Diretoria de Operações da GoiásFomento – Agência de Fomento de Goiás.
CATEGORIES:Diretoria de Operações
END:VEVENT
BEGIN:VEVENT
DTSTART;TZID=America/Sao_Paulo:20250602T080000
DTEND;TZID=America/Sao_Paulo:20250602T083000
DTSTAMP:20260425T125203
CREATED:20250602T141355Z
LAST-MODIFIED:20250602T141355Z
UID:43765-1748851200-1748853000@www.goiasfomento.com
SUMMARY:Vinícius Luz: Início das Atividades como Chefe de Gabinete da GoiásFomento.
DESCRIPTION:
URL:https://www.goiasfomento.com/agenda/vinicius-luz-inicio-das-atividades-como-chefe-de-gabinete-da-goiasfomento/
LOCATION:Chefia de Gabinete – Agência de Fomento de Goiás
CATEGORIES:Chefia de Gabinete
END:VEVENT
BEGIN:VEVENT
DTSTART;TZID=America/Sao_Paulo:20250602T080000
DTEND;TZID=America/Sao_Paulo:20250602T100000
DTSTAMP:20260425T125203
CREATED:20250602T135946Z
LAST-MODIFIED:20250602T140136Z
UID:43760-1748851200-1748858400@www.goiasfomento.com
SUMMARY:Rivael Aguiar Pereira: Atendimentos e Despachos Interno.
DESCRIPTION:
URL:https://www.goiasfomento.com/agenda/rivael-aguiar-pereira-atendimentos-e-despachos-interno-23/
LOCATION:Gabinete da Presidência.
CATEGORIES:Presidência
END:VEVENT
BEGIN:VEVENT
DTSTART;TZID=America/Sao_Paulo:20250602T080000
DTEND;TZID=America/Sao_Paulo:20250602T120000
DTSTAMP:20260425T125203
CREATED:20250602T130935Z
LAST-MODIFIED:20250602T131157Z
UID:43749-1748851200-1748865600@www.goiasfomento.com
SUMMARY:Lara Garcia : Atendimentos e Despachos Interno.
DESCRIPTION:
URL:https://www.goiasfomento.com/agenda/lara-garcia-atendimentos-e-despachos-interno-16/
LOCATION:Gabinete da Diretoria Administrativa e Financeira – Agência de Fomento de Goiás.
CATEGORIES:Diretoria Administrativa e Financeira
END:VEVENT
BEGIN:VEVENT
DTSTART;TZID=America/Sao_Paulo:20250602T083000
DTEND;TZID=America/Sao_Paulo:20250602T120000
DTSTAMP:20260425T125203
CREATED:20250602T141442Z
LAST-MODIFIED:20250602T141442Z
UID:43767-1748853000-1748865600@www.goiasfomento.com
SUMMARY:Vinícius Luz: Atendimentos e Despachos Interno.
DESCRIPTION:
URL:https://www.goiasfomento.com/agenda/vinicius-luz-atendimentos-e-despachos-interno/
LOCATION:Chefia de Gabinete – Agência de Fomento de Goiás
CATEGORIES:Chefia de Gabinete
END:VEVENT
BEGIN:VEVENT
DTSTART;TZID=America/Sao_Paulo:20250602T100000
DTEND;TZID=America/Sao_Paulo:20250602T120000
DTSTAMP:20260425T125203
CREATED:20250602T141843Z
LAST-MODIFIED:20250602T142130Z
UID:43764-1748858400-1748865600@www.goiasfomento.com
SUMMARY:Rivael Aguiar Pereira: Reunião  da GoiásFomento e a Gerente de Programas e Políticas Sociais Tereza-SGPA.
DESCRIPTION:
URL:https://www.goiasfomento.com/agenda/rivael-aguiar-pereira-reuniao-com-gerentes-da-gf-e-a-gerente-de-programas-e-politicas-sociais-tereza-sgpa/
LOCATION:Sala de Reuniões da Diretoria – Agência de Fomento de Goiás.
CATEGORIES:Presidência
END:VEVENT
BEGIN:VEVENT
DTSTART;TZID=America/Sao_Paulo:20250602T100000
DTEND;TZID=America/Sao_Paulo:20250602T120000
DTSTAMP:20260425T125203
CREATED:20250602T142541Z
LAST-MODIFIED:20250602T185211Z
UID:43774-1748858400-1748865600@www.goiasfomento.com
SUMMARY:Rufino Veríssimo: Reunião da GoiásFomento com Tereza - Gerente de Programas e Políticas Sociais da SGPA.
DESCRIPTION:
URL:https://www.goiasfomento.com/agenda/rufino-verissimo-reuniao-da-goiasfomento-com-tereza-gerente-de-programas-e-politicas-sociais-sgpa/
LOCATION:Sala de Reuniões da Diretoria – Agência de Fomento de Goiás.
CATEGORIES:Diretoria de Operações
END:VEVENT
BEGIN:VEVENT
DTSTART;TZID=America/Sao_Paulo:20250602T103000
DTEND;TZID=America/Sao_Paulo:20250602T120000
DTSTAMP:20260425T125203
CREATED:20250602T185645Z
LAST-MODIFIED:20250602T185645Z
UID:43809-1748860200-1748865600@www.goiasfomento.com
SUMMARY:Rufino Veríssimo: Atendimentos e Despachos Interno.
DESCRIPTION:
URL:https://www.goiasfomento.com/agenda/rufino-verissimo-atendimentos-e-despachos-interno-31/
LOCATION:Gabinete da Diretoria de Operações da GoiásFomento – Agência de Fomento de Goiás.
CATEGORIES:Diretoria de Operações
END:VEVENT
BEGIN:VEVENT
DTSTART;TZID=America/Sao_Paulo:20250602T140000
DTEND;TZID=America/Sao_Paulo:20250602T143000
DTSTAMP:20260425T125203
CREATED:20250602T180921Z
LAST-MODIFIED:20250602T180921Z
UID:43791-1748872800-1748874600@www.goiasfomento.com
SUMMARY:Rufino Veríssimo: Atendimentos e Despachos Interno.
DESCRIPTION:
URL:https://www.goiasfomento.com/agenda/rufino-verissimo-atendimentos-e-despachos-interno-28/
LOCATION:Gabinete da Diretoria de Operações da GoiásFomento – Agência de Fomento de Goiás.
CATEGORIES:Diretoria de Operações
END:VEVENT
BEGIN:VEVENT
DTSTART;TZID=America/Sao_Paulo:20250602T140000
DTEND;TZID=America/Sao_Paulo:20250602T180000
DTSTAMP:20260425T125203
CREATED:20250602T130636Z
LAST-MODIFIED:20250602T131340Z
UID:43747-1748872800-1748887200@www.goiasfomento.com
SUMMARY:Lara Garcia : Atendimentos e Despachos Interno.
DESCRIPTION:
URL:https://www.goiasfomento.com/agenda/lara-garcia-atendimentos-e-despachos-interno-15/
LOCATION:Gabinete da Presidência.
CATEGORIES:Diretoria Administrativa e Financeira
END:VEVENT
BEGIN:VEVENT
DTSTART;TZID=America/Sao_Paulo:20250602T140000
DTEND;TZID=America/Sao_Paulo:20250602T180000
DTSTAMP:20260425T125203
CREATED:20250602T140232Z
LAST-MODIFIED:20250602T140232Z
UID:43762-1748872800-1748887200@www.goiasfomento.com
SUMMARY:Rivael Aguiar Pereira: Atendimentos e Despachos Interno.
DESCRIPTION:
URL:https://www.goiasfomento.com/agenda/rivael-aguiar-pereira-atendimentos-e-despachos-interno-24/
LOCATION:Gabinete da Presidência.
CATEGORIES:Presidência
END:VEVENT
BEGIN:VEVENT
DTSTART;TZID=America/Sao_Paulo:20250602T140000
DTEND;TZID=America/Sao_Paulo:20250602T180000
DTSTAMP:20260425T125203
CREATED:20250602T141511Z
LAST-MODIFIED:20250602T141511Z
UID:43769-1748872800-1748887200@www.goiasfomento.com
SUMMARY:Vinícius Luz: Atendimentos e Despachos Interno.
DESCRIPTION:
URL:https://www.goiasfomento.com/agenda/vinicius-luz-atendimentos-e-despachos-interno-2/
LOCATION:Chefia de Gabinete – Agência de Fomento de Goiás
CATEGORIES:Chefia de Gabinete
END:VEVENT
BEGIN:VEVENT
DTSTART;TZID=America/Sao_Paulo:20250602T140000
DTEND;TZID=America/Sao_Paulo:20250602T183000
DTSTAMP:20260425T125203
CREATED:20250602T190110Z
LAST-MODIFIED:20250602T190110Z
UID:43811-1748872800-1748889000@www.goiasfomento.com
SUMMARY:Rufino Veríssimo: Atendimentos e Despachos Interno.
DESCRIPTION:
URL:https://www.goiasfomento.com/agenda/rufino-verissimo-atendimentos-e-despachos-interno-32/
LOCATION:Gabinete da Diretoria de Operações da GoiásFomento – Agência de Fomento de Goiás.
CATEGORIES:Diretoria de Operações
END:VEVENT
BEGIN:VEVENT
DTSTART;TZID=America/Sao_Paulo:20250602T143000
DTEND;TZID=America/Sao_Paulo:20250602T152000
DTSTAMP:20260425T125203
CREATED:20250602T181811Z
LAST-MODIFIED:20250602T181811Z
UID:43793-1748874600-1748877600@www.goiasfomento.com
SUMMARY:Rufino Veríssimo: Reunião com os Gerentes da Diretoria de Operações.
DESCRIPTION:
URL:https://www.goiasfomento.com/agenda/rufino-verissimo-reuniao-com-os-gerentes-da-diretoria-de-operacoes-18/
LOCATION:Gabinete da Diretoria de Operações da GoiásFomento – Agência de Fomento de Goiás.
CATEGORIES:Diretoria de Operações
END:VEVENT
BEGIN:VEVENT
DTSTART;TZID=America/Sao_Paulo:20250602T152000
DTEND;TZID=America/Sao_Paulo:20250602T183000
DTSTAMP:20260425T125203
CREATED:20250602T181858Z
LAST-MODIFIED:20250602T181858Z
UID:43801-1748877600-1748889000@www.goiasfomento.com
SUMMARY:Rufino Veríssimo: Atendimentos e Despachos Interno.
DESCRIPTION:
URL:https://www.goiasfomento.com/agenda/rufino-verissimo-atendimentos-e-despachos-interno-29/
LOCATION:Gabinete da Diretoria de Operações da GoiásFomento – Agência de Fomento de Goiás.
CATEGORIES:Diretoria de Operações
END:VEVENT
BEGIN:VEVENT
DTSTART;TZID=America/Sao_Paulo:20250603T070000
DTEND;TZID=America/Sao_Paulo:20250603T090000
DTSTAMP:20260425T125203
CREATED:20250602T185351Z
LAST-MODIFIED:20250602T185507Z
UID:43806-1748934000-1748941200@www.goiasfomento.com
SUMMARY:Rufino Veríssimo: Atendimentos e Despachos Interno.
DESCRIPTION:
URL:https://www.goiasfomento.com/agenda/rufino-verissimo-atendimentos-e-despachos-interno-30/
LOCATION:Gabinete da Diretoria de Operações da GoiásFomento – Agência de Fomento de Goiás.
CATEGORIES:Diretoria de Operações
END:VEVENT
BEGIN:VEVENT
DTSTART;TZID=America/Sao_Paulo:20250603T080000
DTEND;TZID=America/Sao_Paulo:20250603T090000
DTSTAMP:20260425T125203
CREATED:20250602T132243Z
LAST-MODIFIED:20250602T152503Z
UID:43755-1748937600-1748941200@www.goiasfomento.com
SUMMARY:Lara Garcia : Atendimentos e Despachos Interno.
DESCRIPTION:
URL:https://www.goiasfomento.com/agenda/lara-garcia-atendimentos-e-despachos-interno-17/
LOCATION:Gabinete da Diretoria Administrativa e Financeira – Agência de Fomento de Goiás.
CATEGORIES:Diretoria Administrativa e Financeira
END:VEVENT
BEGIN:VEVENT
DTSTART;TZID=America/Sao_Paulo:20250603T080000
DTEND;TZID=America/Sao_Paulo:20250603T100000
DTSTAMP:20260425T125203
CREATED:20250602T202347Z
LAST-MODIFIED:20250603T140531Z
UID:43814-1748937600-1748944800@www.goiasfomento.com
SUMMARY:Rivael Aguiar Pereira: Atendimentos e Despachos Interno.
DESCRIPTION:
URL:https://www.goiasfomento.com/agenda/rivael-aguiar-pereira-atendimentos-e-despachos-interno-25/
LOCATION:Gabinete da Presidência.
CATEGORIES:Presidência
END:VEVENT
BEGIN:VEVENT
DTSTART;TZID=America/Sao_Paulo:20250603T080000
DTEND;TZID=America/Sao_Paulo:20250603T100000
DTSTAMP:20260425T125203
CREATED:20250602T202410Z
LAST-MODIFIED:20250603T131432Z
UID:43813-1748937600-1748944800@www.goiasfomento.com
SUMMARY:Vinícius Luz: Abertura da Semana do Crédito em Senador Canedo - Goiás.
DESCRIPTION:
URL:https://www.goiasfomento.com/agenda/vinicius-luz-abertura-da-semana-do-credito-em-senador-canedo-goias/
LOCATION:Paço Municipal de Senador Canedo – Goiás.
CATEGORIES:Chefia de Gabinete
END:VEVENT
BEGIN:VEVENT
DTSTART;TZID=America/Sao_Paulo:20250603T090000
DTEND;TZID=America/Sao_Paulo:20250603T100000
DTSTAMP:20260425T125203
CREATED:20250602T152937Z
LAST-MODIFIED:20250602T153143Z
UID:43779-1748941200-1748944800@www.goiasfomento.com
SUMMARY:Lara Garcia: Reunião com a Diretoria\, Assessores e Gerentes da GoiásFomento. Pauta - Contrato da BK.
DESCRIPTION:
URL:https://www.goiasfomento.com/agenda/lara-garcia-reuniao-com-a-diretoria-assessores-e-gerentes-da-goiasfomento-pauta-contrato-da-bk/
LOCATION:Gabinete da Diretoria Administrativa e Financeira – Agência de Fomento de Goiás.
CATEGORIES:Diretoria Administrativa e Financeira
END:VEVENT
BEGIN:VEVENT
DTSTART;TZID=America/Sao_Paulo:20250603T090000
DTEND;TZID=America/Sao_Paulo:20250603T103000
DTSTAMP:20260425T125203
CREATED:20250602T151131Z
LAST-MODIFIED:20250602T182011Z
UID:43776-1748941200-1748946600@www.goiasfomento.com
SUMMARY:Rufino Veríssimo: Reunião com a Diretoria\, Assessores e Gerentes da GoiásFomento. Pauta - Contrato da BK.
DESCRIPTION:
URL:https://www.goiasfomento.com/agenda/rufino-verissimo-reuniao-com-a-diretoria-assesores-e-gerentes-da-goiasfomento-pauta-contrato-da-bk/
LOCATION:Sala de Reuniões da Diretoria – Agência de Fomento de Goiás.
CATEGORIES:Diretoria de Operações
END:VEVENT
BEGIN:VEVENT
DTSTART;TZID=America/Sao_Paulo:20250603T100000
DTEND;TZID=America/Sao_Paulo:20250603T120000
DTSTAMP:20260425T125203
CREATED:20250602T133610Z
LAST-MODIFIED:20250602T184206Z
UID:43758-1748944800-1748952000@www.goiasfomento.com
SUMMARY:Lara Garcia : Reunião com os Gerentes da GF. Pauta: Discutir a Extensão de Prazo de Carência das Operações do Programa de Fruticultura.
DESCRIPTION:
URL:https://www.goiasfomento.com/agenda/lara-garcia-reuniao-com-os-gerentes-da-gf-pauta-discutir-a-extensao-de-prazo-de-carencia-das-operacoes-do-programa-de-fruticultura/
LOCATION:Sala de reuniões da Diretoria.
CATEGORIES:Diretoria Administrativa e Financeira
END:VEVENT
BEGIN:VEVENT
DTSTART;TZID=America/Sao_Paulo:20250603T100000
DTEND;TZID=America/Sao_Paulo:20250603T120000
DTSTAMP:20260425T125203
CREATED:20250603T131541Z
LAST-MODIFIED:20250603T131541Z
UID:43840-1748944800-1748952000@www.goiasfomento.com
SUMMARY:Vinícius Luz: Apresentação do Novo Pacote do Goiás Social.
DESCRIPTION:
URL:https://www.goiasfomento.com/agenda/vinicius-luz-apresentacao-do-novo-pacote-do-goias-social/
LOCATION:ALEGO
CATEGORIES:Chefia de Gabinete
END:VEVENT
BEGIN:VEVENT
DTSTART;TZID=America/Sao_Paulo:20250603T100000
DTEND;TZID=America/Sao_Paulo:20250603T120000
DTSTAMP:20260425T125203
CREATED:20250603T140731Z
LAST-MODIFIED:20250603T140731Z
UID:43868-1748944800-1748952000@www.goiasfomento.com
SUMMARY:Rivael Aguiar Pereira: Apresentação do Novo Pacote do Goiás Social.
DESCRIPTION:
URL:https://www.goiasfomento.com/agenda/rivael-aguiar-pereira-apresentacao-do-novo-pacote-do-goias-social/
LOCATION:ALEGO
CATEGORIES:Presidência
END:VEVENT
BEGIN:VEVENT
DTSTART;TZID=America/Sao_Paulo:20250603T103000
DTEND;TZID=America/Sao_Paulo:20250603T120000
DTSTAMP:20260425T125203
CREATED:20250603T132203Z
LAST-MODIFIED:20250603T140001Z
UID:43852-1748946600-1748952000@www.goiasfomento.com
SUMMARY:Rufino Veríssimo: Atendimentos e Despachos Interno.
DESCRIPTION:
URL:https://www.goiasfomento.com/agenda/rufino-verissimo-atendimentos-e-despachos-interno-33/
LOCATION:Gabinete da Diretoria de Operações da GoiásFomento – Agência de Fomento de Goiás.
CATEGORIES:Diretoria de Operações
END:VEVENT
BEGIN:VEVENT
DTSTART;TZID=America/Sao_Paulo:20250603T140000
DTEND;TZID=America/Sao_Paulo:20250603T143000
DTSTAMP:20260425T125203
CREATED:20250603T140051Z
LAST-MODIFIED:20250603T140051Z
UID:43858-1748959200-1748961000@www.goiasfomento.com
SUMMARY:Rufino Veríssimo: Atendimentos e Despachos Interno.
DESCRIPTION:
URL:https://www.goiasfomento.com/agenda/rufino-verissimo-atendimentos-e-despachos-interno-34/
LOCATION:Gabinete da Diretoria de Operações da GoiásFomento – Agência de Fomento de Goiás.
CATEGORIES:Diretoria de Operações
END:VEVENT
BEGIN:VEVENT
DTSTART;TZID=America/Sao_Paulo:20250603T140000
DTEND;TZID=America/Sao_Paulo:20250603T143000
DTSTAMP:20260425T125203
CREATED:20250603T140358Z
LAST-MODIFIED:20250603T140358Z
UID:43865-1748959200-1748961000@www.goiasfomento.com
SUMMARY:Vinícius Luz: Atendimentos e Despachos Interno.
DESCRIPTION:
URL:https://www.goiasfomento.com/agenda/vinicius-luz-atendimentos-e-despachos-interno-3/
LOCATION:Gabinete da Diretoria de Operações da GoiásFomento – Agência de Fomento de Goiás.
CATEGORIES:Chefia de Gabinete
END:VEVENT
BEGIN:VEVENT
DTSTART;TZID=America/Sao_Paulo:20250603T140000
DTEND;TZID=America/Sao_Paulo:20250603T150000
DTSTAMP:20260425T125203
CREATED:20250602T202457Z
LAST-MODIFIED:20250603T141238Z
UID:43818-1748959200-1748962800@www.goiasfomento.com
SUMMARY:Rivael Aguiar Pereira: Reunião da Diretoria da GoiásFomento e a Empresa Inttegra.
DESCRIPTION:
URL:https://www.goiasfomento.com/agenda/rivael-aguiar-pereira-atendimentos-e-despachos-interno-26/
LOCATION:Gabinete da Diretoria de Operações da GoiásFomento – Agência de Fomento de Goiás.
CATEGORIES:Presidência
END:VEVENT
BEGIN:VEVENT
DTSTART;TZID=America/Sao_Paulo:20250603T140000
DTEND;TZID=America/Sao_Paulo:20250603T160000
DTSTAMP:20260425T125203
CREATED:20250603T141407Z
LAST-MODIFIED:20250603T141407Z
UID:43875-1748959200-1748966400@www.goiasfomento.com
SUMMARY:Lara Garcia: Reunião da Diretoria da GoiásFomento e a Empresa Inttegra.
DESCRIPTION:
URL:https://www.goiasfomento.com/agenda/lara-garcia-reuniao-da-diretoria-da-goiasfomento-e-a-empresa-inttegra/
LOCATION:Gabinete da Diretoria de Operações da GoiásFomento – Agência de Fomento de Goiás.
CATEGORIES:Diretoria Administrativa e Financeira
END:VEVENT
BEGIN:VEVENT
DTSTART;TZID=America/Sao_Paulo:20250603T143000
DTEND;TZID=America/Sao_Paulo:20250603T170000
DTSTAMP:20260425T125203
CREATED:20250603T140204Z
LAST-MODIFIED:20250603T194542Z
UID:43860-1748961000-1748970000@www.goiasfomento.com
SUMMARY:Rufino Veríssimo: Reunião da Diretoria da GoiásFomento e a Empresa Inttegra.
DESCRIPTION:
URL:https://www.goiasfomento.com/agenda/rufino-verissimo-reuniao-da-diretoria-da-goiasfomento-e-a-empresa-inttegra/
LOCATION:Gabinete da Diretoria de Operações da GoiásFomento – Agência de Fomento de Goiás.
CATEGORIES:Diretoria de Operações
END:VEVENT
END:VCALENDAR