BEGIN:VCALENDAR
VERSION:2.0
PRODID:-//GoiásFomento - Agência de Fomento - ECPv6.15.20//NONSGML v1.0//EN
CALSCALE:GREGORIAN
METHOD:PUBLISH
X-ORIGINAL-URL:https://www.goiasfomento.com
X-WR-CALDESC:Eventos para GoiásFomento - Agência de Fomento
REFRESH-INTERVAL;VALUE=DURATION:PT1H
X-Robots-Tag:noindex
X-PUBLISHED-TTL:PT1H
BEGIN:VTIMEZONE
TZID:America/Sao_Paulo
BEGIN:STANDARD
TZOFFSETFROM:-0300
TZOFFSETTO:-0300
TZNAME:-03
DTSTART:20250101T000000
END:STANDARD
END:VTIMEZONE
BEGIN:VEVENT
DTSTART;TZID=America/Sao_Paulo:20260409T080000
DTEND;TZID=America/Sao_Paulo:20260409T120000
DTSTAMP:20260423T211948
CREATED:20260410T110315Z
LAST-MODIFIED:20260410T114608Z
UID:49591-1775721600-1775736000@www.goiasfomento.com
SUMMARY:Vinícius Luz: Atendimentos e Despachos Internos.
DESCRIPTION:
URL:https://www.goiasfomento.com/agenda/vinicius-luz-atendimentos-e-despachos-internos-335/
LOCATION:Diretoria Administrativa e Financeira – Agência de Fomento de Goiás.
CATEGORIES:Diretoria de Operações
END:VEVENT
BEGIN:VEVENT
DTSTART;TZID=America/Sao_Paulo:20260409T080000
DTEND;TZID=America/Sao_Paulo:20260409T120000
DTSTAMP:20260423T211948
CREATED:20260410T132725Z
LAST-MODIFIED:20260410T132725Z
UID:49597-1775721600-1775736000@www.goiasfomento.com
SUMMARY:Lara Garcia: Despachos Internos e Administrativos.
DESCRIPTION:
URL:https://www.goiasfomento.com/agenda/lara-garcia-despachos-internos-e-administrativos-235/
LOCATION:Gabinete da Diretoria Administrativa e Financeira – Agência de Fomento de Goiás.
CATEGORIES:Diretoria Administrativa e Financeira
END:VEVENT
BEGIN:VEVENT
DTSTART;TZID=America/Sao_Paulo:20260409T080000
DTEND;TZID=America/Sao_Paulo:20260409T120000
DTSTAMP:20260423T211948
CREATED:20260410T134811Z
LAST-MODIFIED:20260410T134842Z
UID:49605-1775721600-1775736000@www.goiasfomento.com
SUMMARY:Philippe Alexandre Melo de Oliveira: Atendimentos e Despachos Internos.
DESCRIPTION:
URL:https://www.goiasfomento.com/agenda/philippe-alexandre-melo-de-oliveira-atendimentos-e-despachos-internos-48/
CATEGORIES:Chefia de Gabinete
END:VEVENT
BEGIN:VEVENT
DTSTART;TZID=America/Sao_Paulo:20260409T080000
DTEND;TZID=America/Sao_Paulo:20260409T120000
DTSTAMP:20260423T211948
CREATED:20260410T141056Z
LAST-MODIFIED:20260410T141056Z
UID:49625-1775721600-1775736000@www.goiasfomento.com
SUMMARY:Rivael Aguiar Pereira: Atendimentos e Despachos Internos
DESCRIPTION:
URL:https://www.goiasfomento.com/agenda/rivael-aguiar-pereira-atendimentos-e-despachos-internos-341/
CATEGORIES:Presidência
END:VEVENT
BEGIN:VEVENT
DTSTART;TZID=America/Sao_Paulo:20260409T140000
DTEND;TZID=America/Sao_Paulo:20260409T180000
DTSTAMP:20260423T211948
CREATED:20260410T110341Z
LAST-MODIFIED:20260410T110341Z
UID:49593-1775743200-1775757600@www.goiasfomento.com
SUMMARY:Vinícius Luz: Atendimentos e Despachos Internos.
DESCRIPTION:
URL:https://www.goiasfomento.com/agenda/vinicius-luz-atendimentos-e-despachos-internos-336/
LOCATION:Gabinete da Diretoria de Operações da GoiásFomento – Agência de Fomento de Goiás.
CATEGORIES:Diretoria de Operações
END:VEVENT
BEGIN:VEVENT
DTSTART;TZID=America/Sao_Paulo:20260409T140000
DTEND;TZID=America/Sao_Paulo:20260409T180000
DTSTAMP:20260423T211948
CREATED:20260410T132752Z
LAST-MODIFIED:20260410T132752Z
UID:49599-1775743200-1775757600@www.goiasfomento.com
SUMMARY:Lara Garcia: Despachos Internos e Administrativos.
DESCRIPTION:
URL:https://www.goiasfomento.com/agenda/lara-garcia-despachos-internos-e-administrativos-236/
LOCATION:Gabinete da Diretoria Administrativa e Financeira – Agência de Fomento de Goiás.
CATEGORIES:Diretoria Administrativa e Financeira
END:VEVENT
BEGIN:VEVENT
DTSTART;TZID=America/Sao_Paulo:20260409T140000
DTEND;TZID=America/Sao_Paulo:20260409T180000
DTSTAMP:20260423T211948
CREATED:20260410T135021Z
LAST-MODIFIED:20260410T135021Z
UID:49607-1775743200-1775757600@www.goiasfomento.com
SUMMARY:Philippe Alexandre Melo de Oliveira: Atendimentos e Despachos Internos.
DESCRIPTION:
URL:https://www.goiasfomento.com/agenda/philippe-alexandre-melo-de-oliveira-atendimentos-e-despachos-internos-49/
CATEGORIES:Chefia de Gabinete
END:VEVENT
BEGIN:VEVENT
DTSTART;TZID=America/Sao_Paulo:20260409T140000
DTEND;TZID=America/Sao_Paulo:20260409T180000
DTSTAMP:20260423T211948
CREATED:20260410T141118Z
LAST-MODIFIED:20260410T141118Z
UID:49627-1775743200-1775757600@www.goiasfomento.com
SUMMARY:Rivael Aguiar Pereira: Atendimentos e Despachos Internos
DESCRIPTION:
URL:https://www.goiasfomento.com/agenda/rivael-aguiar-pereira-atendimentos-e-despachos-internos-342/
CATEGORIES:Presidência
END:VEVENT
BEGIN:VEVENT
DTSTART;TZID=America/Sao_Paulo:20260410T080000
DTEND;TZID=America/Sao_Paulo:20260410T120000
DTSTAMP:20260423T211948
CREATED:20260410T135359Z
LAST-MODIFIED:20260410T135359Z
UID:49609-1775808000-1775822400@www.goiasfomento.com
SUMMARY:Philippe Alexandre Melo de Oliveira: Atendimentos e Despachos Internos.
DESCRIPTION:
URL:https://www.goiasfomento.com/agenda/philippe-alexandre-melo-de-oliveira-atendimentos-e-despachos-internos-50/
CATEGORIES:Chefia de Gabinete
END:VEVENT
BEGIN:VEVENT
DTSTART;TZID=America/Sao_Paulo:20260410T080000
DTEND;TZID=America/Sao_Paulo:20260410T120000
DTSTAMP:20260423T211948
CREATED:20260410T141013Z
LAST-MODIFIED:20260410T141343Z
UID:49623-1775808000-1775822400@www.goiasfomento.com
SUMMARY:Rivael Aguiar Pereira: EXTERNA - Visita ao NÚCLEO DE INTELIGÊNCIA ARTIFICIAL APLICADA - Faculdade SENAI
DESCRIPTION:
URL:https://www.goiasfomento.com/agenda/rivael-aguiar-pereira-externa-visita-ao-nucleo-de-inteligencia-artificial-aplicada-faculdade-sena/
CATEGORIES:Presidência
END:VEVENT
BEGIN:VEVENT
DTSTART;TZID=America/Sao_Paulo:20260410T080000
DTEND;TZID=America/Sao_Paulo:20260410T120000
DTSTAMP:20260423T211948
CREATED:20260410T143534Z
LAST-MODIFIED:20260410T143534Z
UID:49634-1775808000-1775822400@www.goiasfomento.com
SUMMARY:Vinícius Luz: Externa – Visita ao Núcleo de Inteligência Artificial Aplicada  – Faculdade SENAI.
DESCRIPTION:
URL:https://www.goiasfomento.com/agenda/vinicius-luz-externa-visita-ao-nucleo-de-inteligencia-artificial-aplicada-faculdade-senai/
LOCATION:R. 227-A\, 95 – Setor Leste Universitário\, Goiânia – GO\, 74610-155
CATEGORIES:Diretoria de Operações
END:VEVENT
BEGIN:VEVENT
DTSTART;TZID=America/Sao_Paulo:20260410T080000
DTEND;TZID=America/Sao_Paulo:20260410T120000
DTSTAMP:20260423T211948
CREATED:20260410T143847Z
LAST-MODIFIED:20260410T143847Z
UID:49637-1775808000-1775822400@www.goiasfomento.com
SUMMARY:Lara Garcia: Externa – Visita ao Núcleo de Inteligência Artificial Aplicada – Faculdade SENAI.
DESCRIPTION:
URL:https://www.goiasfomento.com/agenda/lara-garcia-externa-visita-ao-nucleo-de-inteligencia-artificial-aplicada-faculdade-senai/
LOCATION:R. 227-A\, 95 – Setor Leste Universitário\, Goiânia – GO\, 74610-155
CATEGORIES:Diretoria Administrativa e Financeira
END:VEVENT
BEGIN:VEVENT
DTSTART;TZID=America/Sao_Paulo:20260410T140000
DTEND;TZID=America/Sao_Paulo:20260410T180000
DTSTAMP:20260423T211948
CREATED:20260410T135432Z
LAST-MODIFIED:20260410T135432Z
UID:49611-1775829600-1775844000@www.goiasfomento.com
SUMMARY:Philippe Alexandre Melo de Oliveira: Atendimentos e Despachos Internos.
DESCRIPTION:
URL:https://www.goiasfomento.com/agenda/philippe-alexandre-melo-de-oliveira-atendimentos-e-despachos-internos-51/
CATEGORIES:Chefia de Gabinete
END:VEVENT
BEGIN:VEVENT
DTSTART;TZID=America/Sao_Paulo:20260410T140000
DTEND;TZID=America/Sao_Paulo:20260410T180000
DTSTAMP:20260423T211948
CREATED:20260410T141310Z
LAST-MODIFIED:20260410T141310Z
UID:49629-1775829600-1775844000@www.goiasfomento.com
SUMMARY:Rivael Aguiar Pereira: Atendimentos e Despachos Internos
DESCRIPTION:
URL:https://www.goiasfomento.com/agenda/rivael-aguiar-pereira-atendimentos-e-despachos-internos-343/
CATEGORIES:Presidência
END:VEVENT
BEGIN:VEVENT
DTSTART;TZID=America/Sao_Paulo:20260410T140000
DTEND;TZID=America/Sao_Paulo:20260410T180000
DTSTAMP:20260423T211948
CREATED:20260410T145125Z
LAST-MODIFIED:20260410T145326Z
UID:49640-1775829600-1775844000@www.goiasfomento.com
SUMMARY:Lara Garcia: Despachos Internos e Administrativos.
DESCRIPTION:
URL:https://www.goiasfomento.com/agenda/lara-garcia-despachos-internos-e-administrativos-237/
LOCATION:Gabinete da Diretoria Administrativa e Financeira – Agência de Fomento de Goiás.
CATEGORIES:Diretoria Administrativa e Financeira
END:VEVENT
BEGIN:VEVENT
DTSTART;TZID=America/Sao_Paulo:20260410T140000
DTEND;TZID=America/Sao_Paulo:20260410T180000
DTSTAMP:20260423T211948
CREATED:20260410T150559Z
LAST-MODIFIED:20260410T150559Z
UID:49642-1775829600-1775844000@www.goiasfomento.com
SUMMARY:Vinícius Luz: Atendimentos e Despachos Internos.
DESCRIPTION:
URL:https://www.goiasfomento.com/agenda/vinicius-luz-atendimentos-e-despachos-internos-337/
LOCATION:Gabinete da Diretoria de Operações da GoiásFomento – Agência de Fomento de Goiás.
CATEGORIES:Diretoria de Operações
END:VEVENT
BEGIN:VEVENT
DTSTART;TZID=America/Sao_Paulo:20260413T080000
DTEND;TZID=America/Sao_Paulo:20260413T110000
DTSTAMP:20260423T211948
CREATED:20260413T131912Z
LAST-MODIFIED:20260413T131912Z
UID:49651-1776067200-1776078000@www.goiasfomento.com
SUMMARY:Rivael Aguiar Pereira: Atendimentos e Despachos Internos
DESCRIPTION:
URL:https://www.goiasfomento.com/agenda/rivael-aguiar-pereira-atendimentos-e-despachos-internos-344/
CATEGORIES:Presidência
END:VEVENT
BEGIN:VEVENT
DTSTART;TZID=America/Sao_Paulo:20260413T080000
DTEND;TZID=America/Sao_Paulo:20260413T120000
DTSTAMP:20260423T211948
CREATED:20260413T134307Z
LAST-MODIFIED:20260413T134307Z
UID:49672-1776067200-1776081600@www.goiasfomento.com
SUMMARY:Philippe Alexandre Melo de Oliveira: Atendimentos e Despachos Internos.
DESCRIPTION:
URL:https://www.goiasfomento.com/agenda/philippe-alexandre-melo-de-oliveira-atendimentos-e-despachos-internos-52/
CATEGORIES:Chefia de Gabinete
END:VEVENT
BEGIN:VEVENT
DTSTART;TZID=America/Sao_Paulo:20260413T080000
DTEND;TZID=America/Sao_Paulo:20260413T120000
DTSTAMP:20260423T211948
CREATED:20260413T191613Z
LAST-MODIFIED:20260413T191613Z
UID:49678-1776067200-1776081600@www.goiasfomento.com
SUMMARY:Vinícius Luz: Atendimentos e Despachos Internos.
DESCRIPTION:
URL:https://www.goiasfomento.com/agenda/vinicius-luz-atendimentos-e-despachos-internos-338/
LOCATION:Gabinete da Diretoria de Operações da GoiásFomento – Agência de Fomento de Goiás.
CATEGORIES:Diretoria de Operações
END:VEVENT
BEGIN:VEVENT
DTSTART;TZID=America/Sao_Paulo:20260413T080000
DTEND;TZID=America/Sao_Paulo:20260413T120000
DTSTAMP:20260423T211948
CREATED:20260413T191728Z
LAST-MODIFIED:20260413T191728Z
UID:49682-1776067200-1776081600@www.goiasfomento.com
SUMMARY:Lara Garcia: Despachos Internos e Administrativos.
DESCRIPTION:
URL:https://www.goiasfomento.com/agenda/lara-garcia-despachos-internos-e-administrativos-238/
LOCATION:Gabinete da Diretoria Administrativa e Financeira – Agência de Fomento de Goiás.
CATEGORIES:Diretoria Administrativa e Financeira
END:VEVENT
BEGIN:VEVENT
DTSTART;TZID=America/Sao_Paulo:20260413T110000
DTEND;TZID=America/Sao_Paulo:20260413T130000
DTSTAMP:20260423T211948
CREATED:20260413T132324Z
LAST-MODIFIED:20260413T132324Z
UID:49653-1776078000-1776085200@www.goiasfomento.com
SUMMARY:Rivael Aguiar Pereira: Reunião com Sr. Daniel Vilela - Governador do estado de Goiás
DESCRIPTION:
URL:https://www.goiasfomento.com/agenda/rivael-aguiar-pereira-reuniao-com-sr-daniel-vilela-governador-do-estado-de-goias/
LOCATION:Palácio das Esmeraldas (Salão Gercina Borges)
CATEGORIES:Presidência
END:VEVENT
BEGIN:VEVENT
DTSTART;TZID=America/Sao_Paulo:20260413T140000
DTEND;TZID=America/Sao_Paulo:20260413T180000
DTSTAMP:20260423T211948
CREATED:20260413T132504Z
LAST-MODIFIED:20260413T132504Z
UID:49656-1776088800-1776103200@www.goiasfomento.com
SUMMARY:Rivael Aguiar Pereira: Atendimentos e Despachos Internos
DESCRIPTION:
URL:https://www.goiasfomento.com/agenda/rivael-aguiar-pereira-atendimentos-e-despachos-internos-345/
CATEGORIES:Presidência
END:VEVENT
BEGIN:VEVENT
DTSTART;TZID=America/Sao_Paulo:20260413T140000
DTEND;TZID=America/Sao_Paulo:20260413T180000
DTSTAMP:20260423T211948
CREATED:20260413T134528Z
LAST-MODIFIED:20260413T134528Z
UID:49675-1776088800-1776103200@www.goiasfomento.com
SUMMARY:Philippe Alexandre Melo de Oliveira: Atendimentos e Despachos Internos.
DESCRIPTION:
URL:https://www.goiasfomento.com/agenda/philippe-alexandre-melo-de-oliveira-atendimentos-e-despachos-internos-53/
CATEGORIES:Chefia de Gabinete
END:VEVENT
BEGIN:VEVENT
DTSTART;TZID=America/Sao_Paulo:20260413T140000
DTEND;TZID=America/Sao_Paulo:20260413T180000
DTSTAMP:20260423T211948
CREATED:20260413T191643Z
LAST-MODIFIED:20260413T191643Z
UID:49680-1776088800-1776103200@www.goiasfomento.com
SUMMARY:Vinícius Luz: Atendimentos e Despachos Internos.
DESCRIPTION:
URL:https://www.goiasfomento.com/agenda/vinicius-luz-atendimentos-e-despachos-internos-339/
LOCATION:Gabinete da Diretoria de Operações da GoiásFomento – Agência de Fomento de Goiás.
CATEGORIES:Diretoria de Operações
END:VEVENT
BEGIN:VEVENT
DTSTART;TZID=America/Sao_Paulo:20260413T140000
DTEND;TZID=America/Sao_Paulo:20260413T180000
DTSTAMP:20260423T211948
CREATED:20260413T191747Z
LAST-MODIFIED:20260413T191747Z
UID:49684-1776088800-1776103200@www.goiasfomento.com
SUMMARY:Lara Garcia: Despachos Internos e Administrativos.
DESCRIPTION:
URL:https://www.goiasfomento.com/agenda/lara-garcia-despachos-internos-e-administrativos-239/
LOCATION:Gabinete da Diretoria Administrativa e Financeira – Agência de Fomento de Goiás.
CATEGORIES:Diretoria Administrativa e Financeira
END:VEVENT
BEGIN:VEVENT
DTSTART;TZID=America/Sao_Paulo:20260413T190000
DTEND;TZID=America/Sao_Paulo:20260413T200000
DTSTAMP:20260423T211948
CREATED:20260413T132901Z
LAST-MODIFIED:20260413T132901Z
UID:49658-1776106800-1776110400@www.goiasfomento.com
SUMMARY:Rivael Aguiar Pereira: Solenidade - Entrega da medalha de Mérito Pedro Ludovico Teixeira ALEGO
DESCRIPTION:
URL:https://www.goiasfomento.com/agenda/rivael-aguiar-pereira-solenidade-entrega-da-medalha-de-merito-pedro-ludovico-teixeira-alego/
CATEGORIES:Presidência
END:VEVENT
BEGIN:VEVENT
DTSTART;TZID=America/Sao_Paulo:20260413T190000
DTEND;TZID=America/Sao_Paulo:20260413T200000
DTSTAMP:20260423T211948
CREATED:20260413T192137Z
LAST-MODIFIED:20260413T192137Z
UID:49686-1776106800-1776110400@www.goiasfomento.com
SUMMARY:Lara Garcia: Solenidade – Entrega da medalha de Mérito Pedro Ludovico Teixeira ALEGO.
DESCRIPTION:
URL:https://www.goiasfomento.com/agenda/lara-garcia-solenidade-entrega-da-medalha-de-merito-pedro-ludovico-teixeira-alego/
LOCATION:Assembleia Legislativa do Estado de Goiás – ALEGO
CATEGORIES:Diretoria Administrativa e Financeira
END:VEVENT
BEGIN:VEVENT
DTSTART;TZID=America/Sao_Paulo:20260413T190000
DTEND;TZID=America/Sao_Paulo:20260413T200000
DTSTAMP:20260423T211948
CREATED:20260413T192846Z
LAST-MODIFIED:20260413T192846Z
UID:49690-1776106800-1776110400@www.goiasfomento.com
SUMMARY:Vinícius Luz: Solenidade – Entrega da medalha de Mérito Pedro Ludovico Teixeira ALEGO.
DESCRIPTION:
URL:https://www.goiasfomento.com/agenda/vinicius-luz-solenidade-entrega-da-medalha-de-merito-pedro-ludovico-teixeira-alego/
LOCATION:Assembleia Legislativa do Estado de Goiás – ALEGO
CATEGORIES:Diretoria de Operações
END:VEVENT
BEGIN:VEVENT
DTSTART;TZID=America/Sao_Paulo:20260413T190000
DTEND;TZID=America/Sao_Paulo:20260413T200000
DTSTAMP:20260423T211948
CREATED:20260414T114253Z
LAST-MODIFIED:20260414T114253Z
UID:49692-1776106800-1776110400@www.goiasfomento.com
SUMMARY:Philippe Alexandre Melo de Oliveira:  Solenidade - Entrega da medalha de Mérito Pedro Ludovico Teixeira ALEGO
DESCRIPTION:
URL:https://www.goiasfomento.com/agenda/philippe-alexandre-melo-de-oliveira-solenidade-entrega-da-medalha-de-merito-pedro-ludovico-teixeira-alego/
CATEGORIES:Chefia de Gabinete
END:VEVENT
BEGIN:VEVENT
DTSTART;TZID=America/Sao_Paulo:20260414T080000
DTEND;TZID=America/Sao_Paulo:20260414T093000
DTSTAMP:20260423T211948
CREATED:20260414T115050Z
LAST-MODIFIED:20260414T115050Z
UID:49710-1776153600-1776159000@www.goiasfomento.com
SUMMARY:Rivael Aguiar Pereira: Atendimentos e Despachos Internos
DESCRIPTION:
URL:https://www.goiasfomento.com/agenda/rivael-aguiar-pereira-atendimentos-e-despachos-internos-346/
CATEGORIES:Presidência
END:VEVENT
END:VCALENDAR