BEGIN:VCALENDAR
VERSION:2.0
PRODID:-//GoiásFomento - Agência de Fomento - ECPv6.15.20//NONSGML v1.0//EN
CALSCALE:GREGORIAN
METHOD:PUBLISH
X-ORIGINAL-URL:https://www.goiasfomento.com
X-WR-CALDESC:Eventos para GoiásFomento - Agência de Fomento
REFRESH-INTERVAL;VALUE=DURATION:PT1H
X-Robots-Tag:noindex
X-PUBLISHED-TTL:PT1H
BEGIN:VTIMEZONE
TZID:America/Sao_Paulo
BEGIN:STANDARD
TZOFFSETFROM:-0300
TZOFFSETTO:-0300
TZNAME:-03
DTSTART:20240101T000000
END:STANDARD
END:VTIMEZONE
BEGIN:VEVENT
DTSTART;TZID=America/Sao_Paulo:20251023T080000
DTEND;TZID=America/Sao_Paulo:20251023T120000
DTSTAMP:20260425T235739
CREATED:20251017T130636Z
LAST-MODIFIED:20251017T130636Z
UID:46621-1761206400-1761220800@www.goiasfomento.com
SUMMARY:Rufino Veríssimo: Atendimentos e Despachos Internos.
DESCRIPTION:
URL:https://www.goiasfomento.com/agenda/rufino-verissimo-atendimentos-e-despachos-internos-144/
LOCATION:Chefia de Gabinete – Agência de Fomento de Goiás
CATEGORIES:Chefia de Gabinete
END:VEVENT
BEGIN:VEVENT
DTSTART;TZID=America/Sao_Paulo:20251023T080000
DTEND;TZID=America/Sao_Paulo:20251023T120000
DTSTAMP:20260425T235739
CREATED:20251020T133927Z
LAST-MODIFIED:20251020T133927Z
UID:46685-1761206400-1761220800@www.goiasfomento.com
SUMMARY:Rivael Aguiar Pereira: Atendimentos e Despachos Internos
DESCRIPTION:
URL:https://www.goiasfomento.com/agenda/rivael-aguiar-pereira-atendimentos-e-despachos-internos-143/
LOCATION:Gabinete da Presidência da GoiásFomento – Agência de Fomento de Goiás.
CATEGORIES:Presidência
END:VEVENT
BEGIN:VEVENT
DTSTART;TZID=America/Sao_Paulo:20251023T080000
DTEND;TZID=America/Sao_Paulo:20251023T120000
DTSTAMP:20260425T235739
CREATED:20251022T141012Z
LAST-MODIFIED:20251022T141012Z
UID:46724-1761206400-1761220800@www.goiasfomento.com
SUMMARY:Lara Garcia: Despachos Internos e Administrativos.
DESCRIPTION:
URL:https://www.goiasfomento.com/agenda/lara-garcia-despachos-internos-e-administrativos-57/
LOCATION:Gabinete da Diretoria Administrativa e Financeira – Agência de Fomento de Goiás.
CATEGORIES:Diretoria Administrativa e Financeira
END:VEVENT
BEGIN:VEVENT
DTSTART;TZID=America/Sao_Paulo:20251023T080000
DTEND;TZID=America/Sao_Paulo:20251023T120000
DTSTAMP:20260425T235739
CREATED:20251028T160316Z
LAST-MODIFIED:20251028T160316Z
UID:46787-1761206400-1761220800@www.goiasfomento.com
SUMMARY:Vinícius Luz: Atendimentos e Despachos Internos.
DESCRIPTION:
URL:https://www.goiasfomento.com/agenda/vinicius-luz-atendimentos-e-despachos-internos-143/
LOCATION:Gabinete da Diretoria de Operações da GoiásFomento – Agência de Fomento de Goiás.
CATEGORIES:Diretoria de Operações
END:VEVENT
BEGIN:VEVENT
DTSTART;TZID=America/Sao_Paulo:20251023T140000
DTEND;TZID=America/Sao_Paulo:20251023T170000
DTSTAMP:20260425T235739
CREATED:20251028T180231Z
LAST-MODIFIED:20251028T180309Z
UID:46789-1761228000-1761238800@www.goiasfomento.com
SUMMARY:Vinícius Luz: GoiasFomento + Municípios - GoiásFomento em parceria com a Federação Goiana dos Municípios (FGM).
DESCRIPTION:
URL:https://www.goiasfomento.com/agenda/vinicius-luz-goiasfomento-municipios-goiasfomento-em-parceria-com-a-federacao-goiana-dos-municipios-fgm/
LOCATION:Federação Goiana de Municípios
CATEGORIES:Diretoria de Operações
END:VEVENT
BEGIN:VEVENT
DTSTART;TZID=America/Sao_Paulo:20251023T140000
DTEND;TZID=America/Sao_Paulo:20251023T170000
DTSTAMP:20260425T235739
CREATED:20251028T180438Z
LAST-MODIFIED:20251028T180445Z
UID:46792-1761228000-1761238800@www.goiasfomento.com
SUMMARY:Lara Garcia: GoiasFomento + Municípios - GoiásFomento em parceria com a Federação Goiana dos Municípios (FGM).
DESCRIPTION:
URL:https://www.goiasfomento.com/agenda/lara-garcia-goiasfomento-municipios-goiasfomento-em-parceria-com-a-federacao-goiana-dos-municipios-fgm/
LOCATION:Federação Goiana de Municípios – R. 102\, 186 – St. Sul\, Goiânia – GO\, 74083-250.
CATEGORIES:Diretoria Administrativa e Financeira
END:VEVENT
BEGIN:VEVENT
DTSTART;TZID=America/Sao_Paulo:20251023T140000
DTEND;TZID=America/Sao_Paulo:20251023T180000
DTSTAMP:20260425T235739
CREATED:20251017T130718Z
LAST-MODIFIED:20251017T130718Z
UID:46624-1761228000-1761242400@www.goiasfomento.com
SUMMARY:Rufino Veríssimo: Atendimentos e Despachos Internos.
DESCRIPTION:
URL:https://www.goiasfomento.com/agenda/rufino-verissimo-atendimentos-e-despachos-internos-145/
LOCATION:Chefia de Gabinete – Agência de Fomento de Goiás
CATEGORIES:Chefia de Gabinete
END:VEVENT
BEGIN:VEVENT
DTSTART;TZID=America/Sao_Paulo:20251023T140000
DTEND;TZID=America/Sao_Paulo:20251023T180000
DTSTAMP:20260425T235739
CREATED:20251020T134000Z
LAST-MODIFIED:20251020T134000Z
UID:46687-1761228000-1761242400@www.goiasfomento.com
SUMMARY:Rivael Aguiar Pereira: Atendimentos e Despachos Internos
DESCRIPTION:
URL:https://www.goiasfomento.com/agenda/rivael-aguiar-pereira-atendimentos-e-despachos-internos-144/
CATEGORIES:Presidência
END:VEVENT
BEGIN:VEVENT
DTSTART;TZID=America/Sao_Paulo:20251023T170000
DTEND;TZID=America/Sao_Paulo:20251023T180000
DTSTAMP:20260425T235739
CREATED:20251028T180515Z
LAST-MODIFIED:20251028T180521Z
UID:46794-1761238800-1761242400@www.goiasfomento.com
SUMMARY:Lara Garcia: Despachos Internos e Administrativos.
DESCRIPTION:
URL:https://www.goiasfomento.com/agenda/lara-garcia-despachos-internos-e-administrativos-60/
LOCATION:Gabinete da Diretoria Administrativa e Financeira – Agência de Fomento de Goiás.
CATEGORIES:Diretoria Administrativa e Financeira
END:VEVENT
BEGIN:VEVENT
DTSTART;TZID=America/Sao_Paulo:20251023T170000
DTEND;TZID=America/Sao_Paulo:20251023T180000
DTSTAMP:20260425T235739
CREATED:20251028T180652Z
LAST-MODIFIED:20251028T180652Z
UID:46796-1761238800-1761242400@www.goiasfomento.com
SUMMARY:Vinícius Luz: Atendimentos e Despachos Internos.
DESCRIPTION:
URL:https://www.goiasfomento.com/agenda/vinicius-luz-atendimentos-e-despachos-internos-144/
LOCATION:Gabinete da Diretoria de Operações da GoiásFomento – Agência de Fomento de Goiás.
CATEGORIES:Diretoria de Operações
END:VEVENT
BEGIN:VEVENT
DTSTART;VALUE=DATE:20251024
DTEND;VALUE=DATE:20251025
DTSTAMP:20260425T235739
CREATED:20251002T175833Z
LAST-MODIFIED:20251002T175841Z
UID:46301-1761264000-1761350399@www.goiasfomento.com
SUMMARY:Vinícius Luz: Feriado Municipal – Aniversário de Goiânia.
DESCRIPTION:
URL:https://www.goiasfomento.com/agenda/vinicius-luz-feriado-municipal-aniversario-de-goiania-2/
LOCATION:Goiania – Goiás
CATEGORIES:Diretoria de Operações
END:VEVENT
BEGIN:VEVENT
DTSTART;VALUE=DATE:20251024
DTEND;VALUE=DATE:20251025
DTSTAMP:20260425T235739
CREATED:20251002T180019Z
LAST-MODIFIED:20251002T180026Z
UID:46303-1761264000-1761350399@www.goiasfomento.com
SUMMARY:Lara Garcia: Feriado Municipal – Aniversário de Goiânia.
DESCRIPTION:
URL:https://www.goiasfomento.com/agenda/lara-garcia-feriado-municipal-aniversario-de-goiania/
LOCATION:Goiania – Goiás
CATEGORIES:Diretoria Administrativa e Financeira
END:VEVENT
BEGIN:VEVENT
DTSTART;VALUE=DATE:20251024
DTEND;VALUE=DATE:20251025
DTSTAMP:20260425T235739
CREATED:20251020T134059Z
LAST-MODIFIED:20251020T134059Z
UID:46689-1761264000-1761350399@www.goiasfomento.com
SUMMARY:Rivael Aguiar Pereira: Feriado Municipal – Aniversário de Goiânia.
DESCRIPTION:
URL:https://www.goiasfomento.com/agenda/rivael-aguiar-pereira-feriado-municipal-aniversario-de-goiania/
CATEGORIES:Presidência
END:VEVENT
BEGIN:VEVENT
DTSTART;VALUE=DATE:20251024
DTEND;VALUE=DATE:20251025
DTSTAMP:20260425T235739
CREATED:20251020T140140Z
LAST-MODIFIED:20251020T140140Z
UID:46693-1761264000-1761350399@www.goiasfomento.com
SUMMARY:Rufino Veríssimo: Feriado Municipal – Aniversário de Goiânia.
DESCRIPTION:
URL:https://www.goiasfomento.com/agenda/rufino-verissimo-feriado-municipal-aniversario-de-goiania/
CATEGORIES:Chefia de Gabinete
END:VEVENT
BEGIN:VEVENT
DTSTART;VALUE=DATE:20251027
DTEND;VALUE=DATE:20251028
DTSTAMP:20260425T235739
CREATED:20251002T142934Z
LAST-MODIFIED:20251002T142934Z
UID:46284-1761523200-1761609599@www.goiasfomento.com
SUMMARY:Lara Garcia: Segundo o Decreto Estadual nº 10.790\, de 1º de outubro de 2025\, que transfere o feriado em comemoração ao Dia do Servidor Público\, do dia 28 de outubro de 2025\, para o dia 27 de outubro de 2025.
DESCRIPTION:
URL:https://www.goiasfomento.com/agenda/lara-garcia-segundo-o-decreto-estadual-no-10-790-de-1o-de-outubro-de-2025-que-transfere-o-feriado-em-comemoracao-ao-dia-do-servidor-publico-do-dia-28-de-outubro-de-2025-para-o-dia-27-de-outubro-d/
CATEGORIES:Diretoria Administrativa e Financeira
END:VEVENT
BEGIN:VEVENT
DTSTART;VALUE=DATE:20251027
DTEND;VALUE=DATE:20251028
DTSTAMP:20260425T235739
CREATED:20251002T143159Z
LAST-MODIFIED:20251002T143159Z
UID:46287-1761523200-1761609599@www.goiasfomento.com
SUMMARY:Vinícius Luz: Segundo o Decreto Estadual nº 10.790\, de 1º de outubro de 2025\, que transfere o feriado em comemoração ao Dia do Servidor Público\, do dia 28 de outubro de 2025\, para o dia 27 de outubro de 2025.
DESCRIPTION:
URL:https://www.goiasfomento.com/agenda/vinicius-luz-segundo-o-decreto-estadual-no-10-790-de-1o-de-outubro-de-2025-que-transfere-o-feriado-em-comemoracao-ao-dia-do-servidor-publico-do-dia-28-de-outubro-de-2025-para-o-dia-27-de-outubro/
CATEGORIES:Diretoria de Operações
END:VEVENT
BEGIN:VEVENT
DTSTART;VALUE=DATE:20251027
DTEND;VALUE=DATE:20251028
DTSTAMP:20260425T235739
CREATED:20251020T134249Z
LAST-MODIFIED:20251020T134249Z
UID:46691-1761523200-1761609599@www.goiasfomento.com
SUMMARY:Rivael Aguiar Pereira: Segundo o Decreto Estadual nº 10.790\, de 1º de outubro de 2025\, que transfere o feriado em comemoração ao Dia do Servidor Público\, do dia 28 de outubro de 2025\, para o dia 27 de outubro de 2025.
DESCRIPTION:
URL:https://www.goiasfomento.com/agenda/rivael-aguiar-pereira-segundo-o-decreto-estadual-no-10-790-de-1o-de-outubro-de-2025-que-transfere-o-feriado-em-comemoracao-ao-dia-do-servidor-publico-do-dia-28-de-outubro-de-2025-para-o-dia-27-de/
CATEGORIES:Presidência
END:VEVENT
BEGIN:VEVENT
DTSTART;VALUE=DATE:20251027
DTEND;VALUE=DATE:20251028
DTSTAMP:20260425T235739
CREATED:20251020T140403Z
LAST-MODIFIED:20251020T140403Z
UID:46695-1761523200-1761609599@www.goiasfomento.com
SUMMARY:Rufino Veríssimo: Segundo o Decreto Estadual nº 10.790\, de 1º de outubro de 2025\, que transfere o feriado em comemoração ao Dia do Servidor Público\, do dia 28 de outubro de 2025\, para o dia 27 de outubro de 2025.
DESCRIPTION:
URL:https://www.goiasfomento.com/agenda/rufino-verissimo-segundo-o-decreto-estadual-no-10-790-de-1o-de-outubro-de-2025-que-transfere-o-feriado-em-comemoracao-ao-dia-do-servidor-publico-do-dia-28-de-outubro-de-2025-para-o-dia-27-de-outu/
CATEGORIES:Chefia de Gabinete
END:VEVENT
BEGIN:VEVENT
DTSTART;TZID=America/Sao_Paulo:20251028T080000
DTEND;TZID=America/Sao_Paulo:20251028T120000
DTSTAMP:20260425T235739
CREATED:20251028T131038Z
LAST-MODIFIED:20251028T131038Z
UID:46741-1761638400-1761652800@www.goiasfomento.com
SUMMARY:Rufino Veríssimo: Atendimentos e Despachos Internos.
DESCRIPTION:
URL:https://www.goiasfomento.com/agenda/rufino-verissimo-atendimentos-e-despachos-internos-146/
LOCATION:Chefia de Gabinete – Agência de Fomento de Goiás
CATEGORIES:Chefia de Gabinete
END:VEVENT
BEGIN:VEVENT
DTSTART;TZID=America/Sao_Paulo:20251028T080000
DTEND;TZID=America/Sao_Paulo:20251028T120000
DTSTAMP:20260425T235739
CREATED:20251028T131856Z
LAST-MODIFIED:20251028T131856Z
UID:46758-1761638400-1761652800@www.goiasfomento.com
SUMMARY:Rivael Aguiar Pereira: Atendimentos e Despachos Internos
DESCRIPTION:
URL:https://www.goiasfomento.com/agenda/rivael-aguiar-pereira-atendimentos-e-despachos-internos-145/
LOCATION:Presidência – Agência de Fomento de Goiás
CATEGORIES:Presidência
END:VEVENT
BEGIN:VEVENT
DTSTART;TZID=America/Sao_Paulo:20251028T080000
DTEND;TZID=America/Sao_Paulo:20251028T120000
DTSTAMP:20260425T235739
CREATED:20251028T155554Z
LAST-MODIFIED:20251028T155554Z
UID:46781-1761638400-1761652800@www.goiasfomento.com
SUMMARY:Lara Garcia: Despachos Internos e Administrativos.
DESCRIPTION:
URL:https://www.goiasfomento.com/agenda/lara-garcia-despachos-internos-e-administrativos-58/
LOCATION:Gabinete da Diretoria Administrativa e Financeira – Agência de Fomento de Goiás.
CATEGORIES:Diretoria Administrativa e Financeira
END:VEVENT
BEGIN:VEVENT
DTSTART;TZID=America/Sao_Paulo:20251028T080000
DTEND;TZID=America/Sao_Paulo:20251028T120000
DTSTAMP:20260425T235739
CREATED:20251028T160106Z
LAST-MODIFIED:20251028T160106Z
UID:46785-1761638400-1761652800@www.goiasfomento.com
SUMMARY:Vinícius Luz: Atendimentos e Despachos Internos.
DESCRIPTION:
URL:https://www.goiasfomento.com/agenda/vinicius-luz-atendimentos-e-despachos-internos-142/
LOCATION:Gabinete da Diretoria de Operações da GoiásFomento – Agência de Fomento de Goiás.
CATEGORIES:Diretoria de Operações
END:VEVENT
BEGIN:VEVENT
DTSTART;TZID=America/Sao_Paulo:20251028T140000
DTEND;TZID=America/Sao_Paulo:20251028T180000
DTSTAMP:20260425T235739
CREATED:20251028T131108Z
LAST-MODIFIED:20251028T131108Z
UID:46743-1761660000-1761674400@www.goiasfomento.com
SUMMARY:Rufino Veríssimo: Atendimentos e Despachos Internos.
DESCRIPTION:
URL:https://www.goiasfomento.com/agenda/rufino-verissimo-atendimentos-e-despachos-internos-147/
LOCATION:Chefia de Gabinete – Agência de Fomento de Goiás
CATEGORIES:Chefia de Gabinete
END:VEVENT
BEGIN:VEVENT
DTSTART;TZID=America/Sao_Paulo:20251028T140000
DTEND;TZID=America/Sao_Paulo:20251028T180000
DTSTAMP:20260425T235739
CREATED:20251028T131923Z
LAST-MODIFIED:20251028T131923Z
UID:46760-1761660000-1761674400@www.goiasfomento.com
SUMMARY:Rivael Aguiar Pereira: Atendimentos e Despachos Internos
DESCRIPTION:
URL:https://www.goiasfomento.com/agenda/rivael-aguiar-pereira-atendimentos-e-despachos-internos-146/
LOCATION:Presidência – Agência de Fomento de Goiás
CATEGORIES:Presidência
END:VEVENT
BEGIN:VEVENT
DTSTART;TZID=America/Sao_Paulo:20251028T140000
DTEND;TZID=America/Sao_Paulo:20251028T180000
DTSTAMP:20260425T235739
CREATED:20251028T155837Z
LAST-MODIFIED:20251028T155837Z
UID:46783-1761660000-1761674400@www.goiasfomento.com
SUMMARY:Lara Garcia: Despachos Internos e Administrativos.
DESCRIPTION:
URL:https://www.goiasfomento.com/agenda/lara-garcia-despachos-internos-e-administrativos-59/
LOCATION:Gabinete da Diretoria Administrativa e Financeira – Agência de Fomento de Goiás.
CATEGORIES:Diretoria Administrativa e Financeira
END:VEVENT
BEGIN:VEVENT
DTSTART;TZID=America/Sao_Paulo:20251028T140000
DTEND;TZID=America/Sao_Paulo:20251028T180000
DTSTAMP:20260425T235739
CREATED:20251028T180713Z
LAST-MODIFIED:20251028T180713Z
UID:46798-1761660000-1761674400@www.goiasfomento.com
SUMMARY:Vinícius Luz: Atendimentos e Despachos Internos.
DESCRIPTION:
URL:https://www.goiasfomento.com/agenda/vinicius-luz-atendimentos-e-despachos-internos-145/
LOCATION:Gabinete da Diretoria de Operações da GoiásFomento – Agência de Fomento de Goiás.
CATEGORIES:Diretoria de Operações
END:VEVENT
BEGIN:VEVENT
DTSTART;TZID=America/Sao_Paulo:20251029T080000
DTEND;TZID=America/Sao_Paulo:20251029T093000
DTSTAMP:20260425T235739
CREATED:20251029T173953Z
LAST-MODIFIED:20251029T173953Z
UID:46807-1761724800-1761730200@www.goiasfomento.com
SUMMARY:Vinícius Luz: Atendimentos e Despachos Internos.
DESCRIPTION:
URL:https://www.goiasfomento.com/agenda/vinicius-luz-atendimentos-e-despachos-internos-146/
LOCATION:Gabinete da Diretoria de Operações da GoiásFomento – Agência de Fomento de Goiás.
CATEGORIES:Diretoria de Operações
END:VEVENT
BEGIN:VEVENT
DTSTART;TZID=America/Sao_Paulo:20251029T080000
DTEND;TZID=America/Sao_Paulo:20251029T120000
DTSTAMP:20260425T235739
CREATED:20251028T131144Z
LAST-MODIFIED:20251028T131144Z
UID:46745-1761724800-1761739200@www.goiasfomento.com
SUMMARY:Rufino Veríssimo: Atendimentos e Despachos Internos.
DESCRIPTION:
URL:https://www.goiasfomento.com/agenda/rufino-verissimo-atendimentos-e-despachos-internos-148/
LOCATION:Chefia de Gabinete – Agência de Fomento de Goiás
CATEGORIES:Chefia de Gabinete
END:VEVENT
BEGIN:VEVENT
DTSTART;TZID=America/Sao_Paulo:20251029T080000
DTEND;TZID=America/Sao_Paulo:20251029T120000
DTSTAMP:20260425T235739
CREATED:20251028T132000Z
LAST-MODIFIED:20251028T132238Z
UID:46762-1761724800-1761739200@www.goiasfomento.com
SUMMARY:Rivael Aguiar Pereira:  - Abertura da FIC - Feira de Indústria\, Comércio\, Habitação e Empreendedorismo
DESCRIPTION:
URL:https://www.goiasfomento.com/agenda/rivael-aguiar-pereira-atendimentos-e-despachos-internos-147/
LOCATION:Presidência – Agência de Fomento de Goiás
CATEGORIES:Presidência
END:VEVENT
BEGIN:VEVENT
DTSTART;TZID=America/Sao_Paulo:20251029T080000
DTEND;TZID=America/Sao_Paulo:20251029T120000
DTSTAMP:20260425T235739
CREATED:20251029T172534Z
LAST-MODIFIED:20251029T172534Z
UID:46800-1761724800-1761739200@www.goiasfomento.com
SUMMARY:Lara Garcia: Despachos Internos e Administrativos.
DESCRIPTION:
URL:https://www.goiasfomento.com/agenda/lara-garcia-despachos-internos-e-administrativos-61/
LOCATION:Gabinete da Diretoria Administrativa e Financeira – Agência de Fomento de Goiás.
CATEGORIES:Diretoria Administrativa e Financeira
END:VEVENT
END:VCALENDAR