BEGIN:VCALENDAR
VERSION:2.0
PRODID:-//GoiásFomento - Agência de Fomento - ECPv6.15.20//NONSGML v1.0//EN
CALSCALE:GREGORIAN
METHOD:PUBLISH
X-ORIGINAL-URL:https://www.goiasfomento.com
X-WR-CALDESC:Eventos para GoiásFomento - Agência de Fomento
REFRESH-INTERVAL;VALUE=DURATION:PT1H
X-Robots-Tag:noindex
X-PUBLISHED-TTL:PT1H
BEGIN:VTIMEZONE
TZID:America/Sao_Paulo
BEGIN:STANDARD
TZOFFSETFROM:-0300
TZOFFSETTO:-0300
TZNAME:-03
DTSTART:20240101T000000
END:STANDARD
END:VTIMEZONE
BEGIN:VEVENT
DTSTART;TZID=America/Sao_Paulo:20251014T080000
DTEND;TZID=America/Sao_Paulo:20251014T120000
DTSTAMP:20260425T233957
CREATED:20251010T132846Z
LAST-MODIFIED:20251010T132846Z
UID:46411-1760428800-1760443200@www.goiasfomento.com
SUMMARY:Rufino Veríssimo: Atendimentos e Despachos Internos.
DESCRIPTION:
URL:https://www.goiasfomento.com/agenda/rufino-verissimo-atendimentos-e-despachos-internos-130/
LOCATION:Agência de Fomento de Goiás
CATEGORIES:Chefia de Gabinete
END:VEVENT
BEGIN:VEVENT
DTSTART;TZID=America/Sao_Paulo:20251014T080000
DTEND;TZID=America/Sao_Paulo:20251014T120000
DTSTAMP:20260425T233957
CREATED:20251013T162342Z
LAST-MODIFIED:20251013T162342Z
UID:46469-1760428800-1760443200@www.goiasfomento.com
SUMMARY:Rivael Aguiar Pereira: Atendimentos e Despachos Internos
DESCRIPTION:
URL:https://www.goiasfomento.com/agenda/rivael-aguiar-pereira-atendimentos-e-despachos-internos-129/
LOCATION:Gabinete da Presidência da GoiásFomento – Agência de Fomento de Goiás.
CATEGORIES:Presidência
END:VEVENT
BEGIN:VEVENT
DTSTART;TZID=America/Sao_Paulo:20251014T080000
DTEND;TZID=America/Sao_Paulo:20251014T120000
DTSTAMP:20260425T233957
CREATED:20251014T135352Z
LAST-MODIFIED:20251014T135352Z
UID:46497-1760428800-1760443200@www.goiasfomento.com
SUMMARY:Vinícius Luz: Atendimentos e Despachos Internos.
DESCRIPTION:
URL:https://www.goiasfomento.com/agenda/vinicius-luz-atendimentos-e-despachos-internos-127/
LOCATION:Gabinete da Diretoria de Operações da GoiásFomento – Agência de Fomento de Goiás.
CATEGORIES:Diretoria de Operações
END:VEVENT
BEGIN:VEVENT
DTSTART;TZID=America/Sao_Paulo:20251014T080000
DTEND;TZID=America/Sao_Paulo:20251014T140000
DTSTAMP:20260425T233957
CREATED:20251014T134943Z
LAST-MODIFIED:20251014T134943Z
UID:46493-1760428800-1760450400@www.goiasfomento.com
SUMMARY:Lara Garcia: Despachos Internos e Administrativos.
DESCRIPTION:
URL:https://www.goiasfomento.com/agenda/lara-garcia-despachos-internos-e-administrativos-43/
LOCATION:Gabinete da Diretoria Administrativa e Financeira – Agência de Fomento de Goiás.
CATEGORIES:Diretoria Administrativa e Financeira
END:VEVENT
BEGIN:VEVENT
DTSTART;TZID=America/Sao_Paulo:20251014T140000
DTEND;TZID=America/Sao_Paulo:20251014T180000
DTSTAMP:20260425T233957
CREATED:20251010T133058Z
LAST-MODIFIED:20251010T133058Z
UID:46414-1760450400-1760464800@www.goiasfomento.com
SUMMARY:Rufino Veríssimo: Atendimentos e Despachos Internos.
DESCRIPTION:
URL:https://www.goiasfomento.com/agenda/rufino-verissimo-atendimentos-e-despachos-internos-131/
LOCATION:Agência de Fomento de Goiás
CATEGORIES:Chefia de Gabinete
END:VEVENT
BEGIN:VEVENT
DTSTART;TZID=America/Sao_Paulo:20251014T140000
DTEND;TZID=America/Sao_Paulo:20251014T180000
DTSTAMP:20260425T233957
CREATED:20251013T162447Z
LAST-MODIFIED:20251013T162447Z
UID:46471-1760450400-1760464800@www.goiasfomento.com
SUMMARY:Rivael Aguiar Pereira: Atendimentos e Despachos Internos
DESCRIPTION:
URL:https://www.goiasfomento.com/agenda/rivael-aguiar-pereira-atendimentos-e-despachos-internos-130/
LOCATION:Gabinete da Presidência da GoiásFomento – Agência de Fomento de Goiás.
CATEGORIES:Presidência
END:VEVENT
BEGIN:VEVENT
DTSTART;TZID=America/Sao_Paulo:20251014T140000
DTEND;TZID=America/Sao_Paulo:20251014T180000
DTSTAMP:20260425T233957
CREATED:20251014T135003Z
LAST-MODIFIED:20251014T135003Z
UID:46495-1760450400-1760464800@www.goiasfomento.com
SUMMARY:Lara Garcia: Despachos Internos e Administrativos.
DESCRIPTION:
URL:https://www.goiasfomento.com/agenda/lara-garcia-despachos-internos-e-administrativos-44/
LOCATION:Gabinete da Diretoria Administrativa e Financeira – Agência de Fomento de Goiás.
CATEGORIES:Diretoria Administrativa e Financeira
END:VEVENT
BEGIN:VEVENT
DTSTART;TZID=America/Sao_Paulo:20251014T140000
DTEND;TZID=America/Sao_Paulo:20251014T180000
DTSTAMP:20260425T233957
CREATED:20251014T135412Z
LAST-MODIFIED:20251014T135412Z
UID:46499-1760450400-1760464800@www.goiasfomento.com
SUMMARY:Vinícius Luz: Atendimentos e Despachos Internos.
DESCRIPTION:
URL:https://www.goiasfomento.com/agenda/vinicius-luz-atendimentos-e-despachos-internos-128/
LOCATION:Gabinete da Diretoria de Operações da GoiásFomento – Agência de Fomento de Goiás.
CATEGORIES:Diretoria de Operações
END:VEVENT
BEGIN:VEVENT
DTSTART;TZID=America/Sao_Paulo:20251014T193000
DTEND;TZID=America/Sao_Paulo:20251014T203000
DTSTAMP:20260425T233957
CREATED:20251014T135655Z
LAST-MODIFIED:20251014T135655Z
UID:46501-1760470200-1760473800@www.goiasfomento.com
SUMMARY:Lara Garcia: Abertura da Conferência Brasileira de Bioenergia e Transição Energética.
DESCRIPTION:
URL:https://www.goiasfomento.com/agenda/lara-garcia-abertura-da-conferencia-brasileira-de-bioenergia-e-transicao-energetica/
LOCATION:Auditório Ipê\, situado na 5ª Avenida\, Quadra 71\, nº 212\, Leste Vila Nova\, Goiânia/GO – CEP 74643-030
CATEGORIES:Diretoria Administrativa e Financeira
END:VEVENT
BEGIN:VEVENT
DTSTART;TZID=America/Sao_Paulo:20251014T193000
DTEND;TZID=America/Sao_Paulo:20251014T203000
DTSTAMP:20260425T233957
CREATED:20251014T205144Z
LAST-MODIFIED:20251014T205144Z
UID:46504-1760470200-1760473800@www.goiasfomento.com
SUMMARY:Abertura da Conferência Brasileira de Bioenergia e Transição Energética
DESCRIPTION:
URL:https://www.goiasfomento.com/agenda/abertura-da-conferencia-brasileira-de-bioenergia-e-transicao-energetica/
LOCATION:Secretaria de Estado da Educação – SEDUC –  Av. Quinta Avenida\, quadra 71\, número 212\, Setor Leste Vila Nova\, Goiânia.
CATEGORIES:Presidência
END:VEVENT
BEGIN:VEVENT
DTSTART;TZID=America/Sao_Paulo:20251015T080000
DTEND;TZID=America/Sao_Paulo:20251015T120000
DTSTAMP:20260425T233957
CREATED:20251010T133406Z
LAST-MODIFIED:20251010T133406Z
UID:46416-1760515200-1760529600@www.goiasfomento.com
SUMMARY:Rufino Veríssimo: Atendimentos e Despachos Internos.
DESCRIPTION:
URL:https://www.goiasfomento.com/agenda/rufino-verissimo-atendimentos-e-despachos-internos-132/
LOCATION:Agência de Fomento de Goiás
CATEGORIES:Chefia de Gabinete
END:VEVENT
BEGIN:VEVENT
DTSTART;TZID=America/Sao_Paulo:20251015T080000
DTEND;TZID=America/Sao_Paulo:20251015T120000
DTSTAMP:20260425T233957
CREATED:20251013T162618Z
LAST-MODIFIED:20251013T162618Z
UID:46473-1760515200-1760529600@www.goiasfomento.com
SUMMARY:Rivael Aguiar Pereira: Atendimentos e Despachos Internos
DESCRIPTION:
URL:https://www.goiasfomento.com/agenda/rivael-aguiar-pereira-atendimentos-e-despachos-internos-131/
LOCATION:Gabinete da Presidência da GoiásFomento – Agência de Fomento de Goiás.
CATEGORIES:Presidência
END:VEVENT
BEGIN:VEVENT
DTSTART;TZID=America/Sao_Paulo:20251015T080000
DTEND;TZID=America/Sao_Paulo:20251015T120000
DTSTAMP:20260425T233957
CREATED:20251015T160441Z
LAST-MODIFIED:20251015T160441Z
UID:46553-1760515200-1760529600@www.goiasfomento.com
SUMMARY:Vinícius Luz: Atendimentos e Despachos Internos.
DESCRIPTION:
URL:https://www.goiasfomento.com/agenda/vinicius-luz-atendimentos-e-despachos-internos-129/
LOCATION:Gabinete da Diretoria de Operações da GoiásFomento – Agência de Fomento de Goiás.
CATEGORIES:Diretoria de Operações
END:VEVENT
BEGIN:VEVENT
DTSTART;TZID=America/Sao_Paulo:20251015T080000
DTEND;TZID=America/Sao_Paulo:20251015T120000
DTSTAMP:20260425T233957
CREATED:20251015T162233Z
LAST-MODIFIED:20251015T162233Z
UID:46557-1760515200-1760529600@www.goiasfomento.com
SUMMARY:Lara Garcia: Despachos Internos e Administrativos.
DESCRIPTION:
URL:https://www.goiasfomento.com/agenda/lara-garcia-despachos-internos-e-administrativos-45/
LOCATION:Gabinete da Diretoria Administrativa e Financeira – Agência de Fomento de Goiás.
CATEGORIES:Diretoria Administrativa e Financeira
END:VEVENT
BEGIN:VEVENT
DTSTART;TZID=America/Sao_Paulo:20251015T140000
DTEND;TZID=America/Sao_Paulo:20251015T153000
DTSTAMP:20260425T233957
CREATED:20251013T162657Z
LAST-MODIFIED:20251016T113233Z
UID:46475-1760536800-1760542200@www.goiasfomento.com
SUMMARY:Rivael Aguiar Pereira: Atendimentos e Despachos Internos
DESCRIPTION:
URL:https://www.goiasfomento.com/agenda/rivael-aguiar-pereira-atendimentos-e-despachos-internos-132/
LOCATION:Gabinete da Presidência da GoiásFomento – Agência de Fomento de Goiás.
CATEGORIES:Presidência
END:VEVENT
BEGIN:VEVENT
DTSTART;TZID=America/Sao_Paulo:20251015T140000
DTEND;TZID=America/Sao_Paulo:20251015T153000
DTSTAMP:20260425T233957
CREATED:20251015T160502Z
LAST-MODIFIED:20251016T124113Z
UID:46555-1760536800-1760542200@www.goiasfomento.com
SUMMARY:Vinícius Luz: Atendimentos e Despachos Internos.
DESCRIPTION:
URL:https://www.goiasfomento.com/agenda/vinicius-luz-atendimentos-e-despachos-internos-130/
LOCATION:Gabinete da Diretoria de Operações da GoiásFomento – Agência de Fomento de Goiás.
CATEGORIES:Diretoria de Operações
END:VEVENT
BEGIN:VEVENT
DTSTART;TZID=America/Sao_Paulo:20251015T140000
DTEND;TZID=America/Sao_Paulo:20251015T180000
DTSTAMP:20260425T233957
CREATED:20251010T133500Z
LAST-MODIFIED:20251010T133500Z
UID:46418-1760536800-1760551200@www.goiasfomento.com
SUMMARY:Rufino Veríssimo: Atendimentos e Despachos Internos.
DESCRIPTION:
URL:https://www.goiasfomento.com/agenda/rufino-verissimo-atendimentos-e-despachos-internos-133/
LOCATION:Agência de Fomento de Goiás
CATEGORIES:Chefia de Gabinete
END:VEVENT
BEGIN:VEVENT
DTSTART;TZID=America/Sao_Paulo:20251015T140000
DTEND;TZID=America/Sao_Paulo:20251015T180000
DTSTAMP:20260425T233957
CREATED:20251015T162300Z
LAST-MODIFIED:20251015T163418Z
UID:46559-1760536800-1760551200@www.goiasfomento.com
SUMMARY:Lara Garcia: Despachos Internos e Administrativos.
DESCRIPTION:
URL:https://www.goiasfomento.com/agenda/lara-garcia-despachos-internos-e-administrativos-46/
LOCATION:Gabinete da Diretoria Administrativa e Financeira – Agência de Fomento de Goiás.
CATEGORIES:Diretoria Administrativa e Financeira
END:VEVENT
BEGIN:VEVENT
DTSTART;TZID=America/Sao_Paulo:20251015T153000
DTEND;TZID=America/Sao_Paulo:20251015T163000
DTSTAMP:20260425T233957
CREATED:20251016T113329Z
LAST-MODIFIED:20251016T113357Z
UID:46561-1760542200-1760545800@www.goiasfomento.com
SUMMARY:Rivael Aguiar Pereira: Reunião com Paulo Magalhães - Secretário Municipal de Assuntos Comunitários
DESCRIPTION:
URL:https://www.goiasfomento.com/agenda/rivael-aguiar-pereira-reuniao-com-paulo-magalhaes-secretario-municipal-de-assuntos-comunitarios/
CATEGORIES:Presidência
END:VEVENT
BEGIN:VEVENT
DTSTART;TZID=America/Sao_Paulo:20251015T153000
DTEND;TZID=America/Sao_Paulo:20251015T163000
DTSTAMP:20260425T233957
CREATED:20251016T140028Z
LAST-MODIFIED:20251016T151350Z
UID:46578-1760542200-1760545800@www.goiasfomento.com
SUMMARY:Vinícius Luz: Reunião com Paulo Magalhães – Secretário Municipal de Assuntos Comunitários.
DESCRIPTION:
URL:https://www.goiasfomento.com/agenda/vinicius-luz-reuniao-com-paulo-magalhaes-secretario-municipal-de-assuntos-comunitarios/
LOCATION:Agência de Fomento de Goiás
CATEGORIES:Diretoria de Operações
END:VEVENT
BEGIN:VEVENT
DTSTART;TZID=America/Sao_Paulo:20251015T163000
DTEND;TZID=America/Sao_Paulo:20251015T180000
DTSTAMP:20260425T233957
CREATED:20251016T113528Z
LAST-MODIFIED:20251016T113528Z
UID:46563-1760545800-1760551200@www.goiasfomento.com
SUMMARY:Rivael Aguiar Pereira: Atendimentos e Despachos Internos
DESCRIPTION:
URL:https://www.goiasfomento.com/agenda/rivael-aguiar-pereira-atendimentos-e-despachos-internos-135/
LOCATION:Gabinete da Presidência.
CATEGORIES:Presidência
END:VEVENT
BEGIN:VEVENT
DTSTART;TZID=America/Sao_Paulo:20251015T163000
DTEND;TZID=America/Sao_Paulo:20251015T180000
DTSTAMP:20260425T233957
CREATED:20251016T140108Z
LAST-MODIFIED:20251016T140201Z
UID:46583-1760545800-1760551200@www.goiasfomento.com
SUMMARY:Vinícius Luz: Atendimentos e Despachos Internos.
DESCRIPTION:
URL:https://www.goiasfomento.com/agenda/vinicius-luz-atendimentos-e-despachos-internos-131/
LOCATION:Gabinete da Diretoria de Operações da GoiásFomento – Agência de Fomento de Goiás.
CATEGORIES:Diretoria de Operações
END:VEVENT
BEGIN:VEVENT
DTSTART;TZID=America/Sao_Paulo:20251016T080000
DTEND;TZID=America/Sao_Paulo:20251016T090000
DTSTAMP:20260425T233957
CREATED:20251013T162802Z
LAST-MODIFIED:20251016T113710Z
UID:46478-1760601600-1760605200@www.goiasfomento.com
SUMMARY:Rivael Aguiar Pereira: Atendimentos e Despachos Internos
DESCRIPTION:
URL:https://www.goiasfomento.com/agenda/rivael-aguiar-pereira-atendimentos-e-despachos-internos-133/
LOCATION:Gabinete da Presidência da GoiásFomento – Agência de Fomento de Goiás.
CATEGORIES:Presidência
END:VEVENT
BEGIN:VEVENT
DTSTART;TZID=America/Sao_Paulo:20251016T080000
DTEND;TZID=America/Sao_Paulo:20251016T110000
DTSTAMP:20260425T233957
CREATED:20251016T152552Z
LAST-MODIFIED:20251016T152552Z
UID:46592-1760601600-1760612400@www.goiasfomento.com
SUMMARY:Vinícius Luz: Atendimentos e Despachos Internos.
DESCRIPTION:
URL:https://www.goiasfomento.com/agenda/vinicius-luz-atendimentos-e-despachos-internos-132/
LOCATION:Gabinete da Diretoria de Operações da GoiásFomento – Agência de Fomento de Goiás.
CATEGORIES:Diretoria de Operações
END:VEVENT
BEGIN:VEVENT
DTSTART;TZID=America/Sao_Paulo:20251016T080000
DTEND;TZID=America/Sao_Paulo:20251016T120000
DTSTAMP:20260425T233957
CREATED:20251010T133547Z
LAST-MODIFIED:20251010T133547Z
UID:46420-1760601600-1760616000@www.goiasfomento.com
SUMMARY:Rufino Veríssimo: Atendimentos e Despachos Internos.
DESCRIPTION:
URL:https://www.goiasfomento.com/agenda/rufino-verissimo-atendimentos-e-despachos-internos-134/
LOCATION:Agência de Fomento de Goiás
CATEGORIES:Chefia de Gabinete
END:VEVENT
BEGIN:VEVENT
DTSTART;TZID=America/Sao_Paulo:20251016T080000
DTEND;TZID=America/Sao_Paulo:20251016T120000
DTSTAMP:20260425T233957
CREATED:20251016T151414Z
LAST-MODIFIED:20251016T151414Z
UID:46588-1760601600-1760616000@www.goiasfomento.com
SUMMARY:Lara Garcia: Despachos Internos e Administrativos.
DESCRIPTION:
URL:https://www.goiasfomento.com/agenda/lara-garcia-despachos-internos-e-administrativos-47/
LOCATION:Gabinete da Diretoria Administrativa e Financeira – Agência de Fomento de Goiás.
CATEGORIES:Diretoria Administrativa e Financeira
END:VEVENT
BEGIN:VEVENT
DTSTART;TZID=America/Sao_Paulo:20251016T090000
DTEND;TZID=America/Sao_Paulo:20251016T120000
DTSTAMP:20260425T233957
CREATED:20251016T175730Z
LAST-MODIFIED:20251016T175730Z
UID:46601-1760605200-1760616000@www.goiasfomento.com
SUMMARY:Rivael Aguiar Pereira: Entrega de cartões do Programa Pra Ter Onde Morar - "Aluguel Social" e de escrituras de Regularização Fundiária.
DESCRIPTION:
URL:https://www.goiasfomento.com/agenda/rivael-aguiar-pereira-entrega-de-cartoes-do-programa-pra-ter-onde-morar-aluguel-social-e-de-escrituras-de-regularizacao-fundiaria/
LOCATION:Local: Ginásio de Campinas (Rua Senador Morais Filho\, 351 – Setor Campinas – GOIÂNIA/GO)
CATEGORIES:Presidência
END:VEVENT
BEGIN:VEVENT
DTSTART;TZID=America/Sao_Paulo:20251016T110000
DTEND;TZID=America/Sao_Paulo:20251016T123000
DTSTAMP:20260425T233957
CREATED:20251016T174311Z
LAST-MODIFIED:20251016T174318Z
UID:46594-1760612400-1760617800@www.goiasfomento.com
SUMMARY:Vinícius Luz: Entrega de cartões do Programa Pra Ter Onde Morar – “Aluguel Social”.
DESCRIPTION:
URL:https://www.goiasfomento.com/agenda/avinicius-luz-entrega-de-cartoes-do-programa-pra-ter-onde-morar-aluguel-social/
LOCATION:Ceu das Artes Orlando Alves Carneiro (Av. V-5\, Cidade Vera Cruz) – APARECIDA DE GOIÂNIA/GO
CATEGORIES:Diretoria de Operações
END:VEVENT
BEGIN:VEVENT
DTSTART;TZID=America/Sao_Paulo:20251016T140000
DTEND;TZID=America/Sao_Paulo:20251016T150000
DTSTAMP:20260425T233957
CREATED:20251016T175407Z
LAST-MODIFIED:20251016T175414Z
UID:46598-1760623200-1760626800@www.goiasfomento.com
SUMMARY:Vinícius Luz: Atendimentos e Despachos Internos.
DESCRIPTION:
URL:https://www.goiasfomento.com/agenda/vinicius-luz-atendimentos-e-despachos-internos-133/
LOCATION:Gabinete da Diretoria Administrativa e Financeira – Agência de Fomento de Goiás.
CATEGORIES:Diretoria de Operações
END:VEVENT
BEGIN:VEVENT
DTSTART;TZID=America/Sao_Paulo:20251016T140000
DTEND;TZID=America/Sao_Paulo:20251016T180000
DTSTAMP:20260425T233957
CREATED:20251010T133615Z
LAST-MODIFIED:20251010T133615Z
UID:46422-1760623200-1760637600@www.goiasfomento.com
SUMMARY:Rufino Veríssimo: Atendimentos e Despachos Internos.
DESCRIPTION:
URL:https://www.goiasfomento.com/agenda/rufino-verissimo-atendimentos-e-despachos-internos-135/
CATEGORIES:Chefia de Gabinete
END:VEVENT
END:VCALENDAR