BEGIN:VCALENDAR
VERSION:2.0
PRODID:-//GoiásFomento - Agência de Fomento - ECPv6.15.20//NONSGML v1.0//EN
CALSCALE:GREGORIAN
METHOD:PUBLISH
X-ORIGINAL-URL:https://www.goiasfomento.com
X-WR-CALDESC:Eventos para GoiásFomento - Agência de Fomento
REFRESH-INTERVAL;VALUE=DURATION:PT1H
X-Robots-Tag:noindex
X-PUBLISHED-TTL:PT1H
BEGIN:VTIMEZONE
TZID:America/Sao_Paulo
BEGIN:STANDARD
TZOFFSETFROM:-0300
TZOFFSETTO:-0300
TZNAME:-03
DTSTART:20240101T000000
END:STANDARD
END:VTIMEZONE
BEGIN:VEVENT
DTSTART;VALUE=DATE:20251002
DTEND;VALUE=DATE:20251003
DTSTAMP:20260425T233843
CREATED:20250929T120729Z
LAST-MODIFIED:20250929T120729Z
UID:46229-1759363200-1759449599@www.goiasfomento.com
SUMMARY:Vinícius Luz: Evento da ABDE - Troca de Experiências entre IFDs Brasileiras e Francesas.
DESCRIPTION:
URL:https://www.goiasfomento.com/agenda/vinicius-luz-evento-da-abde-troca-de-experiencias-entre-ifds-brasileiras-e-francesas/
LOCATION:São Paulo – SP.
CATEGORIES:Diretoria de Operações
END:VEVENT
BEGIN:VEVENT
DTSTART;TZID=America/Sao_Paulo:20251002T080000
DTEND;TZID=America/Sao_Paulo:20251002T120000
DTSTAMP:20260425T233843
CREATED:20250929T171733Z
LAST-MODIFIED:20250929T171733Z
UID:46247-1759392000-1759406400@www.goiasfomento.com
SUMMARY:Rivael Aguiar Pereira: Atendimentos e Despachos Internos
DESCRIPTION:
URL:https://www.goiasfomento.com/agenda/rivael-aguiar-pereira-atendimentos-e-despachos-internos-115/
LOCATION:Agência de Fomento de Goiás
CATEGORIES:Presidência
END:VEVENT
BEGIN:VEVENT
DTSTART;TZID=America/Sao_Paulo:20251002T080000
DTEND;TZID=America/Sao_Paulo:20251002T120000
DTSTAMP:20260425T233843
CREATED:20250929T195905Z
LAST-MODIFIED:20250929T195905Z
UID:46270-1759392000-1759406400@www.goiasfomento.com
SUMMARY:Lara Garcia: Despachos Internos e Administrativos.
DESCRIPTION:
URL:https://www.goiasfomento.com/agenda/lara-garcia-despachos-internos-e-administrativos-26/
LOCATION:Gabinete da Diretoria Administrativa e Financeira – Agência de Fomento de Goiás.
CATEGORIES:Diretoria Administrativa e Financeira
END:VEVENT
BEGIN:VEVENT
DTSTART;TZID=America/Sao_Paulo:20251002T080000
DTEND;TZID=America/Sao_Paulo:20251002T120000
DTSTAMP:20260425T233843
CREATED:20251002T143109Z
LAST-MODIFIED:20251002T143109Z
UID:46289-1759392000-1759406400@www.goiasfomento.com
SUMMARY:Rufino Veríssimo: Atendimentos e Despachos Internos.
DESCRIPTION:
URL:https://www.goiasfomento.com/agenda/rufino-verissimo-atendimentos-e-despachos-internos-114/
CATEGORIES:Chefia de Gabinete
END:VEVENT
BEGIN:VEVENT
DTSTART;TZID=America/Sao_Paulo:20251002T140000
DTEND;TZID=America/Sao_Paulo:20251002T180000
DTSTAMP:20260425T233843
CREATED:20250929T171918Z
LAST-MODIFIED:20250929T171918Z
UID:46249-1759413600-1759428000@www.goiasfomento.com
SUMMARY:Rivael Aguiar Pereira: Atendimentos e Despachos Internos
DESCRIPTION:
URL:https://www.goiasfomento.com/agenda/rivael-aguiar-pereira-atendimentos-e-despachos-internos-116/
LOCATION:Agência de Fomento de Goiás.
CATEGORIES:Presidência
END:VEVENT
BEGIN:VEVENT
DTSTART;TZID=America/Sao_Paulo:20251002T140000
DTEND;TZID=America/Sao_Paulo:20251002T180000
DTSTAMP:20260425T233843
CREATED:20250929T200116Z
LAST-MODIFIED:20250929T200116Z
UID:46276-1759413600-1759428000@www.goiasfomento.com
SUMMARY:Lara Garcia: Despachos Internos e Administrativos.
DESCRIPTION:
URL:https://www.goiasfomento.com/agenda/lara-garcia-despachos-internos-e-administrativos-29/
LOCATION:Gabinete da Diretoria Administrativa e Financeira – Agência de Fomento de Goiás.
CATEGORIES:Diretoria Administrativa e Financeira
END:VEVENT
BEGIN:VEVENT
DTSTART;TZID=America/Sao_Paulo:20251002T140000
DTEND;TZID=America/Sao_Paulo:20251002T180000
DTSTAMP:20260425T233843
CREATED:20251002T143135Z
LAST-MODIFIED:20251002T143135Z
UID:46291-1759413600-1759428000@www.goiasfomento.com
SUMMARY:Rufino Veríssimo: Atendimentos e Despachos Internos.
DESCRIPTION:
URL:https://www.goiasfomento.com/agenda/rufino-verissimo-atendimentos-e-despachos-internos-115/
LOCATION:Agência de Fomento de Goiás.
CATEGORIES:Chefia de Gabinete
END:VEVENT
BEGIN:VEVENT
DTSTART;TZID=America/Sao_Paulo:20251003T080000
DTEND;TZID=America/Sao_Paulo:20251003T090000
DTSTAMP:20260425T233843
CREATED:20250929T200143Z
LAST-MODIFIED:20251002T143929Z
UID:46278-1759478400-1759482000@www.goiasfomento.com
SUMMARY:Lara Garcia: Despachos Internos e Administrativos.
DESCRIPTION:
URL:https://www.goiasfomento.com/agenda/lara-garcia-despachos-internos-e-administrativos-30/
LOCATION:Gabinete da Diretoria Administrativa e Financeira – Agência de Fomento de Goiás.
CATEGORIES:Diretoria Administrativa e Financeira
END:VEVENT
BEGIN:VEVENT
DTSTART;TZID=America/Sao_Paulo:20251003T080000
DTEND;TZID=America/Sao_Paulo:20251003T120000
DTSTAMP:20260425T233843
CREATED:20250929T113610Z
LAST-MODIFIED:20250929T113610Z
UID:46225-1759478400-1759492800@www.goiasfomento.com
SUMMARY:Vinícius Luz: Atendimentos e Despachos Internos.
DESCRIPTION:
URL:https://www.goiasfomento.com/agenda/vinicius-luz-atendimentos-e-despachos-internos-113/
LOCATION:Gabinete da Diretoria de Operações da GoiásFomento – Agência de Fomento de Goiás.
CATEGORIES:Diretoria de Operações
END:VEVENT
BEGIN:VEVENT
DTSTART;TZID=America/Sao_Paulo:20251003T080000
DTEND;TZID=America/Sao_Paulo:20251003T120000
DTSTAMP:20260425T233843
CREATED:20250929T172022Z
LAST-MODIFIED:20250929T172022Z
UID:46251-1759478400-1759492800@www.goiasfomento.com
SUMMARY:Rivael Aguiar Pereira: Atendimentos e Despachos Internos
DESCRIPTION:
URL:https://www.goiasfomento.com/agenda/rivael-aguiar-pereira-atendimentos-e-despachos-internos-117/
LOCATION:Agência de Fomento de Goiás
CATEGORIES:Presidência
END:VEVENT
BEGIN:VEVENT
DTSTART;TZID=America/Sao_Paulo:20251003T080000
DTEND;TZID=America/Sao_Paulo:20251003T120000
DTSTAMP:20260425T233843
CREATED:20251002T143206Z
LAST-MODIFIED:20251002T143206Z
UID:46293-1759478400-1759492800@www.goiasfomento.com
SUMMARY:Rufino Veríssimo: Atendimentos e Despachos Internos.
DESCRIPTION:
URL:https://www.goiasfomento.com/agenda/rufino-verissimo-atendimentos-e-despachos-internos-116/
LOCATION:Agência de Fomento de Goiás
CATEGORIES:Chefia de Gabinete
END:VEVENT
BEGIN:VEVENT
DTSTART;TZID=America/Sao_Paulo:20251003T090000
DTEND;TZID=America/Sao_Paulo:20251003T120000
DTSTAMP:20260425T233843
CREATED:20251002T144113Z
LAST-MODIFIED:20251002T144141Z
UID:46298-1759482000-1759492800@www.goiasfomento.com
SUMMARY:Lara Garcia: Abertura da Feira do Empreendedor em Trindade - GO.
DESCRIPTION:
URL:https://www.goiasfomento.com/agenda/lara-garcia-abertura-da-feira-do-empreendedor-em-trindade-go/
LOCATION:Complexo de Eventos\, Feiras e Lazer Juarez Freire – Trindade – GO.
CATEGORIES:Diretoria Administrativa e Financeira
END:VEVENT
BEGIN:VEVENT
DTSTART;TZID=America/Sao_Paulo:20251003T140000
DTEND;TZID=America/Sao_Paulo:20251003T180000
DTSTAMP:20260425T233843
CREATED:20250929T114206Z
LAST-MODIFIED:20250929T114206Z
UID:46227-1759500000-1759514400@www.goiasfomento.com
SUMMARY:Vinícius Luz: Atendimentos e Despachos Internos.
DESCRIPTION:
URL:https://www.goiasfomento.com/agenda/vinicius-luz-atendimentos-e-despachos-internos-114/
LOCATION:Gabinete da Diretoria de Operações da GoiásFomento – Agência de Fomento de Goiás.
CATEGORIES:Diretoria de Operações
END:VEVENT
BEGIN:VEVENT
DTSTART;TZID=America/Sao_Paulo:20251003T140000
DTEND;TZID=America/Sao_Paulo:20251003T180000
DTSTAMP:20260425T233843
CREATED:20250929T172149Z
LAST-MODIFIED:20250929T172149Z
UID:46253-1759500000-1759514400@www.goiasfomento.com
SUMMARY:Rivael Aguiar Pereira: Atendimentos e Despachos Internos
DESCRIPTION:
URL:https://www.goiasfomento.com/agenda/rivael-aguiar-pereira-atendimentos-e-despachos-internos-118/
LOCATION:Agência de Fomento de Goiás
CATEGORIES:Presidência
END:VEVENT
BEGIN:VEVENT
DTSTART;TZID=America/Sao_Paulo:20251003T140000
DTEND;TZID=America/Sao_Paulo:20251003T180000
DTSTAMP:20260425T233843
CREATED:20250929T195934Z
LAST-MODIFIED:20250929T195934Z
UID:46272-1759500000-1759514400@www.goiasfomento.com
SUMMARY:Lara Garcia: Despachos Internos e Administrativos.
DESCRIPTION:
URL:https://www.goiasfomento.com/agenda/lara-garcia-despachos-internos-e-administrativos-27/
LOCATION:Gabinete da Diretoria Administrativa e Financeira – Agência de Fomento de Goiás.
CATEGORIES:Diretoria Administrativa e Financeira
END:VEVENT
BEGIN:VEVENT
DTSTART;TZID=America/Sao_Paulo:20251003T140000
DTEND;TZID=America/Sao_Paulo:20251003T180000
DTSTAMP:20260425T233843
CREATED:20251002T143302Z
LAST-MODIFIED:20251002T143302Z
UID:46296-1759500000-1759514400@www.goiasfomento.com
SUMMARY:Rufino Veríssimo: Atendimentos e Despachos Internos.
DESCRIPTION:
URL:https://www.goiasfomento.com/agenda/rufino-verissimo-atendimentos-e-despachos-internos-117/
LOCATION:Agência de Fomento de Goiás.
CATEGORIES:Chefia de Gabinete
END:VEVENT
BEGIN:VEVENT
DTSTART;TZID=America/Sao_Paulo:20251006T080000
DTEND;TZID=America/Sao_Paulo:20251006T120000
DTSTAMP:20260425T233843
CREATED:20251006T121218Z
LAST-MODIFIED:20251006T121218Z
UID:46305-1759737600-1759752000@www.goiasfomento.com
SUMMARY:Rivael Aguiar Pereira: Atendimentos e Despachos Internos
DESCRIPTION:
URL:https://www.goiasfomento.com/agenda/rivael-aguiar-pereira-atendimentos-e-despachos-internos-119/
LOCATION:Agência de Fomento de Goiás.
CATEGORIES:Presidência
END:VEVENT
BEGIN:VEVENT
DTSTART;TZID=America/Sao_Paulo:20251006T080000
DTEND;TZID=America/Sao_Paulo:20251006T120000
DTSTAMP:20260425T233843
CREATED:20251006T122055Z
LAST-MODIFIED:20251006T122055Z
UID:46317-1759737600-1759752000@www.goiasfomento.com
SUMMARY:Rufino Veríssimo: Atendimentos e Despachos Internos.
DESCRIPTION:
URL:https://www.goiasfomento.com/agenda/rufino-verissimo-atendimentos-e-despachos-internos-118/
LOCATION:Chefia de Gabinete – Agência de Fomento de Goiás
CATEGORIES:Chefia de Gabinete
END:VEVENT
BEGIN:VEVENT
DTSTART;TZID=America/Sao_Paulo:20251006T080000
DTEND;TZID=America/Sao_Paulo:20251006T120000
DTSTAMP:20260425T233843
CREATED:20251007T131850Z
LAST-MODIFIED:20251007T131850Z
UID:46336-1759737600-1759752000@www.goiasfomento.com
SUMMARY:Lara Garcia: Despachos Internos e Administrativos.
DESCRIPTION:
URL:https://www.goiasfomento.com/agenda/lara-garcia-despachos-internos-e-administrativos-33/
LOCATION:Gabinete da Diretoria Administrativa e Financeira – Agência de Fomento de Goiás.
CATEGORIES:Diretoria Administrativa e Financeira
END:VEVENT
BEGIN:VEVENT
DTSTART;TZID=America/Sao_Paulo:20251006T080000
DTEND;TZID=America/Sao_Paulo:20251006T120000
DTSTAMP:20260425T233843
CREATED:20251007T132405Z
LAST-MODIFIED:20251007T132405Z
UID:46340-1759737600-1759752000@www.goiasfomento.com
SUMMARY:Vinícius Luz: Atendimentos e Despachos Internos.
DESCRIPTION:
URL:https://www.goiasfomento.com/agenda/vinicius-luz-atendimentos-e-despachos-internos-116/
LOCATION:Gabinete da Diretoria de Operações da GoiásFomento – Agência de Fomento de Goiás.
CATEGORIES:Diretoria de Operações
END:VEVENT
BEGIN:VEVENT
DTSTART;TZID=America/Sao_Paulo:20251006T140000
DTEND;TZID=America/Sao_Paulo:20251006T180000
DTSTAMP:20260425T233843
CREATED:20251006T121435Z
LAST-MODIFIED:20251006T121435Z
UID:46307-1759759200-1759773600@www.goiasfomento.com
SUMMARY:Rivael Aguiar Pereira: Atendimentos e Despachos Internos
DESCRIPTION:
URL:https://www.goiasfomento.com/agenda/rivael-aguiar-pereira-atendimentos-e-despachos-internos-120/
LOCATION:Agência de Fomento de Goiás.
CATEGORIES:Presidência
END:VEVENT
BEGIN:VEVENT
DTSTART;TZID=America/Sao_Paulo:20251006T140000
DTEND;TZID=America/Sao_Paulo:20251006T180000
DTSTAMP:20260425T233843
CREATED:20251006T122250Z
LAST-MODIFIED:20251006T122250Z
UID:46319-1759759200-1759773600@www.goiasfomento.com
SUMMARY:Rufino Veríssimo: Atendimentos e Despachos Internos.
DESCRIPTION:
URL:https://www.goiasfomento.com/agenda/rufino-verissimo-atendimentos-e-despachos-internos-119/
LOCATION:Chefia de Gabinete – Agência de Fomento de Goiás
CATEGORIES:Chefia de Gabinete
END:VEVENT
BEGIN:VEVENT
DTSTART;TZID=America/Sao_Paulo:20251006T140000
DTEND;TZID=America/Sao_Paulo:20251006T180000
DTSTAMP:20260425T233843
CREATED:20251007T131924Z
LAST-MODIFIED:20251007T131924Z
UID:46338-1759759200-1759773600@www.goiasfomento.com
SUMMARY:Lara Garcia: Despachos Internos e Administrativos.
DESCRIPTION:
URL:https://www.goiasfomento.com/agenda/lara-garcia-despachos-internos-e-administrativos-34/
LOCATION:Gabinete da Diretoria Administrativa e Financeira – Agência de Fomento de Goiás.
CATEGORIES:Diretoria Administrativa e Financeira
END:VEVENT
BEGIN:VEVENT
DTSTART;TZID=America/Sao_Paulo:20251006T140000
DTEND;TZID=America/Sao_Paulo:20251006T180000
DTSTAMP:20260425T233843
CREATED:20251007T132459Z
LAST-MODIFIED:20251007T132459Z
UID:46342-1759759200-1759773600@www.goiasfomento.com
SUMMARY:Vinícius Luz: Atendimentos e Despachos Internos.
DESCRIPTION:
URL:https://www.goiasfomento.com/agenda/vinicius-luz-atendimentos-e-despachos-internos-117/
LOCATION:Diretoria de Operações da GoiásFomento – Agência de Fomento de Goiás.
CATEGORIES:Diretoria de Operações
END:VEVENT
BEGIN:VEVENT
DTSTART;TZID=America/Sao_Paulo:20251007T080000
DTEND;TZID=America/Sao_Paulo:20251007T120000
DTSTAMP:20260425T233843
CREATED:20251006T121539Z
LAST-MODIFIED:20251006T121539Z
UID:46309-1759824000-1759838400@www.goiasfomento.com
SUMMARY:Rivael Aguiar Pereira: Atendimentos e Despachos Internos
DESCRIPTION:
URL:https://www.goiasfomento.com/agenda/rivael-aguiar-pereira-atendimentos-e-despachos-internos-121/
LOCATION:Agência de Fomento de Goiás
CATEGORIES:Presidência
END:VEVENT
BEGIN:VEVENT
DTSTART;TZID=America/Sao_Paulo:20251007T080000
DTEND;TZID=America/Sao_Paulo:20251007T120000
DTSTAMP:20260425T233843
CREATED:20251006T122441Z
LAST-MODIFIED:20251006T122441Z
UID:46321-1759824000-1759838400@www.goiasfomento.com
SUMMARY:Rufino Veríssimo: Atendimentos e Despachos Internos.
DESCRIPTION:
URL:https://www.goiasfomento.com/agenda/rufino-verissimo-atendimentos-e-despachos-internos-120/
LOCATION:Chefia de Gabinete – Agência de Fomento de Goiás
CATEGORIES:Chefia de Gabinete
END:VEVENT
BEGIN:VEVENT
DTSTART;TZID=America/Sao_Paulo:20251007T080000
DTEND;TZID=America/Sao_Paulo:20251007T120000
DTSTAMP:20260425T233843
CREATED:20251007T131322Z
LAST-MODIFIED:20251007T131322Z
UID:46330-1759824000-1759838400@www.goiasfomento.com
SUMMARY:Vinícius Luz: Atendimentos e Despachos Internos.
DESCRIPTION:
URL:https://www.goiasfomento.com/agenda/vinicius-luz-atendimentos-e-despachos-internos-115/
LOCATION:Gabinete da Diretoria de Operações da GoiásFomento – Agência de Fomento de Goiás.
CATEGORIES:Diretoria de Operações
END:VEVENT
BEGIN:VEVENT
DTSTART;TZID=America/Sao_Paulo:20251007T080000
DTEND;TZID=America/Sao_Paulo:20251007T120000
DTSTAMP:20260425T233843
CREATED:20251007T131406Z
LAST-MODIFIED:20251007T131406Z
UID:46332-1759824000-1759838400@www.goiasfomento.com
SUMMARY:Lara Garcia: Despachos Internos e Administrativos.
DESCRIPTION:
URL:https://www.goiasfomento.com/agenda/lara-garcia-despachos-internos-e-administrativos-31/
LOCATION:Gabinete da Diretoria Administrativa e Financeira – Agência de Fomento de Goiás.
CATEGORIES:Diretoria Administrativa e Financeira
END:VEVENT
BEGIN:VEVENT
DTSTART;TZID=America/Sao_Paulo:20251007T140000
DTEND;TZID=America/Sao_Paulo:20251007T180000
DTSTAMP:20260425T233843
CREATED:20251006T121608Z
LAST-MODIFIED:20251006T121608Z
UID:46311-1759845600-1759860000@www.goiasfomento.com
SUMMARY:Rivael Aguiar Pereira: Atendimentos e Despachos Internos
DESCRIPTION:
URL:https://www.goiasfomento.com/agenda/rivael-aguiar-pereira-atendimentos-e-despachos-internos-122/
LOCATION:Agência de Fomento de Goiás
CATEGORIES:Presidência
END:VEVENT
BEGIN:VEVENT
DTSTART;TZID=America/Sao_Paulo:20251007T140000
DTEND;TZID=America/Sao_Paulo:20251007T180000
DTSTAMP:20260425T233843
CREATED:20251006T122505Z
LAST-MODIFIED:20251006T122505Z
UID:46323-1759845600-1759860000@www.goiasfomento.com
SUMMARY:Rufino Veríssimo: Atendimentos e Despachos Internos.
DESCRIPTION:
URL:https://www.goiasfomento.com/agenda/rufino-verissimo-atendimentos-e-despachos-internos-121/
LOCATION:Chefia de Gabinete – Agência de Fomento de Goiás
CATEGORIES:Chefia de Gabinete
END:VEVENT
END:VCALENDAR