BEGIN:VCALENDAR
VERSION:2.0
PRODID:-//GoiásFomento - Agência de Fomento - ECPv6.15.20//NONSGML v1.0//EN
CALSCALE:GREGORIAN
METHOD:PUBLISH
X-ORIGINAL-URL:https://www.goiasfomento.com
X-WR-CALDESC:Eventos para GoiásFomento - Agência de Fomento
REFRESH-INTERVAL;VALUE=DURATION:PT1H
X-Robots-Tag:noindex
X-PUBLISHED-TTL:PT1H
BEGIN:VTIMEZONE
TZID:America/Sao_Paulo
BEGIN:STANDARD
TZOFFSETFROM:-0300
TZOFFSETTO:-0300
TZNAME:-03
DTSTART:20240101T000000
END:STANDARD
END:VTIMEZONE
BEGIN:VEVENT
DTSTART;TZID=America/Sao_Paulo:20250919T080000
DTEND;TZID=America/Sao_Paulo:20250919T120000
DTSTAMP:20260425T220022
CREATED:20250911T161711Z
LAST-MODIFIED:20250911T161711Z
UID:46013-1758268800-1758283200@www.goiasfomento.com
SUMMARY:Rufino Veríssimo: Atendimentos e Despachos Internos.
DESCRIPTION:
URL:https://www.goiasfomento.com/agenda/rufino-verissimo-atendimentos-e-despachos-internos-96/
LOCATION:Chefia de Gabinete – Agência de Fomento de Goiás
CATEGORIES:Chefia de Gabinete
END:VEVENT
BEGIN:VEVENT
DTSTART;TZID=America/Sao_Paulo:20250919T080000
DTEND;TZID=America/Sao_Paulo:20250919T120000
DTSTAMP:20260425T220022
CREATED:20250912T175029Z
LAST-MODIFIED:20250912T175029Z
UID:46033-1758268800-1758283200@www.goiasfomento.com
SUMMARY:Rivael Aguiar Pereira: Atendimentos e Despachos Internos
DESCRIPTION:
URL:https://www.goiasfomento.com/agenda/rivael-aguiar-pereira-atendimentos-e-despachos-internos-98/
LOCATION:Agência de Fomento de Goiás
CATEGORIES:Presidência
END:VEVENT
BEGIN:VEVENT
DTSTART;TZID=America/Sao_Paulo:20250919T080000
DTEND;TZID=America/Sao_Paulo:20250919T120000
DTSTAMP:20260425T220022
CREATED:20250918T121201Z
LAST-MODIFIED:20250918T121201Z
UID:46068-1758268800-1758283200@www.goiasfomento.com
SUMMARY:Lara Garcia: Despachos Internos e Administrativos.
DESCRIPTION:
URL:https://www.goiasfomento.com/agenda/lara-garcia-despachos-internos-e-administrativos-7/
LOCATION:Gabinete da Diretoria Administrativa e Financeira – Agência de Fomento de Goiás.
CATEGORIES:Diretoria Administrativa e Financeira
END:VEVENT
BEGIN:VEVENT
DTSTART;TZID=America/Sao_Paulo:20250919T080000
DTEND;TZID=America/Sao_Paulo:20250919T120000
DTSTAMP:20260425T220022
CREATED:20250919T194034Z
LAST-MODIFIED:20250919T194034Z
UID:46082-1758268800-1758283200@www.goiasfomento.com
SUMMARY:Vinícius Luz: Atendimentos e Despachos Internos.
DESCRIPTION:
URL:https://www.goiasfomento.com/agenda/vinicius-luz-atendimentos-e-despachos-internos-95/
CATEGORIES:Diretoria de Operações
END:VEVENT
BEGIN:VEVENT
DTSTART;TZID=America/Sao_Paulo:20250919T140000
DTEND;TZID=America/Sao_Paulo:20250919T180000
DTSTAMP:20260425T220022
CREATED:20250911T161739Z
LAST-MODIFIED:20250911T161739Z
UID:46015-1758290400-1758304800@www.goiasfomento.com
SUMMARY:Rufino Veríssimo: Atendimentos e Despachos Internos.
DESCRIPTION:
URL:https://www.goiasfomento.com/agenda/rufino-verissimo-atendimentos-e-despachos-internos-97/
LOCATION:Chefia de Gabinete – Agência de Fomento de Goiás
CATEGORIES:Chefia de Gabinete
END:VEVENT
BEGIN:VEVENT
DTSTART;TZID=America/Sao_Paulo:20250919T140000
DTEND;TZID=America/Sao_Paulo:20250919T180000
DTSTAMP:20260425T220022
CREATED:20250912T175056Z
LAST-MODIFIED:20250912T175056Z
UID:46035-1758290400-1758304800@www.goiasfomento.com
SUMMARY:Rivael Aguiar Pereira: Atendimentos e Despachos Internos
DESCRIPTION:
URL:https://www.goiasfomento.com/agenda/rivael-aguiar-pereira-atendimentos-e-despachos-internos-99/
LOCATION:Agência de Fomento de Goiás
CATEGORIES:Presidência
END:VEVENT
BEGIN:VEVENT
DTSTART;TZID=America/Sao_Paulo:20250919T140000
DTEND;TZID=America/Sao_Paulo:20250919T180000
DTSTAMP:20260425T220022
CREATED:20250919T194056Z
LAST-MODIFIED:20250919T194056Z
UID:46084-1758290400-1758304800@www.goiasfomento.com
SUMMARY:Vinícius Luz: Atendimentos e Despachos Internos.
DESCRIPTION:
URL:https://www.goiasfomento.com/agenda/vinicius-luz-atendimentos-e-despachos-internos-96/
LOCATION:Gabinete da Diretoria de Operações da GoiásFomento – Agência de Fomento de Goiás.
CATEGORIES:Diretoria de Operações
END:VEVENT
BEGIN:VEVENT
DTSTART;TZID=America/Sao_Paulo:20250919T140000
DTEND;TZID=America/Sao_Paulo:20250919T180000
DTSTAMP:20260425T220022
CREATED:20250919T194457Z
LAST-MODIFIED:20250919T194457Z
UID:46090-1758290400-1758304800@www.goiasfomento.com
SUMMARY:Lara Garcia: Despachos Internos e Administrativos.
DESCRIPTION:
URL:https://www.goiasfomento.com/agenda/lara-garcia-despachos-internos-e-administrativos-8/
LOCATION:Gabinete da Diretoria Administrativa e Financeira – Agência de Fomento de Goiás.
CATEGORIES:Diretoria Administrativa e Financeira
END:VEVENT
BEGIN:VEVENT
DTSTART;TZID=America/Sao_Paulo:20250922T080000
DTEND;TZID=America/Sao_Paulo:20250922T090000
DTSTAMP:20260425T220022
CREATED:20250922T125932Z
LAST-MODIFIED:20250922T125932Z
UID:46102-1758528000-1758531600@www.goiasfomento.com
SUMMARY:Vinícius Luz: Atendimentos e Despachos Internos.
DESCRIPTION:
URL:https://www.goiasfomento.com/agenda/vinicius-luz-atendimentos-e-despachos-internos-97/
LOCATION:Gabinete da Diretoria de Operações da GoiásFomento – Agência de Fomento de Goiás.
CATEGORIES:Diretoria de Operações
END:VEVENT
BEGIN:VEVENT
DTSTART;TZID=America/Sao_Paulo:20250922T080000
DTEND;TZID=America/Sao_Paulo:20250922T090000
DTSTAMP:20260425T220022
CREATED:20250922T191335Z
LAST-MODIFIED:20250922T191335Z
UID:46173-1758528000-1758531600@www.goiasfomento.com
SUMMARY:Lara Garcia: Despachos Internos e Administrativos.
DESCRIPTION:
URL:https://www.goiasfomento.com/agenda/lara-garcia-despachos-internos-e-administrativos-14/
LOCATION:Gabinete da Diretoria Administrativa e Financeira – Agência de Fomento de Goiás.
CATEGORIES:Diretoria Administrativa e Financeira
END:VEVENT
BEGIN:VEVENT
DTSTART;TZID=America/Sao_Paulo:20250922T080000
DTEND;TZID=America/Sao_Paulo:20250922T120000
DTSTAMP:20260425T220022
CREATED:20250922T181735Z
LAST-MODIFIED:20250922T183136Z
UID:46108-1758528000-1758542400@www.goiasfomento.com
SUMMARY:Rivael Aguiar Pereira: Lançamento Goiás + Inclusivo
DESCRIPTION:
URL:https://www.goiasfomento.com/agenda/rivael-aguiar-pereira-atendimentos-e-despachos-internos-100/
LOCATION:Presidência – Agência de Fomento de Goiás
CATEGORIES:Presidência
END:VEVENT
BEGIN:VEVENT
DTSTART;TZID=America/Sao_Paulo:20250922T080000
DTEND;TZID=America/Sao_Paulo:20250922T120000
DTSTAMP:20260425T220022
CREATED:20250922T183509Z
LAST-MODIFIED:20250922T183509Z
UID:46133-1758528000-1758542400@www.goiasfomento.com
SUMMARY:Rufino Veríssimo: Atendimentos e Despachos Internos.
DESCRIPTION:
URL:https://www.goiasfomento.com/agenda/rufino-verissimo-atendimentos-e-despachos-internos-98/
LOCATION:Chefia de Gabinete – Agência de Fomento de Goiás
CATEGORIES:Chefia de Gabinete
END:VEVENT
BEGIN:VEVENT
DTSTART;TZID=America/Sao_Paulo:20250922T090000
DTEND;TZID=America/Sao_Paulo:20250922T110000
DTSTAMP:20260425T220022
CREATED:20250922T125706Z
LAST-MODIFIED:20250923T125437Z
UID:46094-1758531600-1758538800@www.goiasfomento.com
SUMMARY:Lara Garcia: Lançamento Goiás + Inclusivo.
DESCRIPTION:
URL:https://www.goiasfomento.com/agenda/lara-garcia/
LOCATION:Salão Dona Gercina no Palacio das Esmeraldas
CATEGORIES:Diretoria Administrativa e Financeira
END:VEVENT
BEGIN:VEVENT
DTSTART;TZID=America/Sao_Paulo:20250922T090000
DTEND;TZID=America/Sao_Paulo:20250922T110000
DTSTAMP:20260425T220022
CREATED:20250922T130158Z
LAST-MODIFIED:20250923T125014Z
UID:46106-1758531600-1758538800@www.goiasfomento.com
SUMMARY:Vinícius Luz: Lançamento Goiás + Inclusivo.
DESCRIPTION:
URL:https://www.goiasfomento.com/agenda/vinicius-luz-lancamento-goias-mais-inclusivo/
LOCATION:Salão Dona Gercina no Palacio das Esmeraldas
CATEGORIES:Diretoria de Operações
END:VEVENT
BEGIN:VEVENT
DTSTART;TZID=America/Sao_Paulo:20250922T110000
DTEND;TZID=America/Sao_Paulo:20250922T120000
DTSTAMP:20260425T220022
CREATED:20250922T125750Z
LAST-MODIFIED:20250922T125750Z
UID:46098-1758538800-1758542400@www.goiasfomento.com
SUMMARY:Lara Garcia: Despachos Internos e Administrativos.
DESCRIPTION:
URL:https://www.goiasfomento.com/agenda/lara-garcia-despachos-internos-e-administrativos-10/
LOCATION:Gabinete da Diretoria Administrativa e Financeira – Agência de Fomento de Goiás.
CATEGORIES:Diretoria Administrativa e Financeira
END:VEVENT
BEGIN:VEVENT
DTSTART;TZID=America/Sao_Paulo:20250922T110000
DTEND;TZID=America/Sao_Paulo:20250922T120000
DTSTAMP:20260425T220022
CREATED:20250922T130111Z
LAST-MODIFIED:20250922T130111Z
UID:46104-1758538800-1758542400@www.goiasfomento.com
SUMMARY:Vinícius Luz: Atendimentos e Despachos Internos.
DESCRIPTION:
URL:https://www.goiasfomento.com/agenda/vinicius-luz-atendimentos-e-despachos-internos-98/
LOCATION:Gabinete da Diretoria de Operações da GoiásFomento – Agência de Fomento de Goiás.
CATEGORIES:Diretoria de Operações
END:VEVENT
BEGIN:VEVENT
DTSTART;TZID=America/Sao_Paulo:20250922T140000
DTEND;TZID=America/Sao_Paulo:20250922T180000
DTSTAMP:20260425T220022
CREATED:20250922T125810Z
LAST-MODIFIED:20250922T125810Z
UID:46100-1758549600-1758564000@www.goiasfomento.com
SUMMARY:Lara Garcia: Despachos Internos e Administrativos.
DESCRIPTION:
URL:https://www.goiasfomento.com/agenda/lara-garcia-despachos-internos-e-administrativos-11/
LOCATION:Gabinete da Diretoria Administrativa e Financeira – Agência de Fomento de Goiás.
CATEGORIES:Diretoria Administrativa e Financeira
END:VEVENT
BEGIN:VEVENT
DTSTART;TZID=America/Sao_Paulo:20250922T140000
DTEND;TZID=America/Sao_Paulo:20250922T180000
DTSTAMP:20260425T220022
CREATED:20250922T181843Z
LAST-MODIFIED:20250922T181843Z
UID:46110-1758549600-1758564000@www.goiasfomento.com
SUMMARY:Rivael Aguiar Pereira: Atendimentos e Despachos Internos
DESCRIPTION:
URL:https://www.goiasfomento.com/agenda/rivael-aguiar-pereira-atendimentos-e-despachos-internos-101/
LOCATION:Presidência – Agência de Fomento de Goiás
CATEGORIES:Presidência
END:VEVENT
BEGIN:VEVENT
DTSTART;TZID=America/Sao_Paulo:20250922T140000
DTEND;TZID=America/Sao_Paulo:20250922T180000
DTSTAMP:20260425T220022
CREATED:20250922T183536Z
LAST-MODIFIED:20250922T183536Z
UID:46136-1758549600-1758564000@www.goiasfomento.com
SUMMARY:Rufino Veríssimo: Atendimentos e Despachos Internos.
DESCRIPTION:
URL:https://www.goiasfomento.com/agenda/rufino-verissimo-atendimentos-e-despachos-internos-99/
LOCATION:Chefia de Gabinete – Agência de Fomento de Goiás
CATEGORIES:Chefia de Gabinete
END:VEVENT
BEGIN:VEVENT
DTSTART;TZID=America/Sao_Paulo:20250922T140000
DTEND;TZID=America/Sao_Paulo:20250922T180000
DTSTAMP:20260425T220022
CREATED:20250922T184202Z
LAST-MODIFIED:20250922T184202Z
UID:46161-1758549600-1758564000@www.goiasfomento.com
SUMMARY:Vinícius Luz: Atendimentos e Despachos Internos.
DESCRIPTION:
URL:https://www.goiasfomento.com/agenda/vinicius-luz-atendimentos-e-despachos-internos-101/
LOCATION:Gabinete da Diretoria de Operações da GoiásFomento – Agência de Fomento de Goiás.
CATEGORIES:Diretoria de Operações
END:VEVENT
BEGIN:VEVENT
DTSTART;TZID=America/Sao_Paulo:20250923T080000
DTEND;TZID=America/Sao_Paulo:20250923T120000
DTSTAMP:20260425T220022
CREATED:20250922T181913Z
LAST-MODIFIED:20250922T181913Z
UID:46112-1758614400-1758628800@www.goiasfomento.com
SUMMARY:Rivael Aguiar Pereira: Atendimentos e Despachos Internos
DESCRIPTION:
URL:https://www.goiasfomento.com/agenda/rivael-aguiar-pereira-atendimentos-e-despachos-internos-102/
CATEGORIES:Presidência
END:VEVENT
BEGIN:VEVENT
DTSTART;TZID=America/Sao_Paulo:20250923T080000
DTEND;TZID=America/Sao_Paulo:20250923T120000
DTSTAMP:20260425T220022
CREATED:20250922T183709Z
LAST-MODIFIED:20250922T183709Z
UID:46138-1758614400-1758628800@www.goiasfomento.com
SUMMARY:Rufino Veríssimo: Atendimentos e Despachos Internos.
DESCRIPTION:
URL:https://www.goiasfomento.com/agenda/rufino-verissimo-atendimentos-e-despachos-internos-100/
LOCATION:Chefia de Gabinete – Agência de Fomento de Goiás
CATEGORIES:Chefia de Gabinete
END:VEVENT
BEGIN:VEVENT
DTSTART;TZID=America/Sao_Paulo:20250923T080000
DTEND;TZID=America/Sao_Paulo:20250923T120000
DTSTAMP:20260425T220022
CREATED:20250922T183813Z
LAST-MODIFIED:20250922T183813Z
UID:46134-1758614400-1758628800@www.goiasfomento.com
SUMMARY:Vinícius Luz: Atendimentos e Despachos Internos.
DESCRIPTION:
URL:https://www.goiasfomento.com/agenda/vinicius-luz-atendimentos-e-despachos-internos-99/
LOCATION:Gabinete da Diretoria de Operações da GoiásFomento – Agência de Fomento de Goiás.
CATEGORIES:Diretoria de Operações
END:VEVENT
BEGIN:VEVENT
DTSTART;TZID=America/Sao_Paulo:20250923T080000
DTEND;TZID=America/Sao_Paulo:20250923T120000
DTSTAMP:20260425T220022
CREATED:20250922T184003Z
LAST-MODIFIED:20250922T184003Z
UID:46150-1758614400-1758628800@www.goiasfomento.com
SUMMARY:Lara Garcia: Despachos Internos e Administrativos.
DESCRIPTION:
URL:https://www.goiasfomento.com/agenda/lara-garcia-despachos-internos-e-administrativos-12/
LOCATION:Gabinete da Diretoria Administrativa e Financeira – Agência de Fomento de Goiás.
CATEGORIES:Diretoria Administrativa e Financeira
END:VEVENT
BEGIN:VEVENT
DTSTART;TZID=America/Sao_Paulo:20250923T140000
DTEND;TZID=America/Sao_Paulo:20250923T180000
DTSTAMP:20260425T220022
CREATED:20250922T181936Z
LAST-MODIFIED:20250922T181936Z
UID:46114-1758636000-1758650400@www.goiasfomento.com
SUMMARY:Rivael Aguiar Pereira: Atendimentos e Despachos Internos
DESCRIPTION:
URL:https://www.goiasfomento.com/agenda/rivael-aguiar-pereira-atendimentos-e-despachos-internos-103/
CATEGORIES:Presidência
END:VEVENT
BEGIN:VEVENT
DTSTART;TZID=America/Sao_Paulo:20250923T140000
DTEND;TZID=America/Sao_Paulo:20250923T180000
DTSTAMP:20260425T220022
CREATED:20250922T183743Z
LAST-MODIFIED:20250922T183743Z
UID:46140-1758636000-1758650400@www.goiasfomento.com
SUMMARY:Rufino Veríssimo: Atendimentos e Despachos Internos.
DESCRIPTION:
URL:https://www.goiasfomento.com/agenda/rufino-verissimo-atendimentos-e-despachos-internos-101/
LOCATION:Chefia de Gabinete – Agência de Fomento de Goiás
CATEGORIES:Chefia de Gabinete
END:VEVENT
BEGIN:VEVENT
DTSTART;TZID=America/Sao_Paulo:20250923T140000
DTEND;TZID=America/Sao_Paulo:20250923T180000
DTSTAMP:20260425T220022
CREATED:20250922T183845Z
LAST-MODIFIED:20250922T183845Z
UID:46144-1758636000-1758650400@www.goiasfomento.com
SUMMARY:Vinícius Luz: Atendimentos e Despachos Internos.
DESCRIPTION:
URL:https://www.goiasfomento.com/agenda/vinicius-luz-atendimentos-e-despachos-internos-100/
LOCATION:Gabinete da Diretoria de Operações da GoiásFomento – Agência de Fomento de Goiás.
CATEGORIES:Diretoria de Operações
END:VEVENT
BEGIN:VEVENT
DTSTART;TZID=America/Sao_Paulo:20250923T140000
DTEND;TZID=America/Sao_Paulo:20250923T180000
DTSTAMP:20260425T220022
CREATED:20250922T184054Z
LAST-MODIFIED:20250922T184054Z
UID:46155-1758636000-1758650400@www.goiasfomento.com
SUMMARY:Lara Garcia: Despachos Internos e Administrativos.
DESCRIPTION:
URL:https://www.goiasfomento.com/agenda/lara-garcia-despachos-internos-e-administrativos-13/
LOCATION:Gabinete da Diretoria Administrativa e Financeira – Agência de Fomento de Goiás.
CATEGORIES:Diretoria Administrativa e Financeira
END:VEVENT
BEGIN:VEVENT
DTSTART;TZID=America/Sao_Paulo:20250924T080000
DTEND;TZID=America/Sao_Paulo:20250924T100000
DTSTAMP:20260425T220022
CREATED:20250922T125430Z
LAST-MODIFIED:20250924T142946Z
UID:46092-1758700800-1758708000@www.goiasfomento.com
SUMMARY:Lara Garcia: Despachos Internos e Administrativos.
DESCRIPTION:
URL:https://www.goiasfomento.com/agenda/lara-garcia-despachos-internos-e-administrativos-9/
LOCATION:Gabinete da Diretoria Administrativa e Financeira – Agência de Fomento de Goiás.
CATEGORIES:Diretoria Administrativa e Financeira
END:VEVENT
BEGIN:VEVENT
DTSTART;TZID=America/Sao_Paulo:20250924T080000
DTEND;TZID=America/Sao_Paulo:20250924T100000
DTSTAMP:20260425T220022
CREATED:20250922T182307Z
LAST-MODIFIED:20250922T182325Z
UID:46116-1758700800-1758708000@www.goiasfomento.com
SUMMARY:Rivael Aguiar Pereira: Atendimentos e Despachos Internos
DESCRIPTION:
URL:https://www.goiasfomento.com/agenda/rivael-aguiar-pereira-atendimentos-e-despachos-internos-104/
LOCATION:Sala de Reuniões da Diretoria – Agência de Fomento de Goiás.
CATEGORIES:Presidência
END:VEVENT
END:VCALENDAR