BEGIN:VCALENDAR
VERSION:2.0
PRODID:-//GoiásFomento - Agência de Fomento - ECPv6.15.20//NONSGML v1.0//EN
CALSCALE:GREGORIAN
METHOD:PUBLISH
X-ORIGINAL-URL:https://www.goiasfomento.com
X-WR-CALDESC:Eventos para GoiásFomento - Agência de Fomento
REFRESH-INTERVAL;VALUE=DURATION:PT1H
X-Robots-Tag:noindex
X-PUBLISHED-TTL:PT1H
BEGIN:VTIMEZONE
TZID:America/Sao_Paulo
BEGIN:STANDARD
TZOFFSETFROM:-0300
TZOFFSETTO:-0300
TZNAME:-03
DTSTART:20240101T000000
END:STANDARD
END:VTIMEZONE
BEGIN:VEVENT
DTSTART;TZID=America/Sao_Paulo:20250912T080000
DTEND;TZID=America/Sao_Paulo:20250912T120000
DTSTAMP:20260425T233400
CREATED:20250904T182945Z
LAST-MODIFIED:20250904T182945Z
UID:45896-1757664000-1757678400@www.goiasfomento.com
SUMMARY:Rufino Veríssimo: Atendimentos e Despachos Internos.
DESCRIPTION:
URL:https://www.goiasfomento.com/agenda/rufino-verissimo-atendimentos-e-despachos-internos-86/
LOCATION:Chefia de Gabinete – Agência de Fomento de Goiás
CATEGORIES:Chefia de Gabinete
END:VEVENT
BEGIN:VEVENT
DTSTART;TZID=America/Sao_Paulo:20250912T080000
DTEND;TZID=America/Sao_Paulo:20250912T120000
DTSTAMP:20260425T233400
CREATED:20250909T195245Z
LAST-MODIFIED:20250909T195245Z
UID:45935-1757664000-1757678400@www.goiasfomento.com
SUMMARY:Vinícius Luz (Diretor de Operações) em Substituição a Lara Garcia\, (férias do titular): Atendimentos e Despachos Internos.
DESCRIPTION:
URL:https://www.goiasfomento.com/agenda/vinicius-luz-diretor-de-operacoes-em-substituicao-a-lara-garcia-ferias-do-titular-atendimentos-e-despachos-internos/
LOCATION:Gabinete da Diretoria de Operações da GoiásFomento – Agência de Fomento de Goiás.
CATEGORIES:Diretoria Administrativa e Financeira
END:VEVENT
BEGIN:VEVENT
DTSTART;TZID=America/Sao_Paulo:20250912T080000
DTEND;TZID=America/Sao_Paulo:20250912T120000
DTSTAMP:20260425T233400
CREATED:20250910T182603Z
LAST-MODIFIED:20250910T182614Z
UID:45978-1757664000-1757678400@www.goiasfomento.com
SUMMARY:Vinícius Luz: Atendimentos e Despachos Internos.
DESCRIPTION:
URL:https://www.goiasfomento.com/agenda/vinicius-luz-atendimentos-e-despachos-internos-83/
LOCATION:Gabinete da Diretoria de Operações da GoiásFomento – Agência de Fomento de Goiás.
CATEGORIES:Diretoria de Operações
END:VEVENT
BEGIN:VEVENT
DTSTART;TZID=America/Sao_Paulo:20250912T080000
DTEND;TZID=America/Sao_Paulo:20250912T120000
DTSTAMP:20260425T233400
CREATED:20250911T142724Z
LAST-MODIFIED:20250911T142724Z
UID:45993-1757664000-1757678400@www.goiasfomento.com
SUMMARY:Rivael Aguiar Pereira: Atendimentos e Despachos Internos
DESCRIPTION:
URL:https://www.goiasfomento.com/agenda/rivael-aguiar-pereira-atendimentos-e-despachos-internos-88/
CATEGORIES:Presidência
END:VEVENT
BEGIN:VEVENT
DTSTART;TZID=America/Sao_Paulo:20250912T140000
DTEND;TZID=America/Sao_Paulo:20250912T180000
DTSTAMP:20260425T233400
CREATED:20250904T183030Z
LAST-MODIFIED:20250904T183030Z
UID:45898-1757685600-1757700000@www.goiasfomento.com
SUMMARY:Rufino Veríssimo: Atendimentos e Despachos Internos.
DESCRIPTION:
URL:https://www.goiasfomento.com/agenda/rufino-verissimo-atendimentos-e-despachos-internos-87/
LOCATION:Chefia de Gabinete – Agência de Fomento de Goiás
CATEGORIES:Chefia de Gabinete
END:VEVENT
BEGIN:VEVENT
DTSTART;TZID=America/Sao_Paulo:20250912T140000
DTEND;TZID=America/Sao_Paulo:20250912T180000
DTSTAMP:20260425T233400
CREATED:20250909T195311Z
LAST-MODIFIED:20250909T195311Z
UID:45937-1757685600-1757700000@www.goiasfomento.com
SUMMARY:Vinícius Luz (Diretor de Operações) em Substituição a Lara Garcia\, (férias do titular): Atendimentos e Despachos Internos.
DESCRIPTION:
URL:https://www.goiasfomento.com/agenda/vinicius-luz-diretor-de-operacoes-em-substituicao-a-lara-garcia-ferias-do-titular-atendimentos-e-despachos-internos-2/
LOCATION:Gabinete da Diretoria de Operações da GoiásFomento – Agência de Fomento de Goiás.
CATEGORIES:Diretoria Administrativa e Financeira
END:VEVENT
BEGIN:VEVENT
DTSTART;TZID=America/Sao_Paulo:20250912T140000
DTEND;TZID=America/Sao_Paulo:20250912T180000
DTSTAMP:20260425T233400
CREATED:20250910T182639Z
LAST-MODIFIED:20250910T182639Z
UID:45980-1757685600-1757700000@www.goiasfomento.com
SUMMARY:Vinícius Luz: Atendimentos e Despachos Internos.
DESCRIPTION:
URL:https://www.goiasfomento.com/agenda/vinicius-luz-atendimentos-e-despachos-internos-84/
LOCATION:Gabinete da Diretoria de Operações da GoiásFomento – Agência de Fomento de Goiás.
CATEGORIES:Diretoria de Operações
END:VEVENT
BEGIN:VEVENT
DTSTART;TZID=America/Sao_Paulo:20250912T140000
DTEND;TZID=America/Sao_Paulo:20250912T180000
DTSTAMP:20260425T233400
CREATED:20250911T142918Z
LAST-MODIFIED:20250911T142918Z
UID:45995-1757685600-1757700000@www.goiasfomento.com
SUMMARY:Rivael Aguiar Pereira: Atendimentos e Despachos Internos
DESCRIPTION:
URL:https://www.goiasfomento.com/agenda/rivael-aguiar-pereira-atendimentos-e-despachos-internos-89/
CATEGORIES:Presidência
END:VEVENT
BEGIN:VEVENT
DTSTART;TZID=America/Sao_Paulo:20250915T080000
DTEND;TZID=America/Sao_Paulo:20250915T120000
DTSTAMP:20260425T233400
CREATED:20250909T195551Z
LAST-MODIFIED:20250909T195845Z
UID:45943-1757923200-1757937600@www.goiasfomento.com
SUMMARY:Vinícius Luz (Diretor de Operações) em Substituição a Lara Garcia\, (férias do titular): Atendimentos e Despachos Internos.
DESCRIPTION:
URL:https://www.goiasfomento.com/agenda/vinicius-luz-diretor-de-operacoes-em-substituicao-a-lara-garcia-ferias-do-titular-atendimentos-e-despachos-internos-5/
LOCATION:Gabinete da Diretoria de Operações da GoiásFomento – Agência de Fomento de Goiás.
CATEGORIES:Diretoria Administrativa e Financeira
END:VEVENT
BEGIN:VEVENT
DTSTART;TZID=America/Sao_Paulo:20250915T080000
DTEND;TZID=America/Sao_Paulo:20250915T120000
DTSTAMP:20260425T233400
CREATED:20250911T161112Z
LAST-MODIFIED:20250911T161112Z
UID:45997-1757923200-1757937600@www.goiasfomento.com
SUMMARY:Rufino Veríssimo: Atendimentos e Despachos Internos.
DESCRIPTION:
URL:https://www.goiasfomento.com/agenda/rufino-verissimo-atendimentos-e-despachos-internos-88/
LOCATION:Chefia de Gabinete – Agência de Fomento de Goiás
CATEGORIES:Chefia de Gabinete
END:VEVENT
BEGIN:VEVENT
DTSTART;TZID=America/Sao_Paulo:20250915T080000
DTEND;TZID=America/Sao_Paulo:20250915T120000
DTSTAMP:20260425T233400
CREATED:20250912T174535Z
LAST-MODIFIED:20250912T174535Z
UID:46017-1757923200-1757937600@www.goiasfomento.com
SUMMARY:Rivael Aguiar Pereira: Atendimentos e Despachos Internos
DESCRIPTION:
URL:https://www.goiasfomento.com/agenda/rivael-aguiar-pereira-atendimentos-e-despachos-internos-90/
LOCATION:Agência de Fomento de Goiás.
CATEGORIES:Presidência
END:VEVENT
BEGIN:VEVENT
DTSTART;TZID=America/Sao_Paulo:20250915T080000
DTEND;TZID=America/Sao_Paulo:20250915T120000
DTSTAMP:20260425T233400
CREATED:20250915T184958Z
LAST-MODIFIED:20250915T184958Z
UID:46037-1757923200-1757937600@www.goiasfomento.com
SUMMARY:Vinícius Luz: Atendimentos e Despachos Internos.
DESCRIPTION:
URL:https://www.goiasfomento.com/agenda/vinicius-luz-atendimentos-e-despachos-internos-85/
LOCATION:Gabinete da Diretoria de Operações da GoiásFomento – Agência de Fomento de Goiás.
CATEGORIES:Diretoria de Operações
END:VEVENT
BEGIN:VEVENT
DTSTART;TZID=America/Sao_Paulo:20250915T140000
DTEND;TZID=America/Sao_Paulo:20250915T180000
DTSTAMP:20260425T233400
CREATED:20250909T195914Z
LAST-MODIFIED:20250909T200634Z
UID:45946-1757944800-1757959200@www.goiasfomento.com
SUMMARY:Vinícius Luz (Diretor de Operações) em Substituição a Lara Garcia\, (férias do titular): Atendimentos e Despachos Internos.
DESCRIPTION:
URL:https://www.goiasfomento.com/agenda/vinicius-luz-diretor-de-operacoes-em-substituicao-a-lara-garcia-ferias-do-titular-atendimentos-e-despachos-internos-6/
LOCATION:Gabinete da Diretoria de Operações da GoiásFomento – Agência de Fomento de Goiás.
CATEGORIES:Diretoria Administrativa e Financeira
END:VEVENT
BEGIN:VEVENT
DTSTART;TZID=America/Sao_Paulo:20250915T140000
DTEND;TZID=America/Sao_Paulo:20250915T180000
DTSTAMP:20260425T233400
CREATED:20250911T161147Z
LAST-MODIFIED:20250911T161147Z
UID:45999-1757944800-1757959200@www.goiasfomento.com
SUMMARY:Rufino Veríssimo: Atendimentos e Despachos Internos.
DESCRIPTION:
URL:https://www.goiasfomento.com/agenda/rufino-verissimo-atendimentos-e-despachos-internos-89/
LOCATION:Chefia de Gabinete – Agência de Fomento de Goiás
CATEGORIES:Chefia de Gabinete
END:VEVENT
BEGIN:VEVENT
DTSTART;TZID=America/Sao_Paulo:20250915T140000
DTEND;TZID=America/Sao_Paulo:20250915T180000
DTSTAMP:20260425T233400
CREATED:20250912T174612Z
LAST-MODIFIED:20250912T174612Z
UID:46019-1757944800-1757959200@www.goiasfomento.com
SUMMARY:Rivael Aguiar Pereira: Atendimentos e Despachos Internos
DESCRIPTION:
URL:https://www.goiasfomento.com/agenda/rivael-aguiar-pereira-atendimentos-e-despachos-internos-91/
LOCATION:Agência de Fomento de Goiás
CATEGORIES:Presidência
END:VEVENT
BEGIN:VEVENT
DTSTART;TZID=America/Sao_Paulo:20250915T140000
DTEND;TZID=America/Sao_Paulo:20250915T180000
DTSTAMP:20260425T233400
CREATED:20250915T185020Z
LAST-MODIFIED:20250915T185020Z
UID:46039-1757944800-1757959200@www.goiasfomento.com
SUMMARY:Vinícius Luz: Atendimentos e Despachos Internos.
DESCRIPTION:
URL:https://www.goiasfomento.com/agenda/vinicius-luz-atendimentos-e-despachos-internos-86/
LOCATION:Gabinete da Diretoria de Operações da GoiásFomento – Agência de Fomento de Goiás.
CATEGORIES:Diretoria de Operações
END:VEVENT
BEGIN:VEVENT
DTSTART;TZID=America/Sao_Paulo:20250916T080000
DTEND;TZID=America/Sao_Paulo:20250916T090000
DTSTAMP:20260425T233400
CREATED:20250916T181311Z
LAST-MODIFIED:20250916T181311Z
UID:46049-1758009600-1758013200@www.goiasfomento.com
SUMMARY:Vinícius Luz: Atendimentos e Despachos Internos.
DESCRIPTION:
URL:https://www.goiasfomento.com/agenda/vinicius-luz-atendimentos-e-despachos-internos-87/
LOCATION:Gabinete da Diretoria de Operações da GoiásFomento – Agência de Fomento de Goiás.
CATEGORIES:Diretoria de Operações
END:VEVENT
BEGIN:VEVENT
DTSTART;TZID=America/Sao_Paulo:20250916T080000
DTEND;TZID=America/Sao_Paulo:20250916T120000
DTSTAMP:20260425T233400
CREATED:20250911T161218Z
LAST-MODIFIED:20250911T161218Z
UID:46001-1758009600-1758024000@www.goiasfomento.com
SUMMARY:Rufino Veríssimo: Atendimentos e Despachos Internos.
DESCRIPTION:
URL:https://www.goiasfomento.com/agenda/rufino-verissimo-atendimentos-e-despachos-internos-90/
LOCATION:Chefia de Gabinete – Agência de Fomento de Goiás
CATEGORIES:Chefia de Gabinete
END:VEVENT
BEGIN:VEVENT
DTSTART;TZID=America/Sao_Paulo:20250916T080000
DTEND;TZID=America/Sao_Paulo:20250916T120000
DTSTAMP:20260425T233400
CREATED:20250912T174650Z
LAST-MODIFIED:20250912T174650Z
UID:46021-1758009600-1758024000@www.goiasfomento.com
SUMMARY:Rivael Aguiar Pereira: Atendimentos e Despachos Internos
DESCRIPTION:
URL:https://www.goiasfomento.com/agenda/rivael-aguiar-pereira-atendimentos-e-despachos-internos-92/
LOCATION:Agência de Fomento de Goiás.
CATEGORIES:Presidência
END:VEVENT
BEGIN:VEVENT
DTSTART;TZID=America/Sao_Paulo:20250916T080000
DTEND;TZID=America/Sao_Paulo:20250916T120000
DTSTAMP:20260425T233400
CREATED:20250915T185115Z
LAST-MODIFIED:20250916T132801Z
UID:46041-1758009600-1758024000@www.goiasfomento.com
SUMMARY:Lara Garcia: Despachos Internos e Administrativos.
DESCRIPTION:
URL:https://www.goiasfomento.com/agenda/lara-garcia-atendimentos-e-despachos-internos-80/
LOCATION:Gabinete da Diretoria Administrativa e Financeira – Agência de Fomento de Goiás.
CATEGORIES:Diretoria Administrativa e Financeira
END:VEVENT
BEGIN:VEVENT
DTSTART;TZID=America/Sao_Paulo:20250916T090000
DTEND;TZID=America/Sao_Paulo:20250916T110000
DTSTAMP:20260425T233400
CREATED:20250916T181245Z
LAST-MODIFIED:20250916T181245Z
UID:46047-1758013200-1758020400@www.goiasfomento.com
SUMMARY:Vinícius Luz: Sessão Solene em Homenagem à Universidade Federal de Jataí – UF.
DESCRIPTION:
URL:https://www.goiasfomento.com/agenda/vinicius-luz-sessao-solene-em-homenagem-a-universidade-federal-de-jatai-uf/
LOCATION:📍 Local: Assembleia Legislativa do Estado de Goiás – Palácio Maguito Vilela – Plenário Íris Rezende Machado.
CATEGORIES:Diretoria de Operações
END:VEVENT
BEGIN:VEVENT
DTSTART;TZID=America/Sao_Paulo:20250916T110000
DTEND;TZID=America/Sao_Paulo:20250916T120000
DTSTAMP:20260425T233400
CREATED:20250916T181334Z
LAST-MODIFIED:20250916T181334Z
UID:46051-1758020400-1758024000@www.goiasfomento.com
SUMMARY:Vinícius Luz: Atendimentos e Despachos Internos.
DESCRIPTION:
URL:https://www.goiasfomento.com/agenda/vinicius-luz-atendimentos-e-despachos-internos-88/
LOCATION:Gabinete da Diretoria de Operações da GoiásFomento – Agência de Fomento de Goiás.
CATEGORIES:Diretoria de Operações
END:VEVENT
BEGIN:VEVENT
DTSTART;TZID=America/Sao_Paulo:20250916T140000
DTEND;TZID=America/Sao_Paulo:20250916T180000
DTSTAMP:20260425T233400
CREATED:20250911T161250Z
LAST-MODIFIED:20250911T161250Z
UID:46003-1758031200-1758045600@www.goiasfomento.com
SUMMARY:Rufino Veríssimo: Atendimentos e Despachos Internos.
DESCRIPTION:
URL:https://www.goiasfomento.com/agenda/rufino-verissimo-atendimentos-e-despachos-internos-91/
LOCATION:Chefia de Gabinete – Agência de Fomento de Goiás
CATEGORIES:Chefia de Gabinete
END:VEVENT
BEGIN:VEVENT
DTSTART;TZID=America/Sao_Paulo:20250916T140000
DTEND;TZID=America/Sao_Paulo:20250916T180000
DTSTAMP:20260425T233400
CREATED:20250912T174715Z
LAST-MODIFIED:20250912T174715Z
UID:46023-1758031200-1758045600@www.goiasfomento.com
SUMMARY:Rivael Aguiar Pereira: Atendimentos e Despachos Internos
DESCRIPTION:
URL:https://www.goiasfomento.com/agenda/rivael-aguiar-pereira-atendimentos-e-despachos-internos-93/
LOCATION:Agência de Fomento de Goiás
CATEGORIES:Presidência
END:VEVENT
BEGIN:VEVENT
DTSTART;TZID=America/Sao_Paulo:20250916T140000
DTEND;TZID=America/Sao_Paulo:20250916T180000
DTSTAMP:20260425T233400
CREATED:20250916T132745Z
LAST-MODIFIED:20250916T132745Z
UID:46044-1758031200-1758045600@www.goiasfomento.com
SUMMARY:Lara Garcia: Despachos Internos e Administrativos.
DESCRIPTION:
URL:https://www.goiasfomento.com/agenda/lara-garcia-despachos-internos-e-administrativos-2/
LOCATION:Gabinete da Diretoria Administrativa e Financeira – Agência de Fomento de Goiás.
CATEGORIES:Diretoria Administrativa e Financeira
END:VEVENT
BEGIN:VEVENT
DTSTART;TZID=America/Sao_Paulo:20250916T140000
DTEND;TZID=America/Sao_Paulo:20250916T180000
DTSTAMP:20260425T233400
CREATED:20250916T181353Z
LAST-MODIFIED:20250916T181353Z
UID:46053-1758031200-1758045600@www.goiasfomento.com
SUMMARY:Vinícius Luz: Atendimentos e Despachos Internos.
DESCRIPTION:
URL:https://www.goiasfomento.com/agenda/vinicius-luz-atendimentos-e-despachos-internos-89/
LOCATION:Gabinete da Diretoria de Operações da GoiásFomento – Agência de Fomento de Goiás.
CATEGORIES:Diretoria de Operações
END:VEVENT
BEGIN:VEVENT
DTSTART;TZID=America/Sao_Paulo:20250917T080000
DTEND;TZID=America/Sao_Paulo:20250917T120000
DTSTAMP:20260425T233400
CREATED:20250911T161403Z
LAST-MODIFIED:20250911T161403Z
UID:46005-1758096000-1758110400@www.goiasfomento.com
SUMMARY:Rufino Veríssimo: Atendimentos e Despachos Internos.
DESCRIPTION:
URL:https://www.goiasfomento.com/agenda/rufino-verissimo-atendimentos-e-despachos-internos-92/
LOCATION:Chefia de Gabinete – Agência de Fomento de Goiás
CATEGORIES:Chefia de Gabinete
END:VEVENT
BEGIN:VEVENT
DTSTART;TZID=America/Sao_Paulo:20250917T080000
DTEND;TZID=America/Sao_Paulo:20250917T120000
DTSTAMP:20260425T233400
CREATED:20250912T174757Z
LAST-MODIFIED:20250912T174757Z
UID:46025-1758096000-1758110400@www.goiasfomento.com
SUMMARY:Rivael Aguiar Pereira: Atendimentos e Despachos Internos
DESCRIPTION:
URL:https://www.goiasfomento.com/agenda/rivael-aguiar-pereira-atendimentos-e-despachos-internos-94/
LOCATION:Agência de Fomento de Goiás.
CATEGORIES:Presidência
END:VEVENT
BEGIN:VEVENT
DTSTART;TZID=America/Sao_Paulo:20250917T080000
DTEND;TZID=America/Sao_Paulo:20250917T120000
DTSTAMP:20260425T233400
CREATED:20250917T132110Z
LAST-MODIFIED:20250917T132110Z
UID:46055-1758096000-1758110400@www.goiasfomento.com
SUMMARY:Lara Garcia: Despachos Internos e Administrativos.
DESCRIPTION:
URL:https://www.goiasfomento.com/agenda/lara-garcia-despachos-internos-e-administrativos-3/
LOCATION:Gabinete da Diretoria Administrativa e Financeira – Agência de Fomento de Goiás.
CATEGORIES:Diretoria Administrativa e Financeira
END:VEVENT
BEGIN:VEVENT
DTSTART;TZID=America/Sao_Paulo:20250917T080000
DTEND;TZID=America/Sao_Paulo:20250917T120000
DTSTAMP:20260425T233400
CREATED:20250917T141748Z
LAST-MODIFIED:20250917T141748Z
UID:46059-1758096000-1758110400@www.goiasfomento.com
SUMMARY:Vinícius Luz: Atendimentos e Despachos Internos.
DESCRIPTION:
URL:https://www.goiasfomento.com/agenda/vinicius-luz-atendimentos-e-despachos-internos-90/
LOCATION:Gabinete da Diretoria de Operações da GoiásFomento – Agência de Fomento de Goiás.
CATEGORIES:Diretoria de Operações
END:VEVENT
END:VCALENDAR