BEGIN:VCALENDAR
VERSION:2.0
PRODID:-//GoiásFomento - Agência de Fomento - ECPv6.15.20//NONSGML v1.0//EN
CALSCALE:GREGORIAN
METHOD:PUBLISH
X-ORIGINAL-URL:https://www.goiasfomento.com
X-WR-CALDESC:Eventos para GoiásFomento - Agência de Fomento
REFRESH-INTERVAL;VALUE=DURATION:PT1H
X-Robots-Tag:noindex
X-PUBLISHED-TTL:PT1H
BEGIN:VTIMEZONE
TZID:America/Sao_Paulo
BEGIN:STANDARD
TZOFFSETFROM:-0300
TZOFFSETTO:-0300
TZNAME:-03
DTSTART:20240101T000000
END:STANDARD
END:VTIMEZONE
BEGIN:VEVENT
DTSTART;TZID=America/Sao_Paulo:20250716T080000
DTEND;TZID=America/Sao_Paulo:20250716T093000
DTSTAMP:20260425T173556
CREATED:20250716T152824Z
LAST-MODIFIED:20250716T152824Z
UID:44953-1752652800-1752658200@www.goiasfomento.com
SUMMARY:Vinícius Luz: Atendimentos e Despachos Internos.
DESCRIPTION:
URL:https://www.goiasfomento.com/agenda/vinicius-luz-atendimentos-e-despachos-internos-4/
LOCATION:Gabinete da Diretoria de Operações da GoiásFomento – Agência de Fomento de Goiás.
CATEGORIES:Diretoria de Operações
END:VEVENT
BEGIN:VEVENT
DTSTART;TZID=America/Sao_Paulo:20250716T080000
DTEND;TZID=America/Sao_Paulo:20250716T120000
DTSTAMP:20260425T173556
CREATED:20250714T174526Z
LAST-MODIFIED:20250714T174526Z
UID:44822-1752652800-1752667200@www.goiasfomento.com
SUMMARY:Rivael Aguiar Pereira: Atendimentos e Despachos Internos
DESCRIPTION:
URL:https://www.goiasfomento.com/agenda/rivael-aguiar-pereira-atendimentos-e-despachos-internos-16/
CATEGORIES:Presidência
END:VEVENT
BEGIN:VEVENT
DTSTART;TZID=America/Sao_Paulo:20250716T080000
DTEND;TZID=America/Sao_Paulo:20250716T120000
DTSTAMP:20260425T173556
CREATED:20250716T131000Z
LAST-MODIFIED:20250716T131000Z
UID:44934-1752652800-1752667200@www.goiasfomento.com
SUMMARY:Lara Garcia: Atendimentos e Despachos Internos.
DESCRIPTION:
URL:https://www.goiasfomento.com/agenda/lara-garcia-atendimentos-e-despachos-internos-6/
LOCATION:Gabinete da Diretoria Administrativa e Financeira – Agência de Fomento de Goiás.
CATEGORIES:Diretoria Administrativa e Financeira
END:VEVENT
BEGIN:VEVENT
DTSTART;TZID=America/Sao_Paulo:20250716T080000
DTEND;TZID=America/Sao_Paulo:20250716T120000
DTSTAMP:20260425T173556
CREATED:20250716T133825Z
LAST-MODIFIED:20250716T133825Z
UID:44948-1752652800-1752667200@www.goiasfomento.com
SUMMARY:Rufino Veríssimo: Atendimentos e Despachos Internos.
DESCRIPTION:
URL:https://www.goiasfomento.com/agenda/rufino-verissimo-atendimentos-e-despachos-internos-5/
LOCATION:Chefia de Gabinete – Agência de Fomento de Goiás
CATEGORIES:Chefia de Gabinete
END:VEVENT
BEGIN:VEVENT
DTSTART;TZID=America/Sao_Paulo:20250716T100000
DTEND;TZID=America/Sao_Paulo:20250716T110000
DTSTAMP:20260425T173556
CREATED:20250716T153031Z
LAST-MODIFIED:20250716T153031Z
UID:44955-1752660000-1752663600@www.goiasfomento.com
SUMMARY:Vinícius Luz: Reunião da Diretoria da GoiásFomento com a Equipe Arca Parque.
DESCRIPTION:
URL:https://www.goiasfomento.com/agenda/vinicius-luz-reuniao-da-diretoria-da-goiasfomento-com-a-equipe-arca-parque/
LOCATION:Sala de Reuniões da Diretoria – Agência de Fomento de Goiás.
CATEGORIES:Diretoria de Operações
END:VEVENT
BEGIN:VEVENT
DTSTART;TZID=America/Sao_Paulo:20250716T110000
DTEND;TZID=America/Sao_Paulo:20250716T130000
DTSTAMP:20260425T173556
CREATED:20250716T153102Z
LAST-MODIFIED:20250716T153156Z
UID:44957-1752663600-1752670800@www.goiasfomento.com
SUMMARY:Vinícius Luz: Atendimentos e Despachos Internos.
DESCRIPTION:
URL:https://www.goiasfomento.com/agenda/vinicius-luz-atendimentos-e-despachos-internos-5/
LOCATION:Gabinete da Diretoria de Operações da GoiásFomento – Agência de Fomento de Goiás.
CATEGORIES:Diretoria de Operações
END:VEVENT
BEGIN:VEVENT
DTSTART;TZID=America/Sao_Paulo:20250716T140000
DTEND;TZID=America/Sao_Paulo:20250716T180000
DTSTAMP:20260425T173556
CREATED:20250714T174547Z
LAST-MODIFIED:20250714T174547Z
UID:44824-1752674400-1752688800@www.goiasfomento.com
SUMMARY:Rivael Aguiar Pereira: Atendimentos e Despachos Internos
DESCRIPTION:
URL:https://www.goiasfomento.com/agenda/rivael-aguiar-pereira-atendimentos-e-despachos-internos-17/
CATEGORIES:Presidência
END:VEVENT
BEGIN:VEVENT
DTSTART;TZID=America/Sao_Paulo:20250716T140000
DTEND;TZID=America/Sao_Paulo:20250716T180000
DTSTAMP:20260425T173556
CREATED:20250716T131025Z
LAST-MODIFIED:20250716T131025Z
UID:44936-1752674400-1752688800@www.goiasfomento.com
SUMMARY:Lara Garcia: Atendimentos e Despachos Internos.
DESCRIPTION:
URL:https://www.goiasfomento.com/agenda/lara-garcia-atendimentos-e-despachos-internos-7/
LOCATION:Gabinete da Diretoria Administrativa e Financeira – Agência de Fomento de Goiás.
CATEGORIES:Diretoria Administrativa e Financeira
END:VEVENT
BEGIN:VEVENT
DTSTART;TZID=America/Sao_Paulo:20250716T140000
DTEND;TZID=America/Sao_Paulo:20250716T180000
DTSTAMP:20260425T173556
CREATED:20250716T133848Z
LAST-MODIFIED:20250716T133848Z
UID:44951-1752674400-1752688800@www.goiasfomento.com
SUMMARY:Rufino Veríssimo: Atendimentos e Despachos Internos.
DESCRIPTION:
URL:https://www.goiasfomento.com/agenda/rufino-verissimo-atendimentos-e-despachos-internos-6/
LOCATION:Chefia de Gabinete – Agência de Fomento de Goiás
CATEGORIES:Chefia de Gabinete
END:VEVENT
BEGIN:VEVENT
DTSTART;TZID=America/Sao_Paulo:20250717T080000
DTEND;TZID=America/Sao_Paulo:20250717T090000
DTSTAMP:20260425T173556
CREATED:20250717T122455Z
LAST-MODIFIED:20250717T122455Z
UID:44963-1752739200-1752742800@www.goiasfomento.com
SUMMARY:Vinícius Luz: Atendimentos e Despachos Internos.
DESCRIPTION:
URL:https://www.goiasfomento.com/agenda/vinicius-luz-atendimentos-e-despachos-internos-6/
LOCATION:Gabinete da Diretoria de Operações da GoiásFomento – Agência de Fomento de Goiás.
CATEGORIES:Diretoria de Operações
END:VEVENT
BEGIN:VEVENT
DTSTART;TZID=America/Sao_Paulo:20250717T080000
DTEND;TZID=America/Sao_Paulo:20250717T090000
DTSTAMP:20260425T173556
CREATED:20250717T122558Z
LAST-MODIFIED:20250717T122558Z
UID:44965-1752739200-1752742800@www.goiasfomento.com
SUMMARY:Lara Garcia: Atendimentos e Despachos Internos.
DESCRIPTION:
URL:https://www.goiasfomento.com/agenda/lara-garcia-atendimentos-e-despachos-internos-8/
LOCATION:Gabinete da Diretoria Administrativa e Financeira – Agência de Fomento de Goiás.
CATEGORIES:Diretoria Administrativa e Financeira
END:VEVENT
BEGIN:VEVENT
DTSTART;TZID=America/Sao_Paulo:20250717T080000
DTEND;TZID=America/Sao_Paulo:20250717T090000
DTSTAMP:20260425T173556
CREATED:20250717T122736Z
LAST-MODIFIED:20250717T122736Z
UID:44967-1752739200-1752742800@www.goiasfomento.com
SUMMARY:Rufino Veríssimo: Atendimentos e Despachos Internos.
DESCRIPTION:
URL:https://www.goiasfomento.com/agenda/rufino-verissimo-atendimentos-e-despachos-internos-7/
LOCATION:Chefia de Gabinete – Agência de Fomento de Goiás
CATEGORIES:Chefia de Gabinete
END:VEVENT
BEGIN:VEVENT
DTSTART;TZID=America/Sao_Paulo:20250717T080000
DTEND;TZID=America/Sao_Paulo:20250717T120000
DTSTAMP:20260425T173556
CREATED:20250717T141059Z
LAST-MODIFIED:20250717T141059Z
UID:44986-1752739200-1752753600@www.goiasfomento.com
SUMMARY:Rivael Aguiar Pereira: Atendimentos e Despachos Internos
DESCRIPTION:
URL:https://www.goiasfomento.com/agenda/rivael-aguiar-pereira-atendimentos-e-despachos-internos-18/
CATEGORIES:Presidência
END:VEVENT
BEGIN:VEVENT
DTSTART;TZID=America/Sao_Paulo:20250717T090000
DTEND;TZID=America/Sao_Paulo:20250717T093000
DTSTAMP:20260425T173556
CREATED:20250717T123322Z
LAST-MODIFIED:20250717T124132Z
UID:44969-1752742800-1752744600@www.goiasfomento.com
SUMMARY:Rufino Veríssimo: Reunião da Diretoria da Agência de Fomento de Goiás.
DESCRIPTION:
URL:https://www.goiasfomento.com/agenda/rufino-verissimo-reuniao-da-diretoria-da-goiasfomento/
LOCATION:Chefia de Gabinete – Agência de Fomento de Goiás
CATEGORIES:Chefia de Gabinete
END:VEVENT
BEGIN:VEVENT
DTSTART;TZID=America/Sao_Paulo:20250717T090000
DTEND;TZID=America/Sao_Paulo:20250717T093000
DTSTAMP:20260425T173556
CREATED:20250717T123418Z
LAST-MODIFIED:20250717T124207Z
UID:44971-1752742800-1752744600@www.goiasfomento.com
SUMMARY:Vinícius Luz: Reunião da Diretoria da Agência de Fomento de Goiás.
DESCRIPTION:
URL:https://www.goiasfomento.com/agenda/vinicius-luz-reuniao-da-diretoria-da-goiasfomento/
LOCATION:Gabinete da Diretoria de Operações da GoiásFomento – Agência de Fomento de Goiás.
CATEGORIES:Diretoria de Operações
END:VEVENT
BEGIN:VEVENT
DTSTART;TZID=America/Sao_Paulo:20250717T090000
DTEND;TZID=America/Sao_Paulo:20250717T093000
DTSTAMP:20260425T173556
CREATED:20250717T123535Z
LAST-MODIFIED:20250717T123535Z
UID:44973-1752742800-1752744600@www.goiasfomento.com
SUMMARY:Lara Garcia: Reunião da Diretoria da GoiásFomento.
DESCRIPTION:
URL:https://www.goiasfomento.com/agenda/lara-garcia-reuniao-da-diretoria-da-goiasfomento/
LOCATION:Chefia de Gabinete – Agência de Fomento de Goiás
CATEGORIES:Diretoria Administrativa e Financeira
END:VEVENT
BEGIN:VEVENT
DTSTART;TZID=America/Sao_Paulo:20250717T093000
DTEND;TZID=America/Sao_Paulo:20250717T103000
DTSTAMP:20260425T173556
CREATED:20250717T144628Z
LAST-MODIFIED:20250717T144628Z
UID:45006-1752744600-1752748200@www.goiasfomento.com
SUMMARY:Rufino Veríssimo: Reunião com Sardinha - Gerente de Tecnologia da Informação. Pauta: Apresentação do Sistema.
DESCRIPTION:
URL:https://www.goiasfomento.com/agenda/rufino-verissimo-reuniao-com-sardinha-gerente-de-tecnologia-da-informacao-pauta-apresentacao-do-sistema/
LOCATION:Sala de Reuniões da Diretoria – Agência de Fomento de Goiás.
CATEGORIES:Chefia de Gabinete
END:VEVENT
BEGIN:VEVENT
DTSTART;TZID=America/Sao_Paulo:20250717T093000
DTEND;TZID=America/Sao_Paulo:20250717T130000
DTSTAMP:20260425T173556
CREATED:20250717T123703Z
LAST-MODIFIED:20250717T152904Z
UID:44975-1752744600-1752757200@www.goiasfomento.com
SUMMARY:Lara Garcia: Atendimentos e Despachos Internos.
DESCRIPTION:
URL:https://www.goiasfomento.com/agenda/lara-garcia-atendimentos-e-despachos-internos-9/
LOCATION:Gabinete da Diretoria Administrativa e Financeira – Agência de Fomento de Goiás.
CATEGORIES:Diretoria Administrativa e Financeira
END:VEVENT
BEGIN:VEVENT
DTSTART;TZID=America/Sao_Paulo:20250717T093000
DTEND;TZID=America/Sao_Paulo:20250717T130000
DTSTAMP:20260425T173556
CREATED:20250717T154700Z
LAST-MODIFIED:20250717T154700Z
UID:45017-1752744600-1752757200@www.goiasfomento.com
SUMMARY:Vinícius Luz: Atendimentos e Despachos Internos.
DESCRIPTION:
URL:https://www.goiasfomento.com/agenda/vinicius-luz-atendimentos-e-despachos-internos-7/
LOCATION:Gabinete da Diretoria de Operações da GoiásFomento – Agência de Fomento de Goiás.
CATEGORIES:Diretoria de Operações
END:VEVENT
BEGIN:VEVENT
DTSTART;TZID=America/Sao_Paulo:20250717T103000
DTEND;TZID=America/Sao_Paulo:20250717T130000
DTSTAMP:20260425T173556
CREATED:20250717T151019Z
LAST-MODIFIED:20250717T152815Z
UID:45008-1752748200-1752757200@www.goiasfomento.com
SUMMARY:Rufino Veríssimo: Atendimentos e Despachos Internos.
DESCRIPTION:
URL:https://www.goiasfomento.com/agenda/rufino-verissimo-atendimentos-e-despachos-internos-8/
LOCATION:Chefia de Gabinete – Agência de Fomento de Goiás
CATEGORIES:Chefia de Gabinete
END:VEVENT
BEGIN:VEVENT
DTSTART;TZID=America/Sao_Paulo:20250717T140000
DTEND;TZID=America/Sao_Paulo:20250717T143000
DTSTAMP:20260425T173556
CREATED:20250717T123755Z
LAST-MODIFIED:20250717T123755Z
UID:44977-1752760800-1752762600@www.goiasfomento.com
SUMMARY:Lara Garcia: Atendimentos e Despachos Internos.
DESCRIPTION:
URL:https://www.goiasfomento.com/agenda/lara-garcia-atendimentos-e-despachos-internos-10/
LOCATION:Gabinete da Diretoria Administrativa e Financeira – Agência de Fomento de Goiás.
CATEGORIES:Diretoria Administrativa e Financeira
END:VEVENT
BEGIN:VEVENT
DTSTART;TZID=America/Sao_Paulo:20250717T140000
DTEND;TZID=America/Sao_Paulo:20250717T180000
DTSTAMP:20260425T173556
CREATED:20250717T141305Z
LAST-MODIFIED:20250717T141305Z
UID:44988-1752760800-1752775200@www.goiasfomento.com
SUMMARY:Rivael Aguiar Pereira: Atendimentos e Despachos Internos
DESCRIPTION:
URL:https://www.goiasfomento.com/agenda/rivael-aguiar-pereira-atendimentos-e-despachos-internos-19/
CATEGORIES:Presidência
END:VEVENT
BEGIN:VEVENT
DTSTART;TZID=America/Sao_Paulo:20250717T140000
DTEND;TZID=America/Sao_Paulo:20250717T180000
DTSTAMP:20260425T173556
CREATED:20250717T153902Z
LAST-MODIFIED:20250717T153902Z
UID:45015-1752760800-1752775200@www.goiasfomento.com
SUMMARY:Rufino Veríssimo: Atendimentos e Despachos Internos.
DESCRIPTION:
URL:https://www.goiasfomento.com/agenda/rufino-verissimo-atendimentos-e-despachos-internos-11/
LOCATION:Chefia de Gabinete – Agência de Fomento de Goiás
CATEGORIES:Chefia de Gabinete
END:VEVENT
BEGIN:VEVENT
DTSTART;TZID=America/Sao_Paulo:20250717T140000
DTEND;TZID=America/Sao_Paulo:20250717T180000
DTSTAMP:20260425T173556
CREATED:20250717T154724Z
LAST-MODIFIED:20250717T154724Z
UID:45019-1752760800-1752775200@www.goiasfomento.com
SUMMARY:Vinícius Luz: Atendimentos e Despachos Internos.
DESCRIPTION:
URL:https://www.goiasfomento.com/agenda/vinicius-luz-atendimentos-e-despachos-internos-8/
LOCATION:Gabinete da Diretoria de Operações da GoiásFomento – Agência de Fomento de Goiás.
CATEGORIES:Diretoria de Operações
END:VEVENT
BEGIN:VEVENT
DTSTART;TZID=America/Sao_Paulo:20250717T143000
DTEND;TZID=America/Sao_Paulo:20250717T163000
DTSTAMP:20260425T173556
CREATED:20250717T123942Z
LAST-MODIFIED:20250717T124101Z
UID:44981-1752762600-1752769800@www.goiasfomento.com
SUMMARY:Lara Garcia: Reunião com os Gerentes da Agência de Fomento de Goiás.
DESCRIPTION:
URL:https://www.goiasfomento.com/agenda/lara-garcia-reuniao-com-os-gerentes-da-goiasfomento/
LOCATION:Sala de Reuniões da Diretoria – Agência de Fomento de Goiás.
CATEGORIES:Diretoria Administrativa e Financeira
END:VEVENT
BEGIN:VEVENT
DTSTART;TZID=America/Sao_Paulo:20250717T163000
DTEND;TZID=America/Sao_Paulo:20250717T180000
DTSTAMP:20260425T173556
CREATED:20250717T123820Z
LAST-MODIFIED:20250717T123820Z
UID:44979-1752769800-1752775200@www.goiasfomento.com
SUMMARY:Lara Garcia: Atendimentos e Despachos Internos.
DESCRIPTION:
URL:https://www.goiasfomento.com/agenda/lara-garcia-atendimentos-e-despachos-internos-11/
LOCATION:Gabinete da Diretoria Administrativa e Financeira – Agência de Fomento de Goiás.
CATEGORIES:Diretoria Administrativa e Financeira
END:VEVENT
BEGIN:VEVENT
DTSTART;TZID=America/Sao_Paulo:20250718T080000
DTEND;TZID=America/Sao_Paulo:20250718T120000
DTSTAMP:20260425T173556
CREATED:20250717T141419Z
LAST-MODIFIED:20250717T141429Z
UID:44990-1752825600-1752840000@www.goiasfomento.com
SUMMARY:Rivael Aguiar Pereira: Atendimentos e Despachos Internos
DESCRIPTION:
URL:https://www.goiasfomento.com/agenda/rivael-aguiar-pereira-atendimentos-e-despachos-internos-20/
CATEGORIES:Presidência
END:VEVENT
BEGIN:VEVENT
DTSTART;TZID=America/Sao_Paulo:20250718T080000
DTEND;TZID=America/Sao_Paulo:20250718T120000
DTSTAMP:20260425T173556
CREATED:20250717T151112Z
LAST-MODIFIED:20250717T151112Z
UID:45010-1752825600-1752840000@www.goiasfomento.com
SUMMARY:Rufino Veríssimo: Atendimentos e Despachos Internos.
DESCRIPTION:
URL:https://www.goiasfomento.com/agenda/rufino-verissimo-atendimentos-e-despachos-internos-9/
LOCATION:Chefia de Gabinete – Agência de Fomento de Goiás
CATEGORIES:Chefia de Gabinete
END:VEVENT
BEGIN:VEVENT
DTSTART;TZID=America/Sao_Paulo:20250718T080000
DTEND;TZID=America/Sao_Paulo:20250718T120000
DTSTAMP:20260425T173556
CREATED:20250718T190659Z
LAST-MODIFIED:20250718T190659Z
UID:45021-1752825600-1752840000@www.goiasfomento.com
SUMMARY:Lara Garcia: Atendimentos e Despachos Internos.
DESCRIPTION:
URL:https://www.goiasfomento.com/agenda/lara-garcia-atendimentos-e-despachos-internos-12/
LOCATION:Gabinete da Diretoria Administrativa e Financeira – Agência de Fomento de Goiás.
CATEGORIES:Diretoria Administrativa e Financeira
END:VEVENT
BEGIN:VEVENT
DTSTART;TZID=America/Sao_Paulo:20250718T080000
DTEND;TZID=America/Sao_Paulo:20250718T120000
DTSTAMP:20260425T173556
CREATED:20250718T190858Z
LAST-MODIFIED:20250718T190858Z
UID:45025-1752825600-1752840000@www.goiasfomento.com
SUMMARY:Vinícius Luz: Atendimentos e Despachos Internos.
DESCRIPTION:
URL:https://www.goiasfomento.com/agenda/vinicius-luz-atendimentos-e-despachos-internos-9/
LOCATION:Gabinete da Diretoria de Operações da GoiásFomento – Agência de Fomento de Goiás.
CATEGORIES:Diretoria de Operações
END:VEVENT
END:VCALENDAR