BEGIN:VCALENDAR
VERSION:2.0
PRODID:-//GoiásFomento - Agência de Fomento - ECPv6.15.20//NONSGML v1.0//EN
CALSCALE:GREGORIAN
METHOD:PUBLISH
X-ORIGINAL-URL:https://www.goiasfomento.com
X-WR-CALDESC:Eventos para GoiásFomento - Agência de Fomento
REFRESH-INTERVAL;VALUE=DURATION:PT1H
X-Robots-Tag:noindex
X-PUBLISHED-TTL:PT1H
BEGIN:VTIMEZONE
TZID:America/Sao_Paulo
BEGIN:STANDARD
TZOFFSETFROM:-0300
TZOFFSETTO:-0300
TZNAME:-03
DTSTART:20240101T000000
END:STANDARD
END:VTIMEZONE
BEGIN:VEVENT
DTSTART;TZID=America/Sao_Paulo:20250627T070000
DTEND;TZID=America/Sao_Paulo:20250627T083000
DTSTAMP:20260425T155540
CREATED:20250627T113136Z
LAST-MODIFIED:20250627T113136Z
UID:44408-1751007600-1751013000@www.goiasfomento.com
SUMMARY:Rufino Veríssimo: Atendimentos e Despachos Interno.
DESCRIPTION:
URL:https://www.goiasfomento.com/agenda/rufino-verissimo-atendimentos-e-despachos-interno-75/
LOCATION:Gabinete da Diretoria de Operações da GoiásFomento – Agência de Fomento de Goiás.
CATEGORIES:Diretoria de Operações
END:VEVENT
BEGIN:VEVENT
DTSTART;TZID=America/Sao_Paulo:20250627T080000
DTEND;TZID=America/Sao_Paulo:20250627T083000
DTSTAMP:20260425T155540
CREATED:20250627T110711Z
LAST-MODIFIED:20250627T110711Z
UID:44400-1751011200-1751013000@www.goiasfomento.com
SUMMARY:Lara Garcia : Atendimentos e Despachos Interno.
DESCRIPTION:
URL:https://www.goiasfomento.com/agenda/lara-garcia-atendimentos-e-despachos-interno-46/
LOCATION:Gabinete da Diretoria Administrativa e Financeira – Agência de Fomento de Goiás.
CATEGORIES:Diretoria Administrativa e Financeira
END:VEVENT
BEGIN:VEVENT
DTSTART;TZID=America/Sao_Paulo:20250627T080000
DTEND;TZID=America/Sao_Paulo:20250627T120000
DTSTAMP:20260425T155540
CREATED:20250626T155927Z
LAST-MODIFIED:20250626T160040Z
UID:44383-1751011200-1751025600@www.goiasfomento.com
SUMMARY:Vinícius Luz: Atendimentos e Despachos Interno.
DESCRIPTION:
URL:https://www.goiasfomento.com/agenda/vinicius-luz-atendimentos-e-despachos-interno-36/
LOCATION:Chefia de Gabinete – Agência de Fomento de Goiás
CATEGORIES:Chefia de Gabinete
END:VEVENT
BEGIN:VEVENT
DTSTART;TZID=America/Sao_Paulo:20250627T080000
DTEND;TZID=America/Sao_Paulo:20250627T120000
DTSTAMP:20260425T155540
CREATED:20250627T110436Z
LAST-MODIFIED:20250627T110508Z
UID:44396-1751011200-1751025600@www.goiasfomento.com
SUMMARY:Rivael Aguiar Pereira: Atendimentos e Despachos Interno.
DESCRIPTION:
URL:https://www.goiasfomento.com/agenda/rivael-aguiar-pereira-atendimentos-e-despachos-interno-54/
LOCATION:Gabinete da Presidência.
CATEGORIES:Presidência
END:VEVENT
BEGIN:VEVENT
DTSTART;TZID=America/Sao_Paulo:20250627T083000
DTEND;TZID=America/Sao_Paulo:20250627T100000
DTSTAMP:20260425T155540
CREATED:20250627T111202Z
LAST-MODIFIED:20250627T111202Z
UID:44402-1751013000-1751018400@www.goiasfomento.com
SUMMARY:Lara Garcia : LANÇAMENTO TEMPORADA MAIS ARAGUAIA.
DESCRIPTION:
URL:https://www.goiasfomento.com/agenda/lara-garcia-lancamento-temporada-mais-araguaia/
LOCATION:praça civica
CATEGORIES:Diretoria Administrativa e Financeira
END:VEVENT
BEGIN:VEVENT
DTSTART;TZID=America/Sao_Paulo:20250627T083000
DTEND;TZID=America/Sao_Paulo:20250627T100000
DTSTAMP:20260425T155540
CREATED:20250627T113251Z
LAST-MODIFIED:20250627T113251Z
UID:44410-1751013000-1751018400@www.goiasfomento.com
SUMMARY:Rufino Veríssimo: Lançamento da Temporada Mais Araguaia 2025.
DESCRIPTION:
URL:https://www.goiasfomento.com/agenda/rufino-verissimo-lancamento-da-temporada-mais-araguaia-2025/
LOCATION:Praça Dr. Pedro Ludovico Teixeira – Praça Cívica
CATEGORIES:Diretoria de Operações
END:VEVENT
BEGIN:VEVENT
DTSTART;TZID=America/Sao_Paulo:20250627T100000
DTEND;TZID=America/Sao_Paulo:20250627T120000
DTSTAMP:20260425T155540
CREATED:20250627T111553Z
LAST-MODIFIED:20250627T111553Z
UID:44404-1751018400-1751025600@www.goiasfomento.com
SUMMARY:Lara Garcia : Reunião - Pauta: Cooperação GOIASFOMENTO-SEAD.
DESCRIPTION:
URL:https://www.goiasfomento.com/agenda/lara-garcia-reuniao-pauta-cooperacao-goiasfomento-sead/
LOCATION:Sala de reuniões da Diretoria.
CATEGORIES:Diretoria Administrativa e Financeira
END:VEVENT
BEGIN:VEVENT
DTSTART;TZID=America/Sao_Paulo:20250627T100000
DTEND;TZID=America/Sao_Paulo:20250627T120000
DTSTAMP:20260425T155540
CREATED:20250627T113317Z
LAST-MODIFIED:20250715T115931Z
UID:44413-1751018400-1751025600@www.goiasfomento.com
SUMMARY:Rufino Veríssimo: Atendimentos e Despachos Internos.
DESCRIPTION:
URL:https://www.goiasfomento.com/agenda/rufino-verissimo-atendimentos-e-despachos-interno-76/
LOCATION:Gabinete da Diretoria de Operações da GoiásFomento – Agência de Fomento de Goiás.
CATEGORIES:Diretoria de Operações
END:VEVENT
BEGIN:VEVENT
DTSTART;TZID=America/Sao_Paulo:20250627T140000
DTEND;TZID=America/Sao_Paulo:20250627T180000
DTSTAMP:20260425T155540
CREATED:20250627T110535Z
LAST-MODIFIED:20250627T110535Z
UID:44398-1751032800-1751047200@www.goiasfomento.com
SUMMARY:Rivael Aguiar Pereira: Atendimentos e Despachos Interno.
DESCRIPTION:
URL:https://www.goiasfomento.com/agenda/rivael-aguiar-pereira-atendimentos-e-despachos-interno-55/
LOCATION:Gabinete da Presidência.
CATEGORIES:Presidência
END:VEVENT
BEGIN:VEVENT
DTSTART;TZID=America/Sao_Paulo:20250627T140000
DTEND;TZID=America/Sao_Paulo:20250627T180000
DTSTAMP:20260425T155540
CREATED:20250630T112856Z
LAST-MODIFIED:20250715T115912Z
UID:44424-1751032800-1751047200@www.goiasfomento.com
SUMMARY:Rufino Veríssimo: Atendimentos e Despachos Internos.
DESCRIPTION:
URL:https://www.goiasfomento.com/agenda/rufino-verissimo-atendimentos-e-despachos-interno-77/
LOCATION:Gabinete da Diretoria de Operações da GoiásFomento – Agência de Fomento de Goiás.
CATEGORIES:Diretoria de Operações
END:VEVENT
BEGIN:VEVENT
DTSTART;TZID=America/Sao_Paulo:20250627T140000
DTEND;TZID=America/Sao_Paulo:20250627T183000
DTSTAMP:20260425T155540
CREATED:20250626T171320Z
LAST-MODIFIED:20250715T115121Z
UID:44387-1751032800-1751049000@www.goiasfomento.com
SUMMARY:Vinícius Luz: Atendimentos e Despachos Internos.
DESCRIPTION:
URL:https://www.goiasfomento.com/agenda/vinicius-luz-atendimentos-e-despachos-interno-37/
LOCATION:Chefia de Gabinete – Agência de Fomento de Goiás
CATEGORIES:Chefia de Gabinete
END:VEVENT
BEGIN:VEVENT
DTSTART;TZID=America/Sao_Paulo:20250630T080000
DTEND;TZID=America/Sao_Paulo:20250630T120000
DTSTAMP:20260425T155540
CREATED:20250630T113018Z
LAST-MODIFIED:20250715T115139Z
UID:44426-1751270400-1751284800@www.goiasfomento.com
SUMMARY:Rufino Veríssimo: Atendimentos e Despachos Internos.
DESCRIPTION:
URL:https://www.goiasfomento.com/agenda/rufino-verissimo-atendimentos-e-despachos-interno-78/
LOCATION:Gabinete da Diretoria de Operações da GoiásFomento – Agência de Fomento de Goiás.
CATEGORIES:Diretoria de Operações
END:VEVENT
BEGIN:VEVENT
DTSTART;TZID=America/Sao_Paulo:20250630T080000
DTEND;TZID=America/Sao_Paulo:20250630T120000
DTSTAMP:20260425T155540
CREATED:20250630T113104Z
LAST-MODIFIED:20250715T115205Z
UID:44428-1751270400-1751284800@www.goiasfomento.com
SUMMARY:Vinícius Luz: Atendimentos e Despachos Internos.
DESCRIPTION:
URL:https://www.goiasfomento.com/agenda/vinicius-luz-atendimentos-e-despachos-interno-38/
LOCATION:Chefia de Gabinete – Agência de Fomento de Goiás
CATEGORIES:Chefia de Gabinete
END:VEVENT
BEGIN:VEVENT
DTSTART;TZID=America/Sao_Paulo:20250630T080000
DTEND;TZID=America/Sao_Paulo:20250630T120000
DTSTAMP:20260425T155540
CREATED:20250630T131311Z
LAST-MODIFIED:20250630T131311Z
UID:44447-1751270400-1751284800@www.goiasfomento.com
SUMMARY:Rivael Aguiar Pereira: Atendimentos e Despachos Interno.
DESCRIPTION:
URL:https://www.goiasfomento.com/agenda/rivael-aguiar-pereira-atendimentos-e-despachos-interno-56/
LOCATION:Gabinete da Presidência.
CATEGORIES:Presidência
END:VEVENT
BEGIN:VEVENT
DTSTART;TZID=America/Sao_Paulo:20250630T140000
DTEND;TZID=America/Sao_Paulo:20250630T160000
DTSTAMP:20260425T155540
CREATED:20250630T165121Z
LAST-MODIFIED:20250715T115235Z
UID:44459-1751292000-1751299200@www.goiasfomento.com
SUMMARY:Rufino Veríssimo: Atendimentos e Despachos Internos.
DESCRIPTION:
URL:https://www.goiasfomento.com/agenda/rufino-verissimo-atendimentos-e-despachos-interno-79/
LOCATION:Gabinete da Diretoria de Operações da GoiásFomento – Agência de Fomento de Goiás.
CATEGORIES:Diretoria de Operações
END:VEVENT
BEGIN:VEVENT
DTSTART;TZID=America/Sao_Paulo:20250630T140000
DTEND;TZID=America/Sao_Paulo:20250630T180000
DTSTAMP:20260425T155540
CREATED:20250627T172330Z
LAST-MODIFIED:20250627T172330Z
UID:44422-1751292000-1751306400@www.goiasfomento.com
SUMMARY:Lara Garcia : Atendimentos e Despachos Interno.
DESCRIPTION:
URL:https://www.goiasfomento.com/agenda/lara-garcia-atendimentos-e-despachos-interno-49/
LOCATION:Gabinete da Diretoria Administrativa e Financeira – Agência de Fomento de Goiás.
CATEGORIES:Diretoria Administrativa e Financeira
END:VEVENT
BEGIN:VEVENT
DTSTART;TZID=America/Sao_Paulo:20250630T140000
DTEND;TZID=America/Sao_Paulo:20250630T180000
DTSTAMP:20260425T155540
CREATED:20250630T113134Z
LAST-MODIFIED:20250715T115750Z
UID:44430-1751292000-1751306400@www.goiasfomento.com
SUMMARY:Vinícius Luz: Atendimentos e Despachos Internos.
DESCRIPTION:
URL:https://www.goiasfomento.com/agenda/vinicius-luz-atendimentos-e-despachos-interno-39/
LOCATION:Chefia de Gabinete – Agência de Fomento de Goiás
CATEGORIES:Chefia de Gabinete
END:VEVENT
BEGIN:VEVENT
DTSTART;TZID=America/Sao_Paulo:20250630T140000
DTEND;TZID=America/Sao_Paulo:20250630T180000
DTSTAMP:20260425T155540
CREATED:20250630T124929Z
LAST-MODIFIED:20250630T125415Z
UID:44445-1751292000-1751306400@www.goiasfomento.com
SUMMARY:Lara Garcia : Atendimentos e Despachos Interno.
DESCRIPTION:
URL:https://www.goiasfomento.com/agenda/lara-garcia-atendimentos-e-despachos-interno-50/
LOCATION:Gabinete da Diretoria Administrativa e Financeira – Agência de Fomento de Goiás.
CATEGORIES:Diretoria Administrativa e Financeira
END:VEVENT
BEGIN:VEVENT
DTSTART;TZID=America/Sao_Paulo:20250630T140000
DTEND;TZID=America/Sao_Paulo:20250630T180000
DTSTAMP:20260425T155540
CREATED:20250630T131341Z
LAST-MODIFIED:20250630T131341Z
UID:44449-1751292000-1751306400@www.goiasfomento.com
SUMMARY:Rivael Aguiar Pereira: Atendimentos e Despachos Interno.
DESCRIPTION:
URL:https://www.goiasfomento.com/agenda/rivael-aguiar-pereira-atendimentos-e-despachos-interno-57/
LOCATION:Gabinete da Presidência.
CATEGORIES:Presidência
END:VEVENT
BEGIN:VEVENT
DTSTART;TZID=America/Sao_Paulo:20250630T160000
DTEND;TZID=America/Sao_Paulo:20250630T170000
DTSTAMP:20260425T155540
CREATED:20250630T164941Z
LAST-MODIFIED:20250630T170235Z
UID:44455-1751299200-1751302800@www.goiasfomento.com
SUMMARY:Rufino Veríssimo: Reunião da  GoiásFomento e Empresa Inttegra.
DESCRIPTION:
URL:https://www.goiasfomento.com/agenda/rufino-verissimo-reuniao-da-goiasfomento-e-empresa-inttegra/
LOCATION:Gabinete da Diretoria de Operações da GoiásFomento – Agência de Fomento de Goiás.
CATEGORIES:Diretoria de Operações
END:VEVENT
BEGIN:VEVENT
DTSTART;TZID=America/Sao_Paulo:20250630T170000
DTEND;TZID=America/Sao_Paulo:20250630T180000
DTSTAMP:20260425T155540
CREATED:20250630T165410Z
LAST-MODIFIED:20250715T115812Z
UID:44461-1751302800-1751306400@www.goiasfomento.com
SUMMARY:Rufino Veríssimo: Atendimentos e Despachos Internos.
DESCRIPTION:
URL:https://www.goiasfomento.com/agenda/rufino-verissimo-atendimentos-e-despachos-interno-80/
LOCATION:Gabinete da Diretoria de Operações da GoiásFomento – Agência de Fomento de Goiás.
CATEGORIES:Diretoria de Operações
END:VEVENT
BEGIN:VEVENT
DTSTART;VALUE=DATE:20250701
DTEND;VALUE=DATE:20250702
DTSTAMP:20260425T155540
CREATED:20250627T111658Z
LAST-MODIFIED:20250627T171821Z
UID:44406-1751328000-1751414399@www.goiasfomento.com
SUMMARY:Lara Garcia: Evento e reunião conjunta - Workshop Estadual de Eficiência Energética
DESCRIPTION:
URL:https://www.goiasfomento.com/agenda/lara-garcia-atendimentos-e-despachos-interno-47/
LOCATION:Gabinete da Diretoria Administrativa e Financeira – Agência de Fomento de Goiás.
CATEGORIES:Diretoria Administrativa e Financeira
END:VEVENT
BEGIN:VEVENT
DTSTART;TZID=America/Sao_Paulo:20250701T070000
DTEND;TZID=America/Sao_Paulo:20250701T090000
DTSTAMP:20260425T155540
CREATED:20250630T170055Z
LAST-MODIFIED:20250715T115709Z
UID:44468-1751353200-1751360400@www.goiasfomento.com
SUMMARY:Rufino Veríssimo: Atendimentos e Despachos Internos.
DESCRIPTION:
URL:https://www.goiasfomento.com/agenda/rufino-verissimo-atendimentos-e-despachos-interno-81/
LOCATION:Gabinete da Diretoria de Operações da GoiásFomento – Agência de Fomento de Goiás.
CATEGORIES:Diretoria de Operações
END:VEVENT
BEGIN:VEVENT
DTSTART;TZID=America/Sao_Paulo:20250701T080000
DTEND;TZID=America/Sao_Paulo:20250701T120000
DTSTAMP:20260425T155540
CREATED:20250701T135949Z
LAST-MODIFIED:20250715T115732Z
UID:44476-1751356800-1751371200@www.goiasfomento.com
SUMMARY:Vinícius Luz: Atendimentos e Despachos Internos.
DESCRIPTION:
URL:https://www.goiasfomento.com/agenda/vinicius-luz-atendimentos-e-despachos-interno-40/
LOCATION:Chefia de Gabinete – Agência de Fomento de Goiás
CATEGORIES:Chefia de Gabinete
END:VEVENT
BEGIN:VEVENT
DTSTART;TZID=America/Sao_Paulo:20250701T080000
DTEND;TZID=America/Sao_Paulo:20250701T180000
DTSTAMP:20260425T155540
CREATED:20250630T165131Z
LAST-MODIFIED:20250630T165218Z
UID:44458-1751356800-1751392800@www.goiasfomento.com
SUMMARY:Rivael Aguiar Pereira: Atendimentos e Despachos Interno.
DESCRIPTION:
URL:https://www.goiasfomento.com/agenda/rivael-aguiar-pereira-atendimentos-e-despachos-interno-59/
LOCATION:Gabinete da Presidência.
CATEGORIES:Presidência
END:VEVENT
BEGIN:VEVENT
DTSTART;TZID=America/Sao_Paulo:20250701T090000
DTEND;TZID=America/Sao_Paulo:20250701T100000
DTSTAMP:20260425T155540
CREATED:20250630T170024Z
LAST-MODIFIED:20250630T170251Z
UID:44466-1751360400-1751364000@www.goiasfomento.com
SUMMARY:Rufino Veríssimo: Reunião: Pauta - Contrato da BK.
DESCRIPTION:
URL:https://www.goiasfomento.com/agenda/rufino-verissimo-reuniao-pauta-contrato-da-bk-4/
LOCATION:Gabinete da Diretoria de Operações da GoiásFomento – Agência de Fomento de Goiás.
CATEGORIES:Diretoria de Operações
END:VEVENT
BEGIN:VEVENT
DTSTART;TZID=America/Sao_Paulo:20250701T100000
DTEND;TZID=America/Sao_Paulo:20250701T120000
DTSTAMP:20260425T155540
CREATED:20250630T171609Z
LAST-MODIFIED:20250715T115628Z
UID:44470-1751364000-1751371200@www.goiasfomento.com
SUMMARY:Rufino Veríssimo: Atendimentos e Despachos Internos.
DESCRIPTION:
URL:https://www.goiasfomento.com/agenda/rufino-verissimo-atendimentos-e-despachos-interno-82/
LOCATION:Gabinete da Diretoria de Operações da GoiásFomento – Agência de Fomento de Goiás.
CATEGORIES:Diretoria de Operações
END:VEVENT
BEGIN:VEVENT
DTSTART;TZID=America/Sao_Paulo:20250701T140000
DTEND;TZID=America/Sao_Paulo:20250701T160000
DTSTAMP:20260425T155540
CREATED:20250630T171638Z
LAST-MODIFIED:20250715T115520Z
UID:44472-1751378400-1751385600@www.goiasfomento.com
SUMMARY:Rufino Veríssimo: Atendimentos e Despachos Internos.
DESCRIPTION:
URL:https://www.goiasfomento.com/agenda/rufino-verissimo-atendimentos-e-despachos-interno-83/
LOCATION:Gabinete da Diretoria de Operações da GoiásFomento – Agência de Fomento de Goiás.
CATEGORIES:Diretoria de Operações
END:VEVENT
BEGIN:VEVENT
DTSTART;TZID=America/Sao_Paulo:20250701T140000
DTEND;TZID=America/Sao_Paulo:20250701T180000
DTSTAMP:20260425T155540
CREATED:20250630T165326Z
LAST-MODIFIED:20250630T165326Z
UID:44463-1751378400-1751392800@www.goiasfomento.com
SUMMARY:Rivael Aguiar Pereira: Atendimentos e Despachos Interno.
DESCRIPTION:
URL:https://www.goiasfomento.com/agenda/rivael-aguiar-pereira-atendimentos-e-despachos-interno-60/
LOCATION:Gabinete da Presidência.
CATEGORIES:Presidência
END:VEVENT
BEGIN:VEVENT
DTSTART;TZID=America/Sao_Paulo:20250701T140000
DTEND;TZID=America/Sao_Paulo:20250701T180000
DTSTAMP:20260425T155540
CREATED:20250701T140012Z
LAST-MODIFIED:20250715T114952Z
UID:44478-1751378400-1751392800@www.goiasfomento.com
SUMMARY:Vinícius Luz: Atendimentos e Despachos Internos.
DESCRIPTION:
URL:https://www.goiasfomento.com/agenda/vinicius-luz-atendimentos-e-despachos-interno-41/
LOCATION:Chefia de Gabinete – Agência de Fomento de Goiás
CATEGORIES:Chefia de Gabinete
END:VEVENT
END:VCALENDAR