BEGIN:VCALENDAR
VERSION:2.0
PRODID:-//GoiásFomento - Agência de Fomento - ECPv6.15.20//NONSGML v1.0//EN
CALSCALE:GREGORIAN
METHOD:PUBLISH
X-ORIGINAL-URL:https://www.goiasfomento.com
X-WR-CALDESC:Eventos para GoiásFomento - Agência de Fomento
REFRESH-INTERVAL;VALUE=DURATION:PT1H
X-Robots-Tag:noindex
X-PUBLISHED-TTL:PT1H
BEGIN:VTIMEZONE
TZID:America/Sao_Paulo
BEGIN:STANDARD
TZOFFSETFROM:-0300
TZOFFSETTO:-0300
TZNAME:-03
DTSTART:20240101T000000
END:STANDARD
END:VTIMEZONE
BEGIN:VEVENT
DTSTART;TZID=America/Sao_Paulo:20250614T080000
DTEND;TZID=America/Sao_Paulo:20250614T120000
DTSTAMP:20260425T155433
CREATED:20250616T122608Z
LAST-MODIFIED:20250616T122825Z
UID:44155-1749888000-1749902400@www.goiasfomento.com
SUMMARY:Rivael Aguiar Pereira: Abertura do Goiás Social em Bela Vista de Goiás.
DESCRIPTION:
URL:https://www.goiasfomento.com/agenda/rivael-aguiar-pereira-goias-social/
LOCATION:Bela Vista de Goiás.
CATEGORIES:Presidência
END:VEVENT
BEGIN:VEVENT
DTSTART;TZID=America/Sao_Paulo:20250616T070000
DTEND;TZID=America/Sao_Paulo:20250616T110000
DTSTAMP:20260425T155433
CREATED:20250616T133733Z
LAST-MODIFIED:20250616T133733Z
UID:44172-1750057200-1750071600@www.goiasfomento.com
SUMMARY:Rufino Veríssimo: Atendimentos e Despachos Interno.
DESCRIPTION:
URL:https://www.goiasfomento.com/agenda/rufino-verissimo-atendimentos-e-despachos-interno-59/
LOCATION:Gabinete da Diretoria de Operações da GoiásFomento – Agência de Fomento de Goiás.
CATEGORIES:Diretoria de Operações
END:VEVENT
BEGIN:VEVENT
DTSTART;TZID=America/Sao_Paulo:20250616T080000
DTEND;TZID=America/Sao_Paulo:20250616T100000
DTSTAMP:20260425T155433
CREATED:20250616T122952Z
LAST-MODIFIED:20250616T123023Z
UID:44160-1750060800-1750068000@www.goiasfomento.com
SUMMARY:Rivael Aguiar Pereira: Atendimentos e Despachos Interno.
DESCRIPTION:
URL:https://www.goiasfomento.com/agenda/rivael-aguiar-pereira-atendimentos-e-despachos-interno-38/
LOCATION:Gabinete da Presidência.
CATEGORIES:Presidência
END:VEVENT
BEGIN:VEVENT
DTSTART;TZID=America/Sao_Paulo:20250616T080000
DTEND;TZID=America/Sao_Paulo:20250616T100000
DTSTAMP:20260425T155433
CREATED:20250616T141702Z
LAST-MODIFIED:20250616T141702Z
UID:44182-1750060800-1750068000@www.goiasfomento.com
SUMMARY:Lara Garcia: Atendimentos e Despachos Interno.
DESCRIPTION:
URL:https://www.goiasfomento.com/agenda/lara-garcia-atendimentos-e-despachos-interno-32/
LOCATION:Gabinete da Diretoria Administrativa e Financeira – Agência de Fomento de Goiás.
CATEGORIES:Diretoria Administrativa e Financeira
END:VEVENT
BEGIN:VEVENT
DTSTART;TZID=America/Sao_Paulo:20250616T080000
DTEND;TZID=America/Sao_Paulo:20250616T120000
DTSTAMP:20260425T155433
CREATED:20250616T123553Z
LAST-MODIFIED:20250616T152430Z
UID:44163-1750060800-1750075200@www.goiasfomento.com
SUMMARY:Vinícius Luz: Atendimentos e Despachos Interno.
DESCRIPTION:
URL:https://www.goiasfomento.com/agenda/vinicius-luz-atendimentos-e-despachos-interno-23/
LOCATION:Chefia de Gabinete – Agência de Fomento de Goiás
CATEGORIES:Chefia de Gabinete
END:VEVENT
BEGIN:VEVENT
DTSTART;TZID=America/Sao_Paulo:20250616T100000
DTEND;TZID=America/Sao_Paulo:20250616T120000
DTSTAMP:20260425T155433
CREATED:20250616T123320Z
LAST-MODIFIED:20250616T123320Z
UID:44162-1750068000-1750075200@www.goiasfomento.com
SUMMARY:Rivael Aguiar Pereira: Reunião de videoconferência do Conselho Desenvolvimento do Estado de Goiás- FCO.
DESCRIPTION:
URL:https://www.goiasfomento.com/agenda/rivael-aguiar-pereira-reuniao-de-videoconferencia-do-conselho-desenvolvimento-do-estado-de-goias-fco/
LOCATION:Gabinete da Presidência.
CATEGORIES:Presidência
END:VEVENT
BEGIN:VEVENT
DTSTART;TZID=America/Sao_Paulo:20250616T100000
DTEND;TZID=America/Sao_Paulo:20250616T120000
DTSTAMP:20260425T155433
CREATED:20250616T140827Z
LAST-MODIFIED:20250616T141321Z
UID:44178-1750068000-1750075200@www.goiasfomento.com
SUMMARY:Lara Garcia: Reunião - Pauta: Ações da Gerência de TI.
DESCRIPTION:
URL:https://www.goiasfomento.com/agenda/lara-garcia-atendimentos-e-despachos-interno-31/
LOCATION:Sala de reuniões da Diretoria.
CATEGORIES:Diretoria Administrativa e Financeira
END:VEVENT
BEGIN:VEVENT
DTSTART;TZID=America/Sao_Paulo:20250616T110000
DTEND;TZID=America/Sao_Paulo:20250616T120000
DTSTAMP:20260425T155433
CREATED:20250616T134115Z
LAST-MODIFIED:20250616T134115Z
UID:44174-1750071600-1750075200@www.goiasfomento.com
SUMMARY:Rufino Veríssimo: Reunião da Diretoria Executiva da Agência de Fomento de Goiás.
DESCRIPTION:
URL:https://www.goiasfomento.com/agenda/rufino-verissimo-reuniao-da-diretoria-executiva-da-agencia-de-fomento-de-goias-11/
LOCATION:Gabinete da Presidência da GoiásFomento – Agência de Fomento de Goiás.
CATEGORIES:Diretoria de Operações
END:VEVENT
BEGIN:VEVENT
DTSTART;TZID=America/Sao_Paulo:20250616T120000
DTEND;TZID=America/Sao_Paulo:20250616T130000
DTSTAMP:20260425T155433
CREATED:20250616T153946Z
LAST-MODIFIED:20250616T153946Z
UID:44186-1750075200-1750078800@www.goiasfomento.com
SUMMARY:Rufino Veríssimo: Reunião com  Rafael Soffa Rézio - Gerente de Programas e Políticas Sociais.
DESCRIPTION:
URL:https://www.goiasfomento.com/agenda/rufino-verissimo-reuniao-com-rafael-soffa-rezio-gerente-de-programas-e-politicas-sociais-56/
LOCATION:Gabinete da Diretoria de Operações da GoiásFomento – Agência de Fomento de Goiás.
CATEGORIES:Diretoria de Operações
END:VEVENT
BEGIN:VEVENT
DTSTART;TZID=America/Sao_Paulo:20250616T140000
DTEND;TZID=America/Sao_Paulo:20250616T160000
DTSTAMP:20260425T155433
CREATED:20250616T123630Z
LAST-MODIFIED:20250616T195625Z
UID:44166-1750082400-1750089600@www.goiasfomento.com
SUMMARY:Rivael Aguiar Pereira: Atendimentos e Despachos Interno.
DESCRIPTION:
URL:https://www.goiasfomento.com/agenda/rivael-aguiar-pereira-atendimentos-e-despachos-interno-39/
LOCATION:Gabinete da Presidência.
CATEGORIES:Presidência
END:VEVENT
BEGIN:VEVENT
DTSTART;TZID=America/Sao_Paulo:20250616T140000
DTEND;TZID=America/Sao_Paulo:20250616T180000
DTSTAMP:20260425T155433
CREATED:20250616T141741Z
LAST-MODIFIED:20250616T141741Z
UID:44184-1750082400-1750096800@www.goiasfomento.com
SUMMARY:Lara Garcia: Atendimentos e Despachos Interno.
DESCRIPTION:
URL:https://www.goiasfomento.com/agenda/lara-garcia-atendimentos-e-despachos-interno-33/
LOCATION:Gabinete da Diretoria Administrativa e Financeira – Agência de Fomento de Goiás.
CATEGORIES:Diretoria Administrativa e Financeira
END:VEVENT
BEGIN:VEVENT
DTSTART;TZID=America/Sao_Paulo:20250616T140000
DTEND;TZID=America/Sao_Paulo:20250616T180000
DTSTAMP:20260425T155433
CREATED:20250616T195254Z
LAST-MODIFIED:20250616T195254Z
UID:44188-1750082400-1750096800@www.goiasfomento.com
SUMMARY:Vinícius Luz: Atendimentos e Despachos Interno.
DESCRIPTION:
URL:https://www.goiasfomento.com/agenda/vinicius-luz-atendimentos-e-despachos-interno-26/
LOCATION:Chefia de Gabinete – Agência de Fomento de Goiás
CATEGORIES:Chefia de Gabinete
END:VEVENT
BEGIN:VEVENT
DTSTART;TZID=America/Sao_Paulo:20250616T140000
DTEND;TZID=America/Sao_Paulo:20250616T180000
DTSTAMP:20260425T155433
CREATED:20250616T195653Z
LAST-MODIFIED:20250616T195653Z
UID:44192-1750082400-1750096800@www.goiasfomento.com
SUMMARY:Rufino Veríssimo: Reunião da Diretoria Executiva da Agência de Fomento de Goiás.
DESCRIPTION:
URL:https://www.goiasfomento.com/agenda/rufino-verissimo-reuniao-da-diretoria-executiva-da-agencia-de-fomento-de-goias-12/
LOCATION:Gabinete da Diretoria de Operações da GoiásFomento – Agência de Fomento de Goiás.
CATEGORIES:Diretoria de Operações
END:VEVENT
BEGIN:VEVENT
DTSTART;TZID=America/Sao_Paulo:20250616T160000
DTEND;TZID=America/Sao_Paulo:20250616T180000
DTSTAMP:20260425T155433
CREATED:20250616T200600Z
LAST-MODIFIED:20250616T200600Z
UID:44194-1750089600-1750096800@www.goiasfomento.com
SUMMARY:Rivael Aguiar Pereira: Reunião com o Presidente da OCB - Organização das Cooperativas Brasileiras.
DESCRIPTION:
URL:https://www.goiasfomento.com/agenda/rivael-aguiar-pereira-reuniao-com-o-presidente-da-ocb-organizacao-das-cooperativas-brasileiras/
LOCATION:Sala de reuniões da Diretoria.
CATEGORIES:Presidência
END:VEVENT
BEGIN:VEVENT
DTSTART;TZID=America/Sao_Paulo:20250617T063000
DTEND;TZID=America/Sao_Paulo:20250617T140000
DTSTAMP:20260425T155433
CREATED:20250616T195501Z
LAST-MODIFIED:20250616T195526Z
UID:44190-1750141800-1750168800@www.goiasfomento.com
SUMMARY:Vinícius Luz: Evento do Agro Social da SEAPA.
DESCRIPTION:
URL:https://www.goiasfomento.com/agenda/vinicius-luz-evento-do-agro-social-da-seapa/
LOCATION:Morrinhos – GO.
CATEGORIES:Chefia de Gabinete
END:VEVENT
BEGIN:VEVENT
DTSTART;TZID=America/Sao_Paulo:20250617T070000
DTEND;TZID=America/Sao_Paulo:20250617T120000
DTSTAMP:20260425T155433
CREATED:20250617T131214Z
LAST-MODIFIED:20250617T131214Z
UID:44228-1750143600-1750161600@www.goiasfomento.com
SUMMARY:Rufino Veríssimo: Atendimentos e Despachos Interno.
DESCRIPTION:
URL:https://www.goiasfomento.com/agenda/rufino-verissimo-atendimentos-e-despachos-interno-62/
LOCATION:Gabinete da Diretoria de Operações da GoiásFomento – Agência de Fomento de Goiás.
CATEGORIES:Diretoria de Operações
END:VEVENT
BEGIN:VEVENT
DTSTART;TZID=America/Sao_Paulo:20250617T080000
DTEND;TZID=America/Sao_Paulo:20250617T110000
DTSTAMP:20260425T155433
CREATED:20250617T122804Z
LAST-MODIFIED:20250617T123042Z
UID:44208-1750147200-1750158000@www.goiasfomento.com
SUMMARY:Lara Garcia: Atendimentos e Despachos Interno.
DESCRIPTION:
URL:https://www.goiasfomento.com/agenda/lara-garcia-atendimentos-e-despachos-interno-34/
LOCATION:Gabinete da Diretoria Administrativa e Financeira – Agência de Fomento de Goiás.
CATEGORIES:Diretoria Administrativa e Financeira
END:VEVENT
BEGIN:VEVENT
DTSTART;TZID=America/Sao_Paulo:20250617T080000
DTEND;TZID=America/Sao_Paulo:20250617T120000
DTSTAMP:20260425T155433
CREATED:20250617T121645Z
LAST-MODIFIED:20250617T121645Z
UID:44200-1750147200-1750161600@www.goiasfomento.com
SUMMARY:Rivael Aguiar Pereira: Atendimentos e Despachos Interno.
DESCRIPTION:
URL:https://www.goiasfomento.com/agenda/rivael-aguiar-pereira-atendimentos-e-despachos-interno-40/
LOCATION:Gabinete da Presidência.
CATEGORIES:Presidência
END:VEVENT
BEGIN:VEVENT
DTSTART;TZID=America/Sao_Paulo:20250617T110000
DTEND;TZID=America/Sao_Paulo:20250617T130000
DTSTAMP:20260425T155433
CREATED:20250617T123858Z
LAST-MODIFIED:20250617T124042Z
UID:44212-1750158000-1750165200@www.goiasfomento.com
SUMMARY:Lara Garcia: Reunião com os Gerentes da Diretoria Adm. e Financeira- Pauta: Discutir a Extensão de Prazo de Carência das Operações do Programa de Fruticultura.
DESCRIPTION:
URL:https://www.goiasfomento.com/agenda/lara-garcia-reuniao-com-os-gerentes-da-diretoria-adm-e-financeira-pauta-discutir-a-extensao-de-prazo-de-carencia-das-operacoes-do-programa-de-fruticultura/
LOCATION:Gabinete da Diretoria Administrativa e Financeira – Agência de Fomento de Goiás.
CATEGORIES:Diretoria Administrativa e Financeira
END:VEVENT
BEGIN:VEVENT
DTSTART;TZID=America/Sao_Paulo:20250617T140000
DTEND;TZID=America/Sao_Paulo:20250617T150000
DTSTAMP:20260425T155433
CREATED:20250617T130246Z
LAST-MODIFIED:20250617T130246Z
UID:44220-1750168800-1750172400@www.goiasfomento.com
SUMMARY:Vinícius Luz: Atendimentos e Despachos Interno.
DESCRIPTION:
URL:https://www.goiasfomento.com/agenda/vinicius-luz-atendimentos-e-despachos-interno-27/
LOCATION:Chefia de Gabinete – Agência de Fomento de Goiás
CATEGORIES:Chefia de Gabinete
END:VEVENT
BEGIN:VEVENT
DTSTART;TZID=America/Sao_Paulo:20250617T140000
DTEND;TZID=America/Sao_Paulo:20250617T150000
DTSTAMP:20260425T155433
CREATED:20250617T131236Z
LAST-MODIFIED:20250617T131236Z
UID:44230-1750168800-1750172400@www.goiasfomento.com
SUMMARY:Rufino Veríssimo: Atendimentos e Despachos Interno.
DESCRIPTION:
URL:https://www.goiasfomento.com/agenda/rufino-verissimo-atendimentos-e-despachos-interno-63/
LOCATION:Gabinete da Diretoria de Operações da GoiásFomento – Agência de Fomento de Goiás.
CATEGORIES:Diretoria de Operações
END:VEVENT
BEGIN:VEVENT
DTSTART;TZID=America/Sao_Paulo:20250617T140000
DTEND;TZID=America/Sao_Paulo:20250617T180000
DTSTAMP:20260425T155433
CREATED:20250617T121722Z
LAST-MODIFIED:20250617T121722Z
UID:44202-1750168800-1750183200@www.goiasfomento.com
SUMMARY:Rivael Aguiar Pereira: Atendimentos e Despachos Interno.
DESCRIPTION:
URL:https://www.goiasfomento.com/agenda/rivael-aguiar-pereira-atendimentos-e-despachos-interno-41/
LOCATION:Gabinete da Presidência.
CATEGORIES:Presidência
END:VEVENT
BEGIN:VEVENT
DTSTART;TZID=America/Sao_Paulo:20250617T140000
DTEND;TZID=America/Sao_Paulo:20250617T180000
DTSTAMP:20260425T155433
CREATED:20250617T122917Z
LAST-MODIFIED:20250617T122917Z
UID:44210-1750168800-1750183200@www.goiasfomento.com
SUMMARY:Lara Garcia: Atendimentos e Despachos Interno.
DESCRIPTION:
URL:https://www.goiasfomento.com/agenda/lara-garcia-atendimentos-e-despachos-interno-35/
LOCATION:Gabinete da Diretoria Administrativa e Financeira – Agência de Fomento de Goiás.
CATEGORIES:Diretoria Administrativa e Financeira
END:VEVENT
BEGIN:VEVENT
DTSTART;TZID=America/Sao_Paulo:20250617T150000
DTEND;TZID=America/Sao_Paulo:20250617T163000
DTSTAMP:20260425T155433
CREATED:20250617T130121Z
LAST-MODIFIED:20250617T131559Z
UID:44218-1750172400-1750177800@www.goiasfomento.com
SUMMARY:Vinícius Luz: Reunião - Pauta: Contrato da BK.
DESCRIPTION:
URL:https://www.goiasfomento.com/agenda/vinicius-luz-reuniao-pauta-contrato-da-bk/
LOCATION:Gabinete da Diretoria de Operações da GoiásFomento – Agência de Fomento de Goiás.
CATEGORIES:Chefia de Gabinete
END:VEVENT
BEGIN:VEVENT
DTSTART;TZID=America/Sao_Paulo:20250617T150000
DTEND;TZID=America/Sao_Paulo:20250617T163000
DTSTAMP:20260425T155433
CREATED:20250617T131450Z
LAST-MODIFIED:20250617T131450Z
UID:44232-1750172400-1750177800@www.goiasfomento.com
SUMMARY:Rufino Veríssimo: Reunião - Pauta: Contrato da BK.
DESCRIPTION:
URL:https://www.goiasfomento.com/agenda/rufino-verissimo-reuniao-pauta-contrato-da-bk-2/
LOCATION:Gabinete da Diretoria de Operações da GoiásFomento – Agência de Fomento de Goiás.
CATEGORIES:Diretoria de Operações
END:VEVENT
BEGIN:VEVENT
DTSTART;TZID=America/Sao_Paulo:20250617T163000
DTEND;TZID=America/Sao_Paulo:20250617T180000
DTSTAMP:20260425T155433
CREATED:20250617T130312Z
LAST-MODIFIED:20250617T130312Z
UID:44222-1750177800-1750183200@www.goiasfomento.com
SUMMARY:Vinícius Luz: Atendimentos e Despachos Interno.
DESCRIPTION:
URL:https://www.goiasfomento.com/agenda/vinicius-luz-atendimentos-e-despachos-interno-28/
LOCATION:Chefia de Gabinete – Agência de Fomento de Goiás
CATEGORIES:Chefia de Gabinete
END:VEVENT
BEGIN:VEVENT
DTSTART;TZID=America/Sao_Paulo:20250617T163000
DTEND;TZID=America/Sao_Paulo:20250617T183000
DTSTAMP:20260425T155433
CREATED:20250617T132543Z
LAST-MODIFIED:20250617T132543Z
UID:44236-1750177800-1750185000@www.goiasfomento.com
SUMMARY:Rufino Veríssimo: Atendimentos e Despachos Interno.
DESCRIPTION:
URL:https://www.goiasfomento.com/agenda/rufino-verissimo-atendimentos-e-despachos-interno-64/
LOCATION:Gabinete da Diretoria de Operações da GoiásFomento – Agência de Fomento de Goiás.
CATEGORIES:Diretoria de Operações
END:VEVENT
BEGIN:VEVENT
DTSTART;TZID=America/Sao_Paulo:20250618T070000
DTEND;TZID=America/Sao_Paulo:20250618T120000
DTSTAMP:20260425T155433
CREATED:20250617T130519Z
LAST-MODIFIED:20250617T130519Z
UID:44224-1750230000-1750248000@www.goiasfomento.com
SUMMARY:Rufino Veríssimo: Atendimentos e Despachos Interno.
DESCRIPTION:
URL:https://www.goiasfomento.com/agenda/rufino-verissimo-atendimentos-e-despachos-interno-60/
LOCATION:Gabinete da Diretoria de Operações da GoiásFomento – Agência de Fomento de Goiás.
CATEGORIES:Diretoria de Operações
END:VEVENT
BEGIN:VEVENT
DTSTART;TZID=America/Sao_Paulo:20250618T080000
DTEND;TZID=America/Sao_Paulo:20250618T113000
DTSTAMP:20260425T155433
CREATED:20250617T121832Z
LAST-MODIFIED:20250618T145654Z
UID:44204-1750233600-1750246200@www.goiasfomento.com
SUMMARY:Rivael Aguiar Pereira: Atendimentos e Despachos Interno.
DESCRIPTION:
URL:https://www.goiasfomento.com/agenda/rivael-aguiar-pereira-atendimentos-e-despachos-interno-42/
LOCATION:Gabinete da Presidência.
CATEGORIES:Presidência
END:VEVENT
BEGIN:VEVENT
DTSTART;TZID=America/Sao_Paulo:20250618T080000
DTEND;TZID=America/Sao_Paulo:20250618T120000
DTSTAMP:20260425T155433
CREATED:20250616T123701Z
LAST-MODIFIED:20250616T152516Z
UID:44168-1750233600-1750248000@www.goiasfomento.com
SUMMARY:Vinícius Luz: Atendimentos e Despachos Interno.
DESCRIPTION:
URL:https://www.goiasfomento.com/agenda/vinicius-luz-atendimentos-e-despachos-interno-24/
LOCATION:Chefia de Gabinete – Agência de Fomento de Goiás
CATEGORIES:Chefia de Gabinete
END:VEVENT
END:VCALENDAR