BEGIN:VCALENDAR
VERSION:2.0
PRODID:-//GoiásFomento - Agência de Fomento - ECPv6.15.20//NONSGML v1.0//EN
CALSCALE:GREGORIAN
METHOD:PUBLISH
X-ORIGINAL-URL:https://www.goiasfomento.com
X-WR-CALDESC:Eventos para GoiásFomento - Agência de Fomento
REFRESH-INTERVAL;VALUE=DURATION:PT1H
X-Robots-Tag:noindex
X-PUBLISHED-TTL:PT1H
BEGIN:VTIMEZONE
TZID:America/Sao_Paulo
BEGIN:STANDARD
TZOFFSETFROM:-0300
TZOFFSETTO:-0300
TZNAME:-03
DTSTART:20240101T000000
END:STANDARD
END:VTIMEZONE
BEGIN:VEVENT
DTSTART;TZID=America/Sao_Paulo:20250523T070000
DTEND;TZID=America/Sao_Paulo:20250523T120000
DTSTAMP:20260425T142132
CREATED:20250521T132612Z
LAST-MODIFIED:20250521T132612Z
UID:43577-1747983600-1748001600@www.goiasfomento.com
SUMMARY:Rufino Veríssimo: Atendimentos e Despachos Interno.
DESCRIPTION:
URL:https://www.goiasfomento.com/agenda/rufino-verissimo-atendimentos-e-despachos-interno-13/
LOCATION:Gabinete da Diretoria de Operações da GoiásFomento – Agência de Fomento de Goiás.
CATEGORIES:Diretoria de Operações
END:VEVENT
BEGIN:VEVENT
DTSTART;TZID=America/Sao_Paulo:20250523T080000
DTEND;TZID=America/Sao_Paulo:20250523T120000
DTSTAMP:20260425T142132
CREATED:20250521T111840Z
LAST-MODIFIED:20250521T111840Z
UID:43528-1747987200-1748001600@www.goiasfomento.com
SUMMARY:Deivison Costa: Atendimentos e Despachos Interno.
DESCRIPTION:
URL:https://www.goiasfomento.com/agenda/deivison-costa-atendimentos-e-despachos-interno-4/
LOCATION:Chefia de Gabinete – Agência de Fomento de Goiás
CATEGORIES:Chefia de Gabinete
END:VEVENT
BEGIN:VEVENT
DTSTART;TZID=America/Sao_Paulo:20250523T080000
DTEND;TZID=America/Sao_Paulo:20250523T120000
DTSTAMP:20260425T142132
CREATED:20250523T143758Z
LAST-MODIFIED:20250523T143758Z
UID:43609-1747987200-1748001600@www.goiasfomento.com
SUMMARY:Rivael Aguiar Pereira: Atendimentos e Despachos Interno.
DESCRIPTION:
URL:https://www.goiasfomento.com/agenda/rivael-aguiar-pereira-atendimentos-e-despachos-interno-11/
LOCATION:Gabinete da Presidência.
CATEGORIES:Presidência
END:VEVENT
BEGIN:VEVENT
DTSTART;TZID=America/Sao_Paulo:20250523T080000
DTEND;TZID=America/Sao_Paulo:20250523T120000
DTSTAMP:20260425T142132
CREATED:20250523T143951Z
LAST-MODIFIED:20250523T143951Z
UID:43613-1747987200-1748001600@www.goiasfomento.com
SUMMARY:Lara Garcia : Atendimentos e Despachos Interno.
DESCRIPTION:
URL:https://www.goiasfomento.com/agenda/lara-garcia-atendimentos-e-despachos-interno-5/
LOCATION:Gabinete da Diretoria Administrativa e Financeira – Agência de Fomento de Goiás.
CATEGORIES:Diretoria Administrativa e Financeira
END:VEVENT
BEGIN:VEVENT
DTSTART;TZID=America/Sao_Paulo:20250523T140000
DTEND;TZID=America/Sao_Paulo:20250523T143000
DTSTAMP:20260425T142132
CREATED:20250523T193523Z
LAST-MODIFIED:20250523T193523Z
UID:43620-1748008800-1748010600@www.goiasfomento.com
SUMMARY:Rufino Veríssimo: Atendimentos e Despachos Interno.
DESCRIPTION:
URL:https://www.goiasfomento.com/agenda/rufino-verissimo-atendimentos-e-despachos-interno-15/
LOCATION:Gabinete da Diretoria de Operações da GoiásFomento – Agência de Fomento de Goiás.
CATEGORIES:Diretoria de Operações
END:VEVENT
BEGIN:VEVENT
DTSTART;TZID=America/Sao_Paulo:20250523T140000
DTEND;TZID=America/Sao_Paulo:20250523T180000
DTSTAMP:20260425T142132
CREATED:20250521T131630Z
LAST-MODIFIED:20250521T131630Z
UID:43565-1748008800-1748023200@www.goiasfomento.com
SUMMARY:Deivison Costa: Atendimentos e Despachos Interno.
DESCRIPTION:
URL:https://www.goiasfomento.com/agenda/deivison-costa-atendimentos-e-despachos-interno-6/
LOCATION:Chefia de Gabinete – Agência de Fomento de Goiás
CATEGORIES:Chefia de Gabinete
END:VEVENT
BEGIN:VEVENT
DTSTART;TZID=America/Sao_Paulo:20250523T140000
DTEND;TZID=America/Sao_Paulo:20250523T180000
DTSTAMP:20260425T142132
CREATED:20250523T143830Z
LAST-MODIFIED:20250523T143830Z
UID:43611-1748008800-1748023200@www.goiasfomento.com
SUMMARY:Rivael Aguiar Pereira: Atendimentos e Despachos Interno.
DESCRIPTION:
URL:https://www.goiasfomento.com/agenda/rivael-aguiar-pereira-atendimentos-e-despachos-interno-12/
LOCATION:Gabinete da Presidência.
CATEGORIES:Presidência
END:VEVENT
BEGIN:VEVENT
DTSTART;TZID=America/Sao_Paulo:20250523T140000
DTEND;TZID=America/Sao_Paulo:20250523T180000
DTSTAMP:20260425T142132
CREATED:20250523T144024Z
LAST-MODIFIED:20250523T144024Z
UID:43615-1748008800-1748023200@www.goiasfomento.com
SUMMARY:Lara Garcia : Atendimentos e Despachos Interno.
DESCRIPTION:
URL:https://www.goiasfomento.com/agenda/lara-garcia-atendimentos-e-despachos-interno-6/
LOCATION:Gabinete da Diretoria Administrativa e Financeira – Agência de Fomento de Goiás.
CATEGORIES:Diretoria Administrativa e Financeira
END:VEVENT
BEGIN:VEVENT
DTSTART;TZID=America/Sao_Paulo:20250523T143000
DTEND;TZID=America/Sao_Paulo:20250523T160000
DTSTAMP:20260425T142132
CREATED:20250523T193443Z
LAST-MODIFIED:20250523T193443Z
UID:43618-1748010600-1748016000@www.goiasfomento.com
SUMMARY:Rufino Veríssimo: Reunião da GoiásFomento\, SEDS e Empresa Inttegra.
DESCRIPTION:
URL:https://www.goiasfomento.com/agenda/rufino-verissimo-reuniao-da-goiasfomento-seds-e-empresa-inttegra/
LOCATION:Secretaria de Desenvolvimento Social – SEDS.
CATEGORIES:Diretoria de Operações
END:VEVENT
BEGIN:VEVENT
DTSTART;TZID=America/Sao_Paulo:20250523T160000
DTEND;TZID=America/Sao_Paulo:20250523T180000
DTSTAMP:20260425T142132
CREATED:20250521T132542Z
LAST-MODIFIED:20250523T193316Z
UID:43575-1748016000-1748023200@www.goiasfomento.com
SUMMARY:Rufino Veríssimo: Atendimentos e Despachos Interno.
DESCRIPTION:
URL:https://www.goiasfomento.com/agenda/rufino-verissimo-atendimentos-e-despachos-interno-12/
LOCATION:Gabinete da Diretoria de Operações da GoiásFomento – Agência de Fomento de Goiás.
CATEGORIES:Diretoria de Operações
END:VEVENT
BEGIN:VEVENT
DTSTART;TZID=America/Sao_Paulo:20250526T070000
DTEND;TZID=America/Sao_Paulo:20250526T120000
DTSTAMP:20260425T142132
CREATED:20250526T113234Z
LAST-MODIFIED:20250526T113234Z
UID:43623-1748242800-1748260800@www.goiasfomento.com
SUMMARY:Rufino Veríssimo: Atendimentos e Despachos Interno.
DESCRIPTION:
URL:https://www.goiasfomento.com/agenda/rufino-verissimo-atendimentos-e-despachos-interno-16/
LOCATION:Gabinete da Diretoria de Operações da GoiásFomento – Agência de Fomento de Goiás.
CATEGORIES:Diretoria de Operações
END:VEVENT
BEGIN:VEVENT
DTSTART;TZID=America/Sao_Paulo:20250526T080000
DTEND;TZID=America/Sao_Paulo:20250526T120000
DTSTAMP:20260425T142132
CREATED:20250521T131807Z
LAST-MODIFIED:20250521T131842Z
UID:43567-1748246400-1748260800@www.goiasfomento.com
SUMMARY:Deivison Costa: Atendimentos e Despachos Interno.
DESCRIPTION:
URL:https://www.goiasfomento.com/agenda/deivison-costa-atendimentos-e-despachos-interno-7/
LOCATION:Chefia de Gabinete – Agência de Fomento de Goiás
CATEGORIES:Chefia de Gabinete
END:VEVENT
BEGIN:VEVENT
DTSTART;TZID=America/Sao_Paulo:20250526T080000
DTEND;TZID=America/Sao_Paulo:20250526T120000
DTSTAMP:20260425T142132
CREATED:20250526T113456Z
LAST-MODIFIED:20250526T113456Z
UID:43627-1748246400-1748260800@www.goiasfomento.com
SUMMARY:Rivael Aguiar Pereira: Atendimentos e Despachos Interno.
DESCRIPTION:
URL:https://www.goiasfomento.com/agenda/rivael-aguiar-pereira-atendimentos-e-despachos-interno-13/
LOCATION:Gabinete da Presidência.
CATEGORIES:Presidência
END:VEVENT
BEGIN:VEVENT
DTSTART;TZID=America/Sao_Paulo:20250526T080000
DTEND;TZID=America/Sao_Paulo:20250526T120000
DTSTAMP:20260425T142132
CREATED:20250526T113849Z
LAST-MODIFIED:20250526T113849Z
UID:43634-1748246400-1748260800@www.goiasfomento.com
SUMMARY:Lara Garcia : Atendimentos e Despachos Interno.
DESCRIPTION:
URL:https://www.goiasfomento.com/agenda/lara-garcia-atendimentos-e-despachos-interno-7/
LOCATION:Gabinete da Diretoria Administrativa e Financeira – Agência de Fomento de Goiás.
CATEGORIES:Diretoria Administrativa e Financeira
END:VEVENT
BEGIN:VEVENT
DTSTART;TZID=America/Sao_Paulo:20250526T140000
DTEND;TZID=America/Sao_Paulo:20250526T180000
DTSTAMP:20260425T142132
CREATED:20250521T132049Z
LAST-MODIFIED:20250521T132235Z
UID:43569-1748268000-1748282400@www.goiasfomento.com
SUMMARY:Deivison Costa: Atendimentos e Despachos Interno.
DESCRIPTION:
URL:https://www.goiasfomento.com/agenda/deivison-costa-atendimentos-e-despachos-interno-8/
LOCATION:Chefia de Gabinete – Agência de Fomento de Goiás
CATEGORIES:Chefia de Gabinete
END:VEVENT
BEGIN:VEVENT
DTSTART;TZID=America/Sao_Paulo:20250526T140000
DTEND;TZID=America/Sao_Paulo:20250526T180000
DTSTAMP:20260425T142132
CREATED:20250526T113719Z
LAST-MODIFIED:20250526T113818Z
UID:43629-1748268000-1748282400@www.goiasfomento.com
SUMMARY:Rivael Aguiar Pereira: Atendimentos e Despachos Interno.
DESCRIPTION:
URL:https://www.goiasfomento.com/agenda/rivael-aguiar-pereira-atendimentos-e-despachos-interno-14/
LOCATION:Gabinete da Presidência.
CATEGORIES:Presidência
END:VEVENT
BEGIN:VEVENT
DTSTART;TZID=America/Sao_Paulo:20250526T140000
DTEND;TZID=America/Sao_Paulo:20250526T180000
DTSTAMP:20260425T142132
CREATED:20250526T113927Z
LAST-MODIFIED:20250526T113927Z
UID:43636-1748268000-1748282400@www.goiasfomento.com
SUMMARY:Lara Garcia : Atendimentos e Despachos Interno.
DESCRIPTION:
URL:https://www.goiasfomento.com/agenda/lara-garcia-atendimentos-e-despachos-interno-8/
LOCATION:Gabinete da Diretoria Administrativa e Financeira – Agência de Fomento de Goiás.
CATEGORIES:Diretoria Administrativa e Financeira
END:VEVENT
BEGIN:VEVENT
DTSTART;TZID=America/Sao_Paulo:20250526T140000
DTEND;TZID=America/Sao_Paulo:20250526T183000
DTSTAMP:20260425T142132
CREATED:20250526T191704Z
LAST-MODIFIED:20250526T191704Z
UID:43648-1748268000-1748284200@www.goiasfomento.com
SUMMARY:Rufino Veríssimo: Atendimentos e Despachos Interno.
DESCRIPTION:
URL:https://www.goiasfomento.com/agenda/rufino-verissimo-atendimentos-e-despachos-interno-17/
LOCATION:Gabinete da Diretoria de Operações da GoiásFomento – Agência de Fomento de Goiás.
CATEGORIES:Diretoria de Operações
END:VEVENT
BEGIN:VEVENT
DTSTART;VALUE=DATE:20250527
DTEND;VALUE=DATE:20250528
DTSTAMP:20260425T142132
CREATED:20250526T113550Z
LAST-MODIFIED:20250526T113550Z
UID:43626-1748304000-1748390399@www.goiasfomento.com
SUMMARY:Deivison Costa: Abertura da Semana do Crédito em Itapaci-GO.
DESCRIPTION:
URL:https://www.goiasfomento.com/agenda/deivison-costa-abertura-da-semana-do-credito-em-itapaci-go/
LOCATION:Itapaci – Goiás
CATEGORIES:Chefia de Gabinete
END:VEVENT
BEGIN:VEVENT
DTSTART;VALUE=DATE:20250527
DTEND;VALUE=DATE:20250528
DTSTAMP:20260425T142132
CREATED:20250526T122347Z
LAST-MODIFIED:20250526T122347Z
UID:43638-1748304000-1748390399@www.goiasfomento.com
SUMMARY:Lara Garcia : GOIÁS SOCIAL em Jussara-Goiás.
DESCRIPTION:
URL:https://www.goiasfomento.com/agenda/lara-garcia-goias-social-em-jussara-goias/
LOCATION:Parque de Exposição Agropecuária- Jussara Go.
END:VEVENT
BEGIN:VEVENT
DTSTART;VALUE=DATE:20250527
DTEND;VALUE=DATE:20250528
DTSTAMP:20260425T142132
CREATED:20250528T183951Z
LAST-MODIFIED:20250528T184104Z
UID:43682-1748304000-1748390399@www.goiasfomento.com
SUMMARY:Lara Garcia: GOIÁS SOCIAL em Jussara – Goiás.
DESCRIPTION:
URL:https://www.goiasfomento.com/agenda/lara-garcia-goias-social-em-jussara-goias-2/
LOCATION:Jussara Go.
CATEGORIES:Diretoria Administrativa e Financeira
END:VEVENT
BEGIN:VEVENT
DTSTART;TZID=America/Sao_Paulo:20250527T070000
DTEND;TZID=America/Sao_Paulo:20250527T120000
DTSTAMP:20260425T142132
CREATED:20250526T191813Z
LAST-MODIFIED:20250526T191813Z
UID:43652-1748329200-1748347200@www.goiasfomento.com
SUMMARY:Rufino Veríssimo: Atendimentos e Despachos Interno.
DESCRIPTION:
URL:https://www.goiasfomento.com/agenda/rufino-verissimo-atendimentos-e-despachos-interno-19/
LOCATION:Gabinete da Diretoria de Operações da GoiásFomento – Agência de Fomento de Goiás.
CATEGORIES:Diretoria de Operações
END:VEVENT
BEGIN:VEVENT
DTSTART;TZID=America/Sao_Paulo:20250527T080000
DTEND;TZID=America/Sao_Paulo:20250527T120000
DTSTAMP:20260425T142132
CREATED:20250526T140033Z
LAST-MODIFIED:20250526T140033Z
UID:43644-1748332800-1748347200@www.goiasfomento.com
SUMMARY:Rivael Aguiar Pereira: Atendimentos e Despachos Interno.
DESCRIPTION:
URL:https://www.goiasfomento.com/agenda/rivael-aguiar-pereira-atendimentos-e-despachos-interno-15/
LOCATION:Gabinete da Presidência.
CATEGORIES:Presidência
END:VEVENT
BEGIN:VEVENT
DTSTART;TZID=America/Sao_Paulo:20250527T140000
DTEND;TZID=America/Sao_Paulo:20250527T180000
DTSTAMP:20260425T142132
CREATED:20250526T140104Z
LAST-MODIFIED:20250526T140104Z
UID:43646-1748354400-1748368800@www.goiasfomento.com
SUMMARY:Rivael Aguiar Pereira: Atendimentos e Despachos Interno.
DESCRIPTION:
URL:https://www.goiasfomento.com/agenda/rivael-aguiar-pereira-atendimentos-e-despachos-interno-16/
LOCATION:Gabinete da Presidência.
CATEGORIES:Presidência
END:VEVENT
BEGIN:VEVENT
DTSTART;TZID=America/Sao_Paulo:20250527T140000
DTEND;TZID=America/Sao_Paulo:20250527T183000
DTSTAMP:20260425T142132
CREATED:20250526T191744Z
LAST-MODIFIED:20250526T191744Z
UID:43650-1748354400-1748370600@www.goiasfomento.com
SUMMARY:Rufino Veríssimo: Atendimentos e Despachos Interno.
DESCRIPTION:
URL:https://www.goiasfomento.com/agenda/rufino-verissimo-atendimentos-e-despachos-interno-18/
LOCATION:Gabinete da Diretoria de Operações da GoiásFomento – Agência de Fomento de Goiás.
CATEGORIES:Diretoria de Operações
END:VEVENT
BEGIN:VEVENT
DTSTART;VALUE=DATE:20250528
DTEND;VALUE=DATE:20250529
DTSTAMP:20260425T142132
CREATED:20250526T135858Z
LAST-MODIFIED:20250526T135858Z
UID:43641-1748390400-1748476799@www.goiasfomento.com
SUMMARY:Rivael Aguiar Pereira: Cerimônia de Posse da Nova Gestão da Associação Brasileira de Desenvolvimento (ABDE)\, 2025-2027.
DESCRIPTION:
URL:https://www.goiasfomento.com/agenda/rivael-aguiar-pereira-cerimonia-de-posse-da-nova-gestao-da-associacao-brasileira-de-desenvolvimento-abde-2025-2027/
LOCATION:SCN\, Quadra 2\, Lote D. Torre A\, Salas 431 a 434 – Brasília\, DF
CATEGORIES:Presidência
END:VEVENT
BEGIN:VEVENT
DTSTART;TZID=America/Sao_Paulo:20250528T070000
DTEND;TZID=America/Sao_Paulo:20250528T120000
DTSTAMP:20260425T142132
CREATED:20250528T115929Z
LAST-MODIFIED:20250528T115929Z
UID:43670-1748415600-1748433600@www.goiasfomento.com
SUMMARY:Rufino Veríssimo: Atendimentos e Despachos Interno.
DESCRIPTION:
URL:https://www.goiasfomento.com/agenda/rufino-verissimo-atendimentos-e-despachos-interno-20/
LOCATION:Gabinete da Diretoria de Operações da GoiásFomento – Agência de Fomento de Goiás.
CATEGORIES:Diretoria de Operações
END:VEVENT
BEGIN:VEVENT
DTSTART;TZID=America/Sao_Paulo:20250528T080000
DTEND;TZID=America/Sao_Paulo:20250528T120000
DTSTAMP:20260425T142132
CREATED:20250526T191913Z
LAST-MODIFIED:20250526T191913Z
UID:43654-1748419200-1748433600@www.goiasfomento.com
SUMMARY:Deivison Costa: Atendimentos e Despachos Interno.
DESCRIPTION:
URL:https://www.goiasfomento.com/agenda/deivison-costa-atendimentos-e-despachos-interno-9/
LOCATION:Chefia de Gabinete – Agência de Fomento de Goiás
CATEGORIES:Chefia de Gabinete
END:VEVENT
BEGIN:VEVENT
DTSTART;TZID=America/Sao_Paulo:20250528T080000
DTEND;TZID=America/Sao_Paulo:20250528T120000
DTSTAMP:20260425T142132
CREATED:20250528T184131Z
LAST-MODIFIED:20250528T184131Z
UID:43685-1748419200-1748433600@www.goiasfomento.com
SUMMARY:Lara Garcia : Atendimentos e Despachos Interno.
DESCRIPTION:
URL:https://www.goiasfomento.com/agenda/lara-garcia-atendimentos-e-despachos-interno-9/
LOCATION:Gabinete da Diretoria Administrativa e Financeira – Agência de Fomento de Goiás.
CATEGORIES:Diretoria Administrativa e Financeira
END:VEVENT
BEGIN:VEVENT
DTSTART;TZID=America/Sao_Paulo:20250528T140000
DTEND;TZID=America/Sao_Paulo:20250528T180000
DTSTAMP:20260425T142132
CREATED:20250526T191942Z
LAST-MODIFIED:20250526T191942Z
UID:43656-1748440800-1748455200@www.goiasfomento.com
SUMMARY:Deivison Costa: Atendimentos e Despachos Interno.
DESCRIPTION:
URL:https://www.goiasfomento.com/agenda/deivison-costa-atendimentos-e-despachos-interno-10/
LOCATION:Chefia de Gabinete – Agência de Fomento de Goiás
CATEGORIES:Chefia de Gabinete
END:VEVENT
END:VCALENDAR