BEGIN:VCALENDAR
VERSION:2.0
PRODID:-//GoiásFomento - Agência de Fomento - ECPv6.15.20//NONSGML v1.0//EN
CALSCALE:GREGORIAN
METHOD:PUBLISH
X-ORIGINAL-URL:https://www.goiasfomento.com
X-WR-CALDESC:Eventos para GoiásFomento - Agência de Fomento
REFRESH-INTERVAL;VALUE=DURATION:PT1H
X-Robots-Tag:noindex
X-PUBLISHED-TTL:PT1H
BEGIN:VTIMEZONE
TZID:America/Sao_Paulo
BEGIN:STANDARD
TZOFFSETFROM:-0300
TZOFFSETTO:-0300
TZNAME:-03
DTSTART:20240101T000000
END:STANDARD
END:VTIMEZONE
BEGIN:VEVENT
DTSTART;TZID=America/Sao_Paulo:20250512T080000
DTEND;TZID=America/Sao_Paulo:20250518T170000
DTSTAMP:20260425T153232
CREATED:20250512T135040Z
LAST-MODIFIED:20250519T185622Z
UID:43204-1747036800-1747587600@www.goiasfomento.com
SUMMARY:Cargo Vago desde 19/03/2025.
DESCRIPTION:
URL:https://www.goiasfomento.com/agenda/cargo-vago-desde-19-03-2025-6/
CATEGORIES:Diretoria Administrativa e Financeira
END:VEVENT
BEGIN:VEVENT
DTSTART;TZID=America/Sao_Paulo:20250519T070000
DTEND;TZID=America/Sao_Paulo:20250519T091000
DTSTAMP:20260425T153232
CREATED:20250519T190139Z
LAST-MODIFIED:20250520T135828Z
UID:43470-1747638000-1747645800@www.goiasfomento.com
SUMMARY:Rufino Veríssimo: Atendimentos e Despachos Interno.
DESCRIPTION:
URL:https://www.goiasfomento.com/agenda/rufino-verissimo-reuniao-da-diretoria-executiva-da-agencia-de-fomento-de-goias-9/
LOCATION:Gabinete da Diretoria de Operações da GoiásFomento – Agência de Fomento de Goiás.
CATEGORIES:Diretoria de Operações
END:VEVENT
BEGIN:VEVENT
DTSTART;TZID=America/Sao_Paulo:20250519T080000
DTEND;TZID=America/Sao_Paulo:20250519T091000
DTSTAMP:20260425T153232
CREATED:20250519T132319Z
LAST-MODIFIED:20250522T143347Z
UID:43442-1747641600-1747645800@www.goiasfomento.com
SUMMARY:Rivael Aguiar Pereira: Atendimentos e Despachos Interno.
DESCRIPTION:
URL:https://www.goiasfomento.com/agenda/rivael-aguiar-pereira-atendimentos-e-despachos-interno/
LOCATION:Gabinete da Presidência.
CATEGORIES:Presidência
END:VEVENT
BEGIN:VEVENT
DTSTART;TZID=America/Sao_Paulo:20250519T080000
DTEND;TZID=America/Sao_Paulo:20250519T120000
DTSTAMP:20260425T153232
CREATED:20250519T133630Z
LAST-MODIFIED:20250519T133630Z
UID:43450-1747641600-1747656000@www.goiasfomento.com
SUMMARY:Deivison Costa: Despachos Internos.
DESCRIPTION:
URL:https://www.goiasfomento.com/agenda/deivison-costa-despachos-internos-84/
LOCATION:Chefia de Gabinete – Agência de Fomento de Goiás
CATEGORIES:Chefia de Gabinete
END:VEVENT
BEGIN:VEVENT
DTSTART;TZID=America/Sao_Paulo:20250519T090000
DTEND;TZID=America/Sao_Paulo:20250519T091000
DTSTAMP:20260425T153232
CREATED:20250519T145956Z
LAST-MODIFIED:20250519T145956Z
UID:43458-1747645200-1747645800@www.goiasfomento.com
SUMMARY:Lara Garcia Borges Ferreira: Início das Atividades como Diretora Administrativa e Financeira da GoiásFomento.
DESCRIPTION:
URL:https://www.goiasfomento.com/agenda/lara-garcia-borges-ferreira-inicio-das-atividades-como-diretora-administrativa-e-financeira-da-goiasfomento/
LOCATION:Gabinete da Diretoria de Operações da GoiásFomento – Agência de Fomento de Goiás.
CATEGORIES:Diretoria Administrativa e Financeira
END:VEVENT
BEGIN:VEVENT
DTSTART;TZID=America/Sao_Paulo:20250519T091000
DTEND;TZID=America/Sao_Paulo:20250519T120000
DTSTAMP:20260425T153232
CREATED:20250519T172251Z
LAST-MODIFIED:20250519T172251Z
UID:43461-1747645800-1747656000@www.goiasfomento.com
SUMMARY:Lara Garcia Borges Ferreira: Reunião da Diretoria Executiva da Agência de Fomento de Goiás.
DESCRIPTION:
URL:https://www.goiasfomento.com/agenda/lara-garcia-borges-ferreira-reuniao-da-diretoria-executiva-da-agencia-de-fomento-de-goias/
LOCATION:Gabinete da Presidência da GoiásFomento – Agência de Fomento de Goiás.
CATEGORIES:Diretoria Administrativa e Financeira
END:VEVENT
BEGIN:VEVENT
DTSTART;TZID=America/Sao_Paulo:20250519T091000
DTEND;TZID=America/Sao_Paulo:20250519T120000
DTSTAMP:20260425T153232
CREATED:20250519T172347Z
LAST-MODIFIED:20250519T172347Z
UID:43464-1747645800-1747656000@www.goiasfomento.com
SUMMARY:Rufino Veríssimo: Reunião da Diretoria Executiva da Agência de Fomento de Goiás.
DESCRIPTION:
URL:https://www.goiasfomento.com/agenda/rufino-verissimo-reuniao-da-diretoria-executiva-da-agencia-de-fomento-de-goias-8/
LOCATION:Gabinete da Presidência da GoiásFomento – Agência de Fomento de Goiás.
CATEGORIES:Diretoria de Operações
END:VEVENT
BEGIN:VEVENT
DTSTART;TZID=America/Sao_Paulo:20250519T091000
DTEND;TZID=America/Sao_Paulo:20250519T120000
DTSTAMP:20260425T153232
CREATED:20250519T190914Z
LAST-MODIFIED:20250519T190914Z
UID:43472-1747645800-1747656000@www.goiasfomento.com
SUMMARY:Rivael Aguiar Pereira: Reunião da Diretoria Executiva da Agência de Fomento de Goiás.
DESCRIPTION:
URL:https://www.goiasfomento.com/agenda/rivael-aguiar-pereira-reuniao-da-diretoria-executiva-da-agencia-de-fomento-de-goias/
LOCATION:Gabinete da Presidência.
CATEGORIES:Presidência
END:VEVENT
BEGIN:VEVENT
DTSTART;TZID=America/Sao_Paulo:20250519T140000
DTEND;TZID=America/Sao_Paulo:20250519T180000
DTSTAMP:20260425T153232
CREATED:20250516T145815Z
LAST-MODIFIED:20250516T145815Z
UID:43433-1747663200-1747677600@www.goiasfomento.com
SUMMARY:Rufino Veríssimo: Atendimentos e Despachos Interno.
DESCRIPTION:
URL:https://www.goiasfomento.com/agenda/rufino-verissimo-atendimentos-e-despachos-interno-6/
LOCATION:Gabinete da Diretoria de Operações da GoiásFomento – Agência de Fomento de Goiás.
CATEGORIES:Diretoria de Operações
END:VEVENT
BEGIN:VEVENT
DTSTART;TZID=America/Sao_Paulo:20250519T140000
DTEND;TZID=America/Sao_Paulo:20250519T180000
DTSTAMP:20260425T153232
CREATED:20250519T132411Z
LAST-MODIFIED:20250519T132411Z
UID:43444-1747663200-1747677600@www.goiasfomento.com
SUMMARY:Rivael Aguiar Pereira: Atendimentos e Despachos Interno.
DESCRIPTION:
URL:https://www.goiasfomento.com/agenda/rivael-aguiar-pereira-atendimentos-e-despachos-interno-2/
LOCATION:Gabinete da Presidência.
CATEGORIES:Presidência
END:VEVENT
BEGIN:VEVENT
DTSTART;TZID=America/Sao_Paulo:20250519T140000
DTEND;TZID=America/Sao_Paulo:20250519T180000
DTSTAMP:20260425T153232
CREATED:20250519T133716Z
LAST-MODIFIED:20250519T133716Z
UID:43452-1747663200-1747677600@www.goiasfomento.com
SUMMARY:Deivison Costa: Despachos Internos.
DESCRIPTION:
URL:https://www.goiasfomento.com/agenda/deivison-costa-despachos-internos-85/
LOCATION:Chefia de Gabinete – Agência de Fomento de Goiás
CATEGORIES:Chefia de Gabinete
END:VEVENT
BEGIN:VEVENT
DTSTART;TZID=America/Sao_Paulo:20250519T140000
DTEND;TZID=America/Sao_Paulo:20250519T180000
DTSTAMP:20260425T153232
CREATED:20250519T190001Z
LAST-MODIFIED:20250519T190001Z
UID:43467-1747663200-1747677600@www.goiasfomento.com
SUMMARY:Lara Garcia Borges Ferreira: Atendimentos e Despachos Interno.
DESCRIPTION:
URL:https://www.goiasfomento.com/agenda/lara-garcia-borges-ferreira-atendimentos-e-despachos-interno/
LOCATION:Gabinete da Presidência da GoiásFomento – Agência de Fomento de Goiás.
CATEGORIES:Diretoria Administrativa e Financeira
END:VEVENT
BEGIN:VEVENT
DTSTART;TZID=America/Sao_Paulo:20250520T070000
DTEND;TZID=America/Sao_Paulo:20250520T090000
DTSTAMP:20260425T153232
CREATED:20250516T150741Z
LAST-MODIFIED:20250520T135755Z
UID:43436-1747724400-1747731600@www.goiasfomento.com
SUMMARY:Rufino Veríssimo: Atendimentos e Despachos Interno.
DESCRIPTION:
URL:https://www.goiasfomento.com/agenda/rufino-verissimo-atendimentos-e-despachos-interno-7/
LOCATION:Gabinete da Diretoria de Operações da GoiásFomento – Agência de Fomento de Goiás.
CATEGORIES:Diretoria de Operações
END:VEVENT
BEGIN:VEVENT
DTSTART;TZID=America/Sao_Paulo:20250520T080000
DTEND;TZID=America/Sao_Paulo:20250520T090000
DTSTAMP:20260425T153232
CREATED:20250520T140536Z
LAST-MODIFIED:20250520T140536Z
UID:43500-1747728000-1747731600@www.goiasfomento.com
SUMMARY:Lara Garcia Borges Ferreira: Atendimentos e Despachos Interno.
DESCRIPTION:
URL:https://www.goiasfomento.com/agenda/lara-garcia-borges-ferreira-atendimentos-e-despachos-interno-2/
LOCATION:Gabinete da Diretoria de Operações da GoiásFomento – Agência de Fomento de Goiás.
CATEGORIES:Diretoria Administrativa e Financeira
END:VEVENT
BEGIN:VEVENT
DTSTART;TZID=America/Sao_Paulo:20250520T080000
DTEND;TZID=America/Sao_Paulo:20250520T120000
DTSTAMP:20260425T153232
CREATED:20250519T133753Z
LAST-MODIFIED:20250519T133753Z
UID:43454-1747728000-1747742400@www.goiasfomento.com
SUMMARY:Deivison Costa: Despachos Internos.
DESCRIPTION:
URL:https://www.goiasfomento.com/agenda/deivison-costa-despachos-internos-86/
LOCATION:Chefia de Gabinete – Agência de Fomento de Goiás
CATEGORIES:Chefia de Gabinete
END:VEVENT
BEGIN:VEVENT
DTSTART;TZID=America/Sao_Paulo:20250520T080000
DTEND;TZID=America/Sao_Paulo:20250520T120000
DTSTAMP:20260425T153232
CREATED:20250520T173935Z
LAST-MODIFIED:20250520T173935Z
UID:43506-1747728000-1747742400@www.goiasfomento.com
SUMMARY:Rivael Aguiar Pereira: Atendimentos e Despachos Interno.
DESCRIPTION:
URL:https://www.goiasfomento.com/agenda/rivael-aguiar-pereira-atendimentos-e-despachos-interno-5/
LOCATION:Gabinete da Presidência.
CATEGORIES:Presidência
END:VEVENT
BEGIN:VEVENT
DTSTART;TZID=America/Sao_Paulo:20250520T090000
DTEND;TZID=America/Sao_Paulo:20250520T120000
DTSTAMP:20260425T153232
CREATED:20250520T140312Z
LAST-MODIFIED:20250520T140312Z
UID:43496-1747731600-1747742400@www.goiasfomento.com
SUMMARY:Rufino Veríssimo: Reunião da Diretoria com os Assessores e Gerentes da Agência de Fomento de Goiás.
DESCRIPTION:
URL:https://www.goiasfomento.com/agenda/rufino-verissimo-reuniao-da-diretoria-com-os-assessores-e-gerentes-da-agencia-de-fomento-de-goias/
LOCATION:Gabinete da Diretoria de Operações da GoiásFomento – Agência de Fomento de Goiás.
CATEGORIES:Diretoria de Operações
END:VEVENT
BEGIN:VEVENT
DTSTART;TZID=America/Sao_Paulo:20250520T090000
DTEND;TZID=America/Sao_Paulo:20250520T120000
DTSTAMP:20260425T153232
CREATED:20250520T140451Z
LAST-MODIFIED:20250520T140451Z
UID:43498-1747731600-1747742400@www.goiasfomento.com
SUMMARY:Lara Garcia Borges Ferreira: Reunião da Diretoria com os Assessores e Gerentes da Agência de Fomento de Goiás.
DESCRIPTION:
URL:https://www.goiasfomento.com/agenda/lara-garcia-borges-ferreira-reuniao-da-diretoria-com-os-assessores-e-gerentes-da-agencia-de-fomento-de-goias/
LOCATION:Gabinete da Diretoria de Operações da GoiásFomento – Agência de Fomento de Goiás.
CATEGORIES:Diretoria Administrativa e Financeira
END:VEVENT
BEGIN:VEVENT
DTSTART;TZID=America/Sao_Paulo:20250520T133000
DTEND;TZID=America/Sao_Paulo:20250520T143000
DTSTAMP:20260425T153232
CREATED:20250516T150809Z
LAST-MODIFIED:20250520T173409Z
UID:43438-1747747800-1747751400@www.goiasfomento.com
SUMMARY:Rufino Veríssimo: Atendimentos e Despachos Interno.
DESCRIPTION:
URL:https://www.goiasfomento.com/agenda/rufino-verissimo-atendimentos-e-despachos-interno-8/
LOCATION:Gabinete da Diretoria de Operações da GoiásFomento – Agência de Fomento de Goiás.
CATEGORIES:Diretoria de Operações
END:VEVENT
BEGIN:VEVENT
DTSTART;TZID=America/Sao_Paulo:20250520T140000
DTEND;TZID=America/Sao_Paulo:20250520T160000
DTSTAMP:20260425T153232
CREATED:20250520T172731Z
LAST-MODIFIED:20250520T172731Z
UID:43502-1747749600-1747756800@www.goiasfomento.com
SUMMARY:Lara Garcia Borges Ferreira: Atendimentos e Despachos Interno.
DESCRIPTION:
URL:https://www.goiasfomento.com/agenda/lara-garcia-borges-ferreira-atendimentos-e-despachos-interno-3/
LOCATION:Gabinete da Diretoria Administrativa e Financeira – Agência de Fomento de Goiás.
CATEGORIES:Diretoria Administrativa e Financeira
END:VEVENT
BEGIN:VEVENT
DTSTART;TZID=America/Sao_Paulo:20250520T140000
DTEND;TZID=America/Sao_Paulo:20250520T160000
DTSTAMP:20260425T153232
CREATED:20250520T174026Z
LAST-MODIFIED:20250522T143553Z
UID:43509-1747749600-1747756800@www.goiasfomento.com
SUMMARY:Rivael Aguiar Pereira: Atendimentos e Despachos Interno.
DESCRIPTION:
URL:https://www.goiasfomento.com/agenda/rivael-aguiar-pereira-atendimentos-e-despachos-interno-6/
LOCATION:Gabinete da Presidência.
CATEGORIES:Presidência
END:VEVENT
BEGIN:VEVENT
DTSTART;TZID=America/Sao_Paulo:20250520T140000
DTEND;TZID=America/Sao_Paulo:20250520T180000
DTSTAMP:20260425T153232
CREATED:20250519T133821Z
LAST-MODIFIED:20250519T133821Z
UID:43456-1747749600-1747764000@www.goiasfomento.com
SUMMARY:Deivison Costa: Despachos Internos.
DESCRIPTION:
URL:https://www.goiasfomento.com/agenda/deivison-costa-despachos-internos-87/
LOCATION:Chefia de Gabinete – Agência de Fomento de Goiás
CATEGORIES:Chefia de Gabinete
END:VEVENT
BEGIN:VEVENT
DTSTART;TZID=America/Sao_Paulo:20250520T143000
DTEND;TZID=America/Sao_Paulo:20250520T160000
DTSTAMP:20260425T153232
CREATED:20250520T174014Z
LAST-MODIFIED:20250520T174014Z
UID:43507-1747751400-1747756800@www.goiasfomento.com
SUMMARY:Rufino Veríssimo: Reunião com os Gerentes da Diretoria de Operações.
DESCRIPTION:
URL:https://www.goiasfomento.com/agenda/rufino-verissimo-reuniao-com-os-gerentes-da-diretoria-de-operacoes-17/
LOCATION:Gabinete da Diretoria de Operações da GoiásFomento – Agência de Fomento de Goiás.
CATEGORIES:Diretoria de Operações
END:VEVENT
BEGIN:VEVENT
DTSTART;TZID=America/Sao_Paulo:20250520T160000
DTEND;TZID=America/Sao_Paulo:20250520T180000
DTSTAMP:20260425T153232
CREATED:20250520T173458Z
LAST-MODIFIED:20250520T174256Z
UID:43504-1747756800-1747764000@www.goiasfomento.com
SUMMARY:Lara Garcia Borges Ferreira: Reunião da Diretoria Executiva com os Gerentes: Pauta - FIAGRO.
DESCRIPTION:
URL:https://www.goiasfomento.com/agenda/lara-garcia-borges-ferreira-reuniao-da-diretoria-executiva-com-os-gerentes-pauta-fiagro/
LOCATION:Sala de reuniões da Diretoria.
CATEGORIES:Diretoria Administrativa e Financeira
END:VEVENT
BEGIN:VEVENT
DTSTART;TZID=America/Sao_Paulo:20250520T160000
DTEND;TZID=America/Sao_Paulo:20250520T180000
DTSTAMP:20260425T153232
CREATED:20250520T174122Z
LAST-MODIFIED:20250520T174138Z
UID:43513-1747756800-1747764000@www.goiasfomento.com
SUMMARY:Rufino Veríssimo: Reunião da Diretoria Executiva com os Gerentes: Pauta - FIAGRO.
DESCRIPTION:
URL:https://www.goiasfomento.com/agenda/rufino-verissimo-reuniao-da-diretoria-executiva-com-os-gerentes-pauta-fiagro/
LOCATION:Sala de Reuniões da Diretoria – Agência de Fomento de Goiás.
CATEGORIES:Diretoria de Operações
END:VEVENT
BEGIN:VEVENT
DTSTART;TZID=America/Sao_Paulo:20250520T160000
DTEND;TZID=America/Sao_Paulo:20250520T180000
DTSTAMP:20260425T153232
CREATED:20250520T174156Z
LAST-MODIFIED:20250520T174156Z
UID:43512-1747756800-1747764000@www.goiasfomento.com
SUMMARY:Rivael Aguiar Pereira: Reunião da Diretoria Executiva com os Gerentes: Pauta - FIAGRO.
DESCRIPTION:
URL:https://www.goiasfomento.com/agenda/rivael-aguiar-pereira-reuniao-da-diretoria-executiva-com-os-gerentes-pauta-fiagro/
LOCATION:Sala de reuniões da Diretoria.
CATEGORIES:Presidência
END:VEVENT
BEGIN:VEVENT
DTSTART;TZID=America/Sao_Paulo:20250521T070000
DTEND;TZID=America/Sao_Paulo:20250521T120000
DTSTAMP:20260425T153232
CREATED:20250520T174255Z
LAST-MODIFIED:20250521T111514Z
UID:43516-1747810800-1747828800@www.goiasfomento.com
SUMMARY:Rufino Veríssimo: Atendimentos e Despachos Interno.
DESCRIPTION:
URL:https://www.goiasfomento.com/agenda/rufino-verissimo-atendimentos-e-despachos-interno-5/
LOCATION:Gabinete da Diretoria de Operações da GoiásFomento – Agência de Fomento de Goiás.
CATEGORIES:Diretoria de Operações
END:VEVENT
BEGIN:VEVENT
DTSTART;TZID=America/Sao_Paulo:20250521T080000
DTEND;TZID=America/Sao_Paulo:20250521T120000
DTSTAMP:20260425T153232
CREATED:20250519T133041Z
LAST-MODIFIED:20250522T143446Z
UID:43446-1747814400-1747828800@www.goiasfomento.com
SUMMARY:Rivael Aguiar Pereira: Atendimentos e Despachos Interno.
DESCRIPTION:
URL:https://www.goiasfomento.com/agenda/rivael-aguiar-pereira-atendimentos-e-despachos-interno-3/
LOCATION:Gabinete da Presidência.
CATEGORIES:Presidência
END:VEVENT
BEGIN:VEVENT
DTSTART;TZID=America/Sao_Paulo:20250521T080000
DTEND;TZID=America/Sao_Paulo:20250521T120000
DTSTAMP:20260425T153232
CREATED:20250521T111629Z
LAST-MODIFIED:20250521T111629Z
UID:43521-1747814400-1747828800@www.goiasfomento.com
SUMMARY:Deivison Costa: Atendimentos e Despachos Interno.
DESCRIPTION:
URL:https://www.goiasfomento.com/agenda/deivison-costa-atendimentos-e-despachos-interno/
LOCATION:Chefia de Gabinete – Agência de Fomento de Goiás
CATEGORIES:Chefia de Gabinete
END:VEVENT
BEGIN:VEVENT
DTSTART;TZID=America/Sao_Paulo:20250521T080000
DTEND;TZID=America/Sao_Paulo:20250521T120000
DTSTAMP:20260425T153232
CREATED:20250521T133644Z
LAST-MODIFIED:20250521T133644Z
UID:43559-1747814400-1747828800@www.goiasfomento.com
SUMMARY:Lara Garcia : Atendimentos e Despachos Interno.
DESCRIPTION:
URL:https://www.goiasfomento.com/agenda/lara-garcia-atendimentos-e-despachos-interno/
LOCATION:Gabinete da Diretoria Administrativa e Financeira – Agência de Fomento de Goiás.
CATEGORIES:Diretoria Administrativa e Financeira
END:VEVENT
END:VCALENDAR