BEGIN:VCALENDAR
VERSION:2.0
PRODID:-//GoiásFomento - Agência de Fomento - ECPv6.15.20//NONSGML v1.0//EN
CALSCALE:GREGORIAN
METHOD:PUBLISH
X-ORIGINAL-URL:https://www.goiasfomento.com
X-WR-CALDESC:Eventos para GoiásFomento - Agência de Fomento
REFRESH-INTERVAL;VALUE=DURATION:PT1H
X-Robots-Tag:noindex
X-PUBLISHED-TTL:PT1H
BEGIN:VTIMEZONE
TZID:America/Sao_Paulo
BEGIN:STANDARD
TZOFFSETFROM:-0300
TZOFFSETTO:-0300
TZNAME:-03
DTSTART:20240101T000000
END:STANDARD
END:VTIMEZONE
BEGIN:VEVENT
DTSTART;TZID=America/Sao_Paulo:20250422T080000
DTEND;TZID=America/Sao_Paulo:20250430T170000
DTSTAMP:20260425T124105
CREATED:20250423T183302Z
LAST-MODIFIED:20250429T141239Z
UID:42400-1745308800-1746032400@www.goiasfomento.com
SUMMARY:Cargo Vago desde 19/03/2025.
DESCRIPTION:
URL:https://www.goiasfomento.com/agenda/cargo-vago-desde-19-03-2025-4/
CATEGORIES:Diretoria Administrativa e Financeira
END:VEVENT
BEGIN:VEVENT
DTSTART;TZID=America/Sao_Paulo:20250430T070000
DTEND;TZID=America/Sao_Paulo:20250430T083000
DTSTAMP:20260425T124105
CREATED:20250430T110602Z
LAST-MODIFIED:20250430T113814Z
UID:42723-1745996400-1746001800@www.goiasfomento.com
SUMMARY:Rufino Veríssimo – Diretor Presidente (Em substituição): Despachos Internos.
DESCRIPTION:
URL:https://www.goiasfomento.com/agenda/rufino-verissimo-diretor-presidente-em-substituicao-despachos-internos-60/
LOCATION:Gabinete da Diretoria de Operações da GoiásFomento – Agência de Fomento de Goiás.
CATEGORIES:Presidência
END:VEVENT
BEGIN:VEVENT
DTSTART;TZID=America/Sao_Paulo:20250430T070000
DTEND;TZID=America/Sao_Paulo:20250430T083000
DTSTAMP:20260425T124105
CREATED:20250430T110630Z
LAST-MODIFIED:20250430T113830Z
UID:42725-1745996400-1746001800@www.goiasfomento.com
SUMMARY:Rufino Veríssimo: Despachos Internos.
DESCRIPTION:
URL:https://www.goiasfomento.com/agenda/rufino-verissimo-despachos-internos-273/
CATEGORIES:Diretoria de Operações
END:VEVENT
BEGIN:VEVENT
DTSTART;TZID=America/Sao_Paulo:20250430T080000
DTEND;TZID=America/Sao_Paulo:20250430T120000
DTSTAMP:20260425T124105
CREATED:20250430T112150Z
LAST-MODIFIED:20250430T112150Z
UID:42727-1746000000-1746014400@www.goiasfomento.com
SUMMARY:Deivison Costa: Despachos Internos.
DESCRIPTION:
URL:https://www.goiasfomento.com/agenda/deivison-costa-despachos-internos-68/
LOCATION:Chefia de Gabinete – Agência de Fomento de Goiás
CATEGORIES:Chefia de Gabinete
END:VEVENT
BEGIN:VEVENT
DTSTART;TZID=America/Sao_Paulo:20250430T083000
DTEND;TZID=America/Sao_Paulo:20250430T090000
DTSTAMP:20260425T124105
CREATED:20250430T114220Z
LAST-MODIFIED:20250430T114220Z
UID:42732-1746001800-1746003600@www.goiasfomento.com
SUMMARY:Rufino Veríssimo – Diretor Presidente (Em substituição): Reunião com Gibran Carvalho Abrão - Gerente de Serviços Gerais e Patrimônio.
DESCRIPTION:
URL:https://www.goiasfomento.com/agenda/rufino-verissimo-diretor-presidente-em-substituicao-reuniao-com-gibran-carvalho-abrao-gerente-de-servicos-gerais-e-patrimonio-4/
LOCATION:Gabinete da Diretoria de Operações da GoiásFomento – Agência de Fomento de Goiás.
CATEGORIES:Presidência
END:VEVENT
BEGIN:VEVENT
DTSTART;TZID=America/Sao_Paulo:20250430T083000
DTEND;TZID=America/Sao_Paulo:20250430T090000
DTSTAMP:20260425T124105
CREATED:20250430T114254Z
LAST-MODIFIED:20250430T114254Z
UID:42734-1746001800-1746003600@www.goiasfomento.com
SUMMARY:Rufino Veríssimo: Reunião com Gibran Carvalho Abrão - Gerente de Serviços Gerais e Patrimônio.
DESCRIPTION:
URL:https://www.goiasfomento.com/agenda/rufino-verissimo-reuniao-com-gibran-carvalho-abrao-gerente-de-servicos-gerais-e-patrimonio-4/
LOCATION:Gabinete da Diretoria de Operações da GoiásFomento – Agência de Fomento de Goiás.
CATEGORIES:Diretoria de Operações
END:VEVENT
BEGIN:VEVENT
DTSTART;TZID=America/Sao_Paulo:20250430T090000
DTEND;TZID=America/Sao_Paulo:20250430T103000
DTSTAMP:20260425T124105
CREATED:20250430T114737Z
LAST-MODIFIED:20250430T133056Z
UID:42736-1746003600-1746009000@www.goiasfomento.com
SUMMARY:Rufino Veríssimo: Reunião com os Gerentes da Diretoria de Operações.
DESCRIPTION:
URL:https://www.goiasfomento.com/agenda/rufino-verissimo-reuniao-com-os-gerentes-da-diretoria-de-operacoes-13/
LOCATION:Gabinete da Diretoria de Operações da GoiásFomento – Agência de Fomento de Goiás.
CATEGORIES:Diretoria de Operações
END:VEVENT
BEGIN:VEVENT
DTSTART;TZID=America/Sao_Paulo:20250430T090000
DTEND;TZID=America/Sao_Paulo:20250430T103000
DTSTAMP:20260425T124105
CREATED:20250430T114818Z
LAST-MODIFIED:20250430T133032Z
UID:42738-1746003600-1746009000@www.goiasfomento.com
SUMMARY:Rufino Veríssimo – Diretor Presidente (Em substituição): Reunião com os Gerentes da Diretoria de Operações.
DESCRIPTION:
URL:https://www.goiasfomento.com/agenda/rufino-verissimo-diretor-presidente-em-substituicao-reuniao-com-os-gerentes-da-diretoria-de-operacoes-3/
LOCATION:Gabinete da Diretoria de Operações da GoiásFomento – Agência de Fomento de Goiás.
CATEGORIES:Presidência
END:VEVENT
BEGIN:VEVENT
DTSTART;TZID=America/Sao_Paulo:20250430T103000
DTEND;TZID=America/Sao_Paulo:20250430T110000
DTSTAMP:20260425T124105
CREATED:20250430T142307Z
LAST-MODIFIED:20250430T142307Z
UID:42740-1746009000-1746010800@www.goiasfomento.com
SUMMARY:Rufino Veríssimo – Diretor Presidente (Em substituição): Reunião com Rafael Soffa Rézio – Gerente de Programas e Políticas Sociais.
DESCRIPTION:
URL:https://www.goiasfomento.com/agenda/rufino-verissimo-diretor-presidente-em-substituicao-reuniao-com-rafael-soffa-rezio-gerente-de-programas-e-politicas-sociais-33/
LOCATION:Gabinete da Diretoria de Operações da GoiásFomento – Agência de Fomento de Goiás.
CATEGORIES:Presidência
END:VEVENT
BEGIN:VEVENT
DTSTART;TZID=America/Sao_Paulo:20250430T103000
DTEND;TZID=America/Sao_Paulo:20250430T110000
DTSTAMP:20260425T124105
CREATED:20250430T142342Z
LAST-MODIFIED:20250430T142350Z
UID:42742-1746009000-1746010800@www.goiasfomento.com
SUMMARY:Rufino Veríssimo: Reunião com Rafael Soffa Rézio – Gerente de Programas e Políticas Sociais.
DESCRIPTION:
URL:https://www.goiasfomento.com/agenda/rufino-verissimo-reuniao-com-rafael-soffa-rezio-gerente-de-programas-e-politicas-sociais-45/
LOCATION:Gabinete da Diretoria de Operações da GoiásFomento – Agência de Fomento de Goiás.
CATEGORIES:Diretoria de Operações
END:VEVENT
BEGIN:VEVENT
DTSTART;TZID=America/Sao_Paulo:20250430T110000
DTEND;TZID=America/Sao_Paulo:20250430T113000
DTSTAMP:20260425T124105
CREATED:20250430T142434Z
LAST-MODIFIED:20250430T142434Z
UID:42745-1746010800-1746012600@www.goiasfomento.com
SUMMARY:Rufino Veríssimo – Diretor Presidente (Em substituição): Reunião com Bruno Alvarenga Campos Martins - Gerente de Atendimento.
DESCRIPTION:
URL:https://www.goiasfomento.com/agenda/rufino-verissimo-diretor-presidente-em-substituicao-reuniao-com-bruno-alvarenga-campos-martins-gerente-de-atendimento-6/
LOCATION:Gabinete da Diretoria de Operações da GoiásFomento – Agência de Fomento de Goiás.
CATEGORIES:Presidência
END:VEVENT
BEGIN:VEVENT
DTSTART;TZID=America/Sao_Paulo:20250430T110000
DTEND;TZID=America/Sao_Paulo:20250430T113000
DTSTAMP:20260425T124105
CREATED:20250430T142501Z
LAST-MODIFIED:20250430T142501Z
UID:42747-1746010800-1746012600@www.goiasfomento.com
SUMMARY:Rufino Veríssimo: Reunião com Bruno Alvarenga Campos Martins - Gerente de Atendimento.
DESCRIPTION:
URL:https://www.goiasfomento.com/agenda/rufino-verissimo-reuniao-com-bruno-alvarenga-campos-martins-gerente-de-atendimento-13/
LOCATION:Gabinete da Diretoria de Operações da GoiásFomento – Agência de Fomento de Goiás.
CATEGORIES:Diretoria de Operações
END:VEVENT
BEGIN:VEVENT
DTSTART;TZID=America/Sao_Paulo:20250430T113000
DTEND;TZID=America/Sao_Paulo:20250430T120000
DTSTAMP:20260425T124105
CREATED:20250430T190315Z
LAST-MODIFIED:20250430T190315Z
UID:42749-1746012600-1746014400@www.goiasfomento.com
SUMMARY:Rufino Veríssimo – Diretor Presidente (Em substituição): Despachos Internos.
DESCRIPTION:
URL:https://www.goiasfomento.com/agenda/rufino-verissimo-diretor-presidente-em-substituicao-despachos-internos-61/
LOCATION:Gabinete da Diretoria de Operações da GoiásFomento – Agência de Fomento de Goiás.
CATEGORIES:Presidência
END:VEVENT
BEGIN:VEVENT
DTSTART;TZID=America/Sao_Paulo:20250430T113000
DTEND;TZID=America/Sao_Paulo:20250430T120000
DTSTAMP:20260425T124105
CREATED:20250430T190342Z
LAST-MODIFIED:20250430T190342Z
UID:42751-1746012600-1746014400@www.goiasfomento.com
SUMMARY:Rufino Veríssimo: Despachos Internos.
DESCRIPTION:
URL:https://www.goiasfomento.com/agenda/rufino-verissimo-despachos-internos-274/
LOCATION:Gabinete da Diretoria de Operações da GoiásFomento – Agência de Fomento de Goiás.
CATEGORIES:Diretoria de Operações
END:VEVENT
BEGIN:VEVENT
DTSTART;TZID=America/Sao_Paulo:20250430T140000
DTEND;TZID=America/Sao_Paulo:20250430T143000
DTSTAMP:20260425T124105
CREATED:20250430T190539Z
LAST-MODIFIED:20250430T190539Z
UID:42757-1746021600-1746023400@www.goiasfomento.com
SUMMARY:Rufino Veríssimo – Diretor Presidente (Em substituição): Reunião com Rafael Soffa Rézio – Gerente de Programas e Políticas Sociais.
DESCRIPTION:
URL:https://www.goiasfomento.com/agenda/rufino-verissimo-diretor-presidente-em-substituicao-reuniao-com-rafael-soffa-rezio-gerente-de-programas-e-politicas-sociais-34/
LOCATION:Gabinete da Diretoria de Operações da GoiásFomento – Agência de Fomento de Goiás.
CATEGORIES:Presidência
END:VEVENT
BEGIN:VEVENT
DTSTART;TZID=America/Sao_Paulo:20250430T140000
DTEND;TZID=America/Sao_Paulo:20250430T143000
DTSTAMP:20260425T124105
CREATED:20250430T190606Z
LAST-MODIFIED:20250430T190618Z
UID:42759-1746021600-1746023400@www.goiasfomento.com
SUMMARY:Rufino Veríssimo: Reunião com Rafael Soffa Rézio – Gerente de Programas e Políticas Sociais.
DESCRIPTION:
URL:https://www.goiasfomento.com/agenda/rufino-verissimo-reuniao-com-rafael-soffa-rezio-gerente-de-programas-e-politicas-sociais-46/
LOCATION:Gabinete da Diretoria de Operações da GoiásFomento – Agência de Fomento de Goiás.
CATEGORIES:Diretoria de Operações
END:VEVENT
BEGIN:VEVENT
DTSTART;TZID=America/Sao_Paulo:20250430T140000
DTEND;TZID=America/Sao_Paulo:20250430T180000
DTSTAMP:20260425T124105
CREATED:20250430T112218Z
LAST-MODIFIED:20250430T112218Z
UID:42729-1746021600-1746036000@www.goiasfomento.com
SUMMARY:Deivison Costa: Despachos Internos.
DESCRIPTION:
URL:https://www.goiasfomento.com/agenda/deivison-costa-despachos-internos-69/
LOCATION:Chefia de Gabinete – Agência de Fomento de Goiás
CATEGORIES:Chefia de Gabinete
END:VEVENT
BEGIN:VEVENT
DTSTART;TZID=America/Sao_Paulo:20250430T143000
DTEND;TZID=America/Sao_Paulo:20250430T150000
DTSTAMP:20260425T124105
CREATED:20250430T190645Z
LAST-MODIFIED:20250430T190645Z
UID:42761-1746023400-1746025200@www.goiasfomento.com
SUMMARY:Rufino Veríssimo – Diretor Presidente (Em substituição): Despachos Internos.
DESCRIPTION:
URL:https://www.goiasfomento.com/agenda/rufino-verissimo-diretor-presidente-em-substituicao-despachos-internos-62/
LOCATION:Gabinete da Diretoria de Operações da GoiásFomento – Agência de Fomento de Goiás.
CATEGORIES:Presidência
END:VEVENT
BEGIN:VEVENT
DTSTART;TZID=America/Sao_Paulo:20250430T143000
DTEND;TZID=America/Sao_Paulo:20250430T150000
DTSTAMP:20260425T124105
CREATED:20250430T190713Z
LAST-MODIFIED:20250430T190713Z
UID:42763-1746023400-1746025200@www.goiasfomento.com
SUMMARY:Rufino Veríssimo: Despachos Internos.
DESCRIPTION:
URL:https://www.goiasfomento.com/agenda/rufino-verissimo-despachos-internos-275/
LOCATION:Gabinete da Diretoria de Operações da GoiásFomento – Agência de Fomento de Goiás.
CATEGORIES:Diretoria de Operações
END:VEVENT
BEGIN:VEVENT
DTSTART;TZID=America/Sao_Paulo:20250430T150000
DTEND;TZID=America/Sao_Paulo:20250430T153000
DTSTAMP:20260425T124105
CREATED:20250430T190435Z
LAST-MODIFIED:20250430T190435Z
UID:42753-1746025200-1746027000@www.goiasfomento.com
SUMMARY:Rufino Veríssimo – Diretor Presidente (Em substituição): Reunião com Bruno Alvarenga Campos Martins - Gerente de Atendimento.
DESCRIPTION:
URL:https://www.goiasfomento.com/agenda/rufino-verissimo-diretor-presidente-em-substituicao-reuniao-com-bruno-alvarenga-campos-martins-gerente-de-atendimento-7/
LOCATION:Gabinete da Diretoria de Operações da GoiásFomento – Agência de Fomento de Goiás.
CATEGORIES:Presidência
END:VEVENT
BEGIN:VEVENT
DTSTART;TZID=America/Sao_Paulo:20250430T150000
DTEND;TZID=America/Sao_Paulo:20250430T153000
DTSTAMP:20260425T124105
CREATED:20250430T190507Z
LAST-MODIFIED:20250430T190507Z
UID:42755-1746025200-1746027000@www.goiasfomento.com
SUMMARY:Rufino Veríssimo: Reunião com Bruno Alvarenga Campos Martins - Gerente de Atendimento.
DESCRIPTION:
URL:https://www.goiasfomento.com/agenda/rufino-verissimo-reuniao-com-bruno-alvarenga-campos-martins-gerente-de-atendimento-14/
LOCATION:Gabinete da Diretoria de Operações da GoiásFomento – Agência de Fomento de Goiás.
CATEGORIES:Diretoria de Operações
END:VEVENT
BEGIN:VEVENT
DTSTART;TZID=America/Sao_Paulo:20250430T153000
DTEND;TZID=America/Sao_Paulo:20250430T160000
DTSTAMP:20260425T124105
CREATED:20250430T194456Z
LAST-MODIFIED:20250430T194456Z
UID:42765-1746027000-1746028800@www.goiasfomento.com
SUMMARY:Rufino Veríssimo – Diretor Presidente (Em substituição): Despachos Internos.
DESCRIPTION:
URL:https://www.goiasfomento.com/agenda/rufino-verissimo-diretor-presidente-em-substituicao-despachos-internos-63/
LOCATION:Gabinete da Diretoria de Operações da GoiásFomento – Agência de Fomento de Goiás.
CATEGORIES:Presidência
END:VEVENT
BEGIN:VEVENT
DTSTART;TZID=America/Sao_Paulo:20250430T153000
DTEND;TZID=America/Sao_Paulo:20250430T160000
DTSTAMP:20260425T124105
CREATED:20250430T194524Z
LAST-MODIFIED:20250430T194524Z
UID:42767-1746027000-1746028800@www.goiasfomento.com
SUMMARY:Rufino Veríssimo: Despachos Internos.
DESCRIPTION:
URL:https://www.goiasfomento.com/agenda/rufino-verissimo-despachos-internos-276/
LOCATION:Gabinete da Diretoria de Operações da GoiásFomento – Agência de Fomento de Goiás.
CATEGORIES:Diretoria de Operações
END:VEVENT
BEGIN:VEVENT
DTSTART;TZID=America/Sao_Paulo:20250430T160000
DTEND;TZID=America/Sao_Paulo:20250430T170000
DTSTAMP:20260425T124105
CREATED:20250430T194919Z
LAST-MODIFIED:20250430T194919Z
UID:42769-1746028800-1746032400@www.goiasfomento.com
SUMMARY:Rufino Veríssimo – Diretor Presidente (Em substituição): Reunião com Luiz Arthur Medeiros Miguel - Gerente de Licitação e Contratos.
DESCRIPTION:
URL:https://www.goiasfomento.com/agenda/rufino-verissimo-diretor-presidente-em-substituicao-reuniao-com-luiz-arthur-medeiros-miguel-gerente-de-licitacao-e-contratos-15/
LOCATION:Gabinete da Diretoria de Operações da GoiásFomento – Agência de Fomento de Goiás.
CATEGORIES:Presidência
END:VEVENT
BEGIN:VEVENT
DTSTART;TZID=America/Sao_Paulo:20250430T160000
DTEND;TZID=America/Sao_Paulo:20250430T170000
DTSTAMP:20260425T124105
CREATED:20250430T194946Z
LAST-MODIFIED:20250430T194946Z
UID:42771-1746028800-1746032400@www.goiasfomento.com
SUMMARY:Rufino Veríssimo: Reunião com Luiz Arthur Medeiros Miguel - Gerente de Licitação e Contratos.
DESCRIPTION:
URL:https://www.goiasfomento.com/agenda/rufino-verissimo-reuniao-com-luiz-arthur-medeiros-miguel-gerente-de-licitacao-e-contratos-20/
LOCATION:Gabinete da Diretoria de Operações da GoiásFomento – Agência de Fomento de Goiás.
CATEGORIES:Diretoria de Operações
END:VEVENT
BEGIN:VEVENT
DTSTART;TZID=America/Sao_Paulo:20250430T170000
DTEND;TZID=America/Sao_Paulo:20250430T173000
DTSTAMP:20260425T124105
CREATED:20250430T195326Z
LAST-MODIFIED:20250430T195326Z
UID:42773-1746032400-1746034200@www.goiasfomento.com
SUMMARY:Rufino Veríssimo – Diretor Presidente (Em substituição): Reunião com Samuel - Gerência de Programas e Políticas Sociais.
DESCRIPTION:
URL:https://www.goiasfomento.com/agenda/rufino-verissimo-diretor-presidente-em-substituicao-reuniao-com-samuel-gerencia-de-programas-e-politicas-sociais/
LOCATION:Gabinete da Diretoria de Operações da GoiásFomento – Agência de Fomento de Goiás.
CATEGORIES:Presidência
END:VEVENT
BEGIN:VEVENT
DTSTART;TZID=America/Sao_Paulo:20250430T170000
DTEND;TZID=America/Sao_Paulo:20250430T173000
DTSTAMP:20260425T124105
CREATED:20250430T195401Z
LAST-MODIFIED:20250430T195401Z
UID:42775-1746032400-1746034200@www.goiasfomento.com
SUMMARY:Rufino Veríssimo: Reunião com Samuel - Gerência de Programas e Políticas Sociais.
DESCRIPTION:
URL:https://www.goiasfomento.com/agenda/rufino-verissimo-reuniao-com-samuel-gerencia-de-programas-e-politicas-sociais/
LOCATION:Gabinete da Diretoria de Operações da GoiásFomento – Agência de Fomento de Goiás.
CATEGORIES:Diretoria de Operações
END:VEVENT
BEGIN:VEVENT
DTSTART;TZID=America/Sao_Paulo:20250430T173000
DTEND;TZID=America/Sao_Paulo:20250430T183000
DTSTAMP:20260425T124105
CREATED:20250430T195427Z
LAST-MODIFIED:20250430T195427Z
UID:42777-1746034200-1746037800@www.goiasfomento.com
SUMMARY:Rufino Veríssimo – Diretor Presidente (Em substituição): Despachos Internos.
DESCRIPTION:
URL:https://www.goiasfomento.com/agenda/rufino-verissimo-diretor-presidente-em-substituicao-despachos-internos-64/
LOCATION:Gabinete da Diretoria de Operações da GoiásFomento – Agência de Fomento de Goiás.
CATEGORIES:Presidência
END:VEVENT
BEGIN:VEVENT
DTSTART;TZID=America/Sao_Paulo:20250430T173000
DTEND;TZID=America/Sao_Paulo:20250430T183000
DTSTAMP:20260425T124105
CREATED:20250430T195516Z
LAST-MODIFIED:20250430T195516Z
UID:42779-1746034200-1746037800@www.goiasfomento.com
SUMMARY:Rufino Veríssimo: Despachos Internos.
DESCRIPTION:
URL:https://www.goiasfomento.com/agenda/rufino-verissimo-despachos-internos-277/
LOCATION:Gabinete da Diretoria de Operações da GoiásFomento – Agência de Fomento de Goiás.
CATEGORIES:Diretoria de Operações
END:VEVENT
BEGIN:VEVENT
DTSTART;VALUE=DATE:20250501
DTEND;VALUE=DATE:20250502
DTSTAMP:20260425T124105
CREATED:20250422T124448Z
LAST-MODIFIED:20250422T124448Z
UID:42287-1746057600-1746143999@www.goiasfomento.com
SUMMARY:Deivison Costa: Feriado Nacional – Dia do Trabalho.
DESCRIPTION:
URL:https://www.goiasfomento.com/agenda/deivison-costa-feriado-nacional-dia-do-trabalho/
LOCATION:Chefia de Gabinete – Agência de Fomento de Goiás
CATEGORIES:Chefia de Gabinete
END:VEVENT
END:VCALENDAR