BEGIN:VCALENDAR
VERSION:2.0
PRODID:-//GoiásFomento - Agência de Fomento - ECPv6.15.20//NONSGML v1.0//EN
CALSCALE:GREGORIAN
METHOD:PUBLISH
X-ORIGINAL-URL:https://www.goiasfomento.com
X-WR-CALDESC:Eventos para GoiásFomento - Agência de Fomento
REFRESH-INTERVAL;VALUE=DURATION:PT1H
X-Robots-Tag:noindex
X-PUBLISHED-TTL:PT1H
BEGIN:VTIMEZONE
TZID:America/Sao_Paulo
BEGIN:STANDARD
TZOFFSETFROM:-0300
TZOFFSETTO:-0300
TZNAME:-03
DTSTART:20240101T000000
END:STANDARD
END:VTIMEZONE
BEGIN:VEVENT
DTSTART;TZID=America/Sao_Paulo:20250422T080000
DTEND;TZID=America/Sao_Paulo:20250430T170000
DTSTAMP:20260425T124105
CREATED:20250423T183302Z
LAST-MODIFIED:20250429T141239Z
UID:42400-1745308800-1746032400@www.goiasfomento.com
SUMMARY:Cargo Vago desde 19/03/2025.
DESCRIPTION:
URL:https://www.goiasfomento.com/agenda/cargo-vago-desde-19-03-2025-4/
CATEGORIES:Diretoria Administrativa e Financeira
END:VEVENT
BEGIN:VEVENT
DTSTART;TZID=America/Sao_Paulo:20250429T070000
DTEND;TZID=America/Sao_Paulo:20250429T083000
DTSTAMP:20260425T124105
CREATED:20250429T113635Z
LAST-MODIFIED:20250429T134009Z
UID:42660-1745910000-1745915400@www.goiasfomento.com
SUMMARY:Rufino Veríssimo – Diretor Presidente (Em substituição): Despachos Internos.
DESCRIPTION:
URL:https://www.goiasfomento.com/agenda/rufino-verissimo-diretor-presidente-em-substituicao-despachos-internos-58/
LOCATION:Gabinete da Diretoria de Operações da GoiásFomento – Agência de Fomento de Goiás.
CATEGORIES:Presidência
END:VEVENT
BEGIN:VEVENT
DTSTART;TZID=America/Sao_Paulo:20250429T070000
DTEND;TZID=America/Sao_Paulo:20250429T083000
DTSTAMP:20260425T124105
CREATED:20250429T113705Z
LAST-MODIFIED:20250429T134034Z
UID:42662-1745910000-1745915400@www.goiasfomento.com
SUMMARY:Rufino Veríssimo: Despachos Internos.
DESCRIPTION:
URL:https://www.goiasfomento.com/agenda/rufino-verissimo-despachos-internos-270/
LOCATION:Gabinete da Diretoria de Operações da GoiásFomento – Agência de Fomento de Goiás.
CATEGORIES:Diretoria de Operações
END:VEVENT
BEGIN:VEVENT
DTSTART;TZID=America/Sao_Paulo:20250429T080000
DTEND;TZID=America/Sao_Paulo:20250429T100000
DTSTAMP:20260425T124105
CREATED:20250429T171417Z
LAST-MODIFIED:20250429T171417Z
UID:42700-1745913600-1745920800@www.goiasfomento.com
SUMMARY:Deivison Costa: Despachos Internos.
DESCRIPTION:
URL:https://www.goiasfomento.com/agenda/deivison-costa-despachos-internos-67/
LOCATION:Chefia de Gabinete – Agência de Fomento de Goiás
CATEGORIES:Chefia de Gabinete
END:VEVENT
BEGIN:VEVENT
DTSTART;TZID=America/Sao_Paulo:20250429T083000
DTEND;TZID=America/Sao_Paulo:20250429T090000
DTSTAMP:20260425T124105
CREATED:20250429T134213Z
LAST-MODIFIED:20250429T134213Z
UID:42669-1745915400-1745917200@www.goiasfomento.com
SUMMARY:Rufino Veríssimo – Diretor Presidente (Em substituição): Reunião com Alexsander de Oliveira Linhares - Gerente de Parcerias e Operações Estruturadas.
DESCRIPTION:
URL:https://www.goiasfomento.com/agenda/rufino-verissimo-diretor-presidente-em-substituicao-reuniao-com-alexsander-de-oliveira-linhares-gerente-de-parcerias-e-operacoes-estruturadas-3/
LOCATION:Gabinete da Diretoria de Operações da GoiásFomento – Agência de Fomento de Goiás.
CATEGORIES:Presidência
END:VEVENT
BEGIN:VEVENT
DTSTART;TZID=America/Sao_Paulo:20250429T083000
DTEND;TZID=America/Sao_Paulo:20250429T090000
DTSTAMP:20260425T124105
CREATED:20250429T134307Z
LAST-MODIFIED:20250429T134307Z
UID:42671-1745915400-1745917200@www.goiasfomento.com
SUMMARY:Rufino Veríssimo: Reunião com Alexsander de Oliveira Linhares - Gerente de Parcerias e Operações Estruturadas.
DESCRIPTION:
URL:https://www.goiasfomento.com/agenda/rufino-verissimo-reuniao-com-alexsander-de-oliveira-linhares-gerente-de-parcerias-e-operacoes-estruturadas-8/
LOCATION:Gabinete da Diretoria de Operações da GoiásFomento – Agência de Fomento de Goiás.
CATEGORIES:Diretoria de Operações
END:VEVENT
BEGIN:VEVENT
DTSTART;TZID=America/Sao_Paulo:20250429T090000
DTEND;TZID=America/Sao_Paulo:20250429T093000
DTSTAMP:20260425T124105
CREATED:20250429T133803Z
LAST-MODIFIED:20250429T133803Z
UID:42664-1745917200-1745919000@www.goiasfomento.com
SUMMARY:Rufino Veríssimo – Diretor Presidente (Em substituição): Reunião com Paulo Cesar Paiva - Assessor de Estratégia e Planejamento.
DESCRIPTION:
URL:https://www.goiasfomento.com/agenda/rufino-verissimo-diretor-presidente-em-substituicao-reuniao-com-paulo-cesar-paiva-assessor-de-estrategia-e-planejamento-22/
LOCATION:Gabinete da Diretoria de Operações da GoiásFomento – Agência de Fomento de Goiás.
CATEGORIES:Presidência
END:VEVENT
BEGIN:VEVENT
DTSTART;TZID=America/Sao_Paulo:20250429T090000
DTEND;TZID=America/Sao_Paulo:20250429T093000
DTSTAMP:20260425T124105
CREATED:20250429T133830Z
LAST-MODIFIED:20250429T133830Z
UID:42666-1745917200-1745919000@www.goiasfomento.com
SUMMARY:Rufino Veríssimo: Reunião com Paulo Cesar Paiva - Assessor de Estratégia e Planejamento.
DESCRIPTION:
URL:https://www.goiasfomento.com/agenda/rufino-verissimo-reuniao-com-paulo-cesar-paiva-assessor-de-estrategia-e-planejamento-29/
LOCATION:Gabinete da Diretoria de Operações da GoiásFomento – Agência de Fomento de Goiás.
CATEGORIES:Diretoria de Operações
END:VEVENT
BEGIN:VEVENT
DTSTART;TZID=America/Sao_Paulo:20250429T093000
DTEND;TZID=America/Sao_Paulo:20250429T100000
DTSTAMP:20260425T124105
CREATED:20250429T134431Z
LAST-MODIFIED:20250429T134431Z
UID:42673-1745919000-1745920800@www.goiasfomento.com
SUMMARY:Rufino Veríssimo – Diretor Presidente (Em substituição): Reunião com Guido Juliano Martins de Araújo - Gerente de Agronegócio.
DESCRIPTION:
URL:https://www.goiasfomento.com/agenda/rufino-verissimo-diretor-presidente-em-substituicao-reuniao-com-guido-juliano-martins-de-araujo-gerente-de-agronegocio-3/
LOCATION:Gabinete da Diretoria de Operações da GoiásFomento – Agência de Fomento de Goiás.
CATEGORIES:Presidência
END:VEVENT
BEGIN:VEVENT
DTSTART;TZID=America/Sao_Paulo:20250429T093000
DTEND;TZID=America/Sao_Paulo:20250429T100000
DTSTAMP:20260425T124105
CREATED:20250429T134503Z
LAST-MODIFIED:20250429T134503Z
UID:42675-1745919000-1745920800@www.goiasfomento.com
SUMMARY:Rufino Veríssimo: Reunião com Guido Juliano Martins de Araújo - Gerente de Agronegócio.
DESCRIPTION:
URL:https://www.goiasfomento.com/agenda/rufino-verissimo-reuniao-com-guido-juliano-martins-de-araujo-gerente-de-agronegocio-8/
LOCATION:Gabinete da Diretoria de Operações da GoiásFomento – Agência de Fomento de Goiás.
CATEGORIES:Diretoria de Operações
END:VEVENT
BEGIN:VEVENT
DTSTART;TZID=America/Sao_Paulo:20250429T100000
DTEND;TZID=America/Sao_Paulo:20250429T103000
DTSTAMP:20260425T124105
CREATED:20250429T134636Z
LAST-MODIFIED:20250429T134636Z
UID:42677-1745920800-1745922600@www.goiasfomento.com
SUMMARY:Rufino Veríssimo – Diretor Presidente (Em substituição): Reunião com Bruno Alvarenga Campos Martins - Gerente de Atendimento.
DESCRIPTION:
URL:https://www.goiasfomento.com/agenda/rufino-verissimo-diretor-presidente-em-substituicao-reuniao-com-bruno-alvarenga-campos-martins-gerente-de-atendimento-5/
LOCATION:Gabinete da Diretoria de Operações da GoiásFomento – Agência de Fomento de Goiás.
CATEGORIES:Presidência
END:VEVENT
BEGIN:VEVENT
DTSTART;TZID=America/Sao_Paulo:20250429T100000
DTEND;TZID=America/Sao_Paulo:20250429T103000
DTSTAMP:20260425T124105
CREATED:20250429T134708Z
LAST-MODIFIED:20250429T134708Z
UID:42679-1745920800-1745922600@www.goiasfomento.com
SUMMARY:Rufino Veríssimo: Reunião com Bruno Alvarenga Campos Martins - Gerente de Atendimento.
DESCRIPTION:
URL:https://www.goiasfomento.com/agenda/rufino-verissimo-reuniao-com-bruno-alvarenga-campos-martins-gerente-de-atendimento-12/
LOCATION:Gabinete da Diretoria de Operações da GoiásFomento – Agência de Fomento de Goiás.
CATEGORIES:Diretoria de Operações
END:VEVENT
BEGIN:VEVENT
DTSTART;TZID=America/Sao_Paulo:20250429T100000
DTEND;TZID=America/Sao_Paulo:20250429T110000
DTSTAMP:20260425T124105
CREATED:20250429T171344Z
LAST-MODIFIED:20250429T171828Z
UID:42698-1745920800-1745924400@www.goiasfomento.com
SUMMARY:Deivison Costa: Reunião com o Pastor Gilmar Santos para Divulgação das Linhas de Créditos.
DESCRIPTION:
URL:https://www.goiasfomento.com/agenda/deivison-costa-reuniao-com-o-pastor-gilmar-santos-para-divulgacao-das-linhas-de-creditos/
CATEGORIES:Chefia de Gabinete
END:VEVENT
BEGIN:VEVENT
DTSTART;TZID=America/Sao_Paulo:20250429T103000
DTEND;TZID=America/Sao_Paulo:20250429T110000
DTSTAMP:20260425T124105
CREATED:20250429T134908Z
LAST-MODIFIED:20250429T135316Z
UID:42681-1745922600-1745924400@www.goiasfomento.com
SUMMARY:Rufino Veríssimo – Diretor Presidente (Em substituição): Reunião com Karyna Moral Dall'Agnol - Gerente de Pessoas.
DESCRIPTION:
URL:https://www.goiasfomento.com/agenda/rufino-verissimo-diretor-presidente-em-substituicao-reuniao-com-karyna-moral-dallagnol-gerente-de-pessoas-4/
LOCATION:Gabinete da Diretoria de Operações da GoiásFomento – Agência de Fomento de Goiás.
CATEGORIES:Presidência
END:VEVENT
BEGIN:VEVENT
DTSTART;TZID=America/Sao_Paulo:20250429T110000
DTEND;TZID=America/Sao_Paulo:20250429T113000
DTSTAMP:20260425T124105
CREATED:20250429T150728Z
LAST-MODIFIED:20250429T150728Z
UID:42684-1745924400-1745926200@www.goiasfomento.com
SUMMARY:Rufino Veríssimo – Diretor Presidente (Em substituição): Reunião com Deivison Rodrigues da Costa Soares – Chefe de Gabinete.
DESCRIPTION:
URL:https://www.goiasfomento.com/agenda/rufino-verissimo-diretor-presidente-em-substituicao-reuniao-com-deivison-rodrigues-da-costa-soares-chefe-de-gabinete-5/
LOCATION:Gabinete da Diretoria de Operações da GoiásFomento – Agência de Fomento de Goiás.
CATEGORIES:Presidência
END:VEVENT
BEGIN:VEVENT
DTSTART;TZID=America/Sao_Paulo:20250429T110000
DTEND;TZID=America/Sao_Paulo:20250429T113000
DTSTAMP:20260425T124105
CREATED:20250429T150805Z
LAST-MODIFIED:20250429T150805Z
UID:42686-1745924400-1745926200@www.goiasfomento.com
SUMMARY:Rufino Veríssimo: Reunião com Deivison Rodrigues da Costa Soares – Chefe de Gabinete.
DESCRIPTION:
URL:https://www.goiasfomento.com/agenda/rufino-verissimo-reuniao-com-deivison-rodrigues-da-costa-soares-chefe-de-gabinete-5/
LOCATION:Gabinete da Diretoria de Operações da GoiásFomento – Agência de Fomento de Goiás.
CATEGORIES:Diretoria de Operações
END:VEVENT
BEGIN:VEVENT
DTSTART;TZID=America/Sao_Paulo:20250429T110000
DTEND;TZID=America/Sao_Paulo:20250429T113000
DTSTAMP:20260425T124105
CREATED:20250429T150934Z
LAST-MODIFIED:20250429T150934Z
UID:42688-1745924400-1745926200@www.goiasfomento.com
SUMMARY:Deivison Costa: Reunião com Rufino Veríssimo – Diretor de Operações e Diretor-Presidente em Substiuição.
DESCRIPTION:
URL:https://www.goiasfomento.com/agenda/deivison-costa-reuniao-com-rufino-verissimo-diretor-de-operacoes-e-diretor-presidente-em-substiuicao-5/
LOCATION:Chefia de Gabinete – Agência de Fomento de Goiás
CATEGORIES:Chefia de Gabinete
END:VEVENT
BEGIN:VEVENT
DTSTART;TZID=America/Sao_Paulo:20250429T113000
DTEND;TZID=America/Sao_Paulo:20250429T120000
DTSTAMP:20260425T124105
CREATED:20250429T151016Z
LAST-MODIFIED:20250429T151016Z
UID:42690-1745926200-1745928000@www.goiasfomento.com
SUMMARY:Deivison Costa: Despachos Internos.
DESCRIPTION:
URL:https://www.goiasfomento.com/agenda/deivison-costa-despachos-internos-65/
LOCATION:Chefia de Gabinete – Agência de Fomento de Goiás
CATEGORIES:Chefia de Gabinete
END:VEVENT
BEGIN:VEVENT
DTSTART;TZID=America/Sao_Paulo:20250429T113000
DTEND;TZID=America/Sao_Paulo:20250429T120000
DTSTAMP:20260425T124105
CREATED:20250429T151105Z
LAST-MODIFIED:20250429T151105Z
UID:42692-1745926200-1745928000@www.goiasfomento.com
SUMMARY:Rufino Veríssimo – Diretor Presidente (Em substituição): Reunião com Wagner Siqueira Coelho – Gerente de Prospecção de Negócios.
DESCRIPTION:
URL:https://www.goiasfomento.com/agenda/rufino-verissimo-diretor-presidente-em-substituicao-reuniao-com-wagner-siqueira-coelho-gerente-de-prospeccao-de-negocios-7/
LOCATION:Gabinete da Diretoria de Operações da GoiásFomento – Agência de Fomento de Goiás.
CATEGORIES:Presidência
END:VEVENT
BEGIN:VEVENT
DTSTART;TZID=America/Sao_Paulo:20250429T113000
DTEND;TZID=America/Sao_Paulo:20250429T120000
DTSTAMP:20260425T124105
CREATED:20250429T151128Z
LAST-MODIFIED:20250429T151128Z
UID:42694-1745926200-1745928000@www.goiasfomento.com
SUMMARY:Rufino Veríssimo: Reunião com Wagner Siqueira Coelho – Gerente de Prospecção de Negócios.
DESCRIPTION:
URL:https://www.goiasfomento.com/agenda/rufino-verissimo-reuniao-com-wagner-siqueira-coelho-gerente-de-prospeccao-de-negocios-17/
LOCATION:Gabinete da Diretoria de Operações da GoiásFomento – Agência de Fomento de Goiás.
CATEGORIES:Diretoria de Operações
END:VEVENT
BEGIN:VEVENT
DTSTART;TZID=America/Sao_Paulo:20250429T140000
DTEND;TZID=America/Sao_Paulo:20250429T143000
DTSTAMP:20260425T124105
CREATED:20250429T172319Z
LAST-MODIFIED:20250429T172319Z
UID:42705-1745935200-1745937000@www.goiasfomento.com
SUMMARY:Rufino Veríssimo – Diretor Presidente (Em substituição): Reunião com Porthos R. de Albuquerque Motta - Assessor de Gerenciamento de Riscos e Escritório de Projetos.
DESCRIPTION:
URL:https://www.goiasfomento.com/agenda/rufino-verissimo-diretor-presidente-em-substituicao-reuniao-com-porthos-r-de-albuquerque-motta-assessor-de-gerenciamento-de-riscos-e-escritorio-de-projetos-6/
LOCATION:Gabinete da Diretoria de Operações da GoiásFomento – Agência de Fomento de Goiás.
CATEGORIES:Presidência
END:VEVENT
BEGIN:VEVENT
DTSTART;TZID=America/Sao_Paulo:20250429T140000
DTEND;TZID=America/Sao_Paulo:20250429T143000
DTSTAMP:20260425T124105
CREATED:20250429T172417Z
LAST-MODIFIED:20250429T172417Z
UID:42707-1745935200-1745937000@www.goiasfomento.com
SUMMARY:Rufino Veríssimo: Reunião com Porthos R. de Albuquerque Motta - Assessor de Gerenciamento de Riscos e Escritório de Projetos.
DESCRIPTION:
URL:https://www.goiasfomento.com/agenda/rufino-verissimo-reuniao-com-porthos-r-de-albuquerque-motta-assessor-de-gerenciamento-de-riscos-e-escritorio-de-projetos-7/
LOCATION:Gabinete da Diretoria de Operações da GoiásFomento – Agência de Fomento de Goiás.
CATEGORIES:Diretoria de Operações
END:VEVENT
BEGIN:VEVENT
DTSTART;TZID=America/Sao_Paulo:20250429T140000
DTEND;TZID=America/Sao_Paulo:20250429T180000
DTSTAMP:20260425T124105
CREATED:20250429T171246Z
LAST-MODIFIED:20250429T171646Z
UID:42696-1745935200-1745949600@www.goiasfomento.com
SUMMARY:Deivison Costa: Despachos Internos.
DESCRIPTION:
URL:https://www.goiasfomento.com/agenda/deivison-costa-despachos-internos-66/
LOCATION:Chefia de Gabinete – Agência de Fomento de Goiás
CATEGORIES:Chefia de Gabinete
END:VEVENT
BEGIN:VEVENT
DTSTART;TZID=America/Sao_Paulo:20250429T143000
DTEND;TZID=America/Sao_Paulo:20250429T170000
DTSTAMP:20260425T124105
CREATED:20250429T183820Z
LAST-MODIFIED:20250429T193039Z
UID:42709-1745937000-1745946000@www.goiasfomento.com
SUMMARY:Rufino Veríssimo – Diretor Presidente (Em substituição): Reunião com Rafael Soffa Rézio – Gerente de Programas e Políticas Sociais\, Paulo Cesar Paiva – Assessor de Estratégia e Planejamento e a Empresa Inttegra.
DESCRIPTION:
URL:https://www.goiasfomento.com/agenda/rufino-verissimo-diretor-presidente-em-substituicao-reuniao-com-rafael-soffa-rezio-gerente-de-programas-e-politicas-sociais-e-a-empresa-inttegra/
LOCATION:Sala de Reuniões da Diretoria – Agência de Fomento de Goiás.
CATEGORIES:Presidência
END:VEVENT
BEGIN:VEVENT
DTSTART;TZID=America/Sao_Paulo:20250429T143000
DTEND;TZID=America/Sao_Paulo:20250429T170000
DTSTAMP:20260425T124105
CREATED:20250429T184150Z
LAST-MODIFIED:20250429T193059Z
UID:42713-1745937000-1745946000@www.goiasfomento.com
SUMMARY:Rufino Veríssimo: Reunião com Rafael Soffa Rézio – Gerente de Programas e Políticas Sociais\, Paulo Cesar Paiva – Assessor de Estratégia e Planejamento e a Empresa Inttegra.
DESCRIPTION:
URL:https://www.goiasfomento.com/agenda/rufino-verissimo-reuniao-com-rafael-soffa-rezio-gerente-de-programas-e-politicas-sociais-paulo-cesar-paiva-assessor-de-estrategia-e-planejamento-e-a-empresa-inttegra/
LOCATION:Sala de Reuniões da Diretoria – Agência de Fomento de Goiás.
CATEGORIES:Diretoria de Operações
END:VEVENT
BEGIN:VEVENT
DTSTART;TZID=America/Sao_Paulo:20250429T170000
DTEND;TZID=America/Sao_Paulo:20250429T180000
DTSTAMP:20260425T124105
CREATED:20250429T200941Z
LAST-MODIFIED:20250429T200941Z
UID:42719-1745946000-1745949600@www.goiasfomento.com
SUMMARY:Rufino Veríssimo – Diretor Presidente (Em substituição): Despachos Internos.
DESCRIPTION:
URL:https://www.goiasfomento.com/agenda/rufino-verissimo-diretor-presidente-em-substituicao-despachos-internos-59/
LOCATION:Gabinete da Diretoria de Operações da GoiásFomento – Agência de Fomento de Goiás.
CATEGORIES:Diretoria de Operações
END:VEVENT
BEGIN:VEVENT
DTSTART;TZID=America/Sao_Paulo:20250429T170000
DTEND;TZID=America/Sao_Paulo:20250429T180000
DTSTAMP:20260425T124105
CREATED:20250429T201031Z
LAST-MODIFIED:20250429T201031Z
UID:42721-1745946000-1745949600@www.goiasfomento.com
SUMMARY:Rufino Veríssimo: Despachos Internos.
DESCRIPTION:
URL:https://www.goiasfomento.com/agenda/rufino-verissimo-despachos-internos-272/
LOCATION:Gabinete da Diretoria de Operações da GoiásFomento – Agência de Fomento de Goiás.
CATEGORIES:Diretoria de Operações
END:VEVENT
BEGIN:VEVENT
DTSTART;TZID=America/Sao_Paulo:20250430T070000
DTEND;TZID=America/Sao_Paulo:20250430T083000
DTSTAMP:20260425T124105
CREATED:20250430T110602Z
LAST-MODIFIED:20250430T113814Z
UID:42723-1745996400-1746001800@www.goiasfomento.com
SUMMARY:Rufino Veríssimo – Diretor Presidente (Em substituição): Despachos Internos.
DESCRIPTION:
URL:https://www.goiasfomento.com/agenda/rufino-verissimo-diretor-presidente-em-substituicao-despachos-internos-60/
LOCATION:Gabinete da Diretoria de Operações da GoiásFomento – Agência de Fomento de Goiás.
CATEGORIES:Presidência
END:VEVENT
BEGIN:VEVENT
DTSTART;TZID=America/Sao_Paulo:20250430T070000
DTEND;TZID=America/Sao_Paulo:20250430T083000
DTSTAMP:20260425T124105
CREATED:20250430T110630Z
LAST-MODIFIED:20250430T113830Z
UID:42725-1745996400-1746001800@www.goiasfomento.com
SUMMARY:Rufino Veríssimo: Despachos Internos.
DESCRIPTION:
URL:https://www.goiasfomento.com/agenda/rufino-verissimo-despachos-internos-273/
CATEGORIES:Diretoria de Operações
END:VEVENT
BEGIN:VEVENT
DTSTART;TZID=America/Sao_Paulo:20250430T080000
DTEND;TZID=America/Sao_Paulo:20250430T120000
DTSTAMP:20260425T124105
CREATED:20250430T112150Z
LAST-MODIFIED:20250430T112150Z
UID:42727-1746000000-1746014400@www.goiasfomento.com
SUMMARY:Deivison Costa: Despachos Internos.
DESCRIPTION:
URL:https://www.goiasfomento.com/agenda/deivison-costa-despachos-internos-68/
LOCATION:Chefia de Gabinete – Agência de Fomento de Goiás
CATEGORIES:Chefia de Gabinete
END:VEVENT
END:VCALENDAR