BEGIN:VCALENDAR
VERSION:2.0
PRODID:-//GoiásFomento - Agência de Fomento - ECPv6.15.20//NONSGML v1.0//EN
CALSCALE:GREGORIAN
METHOD:PUBLISH
X-ORIGINAL-URL:https://www.goiasfomento.com
X-WR-CALDESC:Eventos para GoiásFomento - Agência de Fomento
REFRESH-INTERVAL;VALUE=DURATION:PT1H
X-Robots-Tag:noindex
X-PUBLISHED-TTL:PT1H
BEGIN:VTIMEZONE
TZID:America/Sao_Paulo
BEGIN:STANDARD
TZOFFSETFROM:-0300
TZOFFSETTO:-0300
TZNAME:-03
DTSTART:20240101T000000
END:STANDARD
END:VTIMEZONE
BEGIN:VEVENT
DTSTART;TZID=America/Sao_Paulo:20250311T080000
DTEND;TZID=America/Sao_Paulo:20250311T120000
DTSTAMP:20260425T110709
CREATED:20250311T132344Z
LAST-MODIFIED:20250311T132344Z
UID:40828-1741680000-1741694400@www.goiasfomento.com
SUMMARY:Deivison Costa: Despachos Internos.
DESCRIPTION:
URL:https://www.goiasfomento.com/agenda/deivison-costa-despachos-internos-6/
LOCATION:Chefia de Gabinete – Agência de Fomento de Goiás
CATEGORIES:Chefia de Gabinete
END:VEVENT
BEGIN:VEVENT
DTSTART;TZID=America/Sao_Paulo:20250311T080000
DTEND;TZID=America/Sao_Paulo:20250311T120000
DTSTAMP:20260425T110709
CREATED:20250311T133521Z
LAST-MODIFIED:20250311T133521Z
UID:40843-1741680000-1741694400@www.goiasfomento.com
SUMMARY:Rufino Veríssimo: Evento: GOIÁS SOCIAL – MULHER.
DESCRIPTION:
URL:https://www.goiasfomento.com/agenda/rufino-verissimo-evento-goias-social-mulher/
LOCATION:Praça  Civíca – Praça Dr. Pedro Ludovico Teixeira – St. Central\, Goiânia – GO\, 74003-010
CATEGORIES:Diretoria de Operações
END:VEVENT
BEGIN:VEVENT
DTSTART;TZID=America/Sao_Paulo:20250311T080000
DTEND;TZID=America/Sao_Paulo:20250311T120000
DTSTAMP:20260425T110709
CREATED:20250311T173158Z
LAST-MODIFIED:20250311T173158Z
UID:40845-1741680000-1741694400@www.goiasfomento.com
SUMMARY:Lucas Fernandes – Diretor Presidente (Interino): Despachos Internos.
DESCRIPTION:
URL:https://www.goiasfomento.com/agenda/lucas-fernandes-diretor-presidente-interino-despachos-internos-307/
LOCATION:Gabinete da Presidência da GoiásFomento – Agência de Fomento de Goiás.
CATEGORIES:Presidência
END:VEVENT
BEGIN:VEVENT
DTSTART;TZID=America/Sao_Paulo:20250311T080000
DTEND;TZID=America/Sao_Paulo:20250311T120000
DTSTAMP:20260425T110709
CREATED:20250311T173251Z
LAST-MODIFIED:20250311T173251Z
UID:40849-1741680000-1741694400@www.goiasfomento.com
SUMMARY:Lucas Fernandes: Despachos Internos.
DESCRIPTION:
URL:https://www.goiasfomento.com/agenda/lucas-fernandes-despachos-internos-750/
LOCATION:Gabinete da Presidência da GoiásFomento – Agência de Fomento de Goiás.
CATEGORIES:Diretoria Administrativa e Financeira
END:VEVENT
BEGIN:VEVENT
DTSTART;TZID=America/Sao_Paulo:20250311T140000
DTEND;TZID=America/Sao_Paulo:20250311T150000
DTSTAMP:20260425T110709
CREATED:20250311T132414Z
LAST-MODIFIED:20250311T132414Z
UID:40830-1741701600-1741705200@www.goiasfomento.com
SUMMARY:Deivison Costa: Despachos Internos.
DESCRIPTION:
URL:https://www.goiasfomento.com/agenda/deivison-costa-despachos-internos-7/
LOCATION:Chefia de Gabinete – Agência de Fomento de Goiás
CATEGORIES:Chefia de Gabinete
END:VEVENT
BEGIN:VEVENT
DTSTART;TZID=America/Sao_Paulo:20250311T140000
DTEND;TZID=America/Sao_Paulo:20250311T150000
DTSTAMP:20260425T110709
CREATED:20250311T133419Z
LAST-MODIFIED:20250311T133419Z
UID:40841-1741701600-1741705200@www.goiasfomento.com
SUMMARY:Rufino Veríssimo: Despachos Internos.
DESCRIPTION:
URL:https://www.goiasfomento.com/agenda/rufino-verissimo-despachos-internos-200/
LOCATION:Gabinete da Diretoria de Operações da GoiásFomento – Agência de Fomento de Goiás.
CATEGORIES:Diretoria de Operações
END:VEVENT
BEGIN:VEVENT
DTSTART;TZID=America/Sao_Paulo:20250311T140000
DTEND;TZID=America/Sao_Paulo:20250311T180000
DTSTAMP:20260425T110709
CREATED:20250311T173226Z
LAST-MODIFIED:20250311T174036Z
UID:40847-1741701600-1741716000@www.goiasfomento.com
SUMMARY:Lucas Fernandes – Diretor Presidente (Interino): Despachos Internos.
DESCRIPTION:
URL:https://www.goiasfomento.com/agenda/lucas-fernandes-diretor-presidente-interino-despachos-internos-308/
CATEGORIES:Presidência
END:VEVENT
BEGIN:VEVENT
DTSTART;TZID=America/Sao_Paulo:20250311T140000
DTEND;TZID=America/Sao_Paulo:20250311T180000
DTSTAMP:20260425T110709
CREATED:20250311T173720Z
LAST-MODIFIED:20250311T173720Z
UID:40853-1741701600-1741716000@www.goiasfomento.com
SUMMARY:Lucas Fernandes : Despachos Internos.
DESCRIPTION:
URL:https://www.goiasfomento.com/agenda/lucas-fernandes-despachos-internos-751/
LOCATION:Gabinete da Presidência da GoiásFomento – Agência de Fomento de Goiás.
CATEGORIES:Diretoria Administrativa e Financeira
END:VEVENT
BEGIN:VEVENT
DTSTART;TZID=America/Sao_Paulo:20250311T150000
DTEND;TZID=America/Sao_Paulo:20250311T160000
DTSTAMP:20260425T110709
CREATED:20250311T133340Z
LAST-MODIFIED:20250311T174422Z
UID:40839-1741705200-1741708800@www.goiasfomento.com
SUMMARY:Rufino Veríssimo: Reunião com Drª Carla Cíntia Santillo  – Conselheira do TCE-GO.
DESCRIPTION:
URL:https://www.goiasfomento.com/agenda/rufino-verissimo-entrega-do-cartao-bolsa-uniforme-para-os-alunos-dos-colegios-militares-da-rede-estadual-de-goias/
LOCATION:TCE – Tribunal de Contas do Estado de Goiás – Endereço: Av. Ubirajara Berocan Leite\, 640 – St. Jao\, Goiânia – GO\, 74674-015.
CATEGORIES:Diretoria de Operações
END:VEVENT
BEGIN:VEVENT
DTSTART;TZID=America/Sao_Paulo:20250311T150000
DTEND;TZID=America/Sao_Paulo:20250311T180000
DTSTAMP:20260425T110709
CREATED:20250311T132630Z
LAST-MODIFIED:20250311T133112Z
UID:40832-1741705200-1741716000@www.goiasfomento.com
SUMMARY:Deivison Costa:  Entrega do Cartão Bolsa Uniforme para os Alunos dos Colégios Militares da Rede Estadual de Goiás.
DESCRIPTION:
URL:https://www.goiasfomento.com/agenda/deivison-costa-entrega-do-cartao-bolsa-uniforme-para-os-alunos-dos-colegios-militares-da-rede-estadual-de-goias/
LOCATION:CEPMG – Colégio Estadual da Polícia Militar de Goiás Endereço: Endereço: R. São Mateus – Parque Me. Germana\, Goiânia – GO\, 74354-782.
CATEGORIES:Chefia de Gabinete
END:VEVENT
BEGIN:VEVENT
DTSTART;TZID=America/Sao_Paulo:20250311T160000
DTEND;TZID=America/Sao_Paulo:20250311T180000
DTSTAMP:20260425T110709
CREATED:20250311T174841Z
LAST-MODIFIED:20250311T174841Z
UID:40860-1741708800-1741716000@www.goiasfomento.com
SUMMARY:Rufino Veríssimo: Despachos Internos.
DESCRIPTION:
URL:https://www.goiasfomento.com/agenda/rufino-verissimo-despachos-internos-201/
LOCATION:Gabinete da Diretoria de Operações da GoiásFomento – Agência de Fomento de Goiás.
CATEGORIES:Diretoria de Operações
END:VEVENT
BEGIN:VEVENT
DTSTART;TZID=America/Sao_Paulo:20250312T080000
DTEND;TZID=America/Sao_Paulo:20250312T090000
DTSTAMP:20260425T110709
CREATED:20250312T175652Z
LAST-MODIFIED:20250312T180956Z
UID:40871-1741766400-1741770000@www.goiasfomento.com
SUMMARY:Deivison Costa: Despachos Internos.
DESCRIPTION:
URL:https://www.goiasfomento.com/agenda/deivison-costa-despachos-internos-8/
LOCATION:Chefia de Gabinete – Agência de Fomento de Goiás
CATEGORIES:Chefia de Gabinete
END:VEVENT
BEGIN:VEVENT
DTSTART;TZID=America/Sao_Paulo:20250312T080000
DTEND;TZID=America/Sao_Paulo:20250312T090000
DTSTAMP:20260425T110709
CREATED:20250312T181318Z
LAST-MODIFIED:20250312T181318Z
UID:40882-1741766400-1741770000@www.goiasfomento.com
SUMMARY:Rufino Veríssimo: Reunião com Darmélia Barbosa – Gerente de Comunicação.
DESCRIPTION:
URL:https://www.goiasfomento.com/agenda/rufino-verissimo-reuniao-com-darmelia-barbosa-gerente-de-comunicacao-2/
LOCATION:Gabinete da Diretoria de Operações da GoiásFomento – Agência de Fomento de Goiás.
CATEGORIES:Diretoria de Operações
END:VEVENT
BEGIN:VEVENT
DTSTART;TZID=America/Sao_Paulo:20250312T080000
DTEND;TZID=America/Sao_Paulo:20250312T120000
DTSTAMP:20260425T110709
CREATED:20250312T201948Z
LAST-MODIFIED:20250312T202001Z
UID:40896-1741766400-1741780800@www.goiasfomento.com
SUMMARY:Lucas Fernandes – Diretor Presidente (Interino): Despachos Internos.
DESCRIPTION:
URL:https://www.goiasfomento.com/agenda/lucas-fernandes-diretor-presidente-interino-despachos-internos-309/
LOCATION:Gabinete da Presidência da GoiásFomento – Agência de Fomento de Goiás.
CATEGORIES:Presidência
END:VEVENT
BEGIN:VEVENT
DTSTART;TZID=America/Sao_Paulo:20250312T080000
DTEND;TZID=America/Sao_Paulo:20250312T120000
DTSTAMP:20260425T110709
CREATED:20250312T202048Z
LAST-MODIFIED:20250312T202048Z
UID:40900-1741766400-1741780800@www.goiasfomento.com
SUMMARY:Lucas Fernandes: Despachos Internos.
DESCRIPTION:
URL:https://www.goiasfomento.com/agenda/lucas-fernandes-despachos-internos-752/
END:VEVENT
BEGIN:VEVENT
DTSTART;TZID=America/Sao_Paulo:20250312T080000
DTEND;TZID=America/Sao_Paulo:20250312T120000
DTSTAMP:20260425T110709
CREATED:20250313T193334Z
LAST-MODIFIED:20250313T193334Z
UID:40917-1741766400-1741780800@www.goiasfomento.com
SUMMARY:Lucas Fernandes: Despachos Internos.
DESCRIPTION:
URL:https://www.goiasfomento.com/agenda/lucas-fernandes-despachos-internos-754/
LOCATION:Gabinete da Presidência.
CATEGORIES:Diretoria Administrativa e Financeira
END:VEVENT
BEGIN:VEVENT
DTSTART;TZID=America/Sao_Paulo:20250312T090000
DTEND;TZID=America/Sao_Paulo:20250312T100000
DTSTAMP:20260425T110709
CREATED:20250312T181038Z
LAST-MODIFIED:20250312T181038Z
UID:40880-1741770000-1741773600@www.goiasfomento.com
SUMMARY:Deivison Costa: Reunião com Darmélia Barbosa – Gerente de Comunicação.
DESCRIPTION:
URL:https://www.goiasfomento.com/agenda/deivison-costa-reuniao-com-darmelia-barbosa-gerente-de-comunicacao-2/
LOCATION:Chefia de Gabinete – Agência de Fomento de Goiás
CATEGORIES:Chefia de Gabinete
END:VEVENT
BEGIN:VEVENT
DTSTART;TZID=America/Sao_Paulo:20250312T090000
DTEND;TZID=America/Sao_Paulo:20250312T100000
DTSTAMP:20260425T110709
CREATED:20250312T181505Z
LAST-MODIFIED:20250312T181505Z
UID:40884-1741770000-1741773600@www.goiasfomento.com
SUMMARY:Rufino Veríssimo: Reunião com a Mônica Rosimira Pires de Lima - Ouvidoria.
DESCRIPTION:
URL:https://www.goiasfomento.com/agenda/rufino-verissimo-reuniao-com-a-monica-rosimira-pires-de-lima-ouvidoria/
LOCATION:Gabinete da Diretoria de Operações da GoiásFomento – Agência de Fomento de Goiás.
CATEGORIES:Diretoria de Operações
END:VEVENT
BEGIN:VEVENT
DTSTART;TZID=America/Sao_Paulo:20250312T100000
DTEND;TZID=America/Sao_Paulo:20250312T123000
DTSTAMP:20260425T110709
CREATED:20250312T174855Z
LAST-MODIFIED:20250312T174855Z
UID:40867-1741773600-1741782600@www.goiasfomento.com
SUMMARY:Rufino Veríssimo: Reunião com Empresa Inttegra\, Deivison  Costa - Chefe de Gabinete e o Rafael Soffa – Gerente de Programas e Políticas Sociais.
DESCRIPTION:
URL:https://www.goiasfomento.com/agenda/rufino-verissimo-reuniao-com-empresa-inttegra-deivison-costa-chefe-de-gabinete-e-o-rafael-soffa-gerente-de-programas-e-politicas-sociais/
LOCATION:Sala de Reuniões da Diretoria – Agência de Fomento de Goiás.
CATEGORIES:Diretoria de Operações
END:VEVENT
BEGIN:VEVENT
DTSTART;TZID=America/Sao_Paulo:20250312T100000
DTEND;TZID=America/Sao_Paulo:20250312T123000
DTSTAMP:20260425T110709
CREATED:20250312T175529Z
LAST-MODIFIED:20250312T175529Z
UID:40869-1741773600-1741782600@www.goiasfomento.com
SUMMARY:Deivison Costa:  Reunião com Rufino Veríssimo - Diretor de Operações\, Rafael Soffa – Gerente de Programas e Políticas Sociais e a Empresa Inttegra.
DESCRIPTION:
URL:https://www.goiasfomento.com/agenda/deivison-costa-reuniao-com-rufino-verissimo-diretor-de-operacoes-rafael-soffa-gerente-de-programas-e-politicas-sociais-e-a-empresa-inttegra/
LOCATION:Sala de Reuniões da Diretoria – Agência de Fomento de Goiás.
CATEGORIES:Chefia de Gabinete
END:VEVENT
BEGIN:VEVENT
DTSTART;TZID=America/Sao_Paulo:20250312T140000
DTEND;TZID=America/Sao_Paulo:20250312T150000
DTSTAMP:20260425T110709
CREATED:20250312T180608Z
LAST-MODIFIED:20250312T180608Z
UID:40875-1741788000-1741791600@www.goiasfomento.com
SUMMARY:Deivison Costa: Reunião com Rufino Veríssimo – Diretor de Operações\, Gálbia do Amor Divino Rosa - Gerente Jurídica e o Luiz Arthur Medeiros Miguel - Gerente de Licitação e Contratos.
DESCRIPTION:
URL:https://www.goiasfomento.com/agenda/deivison-costa-reuniao-com-rufino-verissimo-diretor-de-operacoes-galbia-do-amor-divino-rosa-gerente-juridica-e-o-luiz-arthur-medeiros-miguel-gerente-de-licitacao-e-contratos/
LOCATION:Sala de Reuniões da Diretoria – Agência de Fomento de Goiás.
CATEGORIES:Chefia de Gabinete
END:VEVENT
BEGIN:VEVENT
DTSTART;TZID=America/Sao_Paulo:20250312T140000
DTEND;TZID=America/Sao_Paulo:20250312T150000
DTSTAMP:20260425T110709
CREATED:20250312T180757Z
LAST-MODIFIED:20250312T181614Z
UID:40877-1741788000-1741791600@www.goiasfomento.com
SUMMARY:Rufino Veríssimo: Reunião com Deivison Costa – Chefe de Gabinete\, Gálbia do Amor Divino Rosa - Gerente Jurídica e o Luiz Arthur Medeiros Miguel - Gerente de Licitação e Contratos.
DESCRIPTION:
URL:https://www.goiasfomento.com/agenda/ufino-verissimo-reuniao-com-deivison-costa-chefe-de-gabinetegalbia-do-amor-divino-rosa-gerente-juridica-e-o-luiz-arthur-medeiros-miguel-gerente-de-licitacao-e-contratos/
LOCATION:Sala de Reuniões da Diretoria – Agência de Fomento de Goiás.
CATEGORIES:Diretoria de Operações
END:VEVENT
BEGIN:VEVENT
DTSTART;TZID=America/Sao_Paulo:20250312T140000
DTEND;TZID=America/Sao_Paulo:20250312T180000
DTSTAMP:20260425T110709
CREATED:20250312T202028Z
LAST-MODIFIED:20250312T202028Z
UID:40898-1741788000-1741802400@www.goiasfomento.com
SUMMARY:Lucas Fernandes – Diretor Presidente (Interino): Despachos Internos.
DESCRIPTION:
URL:https://www.goiasfomento.com/agenda/lucas-fernandes-diretor-presidente-interino-despachos-internos-310/
LOCATION:Gabinete da Presidência da GoiásFomento – Agência de Fomento de Goiás.
CATEGORIES:Presidência
END:VEVENT
BEGIN:VEVENT
DTSTART;TZID=America/Sao_Paulo:20250312T140000
DTEND;TZID=America/Sao_Paulo:20250312T180000
DTSTAMP:20260425T110709
CREATED:20250312T202115Z
LAST-MODIFIED:20250312T202115Z
UID:40902-1741788000-1741802400@www.goiasfomento.com
SUMMARY:Lucas Fernandes: Despachos Internos.
DESCRIPTION:
URL:https://www.goiasfomento.com/agenda/lucas-fernandes-despachos-internos-753/
LOCATION:Gabinete da Presidência da GoiásFomento – Agência de Fomento de Goiás.
CATEGORIES:Diretoria Administrativa e Financeira
END:VEVENT
BEGIN:VEVENT
DTSTART;TZID=America/Sao_Paulo:20250312T150000
DTEND;TZID=America/Sao_Paulo:20250312T153000
DTSTAMP:20260425T110709
CREATED:20250312T181837Z
LAST-MODIFIED:20250312T181837Z
UID:40887-1741791600-1741793400@www.goiasfomento.com
SUMMARY:Rufino Veríssimo: Reunião com Gálbia do Amor Divino Rosa - Gerente Jurídica e o Luiz Arthur Medeiros Miguel - Gerente de Licitação e Contratos.
DESCRIPTION:
URL:https://www.goiasfomento.com/agenda/rufino-verissimo-reuniao-com-galbia-do-amor-divino-rosa-gerente-juridica-e-o-luiz-arthur-medeiros-miguel-gerente-de-licitacao-e-contratos/
LOCATION:Gabinete da Diretoria de Operações da GoiásFomento – Agência de Fomento de Goiás.
CATEGORIES:Diretoria de Operações
END:VEVENT
BEGIN:VEVENT
DTSTART;TZID=America/Sao_Paulo:20250312T150000
DTEND;TZID=America/Sao_Paulo:20250312T180000
DTSTAMP:20260425T110709
CREATED:20250312T180133Z
LAST-MODIFIED:20250312T180219Z
UID:40873-1741791600-1741802400@www.goiasfomento.com
SUMMARY:Deivison Costa: Despachos Internos.
DESCRIPTION:
URL:https://www.goiasfomento.com/agenda/deivison-costa-despachos-internos-9/
LOCATION:Chefia de Gabinete – Agência de Fomento de Goiás
CATEGORIES:Chefia de Gabinete
END:VEVENT
BEGIN:VEVENT
DTSTART;TZID=America/Sao_Paulo:20250312T153000
DTEND;TZID=America/Sao_Paulo:20250312T160000
DTSTAMP:20260425T110709
CREATED:20250312T182313Z
LAST-MODIFIED:20250312T182313Z
UID:40889-1741793400-1741795200@www.goiasfomento.com
SUMMARY:Rufino Veríssimo: Reunião com Gálbia do Amor Divino Rosa - Gerente Jurídica.
DESCRIPTION:
URL:https://www.goiasfomento.com/agenda/rufino-verissimo-reuniao-com-galbia-do-amor-divino-rosa-gerente-juridica/
LOCATION:Gabinete da Diretoria de Operações da GoiásFomento – Agência de Fomento de Goiás.
CATEGORIES:Diretoria de Operações
END:VEVENT
BEGIN:VEVENT
DTSTART;TZID=America/Sao_Paulo:20250312T160000
DTEND;TZID=America/Sao_Paulo:20250312T163000
DTSTAMP:20260425T110709
CREATED:20250312T182523Z
LAST-MODIFIED:20250312T182523Z
UID:40891-1741795200-1741797000@www.goiasfomento.com
SUMMARY:Rufino Veríssimo: Reunião com Ariana da Costa Pires Barbosa - Secretaria-Geral.
DESCRIPTION:
URL:https://www.goiasfomento.com/agenda/rufino-verissimo-reuniao-com-ariana-da-costa-pires-barbosa-secretaria-geral/
LOCATION:Gabinete da Diretoria de Operações da GoiásFomento – Agência de Fomento de Goiás.
CATEGORIES:Diretoria de Operações
END:VEVENT
BEGIN:VEVENT
DTSTART;TZID=America/Sao_Paulo:20250312T163000
DTEND;TZID=America/Sao_Paulo:20250312T180000
DTSTAMP:20260425T110709
CREATED:20250312T183155Z
LAST-MODIFIED:20250312T183155Z
UID:40893-1741797000-1741802400@www.goiasfomento.com
SUMMARY:Rufino Veríssimo: Despachos Internos.
DESCRIPTION:
URL:https://www.goiasfomento.com/agenda/rufino-verissimo-despachos-internos-202/
LOCATION:Gabinete da Diretoria de Operações da GoiásFomento – Agência de Fomento de Goiás.
CATEGORIES:Diretoria de Operações
END:VEVENT
BEGIN:VEVENT
DTSTART;TZID=America/Sao_Paulo:20250313T080000
DTEND;TZID=America/Sao_Paulo:20250313T120000
DTSTAMP:20260425T110709
CREATED:20250313T114644Z
LAST-MODIFIED:20250313T114644Z
UID:40904-1741852800-1741867200@www.goiasfomento.com
SUMMARY:Rufino Veríssimo: Solenidade de Abertura do 1º Encontro de Gestores e Trabalhadores da Assistência  Social de Goiás.
DESCRIPTION:
URL:https://www.goiasfomento.com/agenda/rufino-verissimo-solenidade-de-abertura-do-1o-encontro-de-gestores-e-trabalhadores-da-assistencia-social-de-goias/
LOCATION:Alego-Auditório Carlos  Vieira
CATEGORIES:Diretoria de Operações
END:VEVENT
END:VCALENDAR