BEGIN:VCALENDAR
VERSION:2.0
PRODID:-//GoiásFomento - Agência de Fomento - ECPv6.15.20//NONSGML v1.0//EN
CALSCALE:GREGORIAN
METHOD:PUBLISH
X-ORIGINAL-URL:https://www.goiasfomento.com
X-WR-CALDESC:Eventos para GoiásFomento - Agência de Fomento
REFRESH-INTERVAL;VALUE=DURATION:PT1H
X-Robots-Tag:noindex
X-PUBLISHED-TTL:PT1H
BEGIN:VTIMEZONE
TZID:America/Sao_Paulo
BEGIN:STANDARD
TZOFFSETFROM:-0300
TZOFFSETTO:-0300
TZNAME:-03
DTSTART:20240101T000000
END:STANDARD
END:VTIMEZONE
BEGIN:VEVENT
DTSTART;TZID=America/Sao_Paulo:20250228T080000
DTEND;TZID=America/Sao_Paulo:20250228T083000
DTSTAMP:20260425T081458
CREATED:20250228T135149Z
LAST-MODIFIED:20250228T135149Z
UID:40575-1740729600-1740731400@www.goiasfomento.com
SUMMARY:Lucas Fernandes – Diretor Presidente (Interino): Reunião com Kamilla da Silva Vilarinho - Gerente de Cobrança Extrajudicial.
DESCRIPTION:
URL:https://www.goiasfomento.com/agenda/lucas-fernandes-diretor-presidente-interino-reuniao-com-kamilla-da-silva-vilarinho-gerente-de-cobranca-extrajudicial/
LOCATION:Gabinete da Presidência da GoiásFomento – Agência de Fomento de Goiás.
CATEGORIES:Presidência
END:VEVENT
BEGIN:VEVENT
DTSTART;TZID=America/Sao_Paulo:20250228T080000
DTEND;TZID=America/Sao_Paulo:20250228T083000
DTSTAMP:20260425T081458
CREATED:20250228T135229Z
LAST-MODIFIED:20250228T135229Z
UID:40577-1740729600-1740731400@www.goiasfomento.com
SUMMARY:Lucas Fernandes: Reunião com Kamilla da Silva Vilarinho - Gerente de Cobrança Extrajudicial.
DESCRIPTION:
URL:https://www.goiasfomento.com/agenda/lucas-fernandes-reuniao-com-kamilla-da-silva-vilarinho-gerente-de-cobranca-extrajudicial/
LOCATION:Gabinete da Presidência da GoiásFomento – Agência de Fomento de Goiás.
CATEGORIES:Diretoria Administrativa e Financeira
END:VEVENT
BEGIN:VEVENT
DTSTART;TZID=America/Sao_Paulo:20250228T080000
DTEND;TZID=America/Sao_Paulo:20250228T120000
DTSTAMP:20260425T081458
CREATED:20250228T174537Z
LAST-MODIFIED:20250228T174537Z
UID:40605-1740729600-1740744000@www.goiasfomento.com
SUMMARY:Fernando Dias: Despachos Internos.
DESCRIPTION:
URL:https://www.goiasfomento.com/agenda/fernando-dias-despachos-internos-84/
LOCATION:Chefia de Gabinete – Agência de Fomento de Goiás
CATEGORIES:Chefia de Gabinete
END:VEVENT
BEGIN:VEVENT
DTSTART;TZID=America/Sao_Paulo:20250228T080000
DTEND;TZID=America/Sao_Paulo:20250228T140000
DTSTAMP:20260425T081458
CREATED:20250228T175921Z
LAST-MODIFIED:20250228T180037Z
UID:40609-1740729600-1740751200@www.goiasfomento.com
SUMMARY:Rufino Veríssimo: Acompanhamento da Entrega dos  Cartões Junto a Nova Operadora Inttegra em Inhumas-GO e em Itaberaí-Go.
DESCRIPTION:
URL:https://www.goiasfomento.com/agenda/rufino-verissimo-acompanhamento-da-entrega-dos-novos-cartoes-maes-de-goias-junto-a-nova-operadora-inttegra-em-inhumas-go-e-em-itaberai-go/
LOCATION:Itaberaí – GO
CATEGORIES:Diretoria de Operações
END:VEVENT
BEGIN:VEVENT
DTSTART;TZID=America/Sao_Paulo:20250228T083000
DTEND;TZID=America/Sao_Paulo:20250228T090000
DTSTAMP:20260425T081458
CREATED:20250228T135414Z
LAST-MODIFIED:20250228T135414Z
UID:40579-1740731400-1740733200@www.goiasfomento.com
SUMMARY:Lucas Fernandes – Diretor Presidente (Interino): Reunião com Wagner Siqueira Coelho - Gerente de Prospecção de Negócios.
DESCRIPTION:
URL:https://www.goiasfomento.com/agenda/lucas-fernandes-diretor-presidente-interino-reuniao-com-wagner-siqueira-coelho-gerente-de-prospeccao-de-negocios/
LOCATION:Gabinete da Presidência da GoiásFomento – Agência de Fomento de Goiás.
CATEGORIES:Presidência
END:VEVENT
BEGIN:VEVENT
DTSTART;TZID=America/Sao_Paulo:20250228T083000
DTEND;TZID=America/Sao_Paulo:20250228T090000
DTSTAMP:20260425T081458
CREATED:20250228T135503Z
LAST-MODIFIED:20250228T135503Z
UID:40581-1740731400-1740733200@www.goiasfomento.com
SUMMARY:Lucas Fernandes: Reunião com Wagner Siqueira Coelho - Gerente de Prospecção de Negócios.
DESCRIPTION:
URL:https://www.goiasfomento.com/agenda/lucas-fernandes-reuniao-com-wagner-siqueira-coelho-gerente-de-prospeccao-de-negocios/
LOCATION:Gabinete da Presidência da GoiásFomento – Agência de Fomento de Goiás.
CATEGORIES:Diretoria Administrativa e Financeira
END:VEVENT
BEGIN:VEVENT
DTSTART;TZID=America/Sao_Paulo:20250228T090000
DTEND;TZID=America/Sao_Paulo:20250228T093000
DTSTAMP:20260425T081458
CREATED:20250228T135603Z
LAST-MODIFIED:20250228T135603Z
UID:40583-1740733200-1740735000@www.goiasfomento.com
SUMMARY:Lucas Fernandes – Diretor Presidente (Interino): Reunião com Darmélia Barbosa - Gerente de Comunicação.
DESCRIPTION:
URL:https://www.goiasfomento.com/agenda/lucas-fernandes-diretor-presidente-interino-reuniao-com-darmelia-barbosa-gerente-de-comunicacao/
LOCATION:Gabinete da Presidência da GoiásFomento – Agência de Fomento de Goiás.
CATEGORIES:Presidência
END:VEVENT
BEGIN:VEVENT
DTSTART;TZID=America/Sao_Paulo:20250228T090000
DTEND;TZID=America/Sao_Paulo:20250228T093000
DTSTAMP:20260425T081458
CREATED:20250228T135644Z
LAST-MODIFIED:20250228T135644Z
UID:40585-1740733200-1740735000@www.goiasfomento.com
SUMMARY:Lucas Fernandes: Reunião com Darmélia Barbosa - Gerente de Comunicação.
DESCRIPTION:
URL:https://www.goiasfomento.com/agenda/lucas-fernandes-reuniao-com-darmelia-barbosa-gerente-de-comunicacao/
LOCATION:Gabinete da Presidência da GoiásFomento – Agência de Fomento de Goiás.
CATEGORIES:Diretoria Administrativa e Financeira
END:VEVENT
BEGIN:VEVENT
DTSTART;TZID=America/Sao_Paulo:20250228T093000
DTEND;TZID=America/Sao_Paulo:20250228T100000
DTSTAMP:20260425T081458
CREATED:20250228T140138Z
LAST-MODIFIED:20250228T140138Z
UID:40587-1740735000-1740736800@www.goiasfomento.com
SUMMARY:Lucas Fernandes – Diretor Presidente (Interino): Reunião com Gálbia do Amor Divino Rosa - Gerente Jurídica e Luiz Arthur Medeiros Miguel - Gerente de Licitação e Contratos.
DESCRIPTION:
URL:https://www.goiasfomento.com/agenda/lucas-fernandes-diretor-presidente-interino-reuniao-com-galbia-do-amor-divino-rosa-gerente-juridica-e-luiz-arthur-medeiros-miguel-gerente-de-licitacao-e-contratos/
LOCATION:Gabinete da Presidência da GoiásFomento – Agência de Fomento de Goiás.
CATEGORIES:Presidência
END:VEVENT
BEGIN:VEVENT
DTSTART;TZID=America/Sao_Paulo:20250228T093000
DTEND;TZID=America/Sao_Paulo:20250228T100000
DTSTAMP:20260425T081458
CREATED:20250228T140231Z
LAST-MODIFIED:20250228T140231Z
UID:40589-1740735000-1740736800@www.goiasfomento.com
SUMMARY:Lucas Fernandes: Reunião com Gálbia do Amor Divino Rosa - Gerente Jurídica e Luiz Arthur Medeiros Miguel - Gerente de Licitação e Contratos.
DESCRIPTION:
URL:https://www.goiasfomento.com/agenda/lucas-fernandes-reuniao-com-galbia-do-amor-divino-rosa-gerente-juridica-e-luiz-arthur-medeiros-miguel-gerente-de-licitacao-e-contratos/
LOCATION:Gabinete da Presidência da GoiásFomento – Agência de Fomento de Goiás.
CATEGORIES:Diretoria Administrativa e Financeira
END:VEVENT
BEGIN:VEVENT
DTSTART;TZID=America/Sao_Paulo:20250228T100000
DTEND;TZID=America/Sao_Paulo:20250228T103000
DTSTAMP:20260425T081458
CREATED:20250228T143225Z
LAST-MODIFIED:20250228T143638Z
UID:40591-1740736800-1740738600@www.goiasfomento.com
SUMMARY:Lucas Fernandes: Reunião com Maria Terezinha da Mota Batista - Assessora Técnica de Contabilidade.
DESCRIPTION:
URL:https://www.goiasfomento.com/agenda/lucas-fernandes-reuniao-com-maria-terezinha-da-mota-batista-assessora-tecnica-de-contabilidade-2/
LOCATION:Gabinete da Presidência da GoiásFomento – Agência de Fomento de Goiás.
CATEGORIES:Diretoria Administrativa e Financeira
END:VEVENT
BEGIN:VEVENT
DTSTART;TZID=America/Sao_Paulo:20250228T100000
DTEND;TZID=America/Sao_Paulo:20250228T103000
DTSTAMP:20260425T081458
CREATED:20250228T143508Z
LAST-MODIFIED:20250228T143508Z
UID:40593-1740736800-1740738600@www.goiasfomento.com
SUMMARY:Lucas Fernandes – Diretor Presidente (Interino): Reunião com Maria Terezinha da Mota Batista - Assessora Técnica de Contabilidade.
DESCRIPTION:
URL:https://www.goiasfomento.com/agenda/lucas-fernandes-diretor-presidente-interino-reuniao-com-maria-terezinha-da-mota-batista-assessora-tecnica-de-contabilidade-2/
LOCATION:Gabinete da Presidência da GoiásFomento – Agência de Fomento de Goiás.
CATEGORIES:Presidência
END:VEVENT
BEGIN:VEVENT
DTSTART;TZID=America/Sao_Paulo:20250228T103000
DTEND;TZID=America/Sao_Paulo:20250228T120000
DTSTAMP:20260425T081458
CREATED:20250228T143818Z
LAST-MODIFIED:20250228T143818Z
UID:40595-1740738600-1740744000@www.goiasfomento.com
SUMMARY:Lucas Fernandes – Diretor Presidente (Interino): Despachos Internos.
DESCRIPTION:
URL:https://www.goiasfomento.com/agenda/lucas-fernandes-diretor-presidente-interino-despachos-internos-296/
LOCATION:Gabinete da Presidência da GoiásFomento – Agência de Fomento de Goiás.
CATEGORIES:Presidência
END:VEVENT
BEGIN:VEVENT
DTSTART;TZID=America/Sao_Paulo:20250228T103000
DTEND;TZID=America/Sao_Paulo:20250228T120000
DTSTAMP:20260425T081458
CREATED:20250228T144016Z
LAST-MODIFIED:20250228T144016Z
UID:40602-1740738600-1740744000@www.goiasfomento.com
SUMMARY:Lucas Fernandes: Despachos Internos.
DESCRIPTION:
URL:https://www.goiasfomento.com/agenda/lucas-fernandes-despachos-internos-740/
LOCATION:Gabinete da Presidência da GoiásFomento – Agência de Fomento de Goiás.
CATEGORIES:Diretoria Administrativa e Financeira
END:VEVENT
BEGIN:VEVENT
DTSTART;TZID=America/Sao_Paulo:20250228T140000
DTEND;TZID=America/Sao_Paulo:20250228T143000
DTSTAMP:20260425T081458
CREATED:20250228T180153Z
LAST-MODIFIED:20250228T180153Z
UID:40615-1740751200-1740753000@www.goiasfomento.com
SUMMARY:Rufino Veríssimo: Despachos Internos.
DESCRIPTION:
URL:https://www.goiasfomento.com/agenda/rufino-verissimo-despachos-internos-193/
LOCATION:Gabinete da Diretoria de Operações da GoiásFomento – Agência de Fomento de Goiás.
CATEGORIES:Diretoria de Operações
END:VEVENT
BEGIN:VEVENT
DTSTART;TZID=America/Sao_Paulo:20250228T140000
DTEND;TZID=America/Sao_Paulo:20250228T180000
DTSTAMP:20260425T081458
CREATED:20250228T143918Z
LAST-MODIFIED:20250228T143918Z
UID:40597-1740751200-1740765600@www.goiasfomento.com
SUMMARY:Lucas Fernandes – Diretor Presidente (Interino): Despachos Internos.
DESCRIPTION:
URL:https://www.goiasfomento.com/agenda/lucas-fernandes-diretor-presidente-interino-despachos-internos-297/
LOCATION:Gabinete da Presidência da GoiásFomento – Agência de Fomento de Goiás.
CATEGORIES:Presidência
END:VEVENT
BEGIN:VEVENT
DTSTART;TZID=America/Sao_Paulo:20250228T140000
DTEND;TZID=America/Sao_Paulo:20250228T180000
DTSTAMP:20260425T081458
CREATED:20250228T143945Z
LAST-MODIFIED:20250228T143945Z
UID:40599-1740751200-1740765600@www.goiasfomento.com
SUMMARY:Lucas Fernandes: Despachos Internos.
DESCRIPTION:
URL:https://www.goiasfomento.com/agenda/lucas-fernandes-despachos-internos-739/
LOCATION:Gabinete da Presidência da GoiásFomento – Agência de Fomento de Goiás.
CATEGORIES:Diretoria Administrativa e Financeira
END:VEVENT
BEGIN:VEVENT
DTSTART;TZID=America/Sao_Paulo:20250228T140000
DTEND;TZID=America/Sao_Paulo:20250228T180000
DTSTAMP:20260425T081458
CREATED:20250228T174642Z
LAST-MODIFIED:20250228T174642Z
UID:40607-1740751200-1740765600@www.goiasfomento.com
SUMMARY:Fernando Dias: Despachos Internos.
DESCRIPTION:
URL:https://www.goiasfomento.com/agenda/fernando-dias-despachos-internos-85/
LOCATION:Chefia de Gabinete – Agência de Fomento de Goiás
CATEGORIES:Chefia de Gabinete
END:VEVENT
BEGIN:VEVENT
DTSTART;TZID=America/Sao_Paulo:20250228T143000
DTEND;TZID=America/Sao_Paulo:20250228T160000
DTSTAMP:20260425T081458
CREATED:20250228T180125Z
LAST-MODIFIED:20250228T180125Z
UID:40613-1740753000-1740758400@www.goiasfomento.com
SUMMARY:Rufino Veríssimo: Reunião com Empresa Inttegra e o Rafael Soffa Rézio - Gerente de Programas e Políticas Sociais.
DESCRIPTION:
URL:https://www.goiasfomento.com/agenda/rufino-verissimo-reuniao-com-empresa-inttegra-e-o-rafael-soffa-rezio-gerente-de-programas-e-politicas-sociais-2/
LOCATION:Gabinete da Diretoria de Operações da GoiásFomento – Agência de Fomento de Goiás.
CATEGORIES:Diretoria de Operações
END:VEVENT
BEGIN:VEVENT
DTSTART;TZID=America/Sao_Paulo:20250228T160000
DTEND;TZID=America/Sao_Paulo:20250228T180000
DTSTAMP:20260425T081458
CREATED:20250228T180236Z
LAST-MODIFIED:20250228T180236Z
UID:40617-1740758400-1740765600@www.goiasfomento.com
SUMMARY:Rufino Veríssimo: Despachos Internos.
DESCRIPTION:
URL:https://www.goiasfomento.com/agenda/rufino-verissimo-despachos-internos-194/
LOCATION:Gabinete da Diretoria de Operações da GoiásFomento – Agência de Fomento de Goiás.
CATEGORIES:Diretoria de Operações
END:VEVENT
BEGIN:VEVENT
DTSTART;VALUE=DATE:20250303
DTEND;VALUE=DATE:20250304
DTSTAMP:20260425T081458
CREATED:20250217T193128Z
LAST-MODIFIED:20250217T193217Z
UID:40215-1740960000-1741046399@www.goiasfomento.com
SUMMARY:Rufino Veríssimo: Ponto Facultativo\, segundo Decreto Estadual nº 10.644 de 7 de fevereiro de 2025.
DESCRIPTION:
URL:https://www.goiasfomento.com/agenda/ponto-facultativo-segundo-decreto-estadual-no-10-644-de-7-de-fevereiro-de-2025/
LOCATION:Gabinete da Diretoria de Operações da GoiásFomento – Agência de Fomento de Goiás.
CATEGORIES:Diretoria de Operações
END:VEVENT
BEGIN:VEVENT
DTSTART;VALUE=DATE:20250303
DTEND;VALUE=DATE:20250304
DTSTAMP:20260425T081458
CREATED:20250217T194154Z
LAST-MODIFIED:20250217T194154Z
UID:40224-1740960000-1741046399@www.goiasfomento.com
SUMMARY:Lucas Fernandes: Ponto Facultativo\, segundo Decreto Estadual nº 10.644 de 7 de fevereiro de 2025.
DESCRIPTION:
URL:https://www.goiasfomento.com/agenda/lucas-fernandes-ponto-facultativo-segundo-decreto-estadual-no-10-644-de-7-de-fevereiro-de-2025/
LOCATION:Gabinete da Diretoria Administrativa e Financeira – Agência de Fomento de Goiás.
CATEGORIES:Diretoria Administrativa e Financeira
END:VEVENT
BEGIN:VEVENT
DTSTART;VALUE=DATE:20250303
DTEND;VALUE=DATE:20250304
DTSTAMP:20260425T081458
CREATED:20250217T194329Z
LAST-MODIFIED:20250217T194329Z
UID:40228-1740960000-1741046399@www.goiasfomento.com
SUMMARY:Fernando Dias: Ponto Facultativo\, segundo Decreto Estadual nº 10.644 de 7 de fevereiro de 2025.
DESCRIPTION:
URL:https://www.goiasfomento.com/agenda/fernando-dias-ponto-facultativo-segundo-decreto-estadual-no-10-644-de-7-de-fevereiro-de-2025/
LOCATION:Chefia de Gabinete – Agência de Fomento de Goiás
CATEGORIES:Chefia de Gabinete
END:VEVENT
BEGIN:VEVENT
DTSTART;VALUE=DATE:20250303
DTEND;VALUE=DATE:20250304
DTSTAMP:20260425T081458
CREATED:20250217T194703Z
LAST-MODIFIED:20250217T194802Z
UID:40233-1740960000-1741046399@www.goiasfomento.com
SUMMARY:Lucas Fernandes – Diretor Presidente (Interino): Ponto Facultativo\, segundo Decreto Estadual nº 10.644 de 7 de fevereiro de 2025.
DESCRIPTION:
URL:https://www.goiasfomento.com/agenda/lucas-fernandes-diretor-presidente-interino-ponto-facultativo-segundo-decreto-estadual-no-10-644-de-7-de-fevereiro-de-2025-3/
CATEGORIES:Presidência
END:VEVENT
BEGIN:VEVENT
DTSTART;VALUE=DATE:20250304
DTEND;VALUE=DATE:20250305
DTSTAMP:20260425T081458
CREATED:20250217T194840Z
LAST-MODIFIED:20250217T194840Z
UID:40235-1741046400-1741132799@www.goiasfomento.com
SUMMARY:Lucas Fernandes – Diretor Presidente (Interino): Feriado Nacional – Carnaval.
DESCRIPTION:
URL:https://www.goiasfomento.com/agenda/lucas-fernandes-diretor-presidente-interino-feriado-nacional-carnaval/
LOCATION:Gabinete da Presidência da GoiásFomento – Agência de Fomento de Goiás.
CATEGORIES:Presidência
END:VEVENT
BEGIN:VEVENT
DTSTART;VALUE=DATE:20250304
DTEND;VALUE=DATE:20250305
DTSTAMP:20260425T081458
CREATED:20250217T194952Z
LAST-MODIFIED:20250217T194952Z
UID:40239-1741046400-1741132799@www.goiasfomento.com
SUMMARY:Fernando Dias: Feriado Nacional – Carnaval.
DESCRIPTION:
URL:https://www.goiasfomento.com/agenda/fernando-dias-feriado-nacional-carnaval/
LOCATION:Chefia de Gabinete – Agência de Fomento de Goiás
CATEGORIES:Chefia de Gabinete
END:VEVENT
BEGIN:VEVENT
DTSTART;VALUE=DATE:20250304
DTEND;VALUE=DATE:20250305
DTSTAMP:20260425T081458
CREATED:20250217T195040Z
LAST-MODIFIED:20250217T195040Z
UID:40241-1741046400-1741132799@www.goiasfomento.com
SUMMARY:Rufino Veríssimo:  Feriado Nacional – Carnaval.
DESCRIPTION:
URL:https://www.goiasfomento.com/agenda/rufino-verissimo-feriado-nacional-carnaval/
LOCATION:Gabinete da Diretoria de Operações da GoiásFomento – Agência de Fomento de Goiás.
CATEGORIES:Diretoria de Operações
END:VEVENT
BEGIN:VEVENT
DTSTART;TZID=America/Sao_Paulo:20250304T080000
DTEND;TZID=America/Sao_Paulo:20250304T170000
DTSTAMP:20260425T081458
CREATED:20250217T194907Z
LAST-MODIFIED:20250217T194907Z
UID:40237-1741075200-1741107600@www.goiasfomento.com
SUMMARY:Lucas Fernandes: Feriado Nacional – Carnaval.
DESCRIPTION:
URL:https://www.goiasfomento.com/agenda/lucas-fernandes-feriado-nacional-carnaval-2/
LOCATION:Gabinete da Diretoria Administrativa e Financeira – Agência de Fomento de Goiás.
CATEGORIES:Diretoria Administrativa e Financeira
END:VEVENT
BEGIN:VEVENT
DTSTART;TZID=America/Sao_Paulo:20250305T080000
DTEND;TZID=America/Sao_Paulo:20250305T140000
DTSTAMP:20260425T081458
CREATED:20250217T193247Z
LAST-MODIFIED:20250217T193247Z
UID:40218-1741161600-1741183200@www.goiasfomento.com
SUMMARY:Rufino Veríssimo: Ponto Facultativo\, segundo Decreto Estadual nº 10.644 de 7 de fevereiro de 2025.
DESCRIPTION:
URL:https://www.goiasfomento.com/agenda/rufino-verissimo-ponto-facultativo-segundo-decreto-estadual-no-10-644-de-7-de-fevereiro-de-2025/
LOCATION:Gabinete da Diretoria de Operações da GoiásFomento – Agência de Fomento de Goiás.
CATEGORIES:Diretoria de Operações
END:VEVENT
BEGIN:VEVENT
DTSTART;TZID=America/Sao_Paulo:20250305T080000
DTEND;TZID=America/Sao_Paulo:20250305T140000
DTSTAMP:20260425T081458
CREATED:20250217T194123Z
LAST-MODIFIED:20250217T194123Z
UID:40222-1741161600-1741183200@www.goiasfomento.com
SUMMARY:Lucas Fernandes – Diretor Presidente (Interino): Ponto Facultativo\, segundo Decreto Estadual nº 10.644 de 7 de fevereiro de 2025.
DESCRIPTION:
URL:https://www.goiasfomento.com/agenda/lucas-fernandes-diretor-presidente-interino-ponto-facultativo-segundo-decreto-estadual-no-10-644-de-7-de-fevereiro-de-2025-2/
LOCATION:Gabinete da Presidência da GoiásFomento – Agência de Fomento de Goiás.
CATEGORIES:Presidência
END:VEVENT
END:VCALENDAR