BEGIN:VCALENDAR
VERSION:2.0
PRODID:-//GoiásFomento - Agência de Fomento - ECPv6.15.20//NONSGML v1.0//EN
CALSCALE:GREGORIAN
METHOD:PUBLISH
X-ORIGINAL-URL:https://www.goiasfomento.com
X-WR-CALDESC:Eventos para GoiásFomento - Agência de Fomento
REFRESH-INTERVAL;VALUE=DURATION:PT1H
X-Robots-Tag:noindex
X-PUBLISHED-TTL:PT1H
BEGIN:VTIMEZONE
TZID:America/Sao_Paulo
BEGIN:STANDARD
TZOFFSETFROM:-0300
TZOFFSETTO:-0300
TZNAME:-03
DTSTART:20240101T000000
END:STANDARD
END:VTIMEZONE
BEGIN:VEVENT
DTSTART;TZID=America/Sao_Paulo:20250218T053000
DTEND;TZID=America/Sao_Paulo:20250218T153000
DTSTAMP:20260425T081520
CREATED:20250218T193242Z
LAST-MODIFIED:20250219T120946Z
UID:40293-1739856600-1739892600@www.goiasfomento.com
SUMMARY:Rufino Veríssimo: Evento - Programa Sociais “Mães de Goiás” e “Goiás por Elas” em Luziânia-Goiás.
DESCRIPTION:
URL:https://www.goiasfomento.com/agenda/rufino-verissimo-reuniao-em-luziania-goias/
LOCATION:Luziânia – GO
CATEGORIES:Diretoria de Operações
END:VEVENT
BEGIN:VEVENT
DTSTART;TZID=America/Sao_Paulo:20250218T080000
DTEND;TZID=America/Sao_Paulo:20250218T100000
DTSTAMP:20260425T081520
CREATED:20250218T192147Z
LAST-MODIFIED:20250218T192147Z
UID:40281-1739865600-1739872800@www.goiasfomento.com
SUMMARY:Fernando Dias: Despachos Internos.
DESCRIPTION:
URL:https://www.goiasfomento.com/agenda/fernando-dias-despachos-internos-67/
LOCATION:Chefia de Gabinete – Agência de Fomento de Goiás
CATEGORIES:Chefia de Gabinete
END:VEVENT
BEGIN:VEVENT
DTSTART;TZID=America/Sao_Paulo:20250218T080000
DTEND;TZID=America/Sao_Paulo:20250218T110000
DTSTAMP:20260425T081520
CREATED:20250218T140313Z
LAST-MODIFIED:20250218T140313Z
UID:40261-1739865600-1739876400@www.goiasfomento.com
SUMMARY:Lucas Fernandes – Diretor Presidente (Interino): Despachos Internos.
DESCRIPTION:
URL:https://www.goiasfomento.com/agenda/lucas-fernandes-diretor-presidente-interino-despachos-internos-275/
LOCATION:Gabinete da Presidência.
CATEGORIES:Presidência
END:VEVENT
BEGIN:VEVENT
DTSTART;TZID=America/Sao_Paulo:20250218T080000
DTEND;TZID=America/Sao_Paulo:20250218T110000
DTSTAMP:20260425T081520
CREATED:20250218T140917Z
LAST-MODIFIED:20250218T140917Z
UID:40267-1739865600-1739876400@www.goiasfomento.com
SUMMARY:Lucas Fernandes – Despachos Internos.
DESCRIPTION:
URL:https://www.goiasfomento.com/agenda/lucas-fernandes-despachos-internos-721/
LOCATION:Gabinete da Presidência.
CATEGORIES:Diretoria Administrativa e Financeira
END:VEVENT
BEGIN:VEVENT
DTSTART;TZID=America/Sao_Paulo:20250218T100000
DTEND;TZID=America/Sao_Paulo:20250218T113000
DTSTAMP:20260425T081520
CREATED:20250218T192443Z
LAST-MODIFIED:20250219T120842Z
UID:40283-1739872800-1739878200@www.goiasfomento.com
SUMMARY:Fernando Dias: Reunião com a Empresa Inttegra - online.
DESCRIPTION:
URL:https://www.goiasfomento.com/agenda/fernando-dias-reuniao-com-a-empresa-inttegrar-online/
LOCATION:Chefia de Gabinete – Agência de Fomento de Goiás
CATEGORIES:Chefia de Gabinete
END:VEVENT
BEGIN:VEVENT
DTSTART;TZID=America/Sao_Paulo:20250218T110000
DTEND;TZID=America/Sao_Paulo:20250218T113000
DTSTAMP:20260425T081520
CREATED:20250218T140655Z
LAST-MODIFIED:20250218T140655Z
UID:40263-1739876400-1739878200@www.goiasfomento.com
SUMMARY:Lucas Fernandes – Diretor Presidente (Interino): Reunião com Cesmar Moura de Oliveira - Vice-Presidente - SGPA.
DESCRIPTION:
URL:https://www.goiasfomento.com/agenda/lucas-fernandes-diretor-presidente-interino-reuniao-com-cesmar-moura-de-oliveira-vice-presidente-sgpa/
LOCATION:Gabinete da Presidência.
CATEGORIES:Presidência
END:VEVENT
BEGIN:VEVENT
DTSTART;TZID=America/Sao_Paulo:20250218T110000
DTEND;TZID=America/Sao_Paulo:20250218T113000
DTSTAMP:20260425T081520
CREATED:20250218T140805Z
LAST-MODIFIED:20250218T140805Z
UID:40265-1739876400-1739878200@www.goiasfomento.com
SUMMARY:Lucas Fernandes –  Reunião com Cesmar Moura de Oliveira - Vice-Presidente - SGPA.
DESCRIPTION:
URL:https://www.goiasfomento.com/agenda/lucas-fernandes-reuniao-com-cesmar-moura-de-oliveira-vice-presidente-sgpa/
LOCATION:Gabinete da Presidência.
CATEGORIES:Diretoria Administrativa e Financeira
END:VEVENT
BEGIN:VEVENT
DTSTART;TZID=America/Sao_Paulo:20250218T113000
DTEND;TZID=America/Sao_Paulo:20250218T120000
DTSTAMP:20260425T081520
CREATED:20250218T141018Z
LAST-MODIFIED:20250218T141018Z
UID:40269-1739878200-1739880000@www.goiasfomento.com
SUMMARY:Lucas Fernandes – Diretor Presidente (Interino): Despachos Internos.
DESCRIPTION:
URL:https://www.goiasfomento.com/agenda/lucas-fernandes-diretor-presidente-interino-despachos-internos-276/
LOCATION:Gabinete da Presidência.
CATEGORIES:Presidência
END:VEVENT
BEGIN:VEVENT
DTSTART;TZID=America/Sao_Paulo:20250218T113000
DTEND;TZID=America/Sao_Paulo:20250218T120000
DTSTAMP:20260425T081520
CREATED:20250218T141106Z
LAST-MODIFIED:20250218T141106Z
UID:40271-1739878200-1739880000@www.goiasfomento.com
SUMMARY:Lucas Fernandes – Despachos Internos.
DESCRIPTION:
URL:https://www.goiasfomento.com/agenda/lucas-fernandes-despachos-internos-722/
LOCATION:Gabinete da Presidência.
CATEGORIES:Diretoria Administrativa e Financeira
END:VEVENT
BEGIN:VEVENT
DTSTART;TZID=America/Sao_Paulo:20250218T120000
DTEND;TZID=America/Sao_Paulo:20250218T121500
DTSTAMP:20260425T081520
CREATED:20250218T141717Z
LAST-MODIFIED:20250218T141717Z
UID:40273-1739880000-1739880900@www.goiasfomento.com
SUMMARY:Lucas Fernandes – Diretor Presidente (Interino): Entrevista para o Programa Jornal da Sucesso: Rádio Sucesso - Jaraguá Go 101\,5 FM.
DESCRIPTION:
URL:https://www.goiasfomento.com/agenda/lucas-fernandes-diretor-presidente-interino-entrevista-para-o-programa-jornal-da-sucesso-radio-sucesso-jaragua-go-1015-fm/
LOCATION:Gabinete da Presidência.
CATEGORIES:Presidência
END:VEVENT
BEGIN:VEVENT
DTSTART;TZID=America/Sao_Paulo:20250218T120000
DTEND;TZID=America/Sao_Paulo:20250218T121500
DTSTAMP:20260425T081520
CREATED:20250218T141818Z
LAST-MODIFIED:20250218T141818Z
UID:40275-1739880000-1739880900@www.goiasfomento.com
SUMMARY:Lucas Fernandes – Entrevista para o Programa Jornal da Sucesso: Rádio Sucesso - Jaraguá Go 101\,5 FM.
DESCRIPTION:
URL:https://www.goiasfomento.com/agenda/lucas-fernandes-entrevista-para-o-programa-jornal-da-sucesso-radio-sucesso-jaragua-go-1015-fm/
LOCATION:Gabinete da Presidência.
CATEGORIES:Diretoria Administrativa e Financeira
END:VEVENT
BEGIN:VEVENT
DTSTART;TZID=America/Sao_Paulo:20250218T140000
DTEND;TZID=America/Sao_Paulo:20250218T180000
DTSTAMP:20260425T081521
CREATED:20250218T142159Z
LAST-MODIFIED:20250218T142159Z
UID:40277-1739887200-1739901600@www.goiasfomento.com
SUMMARY:Lucas Fernandes – Diretor Presidente (Interino): Despachos Internos.
DESCRIPTION:
URL:https://www.goiasfomento.com/agenda/lucas-fernandes-diretor-presidente-interino-despachos-internos-277/
LOCATION:Gabinete da Presidência.
CATEGORIES:Presidência
END:VEVENT
BEGIN:VEVENT
DTSTART;TZID=America/Sao_Paulo:20250218T140000
DTEND;TZID=America/Sao_Paulo:20250218T180000
DTSTAMP:20260425T081521
CREATED:20250218T142239Z
LAST-MODIFIED:20250218T142239Z
UID:40279-1739887200-1739901600@www.goiasfomento.com
SUMMARY:Lucas Fernandes – Despachos Internos.
DESCRIPTION:
URL:https://www.goiasfomento.com/agenda/lucas-fernandes-despachos-internos-723/
LOCATION:Gabinete da Presidência.
CATEGORIES:Diretoria Administrativa e Financeira
END:VEVENT
BEGIN:VEVENT
DTSTART;TZID=America/Sao_Paulo:20250218T140000
DTEND;TZID=America/Sao_Paulo:20250218T180000
DTSTAMP:20260425T081521
CREATED:20250218T192546Z
LAST-MODIFIED:20250218T192546Z
UID:40285-1739887200-1739901600@www.goiasfomento.com
SUMMARY:Fernando Dias: Despachos Internos.
DESCRIPTION:
URL:https://www.goiasfomento.com/agenda/fernando-dias-despachos-internos-68/
LOCATION:Chefia de Gabinete – Agência de Fomento de Goiás
CATEGORIES:Chefia de Gabinete
END:VEVENT
BEGIN:VEVENT
DTSTART;TZID=America/Sao_Paulo:20250218T153000
DTEND;TZID=America/Sao_Paulo:20250218T160000
DTSTAMP:20260425T081521
CREATED:20250218T192858Z
LAST-MODIFIED:20250218T192858Z
UID:40291-1739892600-1739894400@www.goiasfomento.com
SUMMARY:Rufino Veríssimo: Despachos Internos.
DESCRIPTION:
URL:https://www.goiasfomento.com/agenda/rufino-verissimo-despachos-internos-172/
LOCATION:Gabinete da Diretoria de Operações da GoiásFomento – Agência de Fomento de Goiás.
CATEGORIES:Diretoria de Operações
END:VEVENT
BEGIN:VEVENT
DTSTART;TZID=America/Sao_Paulo:20250218T160000
DTEND;TZID=America/Sao_Paulo:20250218T170000
DTSTAMP:20260425T081521
CREATED:20250218T192727Z
LAST-MODIFIED:20250218T192727Z
UID:40287-1739894400-1739898000@www.goiasfomento.com
SUMMARY:Rufino Veríssimo: Reunião com os Gerentes da Diretoria de Operações.
DESCRIPTION:
URL:https://www.goiasfomento.com/agenda/rufino-verissimo-reuniao-com-os-gerentes-da-diretoria-de-operacoes-4/
LOCATION:Gabinete da Diretoria de Operações da GoiásFomento – Agência de Fomento de Goiás.
CATEGORIES:Diretoria de Operações
END:VEVENT
BEGIN:VEVENT
DTSTART;TZID=America/Sao_Paulo:20250218T170000
DTEND;TZID=America/Sao_Paulo:20250218T180000
DTSTAMP:20260425T081521
CREATED:20250218T192813Z
LAST-MODIFIED:20250218T192813Z
UID:40289-1739898000-1739901600@www.goiasfomento.com
SUMMARY:Rufino Veríssimo: Despachos Internos.
DESCRIPTION:
URL:https://www.goiasfomento.com/agenda/rufino-verissimo-despachos-internos-171/
LOCATION:Gabinete da Diretoria de Operações da GoiásFomento – Agência de Fomento de Goiás.
CATEGORIES:Diretoria de Operações
END:VEVENT
BEGIN:VEVENT
DTSTART;TZID=America/Sao_Paulo:20250219T080000
DTEND;TZID=America/Sao_Paulo:20250219T083000
DTSTAMP:20260425T081521
CREATED:20250219T182348Z
LAST-MODIFIED:20250219T182348Z
UID:40305-1739952000-1739953800@www.goiasfomento.com
SUMMARY:Rufino Veríssimo: Despachos Internos.
DESCRIPTION:
URL:https://www.goiasfomento.com/agenda/rufino-verissimo-despachos-internos-173/
LOCATION:Gabinete da Diretoria de Operações da GoiásFomento – Agência de Fomento de Goiás.
CATEGORIES:Diretoria de Operações
END:VEVENT
BEGIN:VEVENT
DTSTART;TZID=America/Sao_Paulo:20250219T080000
DTEND;TZID=America/Sao_Paulo:20250219T090000
DTSTAMP:20260425T081521
CREATED:20250219T181526Z
LAST-MODIFIED:20250219T184051Z
UID:40301-1739952000-1739955600@www.goiasfomento.com
SUMMARY:Fernando Dias: Despachos Internos.
DESCRIPTION:
URL:https://www.goiasfomento.com/agenda/fernando-dias-despachos-internos-69/
LOCATION:Chefia de Gabinete – Agência de Fomento de Goiás
CATEGORIES:Chefia de Gabinete
END:VEVENT
BEGIN:VEVENT
DTSTART;TZID=America/Sao_Paulo:20250219T080000
DTEND;TZID=America/Sao_Paulo:20250219T090000
DTSTAMP:20260425T081521
CREATED:20250219T183506Z
LAST-MODIFIED:20250219T183506Z
UID:40315-1739952000-1739955600@www.goiasfomento.com
SUMMARY:Lucas Fernandes – Diretor Presidente (Interino): Despachos Internos.
DESCRIPTION:
URL:https://www.goiasfomento.com/agenda/lucas-fernandes-diretor-presidente-interino-despachos-internos-278/
LOCATION:Gabinete da Presidência da GoiásFomento – Agência de Fomento de Goiás.
CATEGORIES:Presidência
END:VEVENT
BEGIN:VEVENT
DTSTART;TZID=America/Sao_Paulo:20250219T080000
DTEND;TZID=America/Sao_Paulo:20250219T090000
DTSTAMP:20260425T081521
CREATED:20250219T183550Z
LAST-MODIFIED:20250219T183550Z
UID:40317-1739952000-1739955600@www.goiasfomento.com
SUMMARY:Lucas Fernande: Despachos Internos.
DESCRIPTION:
URL:https://www.goiasfomento.com/agenda/lucas-fernande-despachos-internos/
LOCATION:Gabinete da Diretoria Administrativa e Financeira – Agência de Fomento de Goiás.
CATEGORIES:Diretoria Administrativa e Financeira
END:VEVENT
BEGIN:VEVENT
DTSTART;TZID=America/Sao_Paulo:20250219T083000
DTEND;TZID=America/Sao_Paulo:20250219T090000
DTSTAMP:20260425T081521
CREATED:20250219T182543Z
LAST-MODIFIED:20250219T182543Z
UID:40307-1739953800-1739955600@www.goiasfomento.com
SUMMARY:Rufino Verissimo: Reunião com Bruno Alvarenga Campos Martins – Gerente de Atendimento .
DESCRIPTION:
URL:https://www.goiasfomento.com/agenda/rufino-verissimo-reuniao-com-bruno-alvarenga-campos-martins-gerente-de-atendimento-5/
LOCATION:Gabinete da Diretoria de Operações da GoiásFomento – Agência de Fomento de Goiás.
CATEGORIES:Diretoria de Operações
END:VEVENT
BEGIN:VEVENT
DTSTART;TZID=America/Sao_Paulo:20250219T090000
DTEND;TZID=America/Sao_Paulo:20250219T100000
DTSTAMP:20260425T081521
CREATED:20250219T183143Z
LAST-MODIFIED:20250219T183812Z
UID:40309-1739955600-1739959200@www.goiasfomento.com
SUMMARY:Rufino Veríssimo: Reunião da Direx com Fernando Dias dos Reis - Chefe de Gabinete.
DESCRIPTION:
URL:https://www.goiasfomento.com/agenda/rufino-verissimo-reuniao-da-direx-com-fernando-dias-dos-reis-chefe-de-gabinete/
LOCATION:Gabinete da Diretoria de Operações da GoiásFomento – Agência de Fomento de Goiás.
CATEGORIES:Diretoria de Operações
END:VEVENT
BEGIN:VEVENT
DTSTART;TZID=America/Sao_Paulo:20250219T090000
DTEND;TZID=America/Sao_Paulo:20250219T100000
DTSTAMP:20260425T081521
CREATED:20250219T183251Z
LAST-MODIFIED:20250219T183908Z
UID:40311-1739955600-1739959200@www.goiasfomento.com
SUMMARY:Lucas Fernandes – Diretor Presidente (Interino): Reunião da Direx com Fernando Dias dos Reis - Chefe de Gabinete.
DESCRIPTION:
URL:https://www.goiasfomento.com/agenda/lucas-fernandes-diretor-presidente-interino-reuniao-da-direx-com-fernando-dias-dos-reis-chefe-de-gabinete/
LOCATION:Gabinete da Presidência da GoiásFomento – Agência de Fomento de Goiás.
CATEGORIES:Presidência
END:VEVENT
BEGIN:VEVENT
DTSTART;TZID=America/Sao_Paulo:20250219T090000
DTEND;TZID=America/Sao_Paulo:20250219T100000
DTSTAMP:20260425T081521
CREATED:20250219T183335Z
LAST-MODIFIED:20250219T183335Z
UID:40313-1739955600-1739959200@www.goiasfomento.com
SUMMARY:Lucas Fernandes: Reunião da Direx com Fernando Dias dos Reis - Chefe de Gabinete.
DESCRIPTION:
URL:https://www.goiasfomento.com/agenda/lucas-fernandes-reuniao-da-direx-com-fernando-dias-dos-reis-chefe-de-gabinete/
LOCATION:Gabinete da Diretoria Administrativa e Financeira – Agência de Fomento de Goiás.
CATEGORIES:Diretoria Administrativa e Financeira
END:VEVENT
BEGIN:VEVENT
DTSTART;TZID=America/Sao_Paulo:20250219T090000
DTEND;TZID=America/Sao_Paulo:20250219T100000
DTSTAMP:20260425T081521
CREATED:20250219T184226Z
LAST-MODIFIED:20250219T184238Z
UID:40319-1739955600-1739959200@www.goiasfomento.com
SUMMARY:Fernando Dias:  Reunião da Diretoria Executiva da Agência de Fomento de Goiás.
DESCRIPTION:
URL:https://www.goiasfomento.com/agenda/fernando-dias-reuniao-da-diretoria-executiva-da-agencia-de-fomento-de-goias/
LOCATION:Gabinete da Presidência da GoiásFomento – Agência de Fomento de Goiás.
CATEGORIES:Chefia de Gabinete
END:VEVENT
BEGIN:VEVENT
DTSTART;TZID=America/Sao_Paulo:20250219T100000
DTEND;TZID=America/Sao_Paulo:20250219T110000
DTSTAMP:20260425T081521
CREATED:20250219T181426Z
LAST-MODIFIED:20250219T181426Z
UID:40298-1739959200-1739962800@www.goiasfomento.com
SUMMARY:Fernando Dias: Reunião com os representantes do Instituto Verbena - UFG - online.
DESCRIPTION:
URL:https://www.goiasfomento.com/agenda/fernando-dias-reuniao-com-os-representantes-do-instituto-verbena-ufg-online/
LOCATION:Chefia de Gabinete – Agência de Fomento de Goiás
CATEGORIES:Chefia de Gabinete
END:VEVENT
BEGIN:VEVENT
DTSTART;TZID=America/Sao_Paulo:20250219T100000
DTEND;TZID=America/Sao_Paulo:20250219T110000
DTSTAMP:20260425T081521
CREATED:20250219T184513Z
LAST-MODIFIED:20250219T184513Z
UID:40321-1739959200-1739962800@www.goiasfomento.com
SUMMARY:Lucas Fernandes – Diretor Presidente (Interino): Reunião com Camila Rosa - Vereadora por Aparecida de Goiânia-GO.
DESCRIPTION:
URL:https://www.goiasfomento.com/agenda/lucas-fernandes-diretor-presidente-interino-reuniao-com-camila-rosa-vereadora-por-aparecida-de-goiania-go/
LOCATION:Gabinete da Presidência da GoiásFomento – Agência de Fomento de Goiás.
CATEGORIES:Presidência
END:VEVENT
BEGIN:VEVENT
DTSTART;TZID=America/Sao_Paulo:20250219T100000
DTEND;TZID=America/Sao_Paulo:20250219T110000
DTSTAMP:20260425T081521
CREATED:20250219T184550Z
LAST-MODIFIED:20250219T184550Z
UID:40323-1739959200-1739962800@www.goiasfomento.com
SUMMARY:Lucas Fernandes: Reunião com Camila Rosa - Vereadora por Aparecida de Goiânia-GO.
DESCRIPTION:
URL:https://www.goiasfomento.com/agenda/lucas-fernandes-reuniao-com-camila-rosa-vereadora-por-aparecida-de-goiania-go/
LOCATION:Gabinete da Presidência da GoiásFomento – Agência de Fomento de Goiás.
CATEGORIES:Diretoria Administrativa e Financeira
END:VEVENT
BEGIN:VEVENT
DTSTART;TZID=America/Sao_Paulo:20250219T100000
DTEND;TZID=America/Sao_Paulo:20250219T110000
DTSTAMP:20260425T081521
CREATED:20250219T185024Z
LAST-MODIFIED:20250219T185024Z
UID:40333-1739959200-1739962800@www.goiasfomento.com
SUMMARY:Rufino Veríssimo: Reunião com Vânia Aparecida da Silveira - Gerente de Análise de Crédito
DESCRIPTION:
URL:https://www.goiasfomento.com/agenda/rufino-verissimo-reuniao-com-vania-aparecida-da-silveira-gerente-de-analise-de-credito/
LOCATION:Gabinete da Diretoria de Operações da GoiásFomento – Agência de Fomento de Goiás.
CATEGORIES:Diretoria de Operações
END:VEVENT
END:VCALENDAR