BEGIN:VCALENDAR
VERSION:2.0
PRODID:-//GoiásFomento - Agência de Fomento - ECPv6.15.20//NONSGML v1.0//EN
CALSCALE:GREGORIAN
METHOD:PUBLISH
X-ORIGINAL-URL:https://www.goiasfomento.com
X-WR-CALDESC:Eventos para GoiásFomento - Agência de Fomento
REFRESH-INTERVAL;VALUE=DURATION:PT1H
X-Robots-Tag:noindex
X-PUBLISHED-TTL:PT1H
BEGIN:VTIMEZONE
TZID:America/Sao_Paulo
BEGIN:STANDARD
TZOFFSETFROM:-0300
TZOFFSETTO:-0300
TZNAME:-03
DTSTART:20240101T000000
END:STANDARD
END:VTIMEZONE
BEGIN:VEVENT
DTSTART;TZID=America/Sao_Paulo:20250213T080000
DTEND;TZID=America/Sao_Paulo:20250213T083000
DTSTAMP:20260425T095144
CREATED:20250213T152908Z
LAST-MODIFIED:20250213T152908Z
UID:40127-1739433600-1739435400@www.goiasfomento.com
SUMMARY:Fernando Dias: Despachos Internos.
DESCRIPTION:
URL:https://www.goiasfomento.com/agenda/fernando-dias-despachos-internos-59/
LOCATION:Chefia de Gabinete – Agência de Fomento de Goiás
CATEGORIES:Chefia de Gabinete
END:VEVENT
BEGIN:VEVENT
DTSTART;TZID=America/Sao_Paulo:20250213T080000
DTEND;TZID=America/Sao_Paulo:20250213T103000
DTSTAMP:20260425T095144
CREATED:20250213T152621Z
LAST-MODIFIED:20250213T152621Z
UID:40121-1739433600-1739442600@www.goiasfomento.com
SUMMARY:Rufino Veríssimo: Despachos Internos.
DESCRIPTION:
URL:https://www.goiasfomento.com/agenda/rufino-verissimo-despachos-internos-162/
LOCATION:Gabinete da Diretoria de Operações da GoiásFomento – Agência de Fomento de Goiás.
CATEGORIES:Diretoria de Operações
END:VEVENT
BEGIN:VEVENT
DTSTART;TZID=America/Sao_Paulo:20250213T080000
DTEND;TZID=America/Sao_Paulo:20250213T113000
DTSTAMP:20260425T095144
CREATED:20250213T190855Z
LAST-MODIFIED:20250213T190855Z
UID:40134-1739433600-1739446200@www.goiasfomento.com
SUMMARY:Lucas Fernandes – Diretor Presidente (Interino): Despachos Internos.
DESCRIPTION:
URL:https://www.goiasfomento.com/agenda/lucas-fernandes-diretor-presidente-interino-despachos-internos-268/
LOCATION:Gabinete da Presidência.
CATEGORIES:Presidência
END:VEVENT
BEGIN:VEVENT
DTSTART;TZID=America/Sao_Paulo:20250213T080000
DTEND;TZID=America/Sao_Paulo:20250213T113000
DTSTAMP:20260425T095144
CREATED:20250213T191004Z
LAST-MODIFIED:20250213T191004Z
UID:40143-1739433600-1739446200@www.goiasfomento.com
SUMMARY:Lucas Fernandes – Despachos Internos.
DESCRIPTION:
URL:https://www.goiasfomento.com/agenda/lucas-fernandes-despachos-internos-714/
LOCATION:Gabinete da Presidência.
CATEGORIES:Diretoria Administrativa e Financeira
END:VEVENT
BEGIN:VEVENT
DTSTART;TZID=America/Sao_Paulo:20250213T083000
DTEND;TZID=America/Sao_Paulo:20250213T090000
DTSTAMP:20260425T095144
CREATED:20250213T153013Z
LAST-MODIFIED:20250213T153013Z
UID:40129-1739435400-1739437200@www.goiasfomento.com
SUMMARY:Fernando Dias: Reunião com Porthos R. de Albuquerque Motta – Assessor de Gerenciamento de Riscos e Escritório de Projetos.
DESCRIPTION:
URL:https://www.goiasfomento.com/agenda/fernando-dias-reuniao-com-porthos-r-de-albuquerque-motta-assessor-de-gerenciamento-de-riscos-e-escritorio-de-projetos-2/
LOCATION:Chefia de Gabinete – Agência de Fomento de Goiás
CATEGORIES:Chefia de Gabinete
END:VEVENT
BEGIN:VEVENT
DTSTART;TZID=America/Sao_Paulo:20250213T090000
DTEND;TZID=America/Sao_Paulo:20250213T120000
DTSTAMP:20260425T095144
CREATED:20250213T153151Z
LAST-MODIFIED:20250213T153151Z
UID:40131-1739437200-1739448000@www.goiasfomento.com
SUMMARY:Fernando Dias: Despachos Internos.
DESCRIPTION:
URL:https://www.goiasfomento.com/agenda/fernando-dias-despachos-internos-60/
LOCATION:Chefia de Gabinete – Agência de Fomento de Goiás
CATEGORIES:Chefia de Gabinete
END:VEVENT
BEGIN:VEVENT
DTSTART;TZID=America/Sao_Paulo:20250213T103000
DTEND;TZID=America/Sao_Paulo:20250213T110000
DTSTAMP:20260425T095144
CREATED:20250213T152803Z
LAST-MODIFIED:20250213T152803Z
UID:40125-1739442600-1739444400@www.goiasfomento.com
SUMMARY:Rufino Verissimo: Reunião com Wagner Siqueira Coelho - Gerente de Prospecção de Negócios.
DESCRIPTION:
URL:https://www.goiasfomento.com/agenda/rufino-verissimo-reuniao-com-wagner-siqueira-coelho-gerente-de-prospeccao-de-negocios-9/
LOCATION:Gabinete da Diretoria de Operações da GoiásFomento – Agência de Fomento de Goiás.
CATEGORIES:Diretoria de Operações
END:VEVENT
BEGIN:VEVENT
DTSTART;TZID=America/Sao_Paulo:20250213T110000
DTEND;TZID=America/Sao_Paulo:20250213T113000
DTSTAMP:20260425T095144
CREATED:20250213T152645Z
LAST-MODIFIED:20250213T152645Z
UID:40123-1739444400-1739446200@www.goiasfomento.com
SUMMARY:Rufino Veríssimo: Despachos Internos.
DESCRIPTION:
URL:https://www.goiasfomento.com/agenda/rufino-verissimo-despachos-internos-163/
LOCATION:Gabinete da Diretoria de Operações da GoiásFomento – Agência de Fomento de Goiás.
CATEGORIES:Diretoria de Operações
END:VEVENT
BEGIN:VEVENT
DTSTART;TZID=America/Sao_Paulo:20250213T113000
DTEND;TZID=America/Sao_Paulo:20250213T124000
DTSTAMP:20260425T095144
CREATED:20250213T152329Z
LAST-MODIFIED:20250213T152329Z
UID:40115-1739446200-1739450400@www.goiasfomento.com
SUMMARY:Rufino Veríssimo: Reunião da Direx com Rafael Soffa Rézio – Gerente de Programas e Políticas Sociais.
DESCRIPTION:
URL:https://www.goiasfomento.com/agenda/rufino-verissimo-reuniao-da-direx-com-rafael-soffa-rezio-gerente-de-programas-e-politicas-sociais-8/
LOCATION:Gabinete da Presidência da GoiásFomento – Agência de Fomento de Goiás.
CATEGORIES:Diretoria de Operações
END:VEVENT
BEGIN:VEVENT
DTSTART;TZID=America/Sao_Paulo:20250213T113000
DTEND;TZID=America/Sao_Paulo:20250213T124000
DTSTAMP:20260425T095144
CREATED:20250213T152448Z
LAST-MODIFIED:20250213T152448Z
UID:40117-1739446200-1739450400@www.goiasfomento.com
SUMMARY:Lucas Fernandes – Diretor Presidente (Interino): Reunião da Direx com Rafael Soffa Rézio – Gerente de Programas e Políticas Sociais.
DESCRIPTION:
URL:https://www.goiasfomento.com/agenda/lucas-fernandes-diretor-presidente-interino-reuniao-da-direx-com-rafael-soffa-rezio-gerente-de-programas-e-politicas-sociais-5/
LOCATION:Gabinete da Presidência da GoiásFomento – Agência de Fomento de Goiás.
CATEGORIES:Presidência
END:VEVENT
BEGIN:VEVENT
DTSTART;TZID=America/Sao_Paulo:20250213T113000
DTEND;TZID=America/Sao_Paulo:20250213T124000
DTSTAMP:20260425T095144
CREATED:20250213T152520Z
LAST-MODIFIED:20250213T152520Z
UID:40119-1739446200-1739450400@www.goiasfomento.com
SUMMARY:Lucas Fernandes: Reunião da Direx com Rafael Soffa Rézio – Gerente de Programas e Políticas Sociais.
DESCRIPTION:
URL:https://www.goiasfomento.com/agenda/lucas-fernandes-reuniao-da-direx-com-rafael-soffa-rezio-gerente-de-programas-e-politicas-sociais-4/
LOCATION:Gabinete da Presidência da GoiásFomento – Agência de Fomento de Goiás.
CATEGORIES:Diretoria Administrativa e Financeira
END:VEVENT
BEGIN:VEVENT
DTSTART;TZID=America/Sao_Paulo:20250213T140000
DTEND;TZID=America/Sao_Paulo:20250213T153000
DTSTAMP:20260425T095144
CREATED:20250213T190226Z
LAST-MODIFIED:20250213T190226Z
UID:40136-1739455200-1739460600@www.goiasfomento.com
SUMMARY:Rufino Veríssimo: Despachos Internos.
DESCRIPTION:
URL:https://www.goiasfomento.com/agenda/rufino-verissimo-despachos-internos-164/
LOCATION:Gabinete da Diretoria de Operações da GoiásFomento – Agência de Fomento de Goiás.
CATEGORIES:Diretoria de Operações
END:VEVENT
BEGIN:VEVENT
DTSTART;TZID=America/Sao_Paulo:20250213T140000
DTEND;TZID=America/Sao_Paulo:20250213T180000
DTSTAMP:20260425T095144
CREATED:20250213T190039Z
LAST-MODIFIED:20250213T190039Z
UID:40133-1739455200-1739469600@www.goiasfomento.com
SUMMARY:Fernando Dias: Despachos Internos.
DESCRIPTION:
URL:https://www.goiasfomento.com/agenda/fernando-dias-despachos-internos-61/
LOCATION:Chefia de Gabinete – Agência de Fomento de Goiás
CATEGORIES:Chefia de Gabinete
END:VEVENT
BEGIN:VEVENT
DTSTART;TZID=America/Sao_Paulo:20250213T140000
DTEND;TZID=America/Sao_Paulo:20250213T180000
DTSTAMP:20260425T095144
CREATED:20250213T191145Z
LAST-MODIFIED:20250213T191145Z
UID:40145-1739455200-1739469600@www.goiasfomento.com
SUMMARY:Lucas Fernandes – Diretor Presidente (Interino): Despachos Internos.
DESCRIPTION:
URL:https://www.goiasfomento.com/agenda/lucas-fernandes-diretor-presidente-interino-despachos-internos-269/
LOCATION:Gabinete da Presidência.
CATEGORIES:Presidência
END:VEVENT
BEGIN:VEVENT
DTSTART;TZID=America/Sao_Paulo:20250213T140000
DTEND;TZID=America/Sao_Paulo:20250213T180000
DTSTAMP:20260425T095144
CREATED:20250213T191245Z
LAST-MODIFIED:20250213T191245Z
UID:40147-1739455200-1739469600@www.goiasfomento.com
SUMMARY:Lucas Fernandes – Despachos Internos.
DESCRIPTION:
URL:https://www.goiasfomento.com/agenda/lucas-fernandes-despachos-internos-715/
LOCATION:Gabinete da Presidência.
CATEGORIES:Diretoria Administrativa e Financeira
END:VEVENT
BEGIN:VEVENT
DTSTART;TZID=America/Sao_Paulo:20250213T153000
DTEND;TZID=America/Sao_Paulo:20250213T160000
DTSTAMP:20260425T095144
CREATED:20250213T190322Z
LAST-MODIFIED:20250213T190322Z
UID:40138-1739460600-1739462400@www.goiasfomento.com
SUMMARY:Rufino Verissimo: Reunião com Wagner Siqueira Coelho - Gerente de Prospecção de Negócios.
DESCRIPTION:
URL:https://www.goiasfomento.com/agenda/rufino-verissimo-reuniao-com-wagner-siqueira-coelho-gerente-de-prospeccao-de-negocios-10/
LOCATION:Gabinete da Diretoria de Operações da GoiásFomento – Agência de Fomento de Goiás.
CATEGORIES:Diretoria de Operações
END:VEVENT
BEGIN:VEVENT
DTSTART;TZID=America/Sao_Paulo:20250213T160000
DTEND;TZID=America/Sao_Paulo:20250213T180000
DTSTAMP:20260425T095144
CREATED:20250213T190354Z
LAST-MODIFIED:20250213T190354Z
UID:40140-1739462400-1739469600@www.goiasfomento.com
SUMMARY:Rufino Veríssimo: Despachos Internos.
DESCRIPTION:
URL:https://www.goiasfomento.com/agenda/rufino-verissimo-despachos-internos-165/
LOCATION:Gabinete da Diretoria de Operações da GoiásFomento – Agência de Fomento de Goiás.
CATEGORIES:Diretoria de Operações
END:VEVENT
BEGIN:VEVENT
DTSTART;TZID=America/Sao_Paulo:20250214T080000
DTEND;TZID=America/Sao_Paulo:20250214T090000
DTSTAMP:20260425T095144
CREATED:20250214T180649Z
LAST-MODIFIED:20250214T180649Z
UID:40177-1739520000-1739523600@www.goiasfomento.com
SUMMARY:Rufino Veríssimo: Despachos Internos.
DESCRIPTION:
URL:https://www.goiasfomento.com/agenda/rufino-verissimo-despachos-internos-166/
LOCATION:Gabinete da Diretoria de Operações da GoiásFomento – Agência de Fomento de Goiás.
CATEGORIES:Diretoria de Operações
END:VEVENT
BEGIN:VEVENT
DTSTART;TZID=America/Sao_Paulo:20250214T080000
DTEND;TZID=America/Sao_Paulo:20250214T100000
DTSTAMP:20260425T095144
CREATED:20250214T124023Z
LAST-MODIFIED:20250214T124023Z
UID:40149-1739520000-1739527200@www.goiasfomento.com
SUMMARY:Lucas Fernandes – Diretor Presidente (Interino): Despachos Internos.
DESCRIPTION:
URL:https://www.goiasfomento.com/agenda/lucas-fernandes-diretor-presidente-interino-despachos-internos-270/
LOCATION:Gabinete da Presidência.
CATEGORIES:Presidência
END:VEVENT
BEGIN:VEVENT
DTSTART;TZID=America/Sao_Paulo:20250214T080000
DTEND;TZID=America/Sao_Paulo:20250214T100000
DTSTAMP:20260425T095144
CREATED:20250214T124205Z
LAST-MODIFIED:20250214T124232Z
UID:40151-1739520000-1739527200@www.goiasfomento.com
SUMMARY:Lucas Fernandes – Despachos Internos.
DESCRIPTION:
URL:https://www.goiasfomento.com/agenda/lucas-fernandes-despachos-internos-716/
LOCATION:Gabinete da Presidência.
CATEGORIES:Diretoria Administrativa e Financeira
END:VEVENT
BEGIN:VEVENT
DTSTART;TZID=America/Sao_Paulo:20250214T080000
DTEND;TZID=America/Sao_Paulo:20250214T120000
DTSTAMP:20260425T095144
CREATED:20250214T180438Z
LAST-MODIFIED:20250214T180438Z
UID:40173-1739520000-1739534400@www.goiasfomento.com
SUMMARY:Fernando Dias: Despachos Internos.
DESCRIPTION:
URL:https://www.goiasfomento.com/agenda/fernando-dias-despachos-internos-62/
LOCATION:Chefia de Gabinete – Agência de Fomento de Goiás
CATEGORIES:Chefia de Gabinete
END:VEVENT
BEGIN:VEVENT
DTSTART;TZID=America/Sao_Paulo:20250214T090000
DTEND;TZID=America/Sao_Paulo:20250214T100000
DTSTAMP:20260425T095144
CREATED:20250214T183216Z
LAST-MODIFIED:20250214T183216Z
UID:40179-1739523600-1739527200@www.goiasfomento.com
SUMMARY:Rufino Verissimo: Reunião com Bruno Alvarenga Campos Martins - Gerente de Atendimento e Luiz Alberto de Sousa Filho - Gerente da Rede Credenciada.
DESCRIPTION:
URL:https://www.goiasfomento.com/agenda/rufino-verissimo-reuniao-com-bruno-alvarenga-campos-martins-gerente-de-atendimento-e-luiz-alberto-de-sousa-filho-gerente-da-rede-credenciada/
LOCATION:Gabinete da Diretoria de Operações da GoiásFomento – Agência de Fomento de Goiás.
CATEGORIES:Diretoria de Operações
END:VEVENT
BEGIN:VEVENT
DTSTART;TZID=America/Sao_Paulo:20250214T100000
DTEND;TZID=America/Sao_Paulo:20250214T101500
DTSTAMP:20260425T095144
CREATED:20250214T125353Z
LAST-MODIFIED:20250214T140605Z
UID:40153-1739527200-1739528100@www.goiasfomento.com
SUMMARY:Lucas Fernandes – Diretor Presidente (Interino): Entrevista para a Rádio São Carlos -103\,9 FM. Pauta: Semana do Crédito em Goianésia GO.
DESCRIPTION:
URL:https://www.goiasfomento.com/agenda/lucas-fernandes-diretor-presidente-interino-entrevista-para-a-radio-sao-carlos-1039-fm-pauta-semana-do-credito-em-goianesia/
LOCATION:Gabinete da Presidência.
CATEGORIES:Presidência
END:VEVENT
BEGIN:VEVENT
DTSTART;TZID=America/Sao_Paulo:20250214T100000
DTEND;TZID=America/Sao_Paulo:20250214T101500
DTSTAMP:20260425T095144
CREATED:20250214T125507Z
LAST-MODIFIED:20250214T140638Z
UID:40155-1739527200-1739528100@www.goiasfomento.com
SUMMARY:Lucas Fernandes – Entrevista para a Rádio São Carlos -103\,9 FM. Pauta: Semana do Crédito em Goianésia GO.
DESCRIPTION:
URL:https://www.goiasfomento.com/agenda/lucas-fernandes-entrevista-para-a-radio-sao-carlos-1039-fm-pauta-semana-do-credito-em-goianesia/
LOCATION:Gabinete da Presidência.
CATEGORIES:Diretoria Administrativa e Financeira
END:VEVENT
BEGIN:VEVENT
DTSTART;TZID=America/Sao_Paulo:20250214T100000
DTEND;TZID=America/Sao_Paulo:20250214T103000
DTSTAMP:20260425T095144
CREATED:20250214T183337Z
LAST-MODIFIED:20250214T183337Z
UID:40181-1739527200-1739529000@www.goiasfomento.com
SUMMARY:Rufino Veríssimo: Despachos Internos.
DESCRIPTION:
URL:https://www.goiasfomento.com/agenda/rufino-verissimo-despachos-internos-167/
LOCATION:Gabinete da Diretoria de Operações da GoiásFomento – Agência de Fomento de Goiás.
CATEGORIES:Diretoria de Operações
END:VEVENT
BEGIN:VEVENT
DTSTART;TZID=America/Sao_Paulo:20250214T101500
DTEND;TZID=America/Sao_Paulo:20250214T114000
DTSTAMP:20260425T095144
CREATED:20250214T125811Z
LAST-MODIFIED:20250214T125823Z
UID:40157-1739528100-1739533200@www.goiasfomento.com
SUMMARY:Lucas Fernandes – Diretor Presidente (Interino): Despachos Internos.
DESCRIPTION:
URL:https://www.goiasfomento.com/agenda/lucas-fernandes-diretor-presidente-interino-despachos-internos-271/
LOCATION:Gabinete da Presidência.
CATEGORIES:Presidência
END:VEVENT
BEGIN:VEVENT
DTSTART;TZID=America/Sao_Paulo:20250214T101500
DTEND;TZID=America/Sao_Paulo:20250214T114000
DTSTAMP:20260425T095144
CREATED:20250214T125924Z
LAST-MODIFIED:20250214T125935Z
UID:40159-1739528100-1739533200@www.goiasfomento.com
SUMMARY:Lucas Fernandes – Despachos Internos.
DESCRIPTION:
URL:https://www.goiasfomento.com/agenda/lucas-fernandes-despachos-internos-717/
LOCATION:Gabinete da Presidência.
CATEGORIES:Diretoria Administrativa e Financeira
END:VEVENT
BEGIN:VEVENT
DTSTART;TZID=America/Sao_Paulo:20250214T103000
DTEND;TZID=America/Sao_Paulo:20250214T110000
DTSTAMP:20260425T095144
CREATED:20250214T183425Z
LAST-MODIFIED:20250214T183425Z
UID:40183-1739529000-1739530800@www.goiasfomento.com
SUMMARY:Rufino Veríssimo: Reunião com Rafael Soffa Rézio – Gerente de Programas e Políticas Sociais.
DESCRIPTION:
URL:https://www.goiasfomento.com/agenda/rufino-verissimo-reuniao-com-rafael-soffa-rezio-gerente-de-programas-e-politicas-sociais-9/
LOCATION:Gabinete da Diretoria de Operações da GoiásFomento – Agência de Fomento de Goiás.
CATEGORIES:Diretoria de Operações
END:VEVENT
BEGIN:VEVENT
DTSTART;TZID=America/Sao_Paulo:20250214T110000
DTEND;TZID=America/Sao_Paulo:20250214T122000
DTSTAMP:20260425T095144
CREATED:20250214T183514Z
LAST-MODIFIED:20250214T183842Z
UID:40185-1739530800-1739535600@www.goiasfomento.com
SUMMARY:Rufino Veríssimo: Reunião com Pedro da Empresa Inttegrar.
DESCRIPTION:
URL:https://www.goiasfomento.com/agenda/rufino-verissimo-reuniao-com-pedro-da-empresa-inttegra/
LOCATION:Gabinete da Diretoria de Operações da GoiásFomento – Agência de Fomento de Goiás.
CATEGORIES:Diretoria de Operações
END:VEVENT
BEGIN:VEVENT
DTSTART;TZID=America/Sao_Paulo:20250214T114000
DTEND;TZID=America/Sao_Paulo:20250214T120000
DTSTAMP:20260425T095144
CREATED:20250214T130432Z
LAST-MODIFIED:20250214T135304Z
UID:40161-1739533200-1739534400@www.goiasfomento.com
SUMMARY:Lucas Fernandes – Diretor Presidente (Interino): Entrevista RÁDIO RVC - 90.3 FM PROGRAMA Fatorama. Pauta: Semana do Crédito em Goianésia GO.
DESCRIPTION:
URL:https://www.goiasfomento.com/agenda/lucas-fernandes-diretor-presidente-interino-entrevista-radio-rvc-90-3-fm-programa-fatorama-pauta-semana-do-credito-em-goianesia/
LOCATION:Gabinete da Presidência.
CATEGORIES:Presidência
END:VEVENT
END:VCALENDAR