BEGIN:VCALENDAR
VERSION:2.0
PRODID:-//GoiásFomento - Agência de Fomento - ECPv6.15.20//NONSGML v1.0//EN
CALSCALE:GREGORIAN
METHOD:PUBLISH
X-ORIGINAL-URL:https://www.goiasfomento.com
X-WR-CALDESC:Eventos para GoiásFomento - Agência de Fomento
REFRESH-INTERVAL;VALUE=DURATION:PT1H
X-Robots-Tag:noindex
X-PUBLISHED-TTL:PT1H
BEGIN:VTIMEZONE
TZID:America/Sao_Paulo
BEGIN:STANDARD
TZOFFSETFROM:-0300
TZOFFSETTO:-0300
TZNAME:-03
DTSTART:20240101T000000
END:STANDARD
END:VTIMEZONE
BEGIN:VEVENT
DTSTART;TZID=America/Sao_Paulo:20250127T080000
DTEND;TZID=America/Sao_Paulo:20250127T083000
DTSTAMP:20260425T081455
CREATED:20250127T193939Z
LAST-MODIFIED:20250127T193939Z
UID:39547-1737964800-1737966600@www.goiasfomento.com
SUMMARY:Rufino Veríssimo: Despachos Internos.
DESCRIPTION:
URL:https://www.goiasfomento.com/agenda/rufino-verissimo-despachos-internos-118/
LOCATION:Gabinete da Diretoria de Operações da GoiásFomento – Agência de Fomento de Goiás.
CATEGORIES:Diretoria de Operações
END:VEVENT
BEGIN:VEVENT
DTSTART;TZID=America/Sao_Paulo:20250127T080000
DTEND;TZID=America/Sao_Paulo:20250127T100000
DTSTAMP:20260425T081455
CREATED:20250127T172313Z
LAST-MODIFIED:20250127T172313Z
UID:39523-1737964800-1737972000@www.goiasfomento.com
SUMMARY:Lucas Fernandes – Diretor Presidente (Interino): Despachos Internos.
DESCRIPTION:
URL:https://www.goiasfomento.com/agenda/lucas-fernandes-diretor-presidente-interino-despachos-internos-236/
LOCATION:Gabinete da Presidência.
CATEGORIES:Presidência
END:VEVENT
BEGIN:VEVENT
DTSTART;TZID=America/Sao_Paulo:20250127T080000
DTEND;TZID=America/Sao_Paulo:20250127T100000
DTSTAMP:20260425T081455
CREATED:20250127T173332Z
LAST-MODIFIED:20250127T173332Z
UID:39529-1737964800-1737972000@www.goiasfomento.com
SUMMARY:Lucas Fernandes – Despachos Internos.
DESCRIPTION:
URL:https://www.goiasfomento.com/agenda/lucas-fernandes-despachos-internos-682/
LOCATION:Gabinete da Presidência.
CATEGORIES:Diretoria Administrativa e Financeira
END:VEVENT
BEGIN:VEVENT
DTSTART;TZID=America/Sao_Paulo:20250127T080000
DTEND;TZID=America/Sao_Paulo:20250127T120000
DTSTAMP:20260425T081455
CREATED:20250127T192647Z
LAST-MODIFIED:20250127T192647Z
UID:39535-1737964800-1737979200@www.goiasfomento.com
SUMMARY:Fernando Dias: Despachos Internos
DESCRIPTION:
URL:https://www.goiasfomento.com/agenda/fernando-dias-despachos-internos-26/
LOCATION:Chefia de Gabinete – Agência de Fomento de Goiás
CATEGORIES:Chefia de Gabinete
END:VEVENT
BEGIN:VEVENT
DTSTART;TZID=America/Sao_Paulo:20250127T083000
DTEND;TZID=America/Sao_Paulo:20250127T090000
DTSTAMP:20260425T081455
CREATED:20250127T194106Z
LAST-MODIFIED:20250127T194106Z
UID:39549-1737966600-1737968400@www.goiasfomento.com
SUMMARY:Rufino Veríssimo: Reunião com Rafael Soffa Rézio – Gerente de Programas e Políticas Sociais.
DESCRIPTION:
URL:https://www.goiasfomento.com/agenda/rufino-verissimo-reuniao-com-rafael-soffa-rezio-gerente-de-programas-e-politicas-sociais-5/
LOCATION:Gabinete da Diretoria de Operações da GoiásFomento – Agência de Fomento de Goiás.
CATEGORIES:Diretoria de Operações
END:VEVENT
BEGIN:VEVENT
DTSTART;TZID=America/Sao_Paulo:20250127T090000
DTEND;TZID=America/Sao_Paulo:20250127T100000
DTSTAMP:20260425T081455
CREATED:20250127T194243Z
LAST-MODIFIED:20250127T194243Z
UID:39551-1737968400-1737972000@www.goiasfomento.com
SUMMARY:Rufino Veríssimo: Despachos Internos.
DESCRIPTION:
URL:https://www.goiasfomento.com/agenda/rufino-verissimo-despachos-internos-119/
LOCATION:Gabinete da Diretoria de Operações da GoiásFomento – Agência de Fomento de Goiás.
CATEGORIES:Diretoria de Operações
END:VEVENT
BEGIN:VEVENT
DTSTART;TZID=America/Sao_Paulo:20250127T100000
DTEND;TZID=America/Sao_Paulo:20250127T110000
DTSTAMP:20260425T081455
CREATED:20250127T194527Z
LAST-MODIFIED:20250127T194651Z
UID:39557-1737972000-1737975600@www.goiasfomento.com
SUMMARY:Rufino Veríssimo: Reunião com Bruno Alvarenga Campos Martins - Gerente de Atendimento.
DESCRIPTION:
URL:https://www.goiasfomento.com/agenda/rufino-verissimo-bruno-alvarenga-campos-martins-gerente-de-atendimento-2/
LOCATION:Gabinete da Diretoria de Operações da GoiásFomento – Agência de Fomento de Goiás.
CATEGORIES:Diretoria de Operações
END:VEVENT
BEGIN:VEVENT
DTSTART;TZID=America/Sao_Paulo:20250127T100000
DTEND;TZID=America/Sao_Paulo:20250127T120000
DTSTAMP:20260425T081455
CREATED:20250127T172731Z
LAST-MODIFIED:20250127T172731Z
UID:39525-1737972000-1737979200@www.goiasfomento.com
SUMMARY:Lucas Fernandes – Diretor Presidente (Interino): Reunião no Palácio das Esmeraldas.
DESCRIPTION:
URL:https://www.goiasfomento.com/agenda/lucas-fernandes-diretor-presidente-interino-reuniao-no-palacio-das-esmeraldas/
LOCATION:Palácio das Esmeraldas.
CATEGORIES:Presidência
END:VEVENT
BEGIN:VEVENT
DTSTART;TZID=America/Sao_Paulo:20250127T100000
DTEND;TZID=America/Sao_Paulo:20250127T120000
DTSTAMP:20260425T081455
CREATED:20250127T173453Z
LAST-MODIFIED:20250127T173453Z
UID:39531-1737972000-1737979200@www.goiasfomento.com
SUMMARY:Lucas Fernandes – Reunião no Palácio das Esmeraldas.
DESCRIPTION:
URL:https://www.goiasfomento.com/agenda/lucas-fernandes-reuniao-no-palacio-das-esmeraldas/
LOCATION:Palácio das Esmeraldas.
CATEGORIES:Diretoria Administrativa e Financeira
END:VEVENT
BEGIN:VEVENT
DTSTART;TZID=America/Sao_Paulo:20250127T110000
DTEND;TZID=America/Sao_Paulo:20250127T120000
DTSTAMP:20260425T081455
CREATED:20250127T194316Z
LAST-MODIFIED:20250127T194316Z
UID:39553-1737975600-1737979200@www.goiasfomento.com
SUMMARY:Rufino Veríssimo: Despachos Internos.
DESCRIPTION:
URL:https://www.goiasfomento.com/agenda/rufino-verissimo-despachos-internos-120/
LOCATION:Gabinete da Diretoria de Operações da GoiásFomento – Agência de Fomento de Goiás.
CATEGORIES:Diretoria de Operações
END:VEVENT
BEGIN:VEVENT
DTSTART;TZID=America/Sao_Paulo:20250127T140000
DTEND;TZID=America/Sao_Paulo:20250127T153000
DTSTAMP:20260425T081455
CREATED:20250127T192714Z
LAST-MODIFIED:20250127T192714Z
UID:39537-1737986400-1737991800@www.goiasfomento.com
SUMMARY:Fernando Dias: Despachos Internos
DESCRIPTION:
URL:https://www.goiasfomento.com/agenda/fernando-dias-despachos-internos-27/
LOCATION:Chefia de Gabinete – Agência de Fomento de Goiás
CATEGORIES:Chefia de Gabinete
END:VEVENT
BEGIN:VEVENT
DTSTART;TZID=America/Sao_Paulo:20250127T140000
DTEND;TZID=America/Sao_Paulo:20250127T153000
DTSTAMP:20260425T081455
CREATED:20250127T194346Z
LAST-MODIFIED:20250127T194346Z
UID:39555-1737986400-1737991800@www.goiasfomento.com
SUMMARY:Rufino Veríssimo: Despachos Internos.
DESCRIPTION:
URL:https://www.goiasfomento.com/agenda/rufino-verissimo-despachos-internos-121/
LOCATION:Gabinete da Diretoria de Operações da GoiásFomento – Agência de Fomento de Goiás.
CATEGORIES:Diretoria de Operações
END:VEVENT
BEGIN:VEVENT
DTSTART;TZID=America/Sao_Paulo:20250127T140000
DTEND;TZID=America/Sao_Paulo:20250127T180000
DTSTAMP:20260425T081455
CREATED:20250127T173002Z
LAST-MODIFIED:20250127T173002Z
UID:39527-1737986400-1738000800@www.goiasfomento.com
SUMMARY:Lucas Fernandes – Diretor Presidente (Interino): Despachos Internos.
DESCRIPTION:
URL:https://www.goiasfomento.com/agenda/lucas-fernandes-diretor-presidente-interino-despachos-internos-237/
LOCATION:Gabinete da Presidência.
CATEGORIES:Presidência
END:VEVENT
BEGIN:VEVENT
DTSTART;TZID=America/Sao_Paulo:20250127T140000
DTEND;TZID=America/Sao_Paulo:20250127T180000
DTSTAMP:20260425T081455
CREATED:20250127T173553Z
LAST-MODIFIED:20250127T173553Z
UID:39533-1737986400-1738000800@www.goiasfomento.com
SUMMARY:Lucas Fernandes – Despachos Internos.
DESCRIPTION:
URL:https://www.goiasfomento.com/agenda/lucas-fernandes-despachos-internos-683/
LOCATION:Gabinete da Presidência.
CATEGORIES:Diretoria Administrativa e Financeira
END:VEVENT
BEGIN:VEVENT
DTSTART;TZID=America/Sao_Paulo:20250127T153000
DTEND;TZID=America/Sao_Paulo:20250127T170000
DTSTAMP:20260425T081455
CREATED:20250127T193210Z
LAST-MODIFIED:20250127T193339Z
UID:39539-1737991800-1737997200@www.goiasfomento.com
SUMMARY:Fernando Dias: Reunião com Dr. Rufino - Diretor de Operações\, Bruno - Gerente - Geate\, Dineuvan - Chefe de Gabinete Dep. Flávia Morais e  Assis Mendes e a Susana Silvério - Secretaria Municipal da Indústria e Comércio de Edeia/GO
DESCRIPTION:
URL:https://www.goiasfomento.com/agenda/fernando-dias-reuniao-com-dr-rufino-diretor-de-operacoes-bruno-gerente-geate-dineuvan-chefe-de-gabinete-dep-flavia-morais-e-assis-mendes-e-a-susana-silverio-secretaria-municipal-da-ind/
LOCATION:Sala de Reuniões da Diretoria – Agência de Fomento de Goiás.
CATEGORIES:Chefia de Gabinete
END:VEVENT
BEGIN:VEVENT
DTSTART;TZID=America/Sao_Paulo:20250127T153000
DTEND;TZID=America/Sao_Paulo:20250127T170000
DTSTAMP:20260425T081455
CREATED:20250127T193716Z
LAST-MODIFIED:20250127T193716Z
UID:39543-1737991800-1737997200@www.goiasfomento.com
SUMMARY:Rufino Veríssimo: Reunião com Fernando Reis - Chefe de Gabinete GF\, Bruno - Gerente - Geate\, Dineuvan - Chefe de Gabinete Dep. Flávia Morais e Assis Mendes e a Susana Silvério - Secretaria Municipal da Indústria e Comércio de Edeia/GO
DESCRIPTION:
URL:https://www.goiasfomento.com/agenda/rufino-verissimo-reuniao-com-fernando-reis-chefe-de-gabinete-gf-bruno-gerente-geate-dineuvan-chefe-de-gabinete-dep-flavia-morais-e-assis-mendes-e-a-susana-silverio-secretaria-municipal-d/
LOCATION:Sala de Reuniões da Diretoria – Agência de Fomento de Goiás.
CATEGORIES:Diretoria de Operações
END:VEVENT
BEGIN:VEVENT
DTSTART;TZID=America/Sao_Paulo:20250127T170000
DTEND;TZID=America/Sao_Paulo:20250127T180000
DTSTAMP:20260425T081455
CREATED:20250127T193259Z
LAST-MODIFIED:20250127T193259Z
UID:39541-1737997200-1738000800@www.goiasfomento.com
SUMMARY:Fernando Dias: Despachos Internos
DESCRIPTION:
URL:https://www.goiasfomento.com/agenda/fernando-dias-despachos-internos-28/
LOCATION:Chefia de Gabinete – Agência de Fomento de Goiás
CATEGORIES:Chefia de Gabinete
END:VEVENT
BEGIN:VEVENT
DTSTART;TZID=America/Sao_Paulo:20250127T170000
DTEND;TZID=America/Sao_Paulo:20250127T180000
DTSTAMP:20260425T081455
CREATED:20250127T193822Z
LAST-MODIFIED:20250127T193822Z
UID:39545-1737997200-1738000800@www.goiasfomento.com
SUMMARY:Rufino Veríssimo: Despachos Internos.
DESCRIPTION:
URL:https://www.goiasfomento.com/agenda/rufino-verissimo-despachos-internos-117/
LOCATION:Gabinete da Diretoria de Operações da GoiásFomento – Agência de Fomento de Goiás.
CATEGORIES:Diretoria de Operações
END:VEVENT
BEGIN:VEVENT
DTSTART;TZID=America/Sao_Paulo:20250128T080000
DTEND;TZID=America/Sao_Paulo:20250128T100000
DTSTAMP:20260425T081455
CREATED:20250128T184450Z
LAST-MODIFIED:20250128T184450Z
UID:39575-1738051200-1738058400@www.goiasfomento.com
SUMMARY:Rufino Veríssimo: Despachos Internos.
DESCRIPTION:
URL:https://www.goiasfomento.com/agenda/rufino-verissimo-despachos-internos-122/
LOCATION:Gabinete da Diretoria de Operações da GoiásFomento – Agência de Fomento de Goiás.
CATEGORIES:Diretoria de Operações
END:VEVENT
BEGIN:VEVENT
DTSTART;TZID=America/Sao_Paulo:20250128T080000
DTEND;TZID=America/Sao_Paulo:20250128T120000
DTSTAMP:20260425T081455
CREATED:20250128T175428Z
LAST-MODIFIED:20250128T175428Z
UID:39561-1738051200-1738065600@www.goiasfomento.com
SUMMARY:Lucas Fernandes – Diretor Presidente (Interino): Despachos Internos.
DESCRIPTION:
URL:https://www.goiasfomento.com/agenda/lucas-fernandes-diretor-presidente-interino-despachos-internos-238/
LOCATION:Gabinete da Presidência.
CATEGORIES:Presidência
END:VEVENT
BEGIN:VEVENT
DTSTART;TZID=America/Sao_Paulo:20250128T080000
DTEND;TZID=America/Sao_Paulo:20250128T120000
DTSTAMP:20260425T081455
CREATED:20250128T175621Z
LAST-MODIFIED:20250128T175621Z
UID:39565-1738051200-1738065600@www.goiasfomento.com
SUMMARY:Lucas Fernandes – Despachos Internos.
DESCRIPTION:
URL:https://www.goiasfomento.com/agenda/lucas-fernandes-despachos-internos-684/
LOCATION:Gabinete da Presidência.
CATEGORIES:Diretoria Administrativa e Financeira
END:VEVENT
BEGIN:VEVENT
DTSTART;TZID=America/Sao_Paulo:20250128T080000
DTEND;TZID=America/Sao_Paulo:20250128T120000
DTSTAMP:20260425T081455
CREATED:20250128T184033Z
LAST-MODIFIED:20250128T184033Z
UID:39569-1738051200-1738065600@www.goiasfomento.com
SUMMARY:Fernando Dias: Despachos Internos.
DESCRIPTION:
URL:https://www.goiasfomento.com/agenda/fernando-dias-despachos-internos-29/
LOCATION:Chefia de Gabinete – Agência de Fomento de Goiás
CATEGORIES:Chefia de Gabinete
END:VEVENT
BEGIN:VEVENT
DTSTART;TZID=America/Sao_Paulo:20250128T100000
DTEND;TZID=America/Sao_Paulo:20250128T110000
DTSTAMP:20260425T081455
CREATED:20250128T184632Z
LAST-MODIFIED:20250128T184721Z
UID:39577-1738058400-1738062000@www.goiasfomento.com
SUMMARY:Rufino Veríssimo: Reunião com Rafael Soffa Rézio – Gerente de Programas e Políticas Sociais.
DESCRIPTION:
URL:https://www.goiasfomento.com/agenda/rufino-verissimo-rufino-verissimo-reuniao-da-direx-com-rafael-soffa-rezio-gerente-de-programas-e-politicas-sociais/
LOCATION:Gabinete da Diretoria de Operações da GoiásFomento – Agência de Fomento de Goiás.
CATEGORIES:Diretoria de Operações
END:VEVENT
BEGIN:VEVENT
DTSTART;TZID=America/Sao_Paulo:20250128T110000
DTEND;TZID=America/Sao_Paulo:20250128T120000
DTSTAMP:20260425T081455
CREATED:20250128T184220Z
LAST-MODIFIED:20250128T184325Z
UID:39573-1738062000-1738065600@www.goiasfomento.com
SUMMARY:Rufino Veríssimo: Reunião FCO/Repasse 2025.
DESCRIPTION:
URL:https://www.goiasfomento.com/agenda/rufino-verissimo-reuniao-fco-repasse-2025/
LOCATION:Gabinete da Diretoria de Operações da GoiásFomento – Agência de Fomento de Goiás.
CATEGORIES:Diretoria de Operações
END:VEVENT
BEGIN:VEVENT
DTSTART;TZID=America/Sao_Paulo:20250128T140000
DTEND;TZID=America/Sao_Paulo:20250128T150000
DTSTAMP:20260425T081455
CREATED:20250128T184937Z
LAST-MODIFIED:20250128T184937Z
UID:39581-1738072800-1738076400@www.goiasfomento.com
SUMMARY:Rufino Veríssimo: Reunião com Fernando - FINEP e os Gerentes - Dirop.
DESCRIPTION:
URL:https://www.goiasfomento.com/agenda/rufino-verissimo-reuniao-com-fernando-finep-e-os-gerentes-dirop/
LOCATION:Gabinete da Diretoria de Operações da GoiásFomento – Agência de Fomento de Goiás.
CATEGORIES:Diretoria de Operações
END:VEVENT
BEGIN:VEVENT
DTSTART;TZID=America/Sao_Paulo:20250128T140000
DTEND;TZID=America/Sao_Paulo:20250128T180000
DTSTAMP:20260425T081455
CREATED:20250128T175500Z
LAST-MODIFIED:20250128T175500Z
UID:39563-1738072800-1738087200@www.goiasfomento.com
SUMMARY:Lucas Fernandes – Diretor Presidente (Interino): Despachos Internos.
DESCRIPTION:
URL:https://www.goiasfomento.com/agenda/lucas-fernandes-diretor-presidente-interino-despachos-internos-239/
LOCATION:Gabinete da Presidência.
CATEGORIES:Presidência
END:VEVENT
BEGIN:VEVENT
DTSTART;TZID=America/Sao_Paulo:20250128T140000
DTEND;TZID=America/Sao_Paulo:20250128T180000
DTSTAMP:20260425T081455
CREATED:20250128T175711Z
LAST-MODIFIED:20250128T175711Z
UID:39567-1738072800-1738087200@www.goiasfomento.com
SUMMARY:Lucas Fernandes – Despachos Internos.
DESCRIPTION:
URL:https://www.goiasfomento.com/agenda/lucas-fernandes-despachos-internos-685/
LOCATION:Gabinete da Presidência.
CATEGORIES:Diretoria Administrativa e Financeira
END:VEVENT
BEGIN:VEVENT
DTSTART;TZID=America/Sao_Paulo:20250128T140000
DTEND;TZID=America/Sao_Paulo:20250128T180000
DTSTAMP:20260425T081455
CREATED:20250128T184052Z
LAST-MODIFIED:20250128T184052Z
UID:39571-1738072800-1738087200@www.goiasfomento.com
SUMMARY:Fernando Dias: Despachos Internos.
DESCRIPTION:
URL:https://www.goiasfomento.com/agenda/fernando-dias-despachos-internos-30/
LOCATION:Chefia de Gabinete – Agência de Fomento de Goiás
CATEGORIES:Chefia de Gabinete
END:VEVENT
BEGIN:VEVENT
DTSTART;TZID=America/Sao_Paulo:20250128T150000
DTEND;TZID=America/Sao_Paulo:20250128T153000
DTSTAMP:20260425T081455
CREATED:20250128T191421Z
LAST-MODIFIED:20250128T191421Z
UID:39584-1738076400-1738078200@www.goiasfomento.com
SUMMARY:Rufino Veríssimo: Reunião com Gerente Guido Juliano e Wagner Viana - Gerencia do Agronegócio.
DESCRIPTION:
URL:https://www.goiasfomento.com/agenda/rufino-verissimo-reuniao-com-gerente-guido-juliano-e-wagner-viana-gerencia-do-agronegocio/
LOCATION:Gabinete da Diretoria de Operações da GoiásFomento – Agência de Fomento de Goiás.
CATEGORIES:Diretoria de Operações
END:VEVENT
BEGIN:VEVENT
DTSTART;TZID=America/Sao_Paulo:20250128T153000
DTEND;TZID=America/Sao_Paulo:20250128T160000
DTSTAMP:20260425T081455
CREATED:20250128T191555Z
LAST-MODIFIED:20250128T191555Z
UID:39586-1738078200-1738080000@www.goiasfomento.com
SUMMARY:Rufino Veríssimo: Reunião com Bruno Alvarenga Campos Martins - Gerente de Atendimento.
DESCRIPTION:
URL:https://www.goiasfomento.com/agenda/rufino-verissimo-reuniao-com-bruno-alvarenga-campos-martins-gerente-de-atendimento-2/
LOCATION:Gabinete da Diretoria de Operações da GoiásFomento – Agência de Fomento de Goiás.
CATEGORIES:Diretoria de Operações
END:VEVENT
END:VCALENDAR