BEGIN:VCALENDAR
VERSION:2.0
PRODID:-//GoiásFomento - Agência de Fomento - ECPv6.15.20//NONSGML v1.0//EN
CALSCALE:GREGORIAN
METHOD:PUBLISH
X-ORIGINAL-URL:https://www.goiasfomento.com
X-WR-CALDESC:Eventos para GoiásFomento - Agência de Fomento
REFRESH-INTERVAL;VALUE=DURATION:PT1H
X-Robots-Tag:noindex
X-PUBLISHED-TTL:PT1H
BEGIN:VTIMEZONE
TZID:America/Sao_Paulo
BEGIN:STANDARD
TZOFFSETFROM:-0300
TZOFFSETTO:-0300
TZNAME:-03
DTSTART:20240101T000000
END:STANDARD
END:VTIMEZONE
BEGIN:VEVENT
DTSTART;TZID=America/Sao_Paulo:20250120T080000
DTEND;TZID=America/Sao_Paulo:20250120T103000
DTSTAMP:20260425T081502
CREATED:20250120T135428Z
LAST-MODIFIED:20250120T135428Z
UID:39362-1737360000-1737369000@www.goiasfomento.com
SUMMARY:Lucas Fernandes – Diretor Presidente (Interino): Despachos Internos.
DESCRIPTION:
URL:https://www.goiasfomento.com/agenda/lucas-fernandes-diretor-presidente-interino-despachos-internos-227/
LOCATION:Gabinete da Presidência.
CATEGORIES:Presidência
END:VEVENT
BEGIN:VEVENT
DTSTART;TZID=America/Sao_Paulo:20250120T080000
DTEND;TZID=America/Sao_Paulo:20250120T103000
DTSTAMP:20260425T081502
CREATED:20250120T142953Z
LAST-MODIFIED:20250120T142953Z
UID:39364-1737360000-1737369000@www.goiasfomento.com
SUMMARY:Lucas Fernandes – Despachos Internos.
DESCRIPTION:
URL:https://www.goiasfomento.com/agenda/lucas-fernandes-despachos-internos-673/
LOCATION:Gabinete da Presidência.
CATEGORIES:Diretoria Administrativa e Financeira
END:VEVENT
BEGIN:VEVENT
DTSTART;TZID=America/Sao_Paulo:20250120T080000
DTEND;TZID=America/Sao_Paulo:20250120T103000
DTSTAMP:20260425T081502
CREATED:20250120T145257Z
LAST-MODIFIED:20250120T145257Z
UID:39374-1737360000-1737369000@www.goiasfomento.com
SUMMARY:Rufino Veríssimo: Despachos Internos.
DESCRIPTION:
URL:https://www.goiasfomento.com/agenda/rufino-verissimo-despachos-internos-107/
LOCATION:Gabinete da Diretoria de Operações da GoiásFomento – Agência de Fomento de Goiás.
CATEGORIES:Diretoria de Operações
END:VEVENT
BEGIN:VEVENT
DTSTART;TZID=America/Sao_Paulo:20250120T080000
DTEND;TZID=America/Sao_Paulo:20250120T120000
DTSTAMP:20260425T081502
CREATED:20250120T190933Z
LAST-MODIFIED:20250120T190933Z
UID:39381-1737360000-1737374400@www.goiasfomento.com
SUMMARY:Fernando Reis: Despachos Internos.
DESCRIPTION:
URL:https://www.goiasfomento.com/agenda/fernando-reis-despachos-internos-10/
LOCATION:Chefia de Gabinete – Agência de Fomento de Goiás
CATEGORIES:Chefia de Gabinete
END:VEVENT
BEGIN:VEVENT
DTSTART;TZID=America/Sao_Paulo:20250120T103000
DTEND;TZID=America/Sao_Paulo:20250120T111500
DTSTAMP:20260425T081502
CREATED:20250120T134954Z
LAST-MODIFIED:20250120T134954Z
UID:39356-1737369000-1737371700@www.goiasfomento.com
SUMMARY:Lucas Fernandes – Diretor Presidente (Interino): Reunião com o Prefeito Luiz Henrique de Itarumã Go. Pauta Entregar Documentação de Parceria da Prefeitura.
DESCRIPTION:
URL:https://www.goiasfomento.com/agenda/lucas-fernandes-diretor-presidente-interino-reuniao-com-o-prefeito-luiz-henrique-de-itaruma-go-pauta-entregar-documentacao-de-parceria-da-prefeitura/
LOCATION:Gabinete da Presidência.
CATEGORIES:Presidência
END:VEVENT
BEGIN:VEVENT
DTSTART;TZID=America/Sao_Paulo:20250120T103000
DTEND;TZID=America/Sao_Paulo:20250120T111500
DTSTAMP:20260425T081502
CREATED:20250120T143124Z
LAST-MODIFIED:20250120T143124Z
UID:39366-1737369000-1737371700@www.goiasfomento.com
SUMMARY:Lucas Fernandes – Reunião com o Prefeito Luiz Henrique de Itarumã Go. Pauta Entregar Documentação de Parceria da Prefeitura.
DESCRIPTION:
URL:https://www.goiasfomento.com/agenda/lucas-fernandes-reuniao-com-o-prefeito-luiz-henrique-de-itaruma-go-pauta-entregar-documentacao-de-parceria-da-prefeitura/
LOCATION:Gabinete da Presidência.
CATEGORIES:Diretoria Administrativa e Financeira
END:VEVENT
BEGIN:VEVENT
DTSTART;TZID=America/Sao_Paulo:20250120T103000
DTEND;TZID=America/Sao_Paulo:20250120T120000
DTSTAMP:20260425T081502
CREATED:20250120T145153Z
LAST-MODIFIED:20250120T145153Z
UID:39372-1737369000-1737374400@www.goiasfomento.com
SUMMARY:Rufino Veríssimo: Reunião com os Gerentes da Diretoria de Operações da Agência de Fomento de Goiás.
DESCRIPTION:
URL:https://www.goiasfomento.com/agenda/rufino-verissimo-reuniao-com-os-gerentes-da-diretoria-de-operacoes-da-agencia-de-fomento-de-goias-6/
LOCATION:Gabinete da Diretoria de Operações da GoiásFomento – Agência de Fomento de Goiás.
CATEGORIES:Diretoria de Operações
END:VEVENT
BEGIN:VEVENT
DTSTART;TZID=America/Sao_Paulo:20250120T111500
DTEND;TZID=America/Sao_Paulo:20250120T120000
DTSTAMP:20260425T081502
CREATED:20250120T135057Z
LAST-MODIFIED:20250120T135057Z
UID:39358-1737371700-1737374400@www.goiasfomento.com
SUMMARY:Lucas Fernandes – Diretor Presidente (Interino): Despachos Internos.
DESCRIPTION:
URL:https://www.goiasfomento.com/agenda/lucas-fernandes-diretor-presidente-interino-despachos-internos-225/
LOCATION:Gabinete da Presidência.
CATEGORIES:Presidência
END:VEVENT
BEGIN:VEVENT
DTSTART;TZID=America/Sao_Paulo:20250120T111500
DTEND;TZID=America/Sao_Paulo:20250120T120000
DTSTAMP:20260425T081502
CREATED:20250120T143603Z
LAST-MODIFIED:20250120T143603Z
UID:39368-1737371700-1737374400@www.goiasfomento.com
SUMMARY:Lucas Fernandes – Despachos Internos.
DESCRIPTION:
URL:https://www.goiasfomento.com/agenda/lucas-fernandes-despachos-internos-674/
LOCATION:Gabinete da Presidência.
CATEGORIES:Diretoria Administrativa e Financeira
END:VEVENT
BEGIN:VEVENT
DTSTART;TZID=America/Sao_Paulo:20250120T140000
DTEND;TZID=America/Sao_Paulo:20250120T180000
DTSTAMP:20260425T081502
CREATED:20250120T135132Z
LAST-MODIFIED:20250120T135132Z
UID:39360-1737381600-1737396000@www.goiasfomento.com
SUMMARY:Lucas Fernandes – Diretor Presidente (Interino): Despachos Internos.
DESCRIPTION:
URL:https://www.goiasfomento.com/agenda/lucas-fernandes-diretor-presidente-interino-despachos-internos-226/
LOCATION:Gabinete da Presidência.
CATEGORIES:Presidência
END:VEVENT
BEGIN:VEVENT
DTSTART;TZID=America/Sao_Paulo:20250120T140000
DTEND;TZID=America/Sao_Paulo:20250120T180000
DTSTAMP:20260425T081502
CREATED:20250120T143647Z
LAST-MODIFIED:20250120T143647Z
UID:39370-1737381600-1737396000@www.goiasfomento.com
SUMMARY:Lucas Fernandes – Despachos Internos.
DESCRIPTION:
URL:https://www.goiasfomento.com/agenda/lucas-fernandes-despachos-internos-675/
LOCATION:Gabinete da Presidência.
CATEGORIES:Diretoria Administrativa e Financeira
END:VEVENT
BEGIN:VEVENT
DTSTART;TZID=America/Sao_Paulo:20250120T140000
DTEND;TZID=America/Sao_Paulo:20250120T180000
DTSTAMP:20260425T081502
CREATED:20250120T145330Z
LAST-MODIFIED:20250120T145330Z
UID:39376-1737381600-1737396000@www.goiasfomento.com
SUMMARY:Rufino Veríssimo: Despachos Internos.
DESCRIPTION:
URL:https://www.goiasfomento.com/agenda/rufino-verissimo-despachos-internos-108/
LOCATION:Gabinete da Diretoria de Operações da GoiásFomento – Agência de Fomento de Goiás.
CATEGORIES:Diretoria de Operações
END:VEVENT
BEGIN:VEVENT
DTSTART;TZID=America/Sao_Paulo:20250120T140000
DTEND;TZID=America/Sao_Paulo:20250120T180000
DTSTAMP:20260425T081502
CREATED:20250120T191003Z
LAST-MODIFIED:20250120T191003Z
UID:39383-1737381600-1737396000@www.goiasfomento.com
SUMMARY:Fernando Reis: Despachos Internos.
DESCRIPTION:
URL:https://www.goiasfomento.com/agenda/fernando-reis-despachos-internos-11/
LOCATION:Chefia de Gabinete – Agência de Fomento de Goiás
CATEGORIES:Chefia de Gabinete
END:VEVENT
BEGIN:VEVENT
DTSTART;TZID=America/Sao_Paulo:20250121T080000
DTEND;TZID=America/Sao_Paulo:20250121T090000
DTSTAMP:20260425T081502
CREATED:20250121T132359Z
LAST-MODIFIED:20250121T132359Z
UID:39392-1737446400-1737450000@www.goiasfomento.com
SUMMARY:Rufino Veríssimo: Despachos Internos.
DESCRIPTION:
URL:https://www.goiasfomento.com/agenda/rufino-verissimo-despachos-internos-109/
LOCATION:Gabinete da Diretoria de Operações da GoiásFomento – Agência de Fomento de Goiás.
CATEGORIES:Diretoria de Operações
END:VEVENT
BEGIN:VEVENT
DTSTART;TZID=America/Sao_Paulo:20250121T080000
DTEND;TZID=America/Sao_Paulo:20250121T100000
DTSTAMP:20260425T081502
CREATED:20250121T125208Z
LAST-MODIFIED:20250121T125208Z
UID:39385-1737446400-1737453600@www.goiasfomento.com
SUMMARY:Lucas Fernandes – Diretor Presidente (Interino): Despachos Internos.
DESCRIPTION:
URL:https://www.goiasfomento.com/agenda/lucas-fernandes-diretor-presidente-interino-despachos-internos-228/
LOCATION:Gabinete da Presidência.
CATEGORIES:Presidência
END:VEVENT
BEGIN:VEVENT
DTSTART;TZID=America/Sao_Paulo:20250121T080000
DTEND;TZID=America/Sao_Paulo:20250121T100000
DTSTAMP:20260425T081502
CREATED:20250121T142832Z
LAST-MODIFIED:20250121T142832Z
UID:39405-1737446400-1737453600@www.goiasfomento.com
SUMMARY:Lucas Fernandes – Despachos Internos.
DESCRIPTION:
URL:https://www.goiasfomento.com/agenda/lucas-fernandes-despachos-internos-676/
LOCATION:Gabinete da Presidência.
CATEGORIES:Diretoria Administrativa e Financeira
END:VEVENT
BEGIN:VEVENT
DTSTART;TZID=America/Sao_Paulo:20250121T080000
DTEND;TZID=America/Sao_Paulo:20250121T120000
DTSTAMP:20260425T081502
CREATED:20250121T133446Z
LAST-MODIFIED:20250121T133446Z
UID:39397-1737446400-1737460800@www.goiasfomento.com
SUMMARY:Fernando Reis: Despachos Internos.
DESCRIPTION:
URL:https://www.goiasfomento.com/agenda/fernando-reis-despachos-internos-12/
LOCATION:Chefia de Gabinete – Agência de Fomento de Goiás
CATEGORIES:Chefia de Gabinete
END:VEVENT
BEGIN:VEVENT
DTSTART;TZID=America/Sao_Paulo:20250121T090000
DTEND;TZID=America/Sao_Paulo:20250121T100000
DTSTAMP:20260425T081502
CREATED:20250121T132310Z
LAST-MODIFIED:20250121T132310Z
UID:39390-1737450000-1737453600@www.goiasfomento.com
SUMMARY:Rufino Veríssimo: Reunião com Wagner Siqueira Coelho – Gerente de Prospecção de Negócios.
DESCRIPTION:
URL:https://www.goiasfomento.com/agenda/rufino-verissimo-reuniao-com-wagner-siqueira-coelho-gerente-de-prospeccao-de-negocios-5/
LOCATION:Gabinete da Diretoria de Operações da GoiásFomento – Agência de Fomento de Goiás.
CATEGORIES:Diretoria de Operações
END:VEVENT
BEGIN:VEVENT
DTSTART;TZID=America/Sao_Paulo:20250121T100000
DTEND;TZID=America/Sao_Paulo:20250121T103000
DTSTAMP:20260425T081502
CREATED:20250121T131540Z
LAST-MODIFIED:20250121T131540Z
UID:39387-1737453600-1737455400@www.goiasfomento.com
SUMMARY:Lucas Fernandes – Diretor Presidente (Interino): Reunião com QITech e Goiás Fomento - online.
DESCRIPTION:
URL:https://www.goiasfomento.com/agenda/lucas-fernandes-diretor-presidente-interino-reuniao-com-qitech-e-goias-fomento-online/
LOCATION:Gabinete da Presidência.
CATEGORIES:Presidência
END:VEVENT
BEGIN:VEVENT
DTSTART;TZID=America/Sao_Paulo:20250121T100000
DTEND;TZID=America/Sao_Paulo:20250121T103000
DTSTAMP:20260425T081502
CREATED:20250121T143043Z
LAST-MODIFIED:20250121T143043Z
UID:39407-1737453600-1737455400@www.goiasfomento.com
SUMMARY:Fernandes – Reunião com QITech e Goiás Fomento – online.
DESCRIPTION:
URL:https://www.goiasfomento.com/agenda/fernandes-reuniao-com-qitech-e-goias-fomento-online/
LOCATION:Gabinete da Presidência.
CATEGORIES:Diretoria Administrativa e Financeira
END:VEVENT
BEGIN:VEVENT
DTSTART;TZID=America/Sao_Paulo:20250121T100000
DTEND;TZID=America/Sao_Paulo:20250121T110000
DTSTAMP:20260425T081502
CREATED:20250121T135922Z
LAST-MODIFIED:20250121T135922Z
UID:39403-1737453600-1737457200@www.goiasfomento.com
SUMMARY:Rufino Veríssimo: Reunião com Rafael Soffa Rézio – Gerente de Programas e Políticas Sociais.
DESCRIPTION:
URL:https://www.goiasfomento.com/agenda/rufino-verissimo-reuniao-com-rafael-soffa-rezio-gerente-de-programas-e-politicas-sociais-4/
CATEGORIES:Diretoria de Operações
END:VEVENT
BEGIN:VEVENT
DTSTART;TZID=America/Sao_Paulo:20250121T103000
DTEND;TZID=America/Sao_Paulo:20250121T120000
DTSTAMP:20260425T081502
CREATED:20250121T133635Z
LAST-MODIFIED:20250121T133635Z
UID:39393-1737455400-1737460800@www.goiasfomento.com
SUMMARY:Lucas Fernandes – Diretor Presidente (Interino): Reunião com José Carlos Guimarães\, Designer Gráfico\, Caricaturista e Pintos. Pauta: Projeto de Identidade Visual.
DESCRIPTION:
URL:https://www.goiasfomento.com/agenda/lucas-fernandes-diretor-presidente-interino-reuniao-com-jose-carlos-guimaraes-designer-grafico-caricaturista-e-pintos-pauta-projeto-de-identidade-visual/
LOCATION:Gabinete da Presidência.
CATEGORIES:Presidência
END:VEVENT
BEGIN:VEVENT
DTSTART;TZID=America/Sao_Paulo:20250121T103000
DTEND;TZID=America/Sao_Paulo:20250121T120000
DTSTAMP:20260425T081502
CREATED:20250121T143438Z
LAST-MODIFIED:20250121T143438Z
UID:39409-1737455400-1737460800@www.goiasfomento.com
SUMMARY:Lucas Fernandes – Reunião com José Carlos Guimarães\, Designer Gráfico\, Caricaturista e Pintos. Pauta: Projeto de Identidade Visual.
DESCRIPTION:
URL:https://www.goiasfomento.com/agenda/lucas-fernandes-reuniao-com-jose-carlos-guimaraes-designer-grafico-caricaturista-e-pintos-pauta-projeto-de-identidade-visual/
LOCATION:Gabinete da Presidência.
CATEGORIES:Diretoria Administrativa e Financeira
END:VEVENT
BEGIN:VEVENT
DTSTART;TZID=America/Sao_Paulo:20250121T110000
DTEND;TZID=America/Sao_Paulo:20250121T120000
DTSTAMP:20260425T081502
CREATED:20250121T133300Z
LAST-MODIFIED:20250121T135744Z
UID:39395-1737457200-1737460800@www.goiasfomento.com
SUMMARY:Rufino Veríssimo: Despachos Internos.
DESCRIPTION:
URL:https://www.goiasfomento.com/agenda/rufino-verissimo-despachos-internos-110/
LOCATION:Gabinete da Diretoria de Operações da GoiásFomento – Agência de Fomento de Goiás.
CATEGORIES:Diretoria de Operações
END:VEVENT
BEGIN:VEVENT
DTSTART;TZID=America/Sao_Paulo:20250121T140000
DTEND;TZID=America/Sao_Paulo:20250121T180000
DTSTAMP:20260425T081502
CREATED:20250121T134116Z
LAST-MODIFIED:20250121T134116Z
UID:39400-1737468000-1737482400@www.goiasfomento.com
SUMMARY:Lucas Fernandes – Diretor Presidente (Interino): Despachos Internos.
DESCRIPTION:
URL:https://www.goiasfomento.com/agenda/lucas-fernandes-diretor-presidente-interino-despachos-internos-229/
LOCATION:Gabinete da Presidência.
CATEGORIES:Presidência
END:VEVENT
BEGIN:VEVENT
DTSTART;TZID=America/Sao_Paulo:20250121T140000
DTEND;TZID=America/Sao_Paulo:20250121T180000
DTSTAMP:20260425T081502
CREATED:20250121T143655Z
LAST-MODIFIED:20250121T143655Z
UID:39411-1737468000-1737482400@www.goiasfomento.com
SUMMARY:Lucas Fernandes – Despachos Internos.
DESCRIPTION:
URL:https://www.goiasfomento.com/agenda/lucas-fernandes-despachos-internos-677/
LOCATION:Gabinete da Presidência.
CATEGORIES:Diretoria Administrativa e Financeira
END:VEVENT
BEGIN:VEVENT
DTSTART;TZID=America/Sao_Paulo:20250121T140000
DTEND;TZID=America/Sao_Paulo:20250121T180000
DTSTAMP:20260425T081502
CREATED:20250121T195822Z
LAST-MODIFIED:20250121T195822Z
UID:39417-1737468000-1737482400@www.goiasfomento.com
SUMMARY:Fernando Dias: Despachos Internos.
DESCRIPTION:
URL:https://www.goiasfomento.com/agenda/fernando-dias-despachos-internos-17/
LOCATION:Chefia de Gabinete – Agência de Fomento de Goiás
CATEGORIES:Chefia de Gabinete
END:VEVENT
BEGIN:VEVENT
DTSTART;TZID=America/Sao_Paulo:20250121T140000
DTEND;TZID=America/Sao_Paulo:20250121T180000
DTSTAMP:20260425T081502
CREATED:20250122T181455Z
LAST-MODIFIED:20250122T181455Z
UID:39453-1737468000-1737482400@www.goiasfomento.com
SUMMARY:Rufino Veríssimo: Reunião com a Empresa Inttegra e a Gepros ( Gerencia de Programas e Políticas Sociais).
DESCRIPTION:
URL:https://www.goiasfomento.com/agenda/rufino-verissimo-reuniao-com-a-empresa-inttegra-e-a-gepros-gerencia-de-programas-e-politicas-sociais/
LOCATION:Sala de Reuniões da Diretoria – Agência de Fomento de Goiás.
CATEGORIES:Diretoria de Operações
END:VEVENT
BEGIN:VEVENT
DTSTART;TZID=America/Sao_Paulo:20250122T080000
DTEND;TZID=America/Sao_Paulo:20250122T090000
DTSTAMP:20260425T081502
CREATED:20250121T151254Z
LAST-MODIFIED:20250121T151327Z
UID:39413-1737532800-1737536400@www.goiasfomento.com
SUMMARY:Lucas Fernandes – Diretor Presidente (Interino): Entrevista Programao Mundo em Casa. Entrevistadores: Mariana Távora e Alex Atanásio Pauta: Crescimento da Liberação de Crédito para Empreendedores.
DESCRIPTION:
URL:https://www.goiasfomento.com/agenda/lucas-fernandes-diretor-presidente-interino-entrevista-programao-mundo-em-casa-entrevistadores-mariana-tavora-e-alex-atanasio-pauta-crescimento-da-liberacao-de-credito-para-empreendedo/
LOCATION:Estudio da TV Brasil Central.
CATEGORIES:Presidência
END:VEVENT
BEGIN:VEVENT
DTSTART;TZID=America/Sao_Paulo:20250122T080000
DTEND;TZID=America/Sao_Paulo:20250122T090000
DTSTAMP:20260425T081502
CREATED:20250121T151605Z
LAST-MODIFIED:20250121T151616Z
UID:39415-1737532800-1737536400@www.goiasfomento.com
SUMMARY:Lucas Fernandes: Entrevista Programao Mundo em Casa. Entrevistadores: Mariana Távora e Alex Atanásio Pauta: Crescimento da Liberação de Crédito para Empreendedores.
DESCRIPTION:
URL:https://www.goiasfomento.com/agenda/lucas-fernandes-entrevista-programao-mundo-em-casa-entrevistadores-mariana-tavora-e-alex-atanasio-pauta-crescimento-da-liberacao-de-credito-para-empreendedores/
LOCATION:Estudio da TV Brasil Central.
CATEGORIES:Diretoria Administrativa e Financeira
END:VEVENT
END:VCALENDAR