BEGIN:VCALENDAR
VERSION:2.0
PRODID:-//GoiásFomento - Agência de Fomento - ECPv6.15.20//NONSGML v1.0//EN
CALSCALE:GREGORIAN
METHOD:PUBLISH
X-ORIGINAL-URL:https://www.goiasfomento.com
X-WR-CALDESC:Eventos para GoiásFomento - Agência de Fomento
REFRESH-INTERVAL;VALUE=DURATION:PT1H
X-Robots-Tag:noindex
X-PUBLISHED-TTL:PT1H
BEGIN:VTIMEZONE
TZID:America/Sao_Paulo
BEGIN:STANDARD
TZOFFSETFROM:-0300
TZOFFSETTO:-0300
TZNAME:-03
DTSTART:20240101T000000
END:STANDARD
END:VTIMEZONE
BEGIN:VEVENT
DTSTART;TZID=America/Sao_Paulo:20250113T080000
DTEND;TZID=America/Sao_Paulo:20250113T100000
DTSTAMP:20260425T081458
CREATED:20250113T120145Z
LAST-MODIFIED:20250113T120145Z
UID:39221-1736755200-1736762400@www.goiasfomento.com
SUMMARY:Lucas Fernandes- Despachos Internos.
DESCRIPTION:
URL:https://www.goiasfomento.com/agenda/lucas-fernandes-despachos-internos-664/
LOCATION:Gabinete da Presidência.
CATEGORIES:Diretoria Administrativa e Financeira
END:VEVENT
BEGIN:VEVENT
DTSTART;TZID=America/Sao_Paulo:20250113T080000
DTEND;TZID=America/Sao_Paulo:20250113T100000
DTSTAMP:20260425T081458
CREATED:20250113T120331Z
LAST-MODIFIED:20250113T120331Z
UID:39223-1736755200-1736762400@www.goiasfomento.com
SUMMARY:Lucas Fernandes – Diretor Presidente (Interino): Despachos Internos.
DESCRIPTION:
URL:https://www.goiasfomento.com/agenda/lucas-fernandes-diretor-presidente-interino-despachos-internos-215/
LOCATION:Gabinete da Presidência.
CATEGORIES:Presidência
END:VEVENT
BEGIN:VEVENT
DTSTART;TZID=America/Sao_Paulo:20250113T080000
DTEND;TZID=America/Sao_Paulo:20250113T100000
DTSTAMP:20260425T081458
CREATED:20250113T130555Z
LAST-MODIFIED:20250113T130555Z
UID:39235-1736755200-1736762400@www.goiasfomento.com
SUMMARY:Fernando Dias: Reunião do Setor de Recursos Humanos e o Phaber da Licitação.
DESCRIPTION:
URL:https://www.goiasfomento.com/agenda/fernando-dias-reuniao-do-setor-de-recursos-humanos-e-o-phaber-da-licitacao/
LOCATION:Chefia de Gabinete – Agência de Fomento de Goiás
CATEGORIES:Chefia de Gabinete
END:VEVENT
BEGIN:VEVENT
DTSTART;TZID=America/Sao_Paulo:20250113T080000
DTEND;TZID=America/Sao_Paulo:20250113T120000
DTSTAMP:20260425T081458
CREATED:20250113T124254Z
LAST-MODIFIED:20250113T124254Z
UID:39229-1736755200-1736769600@www.goiasfomento.com
SUMMARY:Rufino Veríssimo: Despachos Internos.
DESCRIPTION:
URL:https://www.goiasfomento.com/agenda/rufino-verissimo-despachos-internos-95/
LOCATION:Gabinete da Diretoria de Operações da GoiásFomento – Agência de Fomento de Goiás.
CATEGORIES:Diretoria de Operações
END:VEVENT
BEGIN:VEVENT
DTSTART;TZID=America/Sao_Paulo:20250113T100000
DTEND;TZID=America/Sao_Paulo:20250113T120000
DTSTAMP:20260425T081458
CREATED:20250113T115754Z
LAST-MODIFIED:20250113T115754Z
UID:39217-1736762400-1736769600@www.goiasfomento.com
SUMMARY:Lucas Fernandes – Diretor Presidente (Interino): Despachos Internos. Reunião com Wellington Matos de Lima – Secretaria de Desenvolvimento Social – SEDS.
DESCRIPTION:
URL:https://www.goiasfomento.com/agenda/lucas-fernandes-diretor-presidente-interino-despachos-internos-reuniao-com-wellington-matos-de-lima-secretaria-de-desenvolvimento-social-seds/
LOCATION:Palácio Pedro Ludovico Teixeira
CATEGORIES:Presidência
END:VEVENT
BEGIN:VEVENT
DTSTART;TZID=America/Sao_Paulo:20250113T100000
DTEND;TZID=America/Sao_Paulo:20250113T120000
DTSTAMP:20260425T081458
CREATED:20250113T120002Z
LAST-MODIFIED:20250113T120002Z
UID:39219-1736762400-1736769600@www.goiasfomento.com
SUMMARY:Lucas Fernandes – Reunião com Wellington Matos de Lima – Secretaria de Desenvolvimento Social – SEDS.
DESCRIPTION:
URL:https://www.goiasfomento.com/agenda/lucas-fernandes-reuniao-com-wellington-matos-de-lima-secretaria-de-desenvolvimento-social-seds-2/
LOCATION:Palácio Pedro Ludovico Teixeira
CATEGORIES:Diretoria Administrativa e Financeira
END:VEVENT
BEGIN:VEVENT
DTSTART;TZID=America/Sao_Paulo:20250113T100000
DTEND;TZID=America/Sao_Paulo:20250113T120000
DTSTAMP:20260425T081458
CREATED:20250113T130719Z
LAST-MODIFIED:20250113T130719Z
UID:39243-1736762400-1736769600@www.goiasfomento.com
SUMMARY:Fernando Dias: Despachos Internos.
DESCRIPTION:
URL:https://www.goiasfomento.com/agenda/fernando-dias-despachos-internos-15/
LOCATION:Chefia de Gabinete – Agência de Fomento de Goiás
CATEGORIES:Chefia de Gabinete
END:VEVENT
BEGIN:VEVENT
DTSTART;TZID=America/Sao_Paulo:20250113T140000
DTEND;TZID=America/Sao_Paulo:20250113T153000
DTSTAMP:20260425T081458
CREATED:20250113T124833Z
LAST-MODIFIED:20250113T124833Z
UID:39231-1736776800-1736782200@www.goiasfomento.com
SUMMARY:Rufino Veríssimo: Reunião com os Gerentes da Diretoria de Operações da Agência de Fomento de Goiás.
DESCRIPTION:
URL:https://www.goiasfomento.com/agenda/rufino-verissimo-reuniao-com-os-gerentes-da-diretoria-de-operacoes-da-agencia-de-fomento-de-goias-5/
LOCATION:Gabinete da Diretoria de Operações da GoiásFomento – Agência de Fomento de Goiás.
CATEGORIES:Diretoria de Operações
END:VEVENT
BEGIN:VEVENT
DTSTART;TZID=America/Sao_Paulo:20250113T140000
DTEND;TZID=America/Sao_Paulo:20250113T180000
DTSTAMP:20260425T081458
CREATED:20250113T120758Z
LAST-MODIFIED:20250113T120758Z
UID:39225-1736776800-1736791200@www.goiasfomento.com
SUMMARY:Lucas Fernandes – Diretor Presidente (Interino): Despachos Internos.
DESCRIPTION:
URL:https://www.goiasfomento.com/agenda/lucas-fernandes-diretor-presidente-interino-despachos-internos-216/
LOCATION:Gabinete da Presidência.
CATEGORIES:Presidência
END:VEVENT
BEGIN:VEVENT
DTSTART;TZID=America/Sao_Paulo:20250113T140000
DTEND;TZID=America/Sao_Paulo:20250113T180000
DTSTAMP:20260425T081458
CREATED:20250113T121045Z
LAST-MODIFIED:20250113T121045Z
UID:39227-1736776800-1736791200@www.goiasfomento.com
SUMMARY:Lucas Fernandes – Despachos Internos.
DESCRIPTION:
URL:https://www.goiasfomento.com/agenda/lucas-fernandes-despachos-internos-665/
LOCATION:Gabinete da Presidência.
CATEGORIES:Diretoria Administrativa e Financeira
END:VEVENT
BEGIN:VEVENT
DTSTART;TZID=America/Sao_Paulo:20250113T140000
DTEND;TZID=America/Sao_Paulo:20250113T180000
DTSTAMP:20260425T081458
CREATED:20250113T130750Z
LAST-MODIFIED:20250113T130750Z
UID:39246-1736776800-1736791200@www.goiasfomento.com
SUMMARY:Fernando Dias: Despachos Internos.
DESCRIPTION:
URL:https://www.goiasfomento.com/agenda/fernando-dias-despachos-internos-16/
LOCATION:Chefia de Gabinete – Agência de Fomento de Goiás
CATEGORIES:Chefia de Gabinete
END:VEVENT
BEGIN:VEVENT
DTSTART;TZID=America/Sao_Paulo:20250113T153000
DTEND;TZID=America/Sao_Paulo:20250113T180000
DTSTAMP:20260425T081458
CREATED:20250113T125020Z
LAST-MODIFIED:20250113T125020Z
UID:39233-1736782200-1736791200@www.goiasfomento.com
SUMMARY:Rufino Veríssimo: Despachos Internos.
DESCRIPTION:
URL:https://www.goiasfomento.com/agenda/rufino-verissimo-despachos-internos-96/
LOCATION:Gabinete da Diretoria de Operações da GoiásFomento – Agência de Fomento de Goiás.
CATEGORIES:Diretoria de Operações
END:VEVENT
BEGIN:VEVENT
DTSTART;TZID=America/Sao_Paulo:20250114T080000
DTEND;TZID=America/Sao_Paulo:20250114T090000
DTSTAMP:20260425T081458
CREATED:20250113T182157Z
LAST-MODIFIED:20250113T182157Z
UID:39262-1736841600-1736845200@www.goiasfomento.com
SUMMARY:Lucas Fernandes – Diretor Presidente (Interino): Reunião com os Gerentes.
DESCRIPTION:
URL:https://www.goiasfomento.com/agenda/lucas-fernandes-diretor-presidente-interino-reuniao-com-os-gerentes-7/
LOCATION:Gabinete da Presidência.
CATEGORIES:Diretoria Administrativa e Financeira
END:VEVENT
BEGIN:VEVENT
DTSTART;TZID=America/Sao_Paulo:20250114T080000
DTEND;TZID=America/Sao_Paulo:20250114T090000
DTSTAMP:20260425T081458
CREATED:20250113T182427Z
LAST-MODIFIED:20250113T182659Z
UID:39264-1736841600-1736845200@www.goiasfomento.com
SUMMARY:Lucas Fernandes – Diretor Presidente (Interino): Despachos Internos.
DESCRIPTION:
URL:https://www.goiasfomento.com/agenda/lucas-fernandes-diretor-presidente-interino-despachos-internos-217/
LOCATION:Gabinete da Presidência.
CATEGORIES:Presidência
END:VEVENT
BEGIN:VEVENT
DTSTART;TZID=America/Sao_Paulo:20250114T080000
DTEND;TZID=America/Sao_Paulo:20250114T090000
DTSTAMP:20260425T081458
CREATED:20250113T185855Z
LAST-MODIFIED:20250113T185855Z
UID:39275-1736841600-1736845200@www.goiasfomento.com
SUMMARY:Rufino Veríssimo: Despachos Internos.
DESCRIPTION:
URL:https://www.goiasfomento.com/agenda/rufino-verissimo-despachos-internos-97/
LOCATION:Gabinete da Diretoria de Operações da GoiásFomento – Agência de Fomento de Goiás.
CATEGORIES:Diretoria de Operações
END:VEVENT
BEGIN:VEVENT
DTSTART;TZID=America/Sao_Paulo:20250114T080000
DTEND;TZID=America/Sao_Paulo:20250114T100000
DTSTAMP:20260425T081458
CREATED:20250114T131331Z
LAST-MODIFIED:20250114T131331Z
UID:39281-1736841600-1736848800@www.goiasfomento.com
SUMMARY:Fernando Reis: Reunião com o Gerente de Risco e Projetos Porthos Motta.
DESCRIPTION:
URL:https://www.goiasfomento.com/agenda/fernando-reis-reuniao-com-o-gerente-de-risco-e-projetos-porthos-motta/
LOCATION:Chefia de Gabinete – Agência de Fomento de Goiás
CATEGORIES:Chefia de Gabinete
END:VEVENT
BEGIN:VEVENT
DTSTART;TZID=America/Sao_Paulo:20250114T090000
DTEND;TZID=America/Sao_Paulo:20250114T104500
DTSTAMP:20260425T081458
CREATED:20250113T180940Z
LAST-MODIFIED:20250113T181549Z
UID:39255-1736845200-1736851500@www.goiasfomento.com
SUMMARY:Lucas Fernandes – Diretor Presidente (Interino): Diretoria com o Wendel Vice-Presidente\, Ricardo e o Fernando da Agehab. Pauta: Parcerias dos Programa Sociais.
DESCRIPTION:
URL:https://www.goiasfomento.com/agenda/lucas-fernandes-diretor-presidente-interino-diretoria-com-o-wendel-vice-presidente-ricardo-e-o-fernando-da-agehab-pauta-parcerias-dos-programa-sociais/
LOCATION:Sala de reuniões da Diretoria.
CATEGORIES:Presidência
END:VEVENT
BEGIN:VEVENT
DTSTART;TZID=America/Sao_Paulo:20250114T090000
DTEND;TZID=America/Sao_Paulo:20250114T104500
DTSTAMP:20260425T081458
CREATED:20250113T181745Z
LAST-MODIFIED:20250113T181745Z
UID:39258-1736845200-1736851500@www.goiasfomento.com
SUMMARY:Rufino Veríssimo: Diretoria com o Wendel Vice-Presidente\, Ricardo e o Fernando da Agehab. Pauta: Parcerias dos Programa Sociais.
DESCRIPTION:
URL:https://www.goiasfomento.com/agenda/rufino-verissimo-diretoria-com-o-wendel-vice-presidente-ricardo-e-o-fernando-da-agehab-pauta-parcerias-dos-programa-sociais/
LOCATION:Sala de reuniões da Diretoria.
CATEGORIES:Diretoria de Operações
END:VEVENT
BEGIN:VEVENT
DTSTART;TZID=America/Sao_Paulo:20250114T090000
DTEND;TZID=America/Sao_Paulo:20250114T104500
DTSTAMP:20260425T081458
CREATED:20250113T181904Z
LAST-MODIFIED:20250113T181904Z
UID:39260-1736845200-1736851500@www.goiasfomento.com
SUMMARY:Lucas Andrade: Diretoria com o Wendel Vice-Presidente\, Ricardo e o Fernando da Agehab. Pauta: Parcerias dos Programa Sociais.
DESCRIPTION:
URL:https://www.goiasfomento.com/agenda/lucas-andrade-diretoria-com-o-wendel-vice-presidente-ricardo-e-o-fernando-da-agehab-pauta-parcerias-dos-programa-sociais/
LOCATION:Sala de reuniões da Diretoria.
CATEGORIES:Diretoria Administrativa e Financeira
END:VEVENT
BEGIN:VEVENT
DTSTART;TZID=America/Sao_Paulo:20250114T100000
DTEND;TZID=America/Sao_Paulo:20250114T120000
DTSTAMP:20260425T081458
CREATED:20250114T131505Z
LAST-MODIFIED:20250114T131505Z
UID:39283-1736848800-1736856000@www.goiasfomento.com
SUMMARY:Fernando Reis: Despachos Internos.
DESCRIPTION:
URL:https://www.goiasfomento.com/agenda/fernando-reis-despachos-internos/
LOCATION:Chefia de Gabinete – Agência de Fomento de Goiás
CATEGORIES:Chefia de Gabinete
END:VEVENT
BEGIN:VEVENT
DTSTART;TZID=America/Sao_Paulo:20250114T104500
DTEND;TZID=America/Sao_Paulo:20250114T120000
DTSTAMP:20260425T081458
CREATED:20250113T183522Z
LAST-MODIFIED:20250113T183522Z
UID:39266-1736851500-1736856000@www.goiasfomento.com
SUMMARY:Lucas Fernandes – Diretor Presidente (Interino): Reunião com os Gerentes.
DESCRIPTION:
URL:https://www.goiasfomento.com/agenda/lucas-fernandes-diretor-presidente-interino-reuniao-com-os-gerentes-8/
LOCATION:Gabinete da Presidência.
CATEGORIES:Presidência
END:VEVENT
BEGIN:VEVENT
DTSTART;TZID=America/Sao_Paulo:20250114T104500
DTEND;TZID=America/Sao_Paulo:20250114T120000
DTSTAMP:20260425T081458
CREATED:20250113T184852Z
LAST-MODIFIED:20250113T184852Z
UID:39271-1736851500-1736856000@www.goiasfomento.com
SUMMARY:Lucas Fernandes – Reunião com os Gerentes.
DESCRIPTION:
URL:https://www.goiasfomento.com/agenda/lucas-fernandes-reuniao-com-os-gerentes-7/
LOCATION:Gabinete da Presidência.
CATEGORIES:Diretoria Administrativa e Financeira
END:VEVENT
BEGIN:VEVENT
DTSTART;TZID=America/Sao_Paulo:20250114T104500
DTEND;TZID=America/Sao_Paulo:20250114T120000
DTSTAMP:20260425T081458
CREATED:20250113T185950Z
LAST-MODIFIED:20250113T185950Z
UID:39277-1736851500-1736856000@www.goiasfomento.com
SUMMARY:Rufino Veríssimo: Despachos Internos.
DESCRIPTION:
URL:https://www.goiasfomento.com/agenda/rufino-verissimo-despachos-internos-98/
LOCATION:Gabinete da Diretoria de Operações da GoiásFomento – Agência de Fomento de Goiás.
CATEGORIES:Diretoria de Operações
END:VEVENT
BEGIN:VEVENT
DTSTART;TZID=America/Sao_Paulo:20250114T140000
DTEND;TZID=America/Sao_Paulo:20250114T180000
DTSTAMP:20260425T081458
CREATED:20250113T183611Z
LAST-MODIFIED:20250113T183822Z
UID:39268-1736863200-1736877600@www.goiasfomento.com
SUMMARY:Lucas Fernandes – Diretor Presidente (Interino): Despachos Internos.
DESCRIPTION:
URL:https://www.goiasfomento.com/agenda/lucas-fernandes-diretor-presidente-interino-reuniao-com-os-gerentes-9/
LOCATION:Gabinete da Presidência.
CATEGORIES:Presidência
END:VEVENT
BEGIN:VEVENT
DTSTART;TZID=America/Sao_Paulo:20250114T140000
DTEND;TZID=America/Sao_Paulo:20250114T180000
DTSTAMP:20260425T081458
CREATED:20250113T185151Z
LAST-MODIFIED:20250113T185151Z
UID:39273-1736863200-1736877600@www.goiasfomento.com
SUMMARY:Lucas Fernandes – Despachos Internos.
DESCRIPTION:
URL:https://www.goiasfomento.com/agenda/lucas-fernandes-despachos-internos-666/
LOCATION:Gabinete da Presidência.
CATEGORIES:Diretoria Administrativa e Financeira
END:VEVENT
BEGIN:VEVENT
DTSTART;TZID=America/Sao_Paulo:20250114T140000
DTEND;TZID=America/Sao_Paulo:20250114T180000
DTSTAMP:20260425T081458
CREATED:20250113T190028Z
LAST-MODIFIED:20250113T190028Z
UID:39279-1736863200-1736877600@www.goiasfomento.com
SUMMARY:Rufino Veríssimo: Despachos Internos.
DESCRIPTION:
URL:https://www.goiasfomento.com/agenda/rufino-verissimo-despachos-internos-99/
LOCATION:Gabinete da Diretoria de Operações da GoiásFomento – Agência de Fomento de Goiás.
CATEGORIES:Diretoria de Operações
END:VEVENT
BEGIN:VEVENT
DTSTART;TZID=America/Sao_Paulo:20250114T140000
DTEND;TZID=America/Sao_Paulo:20250114T180000
DTSTAMP:20260425T081458
CREATED:20250114T131533Z
LAST-MODIFIED:20250114T131533Z
UID:39285-1736863200-1736877600@www.goiasfomento.com
SUMMARY:Fernando Reis: Despachos Internos.
DESCRIPTION:
URL:https://www.goiasfomento.com/agenda/fernando-reis-despachos-internos-2/
LOCATION:Chefia de Gabinete – Agência de Fomento de Goiás
CATEGORIES:Chefia de Gabinete
END:VEVENT
BEGIN:VEVENT
DTSTART;TZID=America/Sao_Paulo:20250115T080000
DTEND;TZID=America/Sao_Paulo:20250115T090000
DTSTAMP:20260425T081458
CREATED:20250115T134054Z
LAST-MODIFIED:20250115T134054Z
UID:39303-1736928000-1736931600@www.goiasfomento.com
SUMMARY:Rufino Veríssimo: Despachos Internos.
DESCRIPTION:
URL:https://www.goiasfomento.com/agenda/rufino-verissimo-despachos-internos-100/
LOCATION:Gabinete da Diretoria de Operações da GoiásFomento – Agência de Fomento de Goiás.
CATEGORIES:Diretoria de Operações
END:VEVENT
BEGIN:VEVENT
DTSTART;TZID=America/Sao_Paulo:20250115T080000
DTEND;TZID=America/Sao_Paulo:20250115T100000
DTSTAMP:20260425T081458
CREATED:20250115T121115Z
LAST-MODIFIED:20250115T121115Z
UID:39287-1736928000-1736935200@www.goiasfomento.com
SUMMARY:Lucas Fernandes – Diretor Presidente (Interino): Despachos Internos.
DESCRIPTION:
URL:https://www.goiasfomento.com/agenda/lucas-fernandes-diretor-presidente-interino-despachos-internos-218/
LOCATION:Gabinete da Presidência.
CATEGORIES:Presidência
END:VEVENT
BEGIN:VEVENT
DTSTART;TZID=America/Sao_Paulo:20250115T080000
DTEND;TZID=America/Sao_Paulo:20250115T100000
DTSTAMP:20260425T081458
CREATED:20250115T131416Z
LAST-MODIFIED:20250115T131416Z
UID:39295-1736928000-1736935200@www.goiasfomento.com
SUMMARY:Lucas Fernandes – Despachos Internos.
DESCRIPTION:
URL:https://www.goiasfomento.com/agenda/lucas-fernandes-despachos-internos-667/
LOCATION:Gabinete da Presidência.
CATEGORIES:Diretoria Administrativa e Financeira
END:VEVENT
END:VCALENDAR