BEGIN:VCALENDAR
VERSION:2.0
PRODID:-//GoiásFomento - Agência de Fomento - ECPv6.15.20//NONSGML v1.0//EN
CALSCALE:GREGORIAN
METHOD:PUBLISH
X-ORIGINAL-URL:https://www.goiasfomento.com
X-WR-CALDESC:Eventos para GoiásFomento - Agência de Fomento
REFRESH-INTERVAL;VALUE=DURATION:PT1H
X-Robots-Tag:noindex
X-PUBLISHED-TTL:PT1H
BEGIN:VTIMEZONE
TZID:America/Sao_Paulo
BEGIN:STANDARD
TZOFFSETFROM:-0300
TZOFFSETTO:-0300
TZNAME:-03
DTSTART:20240101T000000
END:STANDARD
END:VTIMEZONE
BEGIN:VEVENT
DTSTART;TZID=America/Sao_Paulo:20250106T080000
DTEND;TZID=America/Sao_Paulo:20250106T120000
DTSTAMP:20260425T081418
CREATED:20250106T122133Z
LAST-MODIFIED:20250106T122133Z
UID:39066-1736150400-1736164800@www.goiasfomento.com
SUMMARY:Lucas Fernandes – Diretor Presidente (Interino): Reunião com os Gerentes.
DESCRIPTION:
URL:https://www.goiasfomento.com/agenda/lucas-fernandes-diretor-presidente-interino-reuniao-com-os-gerentes-4/
LOCATION:Gabinete da Presidência.
CATEGORIES:Presidência
END:VEVENT
BEGIN:VEVENT
DTSTART;TZID=America/Sao_Paulo:20250106T080000
DTEND;TZID=America/Sao_Paulo:20250106T120000
DTSTAMP:20260425T081418
CREATED:20250106T122537Z
LAST-MODIFIED:20250106T122537Z
UID:39070-1736150400-1736164800@www.goiasfomento.com
SUMMARY:Lucas Fernandes – Reunião com os Gerentes.
DESCRIPTION:
URL:https://www.goiasfomento.com/agenda/lucas-fernandes-reuniao-com-os-gerentes-4/
LOCATION:Gabinete da Presidência.
CATEGORIES:Diretoria Administrativa e Financeira
END:VEVENT
BEGIN:VEVENT
DTSTART;TZID=America/Sao_Paulo:20250106T080000
DTEND;TZID=America/Sao_Paulo:20250106T120000
DTSTAMP:20260425T081418
CREATED:20250106T123144Z
LAST-MODIFIED:20250106T123144Z
UID:39074-1736150400-1736164800@www.goiasfomento.com
SUMMARY:Rufino Veríssimo: Despachos Internos.
DESCRIPTION:
URL:https://www.goiasfomento.com/agenda/rufino-verissimo-despachos-internos-84/
LOCATION:Gabinete da Diretoria de Operações da GoiásFomento – Agência de Fomento de Goiás.
CATEGORIES:Diretoria de Operações
END:VEVENT
BEGIN:VEVENT
DTSTART;TZID=America/Sao_Paulo:20250106T080000
DTEND;TZID=America/Sao_Paulo:20250106T120000
DTSTAMP:20260425T081418
CREATED:20250107T124522Z
LAST-MODIFIED:20250107T124522Z
UID:39092-1736150400-1736164800@www.goiasfomento.com
SUMMARY:Fernando Dias: Despachos Internos.
DESCRIPTION:
URL:https://www.goiasfomento.com/agenda/fernando-dias-despachos-internos-5/
LOCATION:Chefia de Gabinete – Agência de Fomento de Goiás
CATEGORIES:Chefia de Gabinete
END:VEVENT
BEGIN:VEVENT
DTSTART;TZID=America/Sao_Paulo:20250106T140000
DTEND;TZID=America/Sao_Paulo:20250106T180000
DTSTAMP:20260425T081418
CREATED:20250106T122201Z
LAST-MODIFIED:20250106T122201Z
UID:39068-1736172000-1736186400@www.goiasfomento.com
SUMMARY:Lucas Fernandes – Diretor Presidente (Interino): Reunião com os Gerentes.
DESCRIPTION:
URL:https://www.goiasfomento.com/agenda/lucas-fernandes-diretor-presidente-interino-reuniao-com-os-gerentes-5/
LOCATION:Gabinete da Presidência.
CATEGORIES:Presidência
END:VEVENT
BEGIN:VEVENT
DTSTART;TZID=America/Sao_Paulo:20250106T140000
DTEND;TZID=America/Sao_Paulo:20250106T180000
DTSTAMP:20260425T081418
CREATED:20250106T122626Z
LAST-MODIFIED:20250106T122626Z
UID:39072-1736172000-1736186400@www.goiasfomento.com
SUMMARY:Lucas Fernandes – Reunião com os Gerentes.
DESCRIPTION:
URL:https://www.goiasfomento.com/agenda/lucas-fernandes-reuniao-com-os-gerentes-5/
LOCATION:Gabinete da Presidência.
CATEGORIES:Diretoria Administrativa e Financeira
END:VEVENT
BEGIN:VEVENT
DTSTART;TZID=America/Sao_Paulo:20250106T140000
DTEND;TZID=America/Sao_Paulo:20250106T180000
DTSTAMP:20260425T081418
CREATED:20250106T123209Z
LAST-MODIFIED:20250106T123209Z
UID:39076-1736172000-1736186400@www.goiasfomento.com
SUMMARY:Rufino Veríssimo: Despachos Internos.
DESCRIPTION:
URL:https://www.goiasfomento.com/agenda/rufino-verissimo-despachos-internos-85/
LOCATION:Gabinete da Diretoria de Operações da GoiásFomento – Agência de Fomento de Goiás.
CATEGORIES:Diretoria de Operações
END:VEVENT
BEGIN:VEVENT
DTSTART;TZID=America/Sao_Paulo:20250106T140000
DTEND;TZID=America/Sao_Paulo:20250106T180000
DTSTAMP:20260425T081418
CREATED:20250107T124554Z
LAST-MODIFIED:20250107T124554Z
UID:39094-1736172000-1736186400@www.goiasfomento.com
SUMMARY:Fernando Dias: Despachos Internos.
DESCRIPTION:
URL:https://www.goiasfomento.com/agenda/fernando-dias-despachos-internos-6/
LOCATION:Chefia de Gabinete – Agência de Fomento de Goiás
CATEGORIES:Chefia de Gabinete
END:VEVENT
BEGIN:VEVENT
DTSTART;TZID=America/Sao_Paulo:20250107T080000
DTEND;TZID=America/Sao_Paulo:20250107T110000
DTSTAMP:20260425T081418
CREATED:20250107T125013Z
LAST-MODIFIED:20250107T125013Z
UID:39096-1736236800-1736247600@www.goiasfomento.com
SUMMARY:Fernando Dias: Despachos Internos.
DESCRIPTION:
URL:https://www.goiasfomento.com/agenda/fernando-dias-despachos-internos-7/
LOCATION:Chefia de Gabinete – Agência de Fomento de Goiás
CATEGORIES:Chefia de Gabinete
END:VEVENT
BEGIN:VEVENT
DTSTART;TZID=America/Sao_Paulo:20250107T080000
DTEND;TZID=America/Sao_Paulo:20250107T110000
DTSTAMP:20260425T081418
CREATED:20250107T141327Z
LAST-MODIFIED:20250107T141327Z
UID:39103-1736236800-1736247600@www.goiasfomento.com
SUMMARY:Lucas Fernandes – Diretor Presidente (Interino): Despachos Internos.
DESCRIPTION:
URL:https://www.goiasfomento.com/agenda/lucas-fernandes-diretor-presidente-interino-despachos-internos-207/
LOCATION:Gabinete da Presidência.
CATEGORIES:Presidência
END:VEVENT
BEGIN:VEVENT
DTSTART;TZID=America/Sao_Paulo:20250107T080000
DTEND;TZID=America/Sao_Paulo:20250107T110000
DTSTAMP:20260425T081418
CREATED:20250107T141928Z
LAST-MODIFIED:20250107T141928Z
UID:39109-1736236800-1736247600@www.goiasfomento.com
SUMMARY:Lucas Fernandes: Despachos Internos.
DESCRIPTION:
URL:https://www.goiasfomento.com/agenda/lucas-fernandes-despachos-internos-656/
LOCATION:Gabinete da Presidência.
CATEGORIES:Diretoria Administrativa e Financeira
END:VEVENT
BEGIN:VEVENT
DTSTART;TZID=America/Sao_Paulo:20250107T080000
DTEND;TZID=America/Sao_Paulo:20250107T110000
DTSTAMP:20260425T081418
CREATED:20250107T145945Z
LAST-MODIFIED:20250107T150336Z
UID:39117-1736236800-1736247600@www.goiasfomento.com
SUMMARY:Rufino Veríssimo: Despachos Internos.
DESCRIPTION:
URL:https://www.goiasfomento.com/agenda/rufino-verissimo-despachos-internos-87/
LOCATION:Gabinete da Diretoria de Operações da GoiásFomento – Agência de Fomento de Goiás.
CATEGORIES:Diretoria de Operações
END:VEVENT
BEGIN:VEVENT
DTSTART;TZID=America/Sao_Paulo:20250107T110000
DTEND;TZID=America/Sao_Paulo:20250107T120000
DTSTAMP:20260425T081418
CREATED:20250107T135836Z
LAST-MODIFIED:20250107T135836Z
UID:39098-1736247600-1736251200@www.goiasfomento.com
SUMMARY:Fernando Dias: Reunião de Assembleia Geral Extraordinária da Goiás Parcerias.
DESCRIPTION:
URL:https://www.goiasfomento.com/agenda/fernando-dias-reuniao-de-assembleia-geral-extraordinaria-da-goias-parcerias/
LOCATION:Via Videoconferência
CATEGORIES:Chefia de Gabinete
END:VEVENT
BEGIN:VEVENT
DTSTART;TZID=America/Sao_Paulo:20250107T110000
DTEND;TZID=America/Sao_Paulo:20250107T120000
DTSTAMP:20260425T081418
CREATED:20250107T141531Z
LAST-MODIFIED:20250107T141531Z
UID:39105-1736247600-1736251200@www.goiasfomento.com
SUMMARY:Lucas Fernandes – Diretor Presidente (Interino): Reunião com os Gerentes.
DESCRIPTION:
URL:https://www.goiasfomento.com/agenda/lucas-fernandes-diretor-presidente-interino-reuniao-com-os-gerentes-6/
LOCATION:Gabinete da Presidência.
CATEGORIES:Presidência
END:VEVENT
BEGIN:VEVENT
DTSTART;TZID=America/Sao_Paulo:20250107T110000
DTEND;TZID=America/Sao_Paulo:20250107T120000
DTSTAMP:20260425T081418
CREATED:20250107T142055Z
LAST-MODIFIED:20250107T142055Z
UID:39111-1736247600-1736251200@www.goiasfomento.com
SUMMARY:Lucas Fernandes: Reunião com os Gerentes.
DESCRIPTION:
URL:https://www.goiasfomento.com/agenda/lucas-fernandes-reuniao-com-os-gerentes-6/
LOCATION:Gabinete da Presidência.
CATEGORIES:Diretoria Administrativa e Financeira
END:VEVENT
BEGIN:VEVENT
DTSTART;TZID=America/Sao_Paulo:20250107T110000
DTEND;TZID=America/Sao_Paulo:20250107T120000
DTSTAMP:20260425T081418
CREATED:20250107T145907Z
LAST-MODIFIED:20250107T150208Z
UID:39115-1736247600-1736251200@www.goiasfomento.com
SUMMARY:Rufino Veríssimo: Reunião com os Gerentes.
DESCRIPTION:
URL:https://www.goiasfomento.com/agenda/rufino-verissimo-despachos-internos-86/
LOCATION:Gabinete da Diretoria de Operações da GoiásFomento – Agência de Fomento de Goiás.
CATEGORIES:Diretoria de Operações
END:VEVENT
BEGIN:VEVENT
DTSTART;TZID=America/Sao_Paulo:20250107T140000
DTEND;TZID=America/Sao_Paulo:20250107T180000
DTSTAMP:20260425T081418
CREATED:20250107T135939Z
LAST-MODIFIED:20250107T150048Z
UID:39101-1736258400-1736272800@www.goiasfomento.com
SUMMARY:Fernando Dias: Despachos Internos.
DESCRIPTION:
URL:https://www.goiasfomento.com/agenda/fernando-dias-despachos-internos-8/
LOCATION:Chefia de Gabinete – Agência de Fomento de Goiás
CATEGORIES:Chefia de Gabinete
END:VEVENT
BEGIN:VEVENT
DTSTART;TZID=America/Sao_Paulo:20250107T140000
DTEND;TZID=America/Sao_Paulo:20250107T180000
DTSTAMP:20260425T081418
CREATED:20250107T141608Z
LAST-MODIFIED:20250107T141608Z
UID:39107-1736258400-1736272800@www.goiasfomento.com
SUMMARY:Lucas Fernandes – Diretor Presidente (Interino): Despachos Internos.
DESCRIPTION:
URL:https://www.goiasfomento.com/agenda/lucas-fernandes-diretor-presidente-interino-despachos-internos-208/
LOCATION:Gabinete da Presidência.
CATEGORIES:Presidência
END:VEVENT
BEGIN:VEVENT
DTSTART;TZID=America/Sao_Paulo:20250107T140000
DTEND;TZID=America/Sao_Paulo:20250107T180000
DTSTAMP:20260425T081418
CREATED:20250107T142123Z
LAST-MODIFIED:20250107T142123Z
UID:39113-1736258400-1736272800@www.goiasfomento.com
SUMMARY:Lucas Fernandes: Despachos Internos.
DESCRIPTION:
URL:https://www.goiasfomento.com/agenda/lucas-fernandes-despachos-internos-657/
LOCATION:Gabinete da Presidência.
CATEGORIES:Diretoria Administrativa e Financeira
END:VEVENT
BEGIN:VEVENT
DTSTART;TZID=America/Sao_Paulo:20250107T140000
DTEND;TZID=America/Sao_Paulo:20250107T180000
DTSTAMP:20260425T081418
CREATED:20250107T150422Z
LAST-MODIFIED:20250107T150422Z
UID:39121-1736258400-1736272800@www.goiasfomento.com
SUMMARY:Rufino Veríssimo: Despachos Internos.
DESCRIPTION:
URL:https://www.goiasfomento.com/agenda/rufino-verissimo-despachos-internos-88/
LOCATION:Gabinete da Diretoria de Operações da GoiásFomento – Agência de Fomento de Goiás.
CATEGORIES:Diretoria de Operações
END:VEVENT
BEGIN:VEVENT
DTSTART;TZID=America/Sao_Paulo:20250108T080000
DTEND;TZID=America/Sao_Paulo:20250108T120000
DTSTAMP:20260425T081418
CREATED:20250108T122055Z
LAST-MODIFIED:20250108T122055Z
UID:39123-1736323200-1736337600@www.goiasfomento.com
SUMMARY:Lucas Fernandes – Diretor Presidente (Interino): Despachos Internos.
DESCRIPTION:
URL:https://www.goiasfomento.com/agenda/lucas-fernandes-diretor-presidente-interino-despachos-internos-209/
LOCATION:Gabinete da Presidência.
CATEGORIES:Presidência
END:VEVENT
BEGIN:VEVENT
DTSTART;TZID=America/Sao_Paulo:20250108T080000
DTEND;TZID=America/Sao_Paulo:20250108T120000
DTSTAMP:20260425T081418
CREATED:20250108T122252Z
LAST-MODIFIED:20250108T122252Z
UID:39127-1736323200-1736337600@www.goiasfomento.com
SUMMARY:Lucas Fernandes: Despachos Internos.
DESCRIPTION:
URL:https://www.goiasfomento.com/agenda/lucas-fernandes-despachos-internos-658/
LOCATION:Gabinete da Presidência.
CATEGORIES:Diretoria Administrativa e Financeira
END:VEVENT
BEGIN:VEVENT
DTSTART;TZID=America/Sao_Paulo:20250108T080000
DTEND;TZID=America/Sao_Paulo:20250108T120000
DTSTAMP:20260425T081418
CREATED:20250108T122444Z
LAST-MODIFIED:20250108T122444Z
UID:39131-1736323200-1736337600@www.goiasfomento.com
SUMMARY:Rufino Veríssimo: Despachos Internos.
DESCRIPTION:
URL:https://www.goiasfomento.com/agenda/rufino-verissimo-despachos-internos-89/
LOCATION:Gabinete da Diretoria de Operações da GoiásFomento – Agência de Fomento de Goiás.
CATEGORIES:Diretoria de Operações
END:VEVENT
BEGIN:VEVENT
DTSTART;TZID=America/Sao_Paulo:20250108T080000
DTEND;TZID=America/Sao_Paulo:20250108T120000
DTSTAMP:20260425T081418
CREATED:20250108T122614Z
LAST-MODIFIED:20250108T122614Z
UID:39135-1736323200-1736337600@www.goiasfomento.com
SUMMARY:Fernando Dias: Despachos Internos.
DESCRIPTION:
URL:https://www.goiasfomento.com/agenda/fernando-dias-despachos-internos-9/
LOCATION:Chefia de Gabinete – Agência de Fomento de Goiás
CATEGORIES:Chefia de Gabinete
END:VEVENT
BEGIN:VEVENT
DTSTART;TZID=America/Sao_Paulo:20250108T140000
DTEND;TZID=America/Sao_Paulo:20250108T180000
DTSTAMP:20260425T081418
CREATED:20250108T122144Z
LAST-MODIFIED:20250108T122144Z
UID:39125-1736344800-1736359200@www.goiasfomento.com
SUMMARY:Lucas Fernandes – Diretor Presidente (Interino): Despachos Internos.
DESCRIPTION:
URL:https://www.goiasfomento.com/agenda/lucas-fernandes-diretor-presidente-interino-despachos-internos-210/
LOCATION:Gabinete da Presidência.
CATEGORIES:Presidência
END:VEVENT
BEGIN:VEVENT
DTSTART;TZID=America/Sao_Paulo:20250108T140000
DTEND;TZID=America/Sao_Paulo:20250108T180000
DTSTAMP:20260425T081418
CREATED:20250108T122327Z
LAST-MODIFIED:20250108T122327Z
UID:39129-1736344800-1736359200@www.goiasfomento.com
SUMMARY:Lucas Fernandes: Despachos Internos.
DESCRIPTION:
URL:https://www.goiasfomento.com/agenda/lucas-fernandes-despachos-internos-659/
LOCATION:Gabinete da Presidência.
CATEGORIES:Diretoria Administrativa e Financeira
END:VEVENT
BEGIN:VEVENT
DTSTART;TZID=America/Sao_Paulo:20250108T140000
DTEND;TZID=America/Sao_Paulo:20250108T180000
DTSTAMP:20260425T081418
CREATED:20250108T122520Z
LAST-MODIFIED:20250108T122520Z
UID:39133-1736344800-1736359200@www.goiasfomento.com
SUMMARY:Rufino Veríssimo: Despachos Internos.
DESCRIPTION:
URL:https://www.goiasfomento.com/agenda/rufino-verissimo-despachos-internos-90/
LOCATION:Gabinete da Diretoria de Operações da GoiásFomento – Agência de Fomento de Goiás.
CATEGORIES:Diretoria de Operações
END:VEVENT
BEGIN:VEVENT
DTSTART;TZID=America/Sao_Paulo:20250108T140000
DTEND;TZID=America/Sao_Paulo:20250108T180000
DTSTAMP:20260425T081418
CREATED:20250108T122645Z
LAST-MODIFIED:20250108T122645Z
UID:39137-1736344800-1736359200@www.goiasfomento.com
SUMMARY:Fernando Dias: Despachos Internos.
DESCRIPTION:
URL:https://www.goiasfomento.com/agenda/fernando-dias-despachos-internos-10/
LOCATION:Chefia de Gabinete – Agência de Fomento de Goiás
CATEGORIES:Chefia de Gabinete
END:VEVENT
BEGIN:VEVENT
DTSTART;TZID=America/Sao_Paulo:20250109T080000
DTEND;TZID=America/Sao_Paulo:20250109T090000
DTSTAMP:20260425T081418
CREATED:20250109T124821Z
LAST-MODIFIED:20250109T124821Z
UID:39164-1736409600-1736413200@www.goiasfomento.com
SUMMARY:Lucas Fernandes – Diretor Presidente (Interino): Despachos Internos.
DESCRIPTION:
URL:https://www.goiasfomento.com/agenda/lucas-fernandes-diretor-presidente-interino-despachos-internos-211/
LOCATION:Gabinete da Presidência.
CATEGORIES:Presidência
END:VEVENT
BEGIN:VEVENT
DTSTART;TZID=America/Sao_Paulo:20250109T080000
DTEND;TZID=America/Sao_Paulo:20250109T090000
DTSTAMP:20260425T081418
CREATED:20250109T153247Z
LAST-MODIFIED:20250109T153247Z
UID:39184-1736409600-1736413200@www.goiasfomento.com
SUMMARY:Lucas Fernandes: Despachos Internos.
DESCRIPTION:
URL:https://www.goiasfomento.com/agenda/lucas-fernandes-despachos-internos-660/
LOCATION:Gabinete da Presidência.
CATEGORIES:Diretoria Administrativa e Financeira
END:VEVENT
END:VCALENDAR