BEGIN:VCALENDAR
VERSION:2.0
PRODID:-//GoiásFomento - Agência de Fomento - ECPv6.15.20//NONSGML v1.0//EN
CALSCALE:GREGORIAN
METHOD:PUBLISH
X-ORIGINAL-URL:https://www.goiasfomento.com
X-WR-CALDESC:Eventos para GoiásFomento - Agência de Fomento
REFRESH-INTERVAL;VALUE=DURATION:PT1H
X-Robots-Tag:noindex
X-PUBLISHED-TTL:PT1H
BEGIN:VTIMEZONE
TZID:America/Sao_Paulo
BEGIN:STANDARD
TZOFFSETFROM:-0300
TZOFFSETTO:-0300
TZNAME:-03
DTSTART:20230101T000000
END:STANDARD
END:VTIMEZONE
BEGIN:VEVENT
DTSTART;VALUE=DATE:20241125
DTEND;VALUE=DATE:20241126
DTSTAMP:20260425T081834
CREATED:20241125T113702Z
LAST-MODIFIED:20241125T113702Z
UID:38299-1732492800-1732579199@www.goiasfomento.com
SUMMARY:Cargo Vago desde 02/07/2024.
DESCRIPTION:
URL:https://www.goiasfomento.com/agenda/cargo-vago-desde-02-07-2024-102/
LOCATION:Chefia de Gabinete – Agência de Fomento de Goiás
CATEGORIES:Chefia de Gabinete
END:VEVENT
BEGIN:VEVENT
DTSTART;TZID=America/Sao_Paulo:20241125T063000
DTEND;TZID=America/Sao_Paulo:20241125T143000
DTSTAMP:20260425T081834
CREATED:20241125T120526Z
LAST-MODIFIED:20241127T181348Z
UID:38317-1732516200-1732545000@www.goiasfomento.com
SUMMARY:Rufino Veríssimo: Reunião com a Prefeitura de Itumbiara - Goiás para alinhamento dos Programas Sociais Municipais.
DESCRIPTION:
URL:https://www.goiasfomento.com/agenda/rufino-verissimo-reuniao-com-as-prefeituras-de-itumbiara-goias-para-alinhamento-dos-programas-sociais-municipais/
LOCATION:Itumbiara – GO
CATEGORIES:Diretoria de Operações
END:VEVENT
BEGIN:VEVENT
DTSTART;TZID=America/Sao_Paulo:20241125T080000
DTEND;TZID=America/Sao_Paulo:20241125T120000
DTSTAMP:20260425T081834
CREATED:20241125T115027Z
LAST-MODIFIED:20241125T115027Z
UID:38309-1732521600-1732536000@www.goiasfomento.com
SUMMARY:Lucas Fernandes – Diretor Presidente (Interino): Despachos Internos.
DESCRIPTION:
URL:https://www.goiasfomento.com/agenda/lucas-fernandes-diretor-presidente-interino-despachos-internos-158/
LOCATION:Gabinete da Presidência da GoiásFomento – Agência de Fomento de Goiás.
CATEGORIES:Presidência
END:VEVENT
BEGIN:VEVENT
DTSTART;TZID=America/Sao_Paulo:20241125T080000
DTEND;TZID=America/Sao_Paulo:20241125T120000
DTSTAMP:20260425T081834
CREATED:20241125T115739Z
LAST-MODIFIED:20241125T115739Z
UID:38313-1732521600-1732536000@www.goiasfomento.com
SUMMARY:Lucas Fernandes: Despachos Internos.
DESCRIPTION:
URL:https://www.goiasfomento.com/agenda/lucas-fernandes-despachos-internos-607/
LOCATION:Gabinete da Diretoria Administrativa e Financeira – Agência de Fomento de Goiás.
CATEGORIES:Diretoria Administrativa e Financeira
END:VEVENT
BEGIN:VEVENT
DTSTART;TZID=America/Sao_Paulo:20241125T140000
DTEND;TZID=America/Sao_Paulo:20241125T160000
DTSTAMP:20260425T081834
CREATED:20241125T115050Z
LAST-MODIFIED:20241125T193345Z
UID:38311-1732543200-1732550400@www.goiasfomento.com
SUMMARY:Lucas Fernandes – Diretor Presidente (Interino): Despachos Internos.
DESCRIPTION:
URL:https://www.goiasfomento.com/agenda/lucas-fernandes-diretor-presidente-interino-despachos-internos-159/
LOCATION:Gabinete da Presidência da GoiásFomento – Agência de Fomento de Goiás.
CATEGORIES:Presidência
END:VEVENT
BEGIN:VEVENT
DTSTART;TZID=America/Sao_Paulo:20241125T140000
DTEND;TZID=America/Sao_Paulo:20241125T160000
DTSTAMP:20260425T081834
CREATED:20241125T115808Z
LAST-MODIFIED:20241125T193325Z
UID:38315-1732543200-1732550400@www.goiasfomento.com
SUMMARY:Lucas Fernandes: Despachos Internos.
DESCRIPTION:
URL:https://www.goiasfomento.com/agenda/lucas-fernandes-despachos-internos-608/
LOCATION:Gabinete da Diretoria Administrativa e Financeira – Agência de Fomento de Goiás.
CATEGORIES:Diretoria Administrativa e Financeira
END:VEVENT
BEGIN:VEVENT
DTSTART;TZID=America/Sao_Paulo:20241125T143000
DTEND;TZID=America/Sao_Paulo:20241125T150000
DTSTAMP:20260425T081834
CREATED:20241125T180753Z
LAST-MODIFIED:20241125T180901Z
UID:38328-1732545000-1732546800@www.goiasfomento.com
SUMMARY:Rufino Veríssimo: Despachos Internos.
DESCRIPTION:
URL:https://www.goiasfomento.com/agenda/rufino-verissimo-despachos-internos-23/
LOCATION:Gabinete da Diretoria de Operações da GoiásFomento – Agência de Fomento de Goiás.
CATEGORIES:Diretoria de Operações
END:VEVENT
BEGIN:VEVENT
DTSTART;TZID=America/Sao_Paulo:20241125T150000
DTEND;TZID=America/Sao_Paulo:20241125T160000
DTSTAMP:20260425T081834
CREATED:20241125T180715Z
LAST-MODIFIED:20241125T180715Z
UID:38326-1732546800-1732550400@www.goiasfomento.com
SUMMARY:Rufino Veríssimo: Reunião com os Gerentes da Diretoria de Operações da Agência de Fomento de Goiás.
DESCRIPTION:
URL:https://www.goiasfomento.com/agenda/rufino-verissimo-reuniao-com-os-gerentes-da-diretoria-de-operacoes-da-agencia-de-fomento-de-goias-2/
LOCATION:Gabinete da Diretoria de Operações da GoiásFomento – Agência de Fomento de Goiás.
CATEGORIES:Diretoria de Operações
END:VEVENT
BEGIN:VEVENT
DTSTART;TZID=America/Sao_Paulo:20241125T160000
DTEND;TZID=America/Sao_Paulo:20241125T170000
DTSTAMP:20260425T081834
CREATED:20241125T193525Z
LAST-MODIFIED:20241125T193532Z
UID:38330-1732550400-1732554000@www.goiasfomento.com
SUMMARY:Rufino Veríssimo: Reunião da Direx com Guido Juliano Martins de Araújo - Gerente de Agronegócio.
DESCRIPTION:
URL:https://www.goiasfomento.com/agenda/rufino-verissimo-reuniao-da-direx-com-guido-juliano-martins-de-araujo-gerente-de-agronegocio/
LOCATION:Gabinete da Diretoria Administrativa e Financeira – Agência de Fomento de Goiás.
CATEGORIES:Diretoria de Operações
END:VEVENT
BEGIN:VEVENT
DTSTART;TZID=America/Sao_Paulo:20241125T160000
DTEND;TZID=America/Sao_Paulo:20241125T170000
DTSTAMP:20260425T081834
CREATED:20241125T193621Z
LAST-MODIFIED:20241125T193621Z
UID:38333-1732550400-1732554000@www.goiasfomento.com
SUMMARY:Lucas Fernandes – Diretor Presidente (Interino): Reunião da Direx com Guido Juliano Martins de Araújo - Gerente de Agronegócio.
DESCRIPTION:
URL:https://www.goiasfomento.com/agenda/lucas-fernandes-diretor-presidente-interino-reuniao-da-direx-com-guido-juliano-martins-de-araujo-gerente-de-agronegocio/
LOCATION:Gabinete da Diretoria Administrativa e Financeira – Agência de Fomento de Goiás.
CATEGORIES:Presidência
END:VEVENT
BEGIN:VEVENT
DTSTART;TZID=America/Sao_Paulo:20241125T160000
DTEND;TZID=America/Sao_Paulo:20241125T170000
DTSTAMP:20260425T081834
CREATED:20241125T193651Z
LAST-MODIFIED:20241125T193651Z
UID:38335-1732550400-1732554000@www.goiasfomento.com
SUMMARY:Lucas Fernandes: Reunião da Direx com Guido Juliano Martins de Araújo - Gerente de Agronegócio.
DESCRIPTION:
URL:https://www.goiasfomento.com/agenda/lucas-fernandes-reuniao-da-direx-com-guido-juliano-martins-de-araujo-gerente-de-agronegocio/
LOCATION:Gabinete da Diretoria Administrativa e Financeira – Agência de Fomento de Goiás.
CATEGORIES:Diretoria Administrativa e Financeira
END:VEVENT
BEGIN:VEVENT
DTSTART;TZID=America/Sao_Paulo:20241125T170000
DTEND;TZID=America/Sao_Paulo:20241125T180000
DTSTAMP:20260425T081834
CREATED:20241125T193724Z
LAST-MODIFIED:20241125T193724Z
UID:38337-1732554000-1732557600@www.goiasfomento.com
SUMMARY:Lucas Fernandes – Diretor Presidente (Interino): Despachos Internos.
DESCRIPTION:
URL:https://www.goiasfomento.com/agenda/lucas-fernandes-diretor-presidente-interino-despachos-internos-160/
LOCATION:Gabinete da Presidência da GoiásFomento – Agência de Fomento de Goiás.
CATEGORIES:Presidência
END:VEVENT
BEGIN:VEVENT
DTSTART;TZID=America/Sao_Paulo:20241125T170000
DTEND;TZID=America/Sao_Paulo:20241125T180000
DTSTAMP:20260425T081834
CREATED:20241125T194000Z
LAST-MODIFIED:20241125T194000Z
UID:38339-1732554000-1732557600@www.goiasfomento.com
SUMMARY:Lucas Fernandes: Despachos Internos.
DESCRIPTION:
URL:https://www.goiasfomento.com/agenda/lucas-fernandes-despachos-internos-609/
LOCATION:Gabinete da Diretoria Administrativa e Financeira – Agência de Fomento de Goiás.
CATEGORIES:Diretoria Administrativa e Financeira
END:VEVENT
BEGIN:VEVENT
DTSTART;TZID=America/Sao_Paulo:20241125T170000
DTEND;TZID=America/Sao_Paulo:20241125T180000
DTSTAMP:20260425T081834
CREATED:20241125T194329Z
LAST-MODIFIED:20241125T194329Z
UID:38341-1732554000-1732557600@www.goiasfomento.com
SUMMARY:Rufino Veríssimo: Despachos Internos.
DESCRIPTION:
URL:https://www.goiasfomento.com/agenda/rufino-verissimo-despachos-internos-24/
LOCATION:Gabinete da Diretoria de Operações da GoiásFomento – Agência de Fomento de Goiás.
CATEGORIES:Diretoria de Operações
END:VEVENT
BEGIN:VEVENT
DTSTART;VALUE=DATE:20241126
DTEND;VALUE=DATE:20241127
DTSTAMP:20260425T081834
CREATED:20241125T172945Z
LAST-MODIFIED:20241126T184410Z
UID:38321-1732579200-1732665599@www.goiasfomento.com
SUMMARY:Rufino Veríssimo: Abertura Oficial da Semana do Crédito GoiásFomento em Luziânia-Goiás.
DESCRIPTION:
URL:https://www.goiasfomento.com/agenda/rufino-verissimo-abertura-oficial-da-semana-do-credito-goiasfomento-em-luziania-goias/
LOCATION:Luziânia – GO
CATEGORIES:Diretoria de Operações
END:VEVENT
BEGIN:VEVENT
DTSTART;VALUE=DATE:20241126
DTEND;VALUE=DATE:20241127
DTSTAMP:20260425T081834
CREATED:20241125T113723Z
LAST-MODIFIED:20241125T113723Z
UID:38301-1732579200-1732665599@www.goiasfomento.com
SUMMARY:Cargo Vago desde 02/07/2024.
DESCRIPTION:
URL:https://www.goiasfomento.com/agenda/cargo-vago-desde-02-07-2024-103/
LOCATION:Chefia de Gabinete – Agência de Fomento de Goiás
CATEGORIES:Chefia de Gabinete
END:VEVENT
BEGIN:VEVENT
DTSTART;TZID=America/Sao_Paulo:20241126T080000
DTEND;TZID=America/Sao_Paulo:20241126T100000
DTSTAMP:20260425T081834
CREATED:20241126T113305Z
LAST-MODIFIED:20241126T131320Z
UID:38343-1732608000-1732615200@www.goiasfomento.com
SUMMARY:Lucas Fernandes – Diretor Presidente (Interino): Despachos Internos.
DESCRIPTION:
URL:https://www.goiasfomento.com/agenda/lucas-fernandes-diretor-presidente-interino-despachos-internos-161/
LOCATION:Gabinete da Presidência da GoiásFomento – Agência de Fomento de Goiás.
CATEGORIES:Presidência
END:VEVENT
BEGIN:VEVENT
DTSTART;TZID=America/Sao_Paulo:20241126T080000
DTEND;TZID=America/Sao_Paulo:20241126T100000
DTSTAMP:20260425T081834
CREATED:20241126T113607Z
LAST-MODIFIED:20241126T131337Z
UID:38347-1732608000-1732615200@www.goiasfomento.com
SUMMARY:Lucas Fernandes: Despachos Internos.
DESCRIPTION:
URL:https://www.goiasfomento.com/agenda/lucas-fernandes-despachos-internos-610/
LOCATION:Gabinete da Diretoria Administrativa e Financeira – Agência de Fomento de Goiás.
CATEGORIES:Diretoria Administrativa e Financeira
END:VEVENT
BEGIN:VEVENT
DTSTART;TZID=America/Sao_Paulo:20241126T100000
DTEND;TZID=America/Sao_Paulo:20241126T110000
DTSTAMP:20260425T081834
CREATED:20241126T132127Z
LAST-MODIFIED:20241126T132134Z
UID:38352-1732615200-1732618800@www.goiasfomento.com
SUMMARY:Lucas Fernandes – Diretor Presidente (Interino): Reunião com Secretário de Ciência\, Tecnologia e Inovação\, José Frederico.
DESCRIPTION:
URL:https://www.goiasfomento.com/agenda/lucas-fernandes-diretor-presidente-interino-reuniao-com-secretario-de-ciencia-tecnologia-e-inovacao-jose-frederico/
LOCATION:Gabinete da Presidência da GoiásFomento – Agência de Fomento de Goiás.
CATEGORIES:Presidência
END:VEVENT
BEGIN:VEVENT
DTSTART;TZID=America/Sao_Paulo:20241126T100000
DTEND;TZID=America/Sao_Paulo:20241126T110000
DTSTAMP:20260425T081834
CREATED:20241126T132210Z
LAST-MODIFIED:20241126T132210Z
UID:38354-1732615200-1732618800@www.goiasfomento.com
SUMMARY:Lucas Fernandes: Reunião com Secretário de Ciência\, Tecnologia e Inovação\, José Frederico.
DESCRIPTION:
URL:https://www.goiasfomento.com/agenda/lucas-fernandes-reuniao-com-secretario-de-ciencia-tecnologia-e-inovacao-jose-frederico/
LOCATION:Gabinete da Diretoria Administrativa e Financeira – Agência de Fomento de Goiás.
CATEGORIES:Diretoria Administrativa e Financeira
END:VEVENT
BEGIN:VEVENT
DTSTART;TZID=America/Sao_Paulo:20241126T110000
DTEND;TZID=America/Sao_Paulo:20241126T120000
DTSTAMP:20260425T081834
CREATED:20241126T132251Z
LAST-MODIFIED:20241126T132251Z
UID:38356-1732618800-1732622400@www.goiasfomento.com
SUMMARY:Lucas Fernandes – Diretor Presidente (Interino): Despachos Internos.
DESCRIPTION:
URL:https://www.goiasfomento.com/agenda/lucas-fernandes-diretor-presidente-interino-despachos-internos-163/
LOCATION:Gabinete da Presidência da GoiásFomento – Agência de Fomento de Goiás.
CATEGORIES:Presidência
END:VEVENT
BEGIN:VEVENT
DTSTART;TZID=America/Sao_Paulo:20241126T110000
DTEND;TZID=America/Sao_Paulo:20241126T120000
DTSTAMP:20260425T081834
CREATED:20241126T132331Z
LAST-MODIFIED:20241126T132331Z
UID:38358-1732618800-1732622400@www.goiasfomento.com
SUMMARY:Lucas Fernandes: Despachos Internos.
DESCRIPTION:
URL:https://www.goiasfomento.com/agenda/lucas-fernandes-despachos-internos-612/
LOCATION:Gabinete da Diretoria Administrativa e Financeira – Agência de Fomento de Goiás.
CATEGORIES:Diretoria Administrativa e Financeira
END:VEVENT
BEGIN:VEVENT
DTSTART;TZID=America/Sao_Paulo:20241126T140000
DTEND;TZID=America/Sao_Paulo:20241126T180000
DTSTAMP:20260425T081834
CREATED:20241126T113526Z
LAST-MODIFIED:20241126T113526Z
UID:38345-1732629600-1732644000@www.goiasfomento.com
SUMMARY:Lucas Fernandes – Diretor Presidente (Interino): Despachos Internos.
DESCRIPTION:
URL:https://www.goiasfomento.com/agenda/lucas-fernandes-diretor-presidente-interino-despachos-internos-162/
LOCATION:Gabinete da Presidência da GoiásFomento – Agência de Fomento de Goiás.
CATEGORIES:Presidência
END:VEVENT
BEGIN:VEVENT
DTSTART;TZID=America/Sao_Paulo:20241126T140000
DTEND;TZID=America/Sao_Paulo:20241126T180000
DTSTAMP:20260425T081834
CREATED:20241126T113636Z
LAST-MODIFIED:20241126T113636Z
UID:38349-1732629600-1732644000@www.goiasfomento.com
SUMMARY:Lucas Fernandes: Despachos Internos.
DESCRIPTION:
URL:https://www.goiasfomento.com/agenda/lucas-fernandes-despachos-internos-611/
LOCATION:Gabinete da Diretoria Administrativa e Financeira – Agência de Fomento de Goiás.
CATEGORIES:Diretoria Administrativa e Financeira
END:VEVENT
BEGIN:VEVENT
DTSTART;VALUE=DATE:20241127
DTEND;VALUE=DATE:20241128
DTSTAMP:20260425T081834
CREATED:20241125T113753Z
LAST-MODIFIED:20241125T113753Z
UID:38303-1732665600-1732751999@www.goiasfomento.com
SUMMARY:Cargo Vago desde 02/07/2024.
DESCRIPTION:
URL:https://www.goiasfomento.com/agenda/cargo-vago-desde-02-07-2024-104/
LOCATION:Chefia de Gabinete – Agência de Fomento de Goiás
CATEGORIES:Chefia de Gabinete
END:VEVENT
BEGIN:VEVENT
DTSTART;TZID=America/Sao_Paulo:20241127T080000
DTEND;TZID=America/Sao_Paulo:20241127T120000
DTSTAMP:20260425T081834
CREATED:20241125T180316Z
LAST-MODIFIED:20241127T181241Z
UID:38323-1732694400-1732708800@www.goiasfomento.com
SUMMARY:Rufino Veríssimo: Reunião com a Prefeitura de Firminópolis–Goiás para alinhamento dos Programas Sociais Municipais.
DESCRIPTION:
URL:https://www.goiasfomento.com/agenda/rufino-verissimo-reuniao-com-a-prefeitura-de-firminopolis-goias-para-alinhamento-dos-programas-sociais-municipais/
LOCATION:Firminópolis-Goiás
CATEGORIES:Diretoria de Operações
END:VEVENT
BEGIN:VEVENT
DTSTART;TZID=America/Sao_Paulo:20241127T080000
DTEND;TZID=America/Sao_Paulo:20241127T120000
DTSTAMP:20260425T081834
CREATED:20241127T114355Z
LAST-MODIFIED:20241127T114355Z
UID:38362-1732694400-1732708800@www.goiasfomento.com
SUMMARY:Lucas Fernandes – Diretor Presidente (Interino): Despachos Internos.
DESCRIPTION:
URL:https://www.goiasfomento.com/agenda/lucas-fernandes-diretor-presidente-interino-despachos-internos-164/
LOCATION:Gabinete da Presidência da GoiásFomento – Agência de Fomento de Goiás.
CATEGORIES:Presidência
END:VEVENT
BEGIN:VEVENT
DTSTART;TZID=America/Sao_Paulo:20241127T080000
DTEND;TZID=America/Sao_Paulo:20241127T120000
DTSTAMP:20260425T081834
CREATED:20241127T114441Z
LAST-MODIFIED:20241127T115310Z
UID:38366-1732694400-1732708800@www.goiasfomento.com
SUMMARY:Lucas Fernandes: Despachos Internos.
DESCRIPTION:
URL:https://www.goiasfomento.com/agenda/lucas-fernandes-despachos-internos-613/
LOCATION:Gabinete da Diretoria Administrativa e Financeira – Agência de Fomento de Goiás.
CATEGORIES:Diretoria Administrativa e Financeira
END:VEVENT
BEGIN:VEVENT
DTSTART;TZID=America/Sao_Paulo:20241127T140000
DTEND;TZID=America/Sao_Paulo:20241127T180000
DTSTAMP:20260425T081834
CREATED:20241127T114417Z
LAST-MODIFIED:20241127T114417Z
UID:38364-1732716000-1732730400@www.goiasfomento.com
SUMMARY:Lucas Fernandes – Diretor Presidente (Interino): Despachos Internos.
DESCRIPTION:
URL:https://www.goiasfomento.com/agenda/lucas-fernandes-diretor-presidente-interino-despachos-internos-165/
LOCATION:Gabinete da Presidência da GoiásFomento – Agência de Fomento de Goiás.
CATEGORIES:Presidência
END:VEVENT
BEGIN:VEVENT
DTSTART;TZID=America/Sao_Paulo:20241127T140000
DTEND;TZID=America/Sao_Paulo:20241127T180000
DTSTAMP:20260425T081834
CREATED:20241127T114511Z
LAST-MODIFIED:20241127T114621Z
UID:38368-1732716000-1732730400@www.goiasfomento.com
SUMMARY:Lucas Fernandes: Despachos Internos.
DESCRIPTION:
URL:https://www.goiasfomento.com/agenda/lucas-fernandes-despachos-internos-614/
LOCATION:Gabinete da Diretoria Administrativa e Financeira – Agência de Fomento de Goiás.
CATEGORIES:Diretoria Administrativa e Financeira
END:VEVENT
END:VCALENDAR