BEGIN:VCALENDAR
VERSION:2.0
PRODID:-//GoiásFomento - Agência de Fomento - ECPv6.15.20//NONSGML v1.0//EN
CALSCALE:GREGORIAN
METHOD:PUBLISH
X-ORIGINAL-URL:https://www.goiasfomento.com
X-WR-CALDESC:Eventos para GoiásFomento - Agência de Fomento
REFRESH-INTERVAL;VALUE=DURATION:PT1H
X-Robots-Tag:noindex
X-PUBLISHED-TTL:PT1H
BEGIN:VTIMEZONE
TZID:America/Sao_Paulo
BEGIN:STANDARD
TZOFFSETFROM:-0300
TZOFFSETTO:-0300
TZNAME:-03
DTSTART:20230101T000000
END:STANDARD
END:VTIMEZONE
BEGIN:VEVENT
DTSTART;VALUE=DATE:20241118
DTEND;VALUE=DATE:20241119
DTSTAMP:20260425T081851
CREATED:20241118T112037Z
LAST-MODIFIED:20241118T112037Z
UID:38182-1731888000-1731974399@www.goiasfomento.com
SUMMARY:Cargo Vago desde 02/07/2024.
DESCRIPTION:
URL:https://www.goiasfomento.com/agenda/cargo-vago-desde-02-07-2024-97/
LOCATION:Chefia de Gabinete – Agência de Fomento de Goiás
CATEGORIES:Chefia de Gabinete
END:VEVENT
BEGIN:VEVENT
DTSTART;TZID=America/Sao_Paulo:20241118T080000
DTEND;TZID=America/Sao_Paulo:20241118T090000
DTSTAMP:20260425T081851
CREATED:20241118T105433Z
LAST-MODIFIED:20241118T105433Z
UID:38163-1731916800-1731920400@www.goiasfomento.com
SUMMARY:Rufino Veríssimo: Despachos Internos.
DESCRIPTION:
URL:https://www.goiasfomento.com/agenda/rufino-verissimo-despachos-internos-14/
LOCATION:Gabinete da Diretoria de Operações da GoiásFomento – Agência de Fomento de Goiás.
CATEGORIES:Diretoria de Operações
END:VEVENT
BEGIN:VEVENT
DTSTART;TZID=America/Sao_Paulo:20241118T080000
DTEND;TZID=America/Sao_Paulo:20241118T090000
DTSTAMP:20260425T081851
CREATED:20241118T110435Z
LAST-MODIFIED:20241118T110435Z
UID:38172-1731916800-1731920400@www.goiasfomento.com
SUMMARY:Lucas Fernandes – Diretor Presidente (Interino): Despachos Internos.
DESCRIPTION:
URL:https://www.goiasfomento.com/agenda/lucas-fernandes-diretor-presidente-interino-despachos-internos-150/
LOCATION:Gabinete da Presidência da GoiásFomento – Agência de Fomento de Goiás.
CATEGORIES:Presidência
END:VEVENT
BEGIN:VEVENT
DTSTART;TZID=America/Sao_Paulo:20241118T080000
DTEND;TZID=America/Sao_Paulo:20241118T090000
DTSTAMP:20260425T081851
CREATED:20241118T110511Z
LAST-MODIFIED:20241118T110511Z
UID:38174-1731916800-1731920400@www.goiasfomento.com
SUMMARY:Lucas Fernandes: Despachos Internos.
DESCRIPTION:
URL:https://www.goiasfomento.com/agenda/lucas-fernandes-despachos-internos-597/
CATEGORIES:Diretoria Administrativa e Financeira
END:VEVENT
BEGIN:VEVENT
DTSTART;TZID=America/Sao_Paulo:20241118T090000
DTEND;TZID=America/Sao_Paulo:20241118T110000
DTSTAMP:20260425T081851
CREATED:20241118T105922Z
LAST-MODIFIED:20241118T110733Z
UID:38165-1731920400-1731927600@www.goiasfomento.com
SUMMARY:Rufino Veríssimo: Abertura do CoopsParty Summit Goiás2024\, com Palestra do Governador Ronaldo Caiado.
DESCRIPTION:
URL:https://www.goiasfomento.com/agenda/rufino-verissimo-abertura-do-coopsparty-summit-goias2024-com-palestra-do-governador-ronaldo-caiado/
LOCATION:Centro de Convenções da PUC Goiás  – Pontifícia Universidade Católica de Goiás – Câmpus II\, Av. Engler\, 507 – Jardim Mariliza\, Goiânia – GO\, 74885-460.
CATEGORIES:Diretoria de Operações
END:VEVENT
BEGIN:VEVENT
DTSTART;TZID=America/Sao_Paulo:20241118T090000
DTEND;TZID=America/Sao_Paulo:20241118T110000
DTSTAMP:20260425T081851
CREATED:20241118T110116Z
LAST-MODIFIED:20241118T110754Z
UID:38168-1731920400-1731927600@www.goiasfomento.com
SUMMARY:Lucas Fernandes – Diretor Presidente (Interino): Abertura do CoopsParty Summit Goiás2024\, com Palestra do Governador Ronaldo Caiado.
DESCRIPTION:
URL:https://www.goiasfomento.com/agenda/lucas-fernandes-diretor-presidente-interino-abertura-do-coopsparty-summit-goias2024-com-palestra-do-governador-ronaldo-caiado/
LOCATION:Centro de Convenções da PUC Goiás  – Pontifícia Universidade Católica de Goiás – Câmpus II\, Av. Engler\, 507 – Jardim Mariliza\, Goiânia – GO\, 74885-460.
CATEGORIES:Presidência
END:VEVENT
BEGIN:VEVENT
DTSTART;TZID=America/Sao_Paulo:20241118T090000
DTEND;TZID=America/Sao_Paulo:20241118T110000
DTSTAMP:20260425T081851
CREATED:20241118T110202Z
LAST-MODIFIED:20241118T110810Z
UID:38170-1731920400-1731927600@www.goiasfomento.com
SUMMARY:Lucas Fernandes: Abertura do CoopsParty Summit Goiás2024\, com Palestra do Governador Ronaldo Caiado.
DESCRIPTION:
URL:https://www.goiasfomento.com/agenda/lucas-fernandes-abertura-do-coopsparty-summit-goias2024-com-palestra-do-governador-ronaldo-caiado/
LOCATION:Centro de Convenções da PUC Goiás  – Pontifícia Universidade Católica de Goiás – Câmpus II\, Av. Engler\, 507 – Jardim Mariliza\, Goiânia – GO\, 74885-460.
CATEGORIES:Diretoria Administrativa e Financeira
END:VEVENT
BEGIN:VEVENT
DTSTART;TZID=America/Sao_Paulo:20241118T110000
DTEND;TZID=America/Sao_Paulo:20241118T120000
DTSTAMP:20260425T081851
CREATED:20241118T110952Z
LAST-MODIFIED:20241118T110952Z
UID:38176-1731927600-1731931200@www.goiasfomento.com
SUMMARY:Lucas Fernandes – Diretor Presidente (Interino): Despachos Internos.
DESCRIPTION:
URL:https://www.goiasfomento.com/agenda/lucas-fernandes-diretor-presidente-interino-despachos-internos-151/
LOCATION:Gabinete da Presidência da GoiásFomento – Agência de Fomento de Goiás.
CATEGORIES:Presidência
END:VEVENT
BEGIN:VEVENT
DTSTART;TZID=America/Sao_Paulo:20241118T110000
DTEND;TZID=America/Sao_Paulo:20241118T120000
DTSTAMP:20260425T081851
CREATED:20241118T111032Z
LAST-MODIFIED:20241118T111032Z
UID:38178-1731927600-1731931200@www.goiasfomento.com
SUMMARY:Lucas Fernandes: Despachos Internos.
DESCRIPTION:
URL:https://www.goiasfomento.com/agenda/lucas-fernandes-despachos-internos-598/
LOCATION:Gabinete da Diretoria Administrativa e Financeira – Agência de Fomento de Goiás.
CATEGORIES:Diretoria Administrativa e Financeira
END:VEVENT
BEGIN:VEVENT
DTSTART;TZID=America/Sao_Paulo:20241118T110000
DTEND;TZID=America/Sao_Paulo:20241118T120000
DTSTAMP:20260425T081851
CREATED:20241118T111856Z
LAST-MODIFIED:20241119T112241Z
UID:38180-1731927600-1731931200@www.goiasfomento.com
SUMMARY:Rufino Veríssimo: Reunião com os Gerentes da Diretoria de Operações.
DESCRIPTION:
URL:https://www.goiasfomento.com/agenda/rufino-verissimo-despachos-internos-15/
LOCATION:Gabinete da Diretoria de Operações da GoiásFomento – Agência de Fomento de Goiás.
CATEGORIES:Diretoria de Operações
END:VEVENT
BEGIN:VEVENT
DTSTART;TZID=America/Sao_Paulo:20241118T140000
DTEND;TZID=America/Sao_Paulo:20241118T180000
DTSTAMP:20260425T081851
CREATED:20241119T112338Z
LAST-MODIFIED:20241119T112338Z
UID:38204-1731938400-1731952800@www.goiasfomento.com
SUMMARY:Rufino Veríssimo: Despachos Internos.
DESCRIPTION:
URL:https://www.goiasfomento.com/agenda/rufino-verissimo-despachos-internos-16/
LOCATION:Gabinete da Diretoria de Operações da GoiásFomento – Agência de Fomento de Goiás.
CATEGORIES:Diretoria de Operações
END:VEVENT
BEGIN:VEVENT
DTSTART;VALUE=DATE:20241119
DTEND;VALUE=DATE:20241120
DTSTAMP:20260425T081851
CREATED:20241118T112057Z
LAST-MODIFIED:20241118T112057Z
UID:38184-1731974400-1732060799@www.goiasfomento.com
SUMMARY:Cargo Vago desde 02/07/2024.
DESCRIPTION:
URL:https://www.goiasfomento.com/agenda/cargo-vago-desde-02-07-2024-98/
LOCATION:Chefia de Gabinete – Agência de Fomento de Goiás
CATEGORIES:Chefia de Gabinete
END:VEVENT
BEGIN:VEVENT
DTSTART;TZID=America/Sao_Paulo:20241119T080000
DTEND;TZID=America/Sao_Paulo:20241119T100000
DTSTAMP:20260425T081851
CREATED:20241119T132815Z
LAST-MODIFIED:20241119T132815Z
UID:38209-1732003200-1732010400@www.goiasfomento.com
SUMMARY:Lucas Fernandes – Diretor Presidente (Interino): Despachos Internos.
DESCRIPTION:
URL:https://www.goiasfomento.com/agenda/lucas-fernandes-diretor-presidente-interino-despachos-internos-152/
LOCATION:Gabinete da Presidência da GoiásFomento – Agência de Fomento de Goiás.
CATEGORIES:Presidência
END:VEVENT
BEGIN:VEVENT
DTSTART;TZID=America/Sao_Paulo:20241119T080000
DTEND;TZID=America/Sao_Paulo:20241119T100000
DTSTAMP:20260425T081851
CREATED:20241119T132846Z
LAST-MODIFIED:20241119T132846Z
UID:38211-1732003200-1732010400@www.goiasfomento.com
SUMMARY:Lucas Fernandes: Despachos Internos.
DESCRIPTION:
URL:https://www.goiasfomento.com/agenda/lucas-fernandes-despachos-internos-599/
LOCATION:Diretoria Administrativa e Financeira da GoiásFomento – Agência de Fomento de Goiás.
CATEGORIES:Diretoria Administrativa e Financeira
END:VEVENT
BEGIN:VEVENT
DTSTART;TZID=America/Sao_Paulo:20241119T080000
DTEND;TZID=America/Sao_Paulo:20241119T120000
DTSTAMP:20260425T081851
CREATED:20241119T131727Z
LAST-MODIFIED:20241119T131727Z
UID:38207-1732003200-1732017600@www.goiasfomento.com
SUMMARY:Rufino Veríssimo: Despachos Internos.
DESCRIPTION:
URL:https://www.goiasfomento.com/agenda/rufino-verissimo-despachos-internos-17/
LOCATION:Gabinete da Diretoria de Operações da GoiásFomento – Agência de Fomento de Goiás.
CATEGORIES:Diretoria de Operações
END:VEVENT
BEGIN:VEVENT
DTSTART;TZID=America/Sao_Paulo:20241119T100000
DTEND;TZID=America/Sao_Paulo:20241119T120000
DTSTAMP:20260425T081851
CREATED:20241119T133054Z
LAST-MODIFIED:20241119T133054Z
UID:38213-1732010400-1732017600@www.goiasfomento.com
SUMMARY:Lucas Fernandes – Diretor Presidente (Interino): Inauguração do Restaurante do Bem.
DESCRIPTION:
URL:https://www.goiasfomento.com/agenda/lucas-fernandes-diretor-presidente-interino-inauguracao-do-restaurante-do-bem/
LOCATION:Avenida Araguia com a Rua 03\, nº 514 – Setor Central – Goiânia-Goiás.
CATEGORIES:Presidência
END:VEVENT
BEGIN:VEVENT
DTSTART;TZID=America/Sao_Paulo:20241119T100000
DTEND;TZID=America/Sao_Paulo:20241119T120000
DTSTAMP:20260425T081851
CREATED:20241119T133159Z
LAST-MODIFIED:20241119T133159Z
UID:38216-1732010400-1732017600@www.goiasfomento.com
SUMMARY:Lucas Fernandes: Inauguração do Restaurante do Bem.
DESCRIPTION:
URL:https://www.goiasfomento.com/agenda/lucas-fernandes-inauguracao-do-restaurante-do-bem/
LOCATION:Avenida Araguia com a Rua 03\, nº 514 – Setor Central – Goiânia-Goiás.
CATEGORIES:Diretoria Administrativa e Financeira
END:VEVENT
BEGIN:VEVENT
DTSTART;TZID=America/Sao_Paulo:20241119T140000
DTEND;TZID=America/Sao_Paulo:20241119T150000
DTSTAMP:20260425T081851
CREATED:20241119T183028Z
LAST-MODIFIED:20241119T183028Z
UID:38230-1732024800-1732028400@www.goiasfomento.com
SUMMARY:Lucas Fernandes – Diretor Presidente (Interino): Reunião da Diretoria Executiva.
DESCRIPTION:
URL:https://www.goiasfomento.com/agenda/lucas-fernandes-diretor-presidente-interino-reuniao-da-diretoria-executiva/
LOCATION:Gabinete da Presidência da GoiásFomento – Agência de Fomento de Goiás.
CATEGORIES:Presidência
END:VEVENT
BEGIN:VEVENT
DTSTART;TZID=America/Sao_Paulo:20241119T140000
DTEND;TZID=America/Sao_Paulo:20241119T150000
DTSTAMP:20260425T081851
CREATED:20241119T183110Z
LAST-MODIFIED:20241119T183110Z
UID:38232-1732024800-1732028400@www.goiasfomento.com
SUMMARY:Lucas Fernandes: Reunião da Diretoria Executiva.
DESCRIPTION:
URL:https://www.goiasfomento.com/agenda/lucas-fernandes-reuniao-da-diretoria-executiva/
LOCATION:Gabinete da Diretoria Administrativa e Financeira – Agência de Fomento de Goiás.
CATEGORIES:Diretoria Administrativa e Financeira
END:VEVENT
BEGIN:VEVENT
DTSTART;TZID=America/Sao_Paulo:20241119T140000
DTEND;TZID=America/Sao_Paulo:20241119T150000
DTSTAMP:20260425T081851
CREATED:20241119T183311Z
LAST-MODIFIED:20241119T183311Z
UID:38234-1732024800-1732028400@www.goiasfomento.com
SUMMARY:Rufino Veríssimo:  Reunião da Diretoria Executiva.
DESCRIPTION:
URL:https://www.goiasfomento.com/agenda/rufino-verissimo-reuniao-da-diretoria-executiva/
LOCATION:Gabinete da Diretoria Administrativa e Financeira – Agência de Fomento de Goiás.
CATEGORIES:Diretoria de Operações
END:VEVENT
BEGIN:VEVENT
DTSTART;TZID=America/Sao_Paulo:20241119T150000
DTEND;TZID=America/Sao_Paulo:20241119T180000
DTSTAMP:20260425T081851
CREATED:20241119T133315Z
LAST-MODIFIED:20241119T182913Z
UID:38218-1732028400-1732039200@www.goiasfomento.com
SUMMARY:Lucas Fernandes – Diretor Presidente (Interino): Despachos Internos.
DESCRIPTION:
URL:https://www.goiasfomento.com/agenda/lucas-fernandes-diretor-presidente-interino-despachos-internos-153/
LOCATION:Gabinete da Presidência da GoiásFomento – Agência de Fomento de Goiás.
CATEGORIES:Presidência
END:VEVENT
BEGIN:VEVENT
DTSTART;TZID=America/Sao_Paulo:20241119T150000
DTEND;TZID=America/Sao_Paulo:20241119T180000
DTSTAMP:20260425T081851
CREATED:20241119T133341Z
LAST-MODIFIED:20241119T182824Z
UID:38220-1732028400-1732039200@www.goiasfomento.com
SUMMARY:Lucas Fernandes: Despachos Internos.
DESCRIPTION:
URL:https://www.goiasfomento.com/agenda/lucas-fernandes-despachos-internos-600/
LOCATION:Gabinete da Diretoria Administrativa e Financeira – Agência de Fomento de Goiás.
CATEGORIES:Diretoria Administrativa e Financeira
END:VEVENT
BEGIN:VEVENT
DTSTART;TZID=America/Sao_Paulo:20241119T150000
DTEND;TZID=America/Sao_Paulo:20241119T180000
DTSTAMP:20260425T081851
CREATED:20241119T183458Z
LAST-MODIFIED:20241119T183458Z
UID:38236-1732028400-1732039200@www.goiasfomento.com
SUMMARY:Rufino Veríssimo: Despachos Internos.
DESCRIPTION:
URL:https://www.goiasfomento.com/agenda/rufino-verissimo-despachos-internos-18/
LOCATION:Gabinete da Diretoria de Operações da GoiásFomento – Agência de Fomento de Goiás.
CATEGORIES:Diretoria de Operações
END:VEVENT
BEGIN:VEVENT
DTSTART;VALUE=DATE:20241120
DTEND;VALUE=DATE:20241121
DTSTAMP:20260425T081851
CREATED:20241118T112201Z
LAST-MODIFIED:20241118T112201Z
UID:38190-1732060800-1732147199@www.goiasfomento.com
SUMMARY:Cargo Vago desde 02/07/2024.
DESCRIPTION:
URL:https://www.goiasfomento.com/agenda/cargo-vago-desde-02-07-2024-101/
LOCATION:Chefia de Gabinete – Agência de Fomento de Goiás
CATEGORIES:Chefia de Gabinete
END:VEVENT
BEGIN:VEVENT
DTSTART;VALUE=DATE:20241120
DTEND;VALUE=DATE:20241121
DTSTAMP:20260425T081851
CREATED:20241118T130613Z
LAST-MODIFIED:20241118T130613Z
UID:38195-1732060800-1732147199@www.goiasfomento.com
SUMMARY:Rufino Veríssimo: Feriado Nacional – Dia da Consciência Negra.
DESCRIPTION:
URL:https://www.goiasfomento.com/agenda/rufino-verissimo-feriado-nacional-dia-da-consciencia-negra/
LOCATION:Gabinete da Diretoria de Operações da GoiásFomento – Agência de Fomento de Goiás.
CATEGORIES:Diretoria de Operações
END:VEVENT
BEGIN:VEVENT
DTSTART;VALUE=DATE:20241120
DTEND;VALUE=DATE:20241121
DTSTAMP:20260425T081851
CREATED:20241118T130803Z
LAST-MODIFIED:20241118T130803Z
UID:38197-1732060800-1732147199@www.goiasfomento.com
SUMMARY:Lucas Fernandes – Diretor Presidente (Interino):  Feriado Nacional – Dia da Consciência Negra.
DESCRIPTION:
URL:https://www.goiasfomento.com/agenda/lucas-fernandes-diretor-presidente-interino-feriado-nacional-dia-da-consciencia-negra/
LOCATION:Gabinete da Presidência da GoiásFomento – Agência de Fomento de Goiás.
CATEGORIES:Presidência
END:VEVENT
BEGIN:VEVENT
DTSTART;VALUE=DATE:20241120
DTEND;VALUE=DATE:20241121
DTSTAMP:20260425T081851
CREATED:20241118T130835Z
LAST-MODIFIED:20241118T130835Z
UID:38199-1732060800-1732147199@www.goiasfomento.com
SUMMARY:Lucas Fernandes:  Feriado Nacional – Dia da Consciência Negra.
DESCRIPTION:
URL:https://www.goiasfomento.com/agenda/lucas-fernandes-feriado-nacional-dia-da-consciencia-negra/
LOCATION:Diretoria Administrativa e Financeira da GoiásFomento – Agência de Fomento de Goiás.
CATEGORIES:Diretoria Administrativa e Financeira
END:VEVENT
BEGIN:VEVENT
DTSTART;VALUE=DATE:20241121
DTEND;VALUE=DATE:20241122
DTSTAMP:20260425T081851
CREATED:20241118T112143Z
LAST-MODIFIED:20241118T112143Z
UID:38188-1732147200-1732233599@www.goiasfomento.com
SUMMARY:Cargo Vago desde 02/07/2024.
DESCRIPTION:
URL:https://www.goiasfomento.com/agenda/cargo-vago-desde-02-07-2024-100/
LOCATION:Chefia de Gabinete – Agência de Fomento de Goiás
CATEGORIES:Chefia de Gabinete
END:VEVENT
BEGIN:VEVENT
DTSTART;TZID=America/Sao_Paulo:20241121T080000
DTEND;TZID=America/Sao_Paulo:20241121T083000
DTSTAMP:20260425T081851
CREATED:20241121T113042Z
LAST-MODIFIED:20241121T113042Z
UID:38238-1732176000-1732177800@www.goiasfomento.com
SUMMARY:Rufino Veríssimo: Despachos Internos.
DESCRIPTION:
URL:https://www.goiasfomento.com/agenda/rufino-verissimo-despachos-internos-19/
LOCATION:Gabinete da Diretoria de Operações da GoiásFomento – Agência de Fomento de Goiás.
CATEGORIES:Diretoria de Operações
END:VEVENT
BEGIN:VEVENT
DTSTART;TZID=America/Sao_Paulo:20241121T080000
DTEND;TZID=America/Sao_Paulo:20241121T120000
DTSTAMP:20260425T081851
CREATED:20241121T113215Z
LAST-MODIFIED:20241121T113215Z
UID:38241-1732176000-1732190400@www.goiasfomento.com
SUMMARY:Lucas Fernandes – Diretor Presidente (Interino): Despachos Internos.
DESCRIPTION:
URL:https://www.goiasfomento.com/agenda/lucas-fernandes-diretor-presidente-interino-despachos-internos-154/
LOCATION:Gabinete da Presidência da GoiásFomento – Agência de Fomento de Goiás.
CATEGORIES:Presidência
END:VEVENT
END:VCALENDAR