BEGIN:VCALENDAR
VERSION:2.0
PRODID:-//GoiásFomento - Agência de Fomento - ECPv6.15.20//NONSGML v1.0//EN
CALSCALE:GREGORIAN
METHOD:PUBLISH
X-ORIGINAL-URL:https://www.goiasfomento.com
X-WR-CALDESC:Eventos para GoiásFomento - Agência de Fomento
REFRESH-INTERVAL;VALUE=DURATION:PT1H
X-Robots-Tag:noindex
X-PUBLISHED-TTL:PT1H
BEGIN:VTIMEZONE
TZID:America/Sao_Paulo
BEGIN:STANDARD
TZOFFSETFROM:-0300
TZOFFSETTO:-0300
TZNAME:-03
DTSTART:20230101T000000
END:STANDARD
END:VTIMEZONE
BEGIN:VEVENT
DTSTART;VALUE=DATE:20241031
DTEND;VALUE=DATE:20241101
DTSTAMP:20260425T081521
CREATED:20241028T112135Z
LAST-MODIFIED:20241028T112135Z
UID:37691-1730332800-1730419199@www.goiasfomento.com
SUMMARY:Cargo Vago desde 02/07/2024.
DESCRIPTION:
URL:https://www.goiasfomento.com/agenda/cargo-vago-desde-02-07-2024-85/
LOCATION:Chefia de Gabinete – Agência de Fomento de Goiás
CATEGORIES:Chefia de Gabinete
END:VEVENT
BEGIN:VEVENT
DTSTART;TZID=America/Sao_Paulo:20241031T080000
DTEND;TZID=America/Sao_Paulo:20241031T100000
DTSTAMP:20260425T081521
CREATED:20241031T192031Z
LAST-MODIFIED:20241031T192031Z
UID:37816-1730361600-1730368800@www.goiasfomento.com
SUMMARY:Lucas Fernandes – Diretor Presidente (Interino): Despachos Internos.
DESCRIPTION:
URL:https://www.goiasfomento.com/agenda/lucas-fernandes-diretor-presidente-interino-despachos-internos-125/
LOCATION:Gabinete da Presidência da GoiásFomento – Agência de Fomento de Goiás.
CATEGORIES:Presidência
END:VEVENT
BEGIN:VEVENT
DTSTART;TZID=America/Sao_Paulo:20241031T080000
DTEND;TZID=America/Sao_Paulo:20241031T100000
DTSTAMP:20260425T081521
CREATED:20241031T192238Z
LAST-MODIFIED:20241031T192238Z
UID:37821-1730361600-1730368800@www.goiasfomento.com
SUMMARY:Lucas Fernandes: Despachos Internos.
DESCRIPTION:
URL:https://www.goiasfomento.com/agenda/lucas-fernandes-despachos-internos-572/
LOCATION:Gabinete da Diretoria Administrativa e Financeira – Agência de Fomento de Goiás.
CATEGORIES:Diretoria Administrativa e Financeira
END:VEVENT
BEGIN:VEVENT
DTSTART;TZID=America/Sao_Paulo:20241031T080000
DTEND;TZID=America/Sao_Paulo:20241031T120000
DTSTAMP:20260425T081521
CREATED:20241031T191803Z
LAST-MODIFIED:20241031T191803Z
UID:37812-1730361600-1730376000@www.goiasfomento.com
SUMMARY:Vinícius Luz: Despachos Internos.
DESCRIPTION:
URL:https://www.goiasfomento.com/agenda/vinicius-luz-despachos-internos-129/
LOCATION:Gabinete da Diretoria de Operações da GoiásFomento – Agência de Fomento de Goiás.
CATEGORIES:Diretoria de Operações
END:VEVENT
BEGIN:VEVENT
DTSTART;TZID=America/Sao_Paulo:20241031T100000
DTEND;TZID=America/Sao_Paulo:20241031T120000
DTSTAMP:20260425T081521
CREATED:20241030T134714Z
LAST-MODIFIED:20241030T134714Z
UID:37784-1730368800-1730376000@www.goiasfomento.com
SUMMARY:Lucas Fernandes – Diretor Presidente (Interino): Goiás Social no Caminho de Cora Coralina.
DESCRIPTION:
URL:https://www.goiasfomento.com/agenda/lucas-fernandes-diretor-presidente-interino-goias-social-no-caminho-de-cora-coralina/
LOCATION:Praça  Civíca – Praça Dr. Pedro Ludovico Teixeira – St. Central\, Goiânia – GO\, 74003-010
CATEGORIES:Presidência
END:VEVENT
BEGIN:VEVENT
DTSTART;TZID=America/Sao_Paulo:20241031T100000
DTEND;TZID=America/Sao_Paulo:20241031T120000
DTSTAMP:20260425T081521
CREATED:20241030T134830Z
LAST-MODIFIED:20241030T134938Z
UID:37789-1730368800-1730376000@www.goiasfomento.com
SUMMARY:Lucas Fernandes: Goiás Social no Caminho de Cora Coralina.
DESCRIPTION:
URL:https://www.goiasfomento.com/agenda/lucas-fernandes-goias-social-no-caminho-de-cora-coralina/
LOCATION:Praça  Civíca – Praça Dr. Pedro Ludovico Teixeira – St. Central\, Goiânia – GO\, 74003-010
CATEGORIES:Diretoria Administrativa e Financeira
END:VEVENT
BEGIN:VEVENT
DTSTART;TZID=America/Sao_Paulo:20241031T140000
DTEND;TZID=America/Sao_Paulo:20241031T180000
DTSTAMP:20260425T081521
CREATED:20241031T191833Z
LAST-MODIFIED:20241031T191833Z
UID:37814-1730383200-1730397600@www.goiasfomento.com
SUMMARY:Vinícius Luz: Despachos Internos.
DESCRIPTION:
URL:https://www.goiasfomento.com/agenda/vinicius-luz-despachos-internos-130/
LOCATION:Gabinete da Diretoria de Operações da GoiásFomento – Agência de Fomento de Goiás.
CATEGORIES:Diretoria de Operações
END:VEVENT
BEGIN:VEVENT
DTSTART;TZID=America/Sao_Paulo:20241031T140000
DTEND;TZID=America/Sao_Paulo:20241031T180000
DTSTAMP:20260425T081521
CREATED:20241031T192129Z
LAST-MODIFIED:20241031T192129Z
UID:37818-1730383200-1730397600@www.goiasfomento.com
SUMMARY:Lucas Fernandes – Diretor Presidente (Interino): Despachos Internos.
DESCRIPTION:
URL:https://www.goiasfomento.com/agenda/lucas-fernandes-diretor-presidente-interino-despachos-internos-126/
LOCATION:Gabinete da Presidência da GoiásFomento – Agência de Fomento de Goiás.
CATEGORIES:Presidência
END:VEVENT
BEGIN:VEVENT
DTSTART;TZID=America/Sao_Paulo:20241031T140000
DTEND;TZID=America/Sao_Paulo:20241031T180000
DTSTAMP:20260425T081521
CREATED:20241031T192307Z
LAST-MODIFIED:20241031T192307Z
UID:37823-1730383200-1730397600@www.goiasfomento.com
SUMMARY:Lucas Fernandes: Despachos Internos.
DESCRIPTION:
URL:https://www.goiasfomento.com/agenda/lucas-fernandes-despachos-internos-573/
LOCATION:Gabinete da Diretoria Administrativa e Financeira – Agência de Fomento de Goiás.
CATEGORIES:Diretoria Administrativa e Financeira
END:VEVENT
BEGIN:VEVENT
DTSTART;VALUE=DATE:20241101
DTEND;VALUE=DATE:20241102
DTSTAMP:20260425T081521
CREATED:20241028T112430Z
LAST-MODIFIED:20241028T112430Z
UID:37693-1730419200-1730505599@www.goiasfomento.com
SUMMARY:Cargo Vago desde 02/07/2024.
DESCRIPTION:
URL:https://www.goiasfomento.com/agenda/cargo-vago-desde-02-07-2024-86/
LOCATION:Chefia de Gabinete – Agência de Fomento de Goiás
CATEGORIES:Chefia de Gabinete
END:VEVENT
BEGIN:VEVENT
DTSTART;VALUE=DATE:20241101
DTEND;VALUE=DATE:20241102
DTSTAMP:20260425T081521
CREATED:20241030T132049Z
LAST-MODIFIED:20241030T132049Z
UID:37768-1730419200-1730505599@www.goiasfomento.com
SUMMARY:Lucas Fernandes – Diretor Presidente (Interino): Feriado consagrado ao Dia do Servidor Público\, conforme Decreto nº 10.566\, de 08 de outubro de 2024.
DESCRIPTION:
URL:https://www.goiasfomento.com/agenda/lucas-fernandes-diretor-presidente-interino-feriado-consagrado-ao-dia-do-servidor-publico-conforme-decreto-no-10-566-de-08-de-outubro-de-2024/
LOCATION:Goiânia-Goiás
CATEGORIES:Presidência
END:VEVENT
BEGIN:VEVENT
DTSTART;VALUE=DATE:20241101
DTEND;VALUE=DATE:20241102
DTSTAMP:20260425T081521
CREATED:20241030T132144Z
LAST-MODIFIED:20241030T132144Z
UID:37770-1730419200-1730505599@www.goiasfomento.com
SUMMARY:Lucas Fernandes: Feriado consagrado ao Dia do Servidor Público\, conforme Decreto nº 10.566\, de 08 de outubro de 2024.
DESCRIPTION:
URL:https://www.goiasfomento.com/agenda/lucas-fernandes-feriado-consagrado-ao-dia-do-servidor-publico-conforme-decreto-no-10-566-de-08-de-outubro-de-2024/
LOCATION:Goiânia-Goiás
CATEGORIES:Diretoria Administrativa e Financeira
END:VEVENT
BEGIN:VEVENT
DTSTART;VALUE=DATE:20241101
DTEND;VALUE=DATE:20241102
DTSTAMP:20260425T081521
CREATED:20241030T132411Z
LAST-MODIFIED:20241030T132411Z
UID:37772-1730419200-1730505599@www.goiasfomento.com
SUMMARY:Vinícius Luz: Feriado consagrado ao Dia do Servidor Público\, conforme Decreto nº 10.566\, de 08 de outubro de 2024.
DESCRIPTION:
URL:https://www.goiasfomento.com/agenda/vinicius-luz-feriado-consagrado-ao-dia-do-servidor-publico-conforme-decreto-no-10-566-de-08-de-outubro-de-2024/
LOCATION:Goiânia-Goiás
CATEGORIES:Diretoria de Operações
END:VEVENT
BEGIN:VEVENT
DTSTART;VALUE=DATE:20241104
DTEND;VALUE=DATE:20241105
DTSTAMP:20260425T081521
CREATED:20241104T112446Z
LAST-MODIFIED:20241104T112446Z
UID:37837-1730678400-1730764799@www.goiasfomento.com
SUMMARY:Cargo Vago desde 02/07/2024.
DESCRIPTION:
URL:https://www.goiasfomento.com/agenda/cargo-vago-desde-02-07-2024-91/
LOCATION:Chefia de Gabinete – Agência de Fomento de Goiás
CATEGORIES:Chefia de Gabinete
END:VEVENT
BEGIN:VEVENT
DTSTART;TZID=America/Sao_Paulo:20241104T080000
DTEND;TZID=America/Sao_Paulo:20241104T120000
DTSTAMP:20260425T081521
CREATED:20241104T112111Z
LAST-MODIFIED:20241104T112111Z
UID:37825-1730707200-1730721600@www.goiasfomento.com
SUMMARY:Vinícius Luz: Despachos Internos.
DESCRIPTION:
URL:https://www.goiasfomento.com/agenda/vinicius-luz-despachos-internos-131/
LOCATION:Gabinete da Diretoria de Operações da GoiásFomento – Agência de Fomento de Goiás.
CATEGORIES:Diretoria de Operações
END:VEVENT
BEGIN:VEVENT
DTSTART;TZID=America/Sao_Paulo:20241104T080000
DTEND;TZID=America/Sao_Paulo:20241104T120000
DTSTAMP:20260425T081521
CREATED:20241104T113354Z
LAST-MODIFIED:20241104T113354Z
UID:37839-1730707200-1730721600@www.goiasfomento.com
SUMMARY:Lucas Fernandes – Diretor Presidente (Interino): Despachos Internos.
DESCRIPTION:
URL:https://www.goiasfomento.com/agenda/lucas-fernandes-diretor-presidente-interino-despachos-internos-127/
LOCATION:Gabinete da Presidência da GoiásFomento – Agência de Fomento de Goiás.
CATEGORIES:Presidência
END:VEVENT
BEGIN:VEVENT
DTSTART;TZID=America/Sao_Paulo:20241104T080000
DTEND;TZID=America/Sao_Paulo:20241104T120000
DTSTAMP:20260425T081521
CREATED:20241104T113437Z
LAST-MODIFIED:20241104T113437Z
UID:37841-1730707200-1730721600@www.goiasfomento.com
SUMMARY:Lucas Fernandes: Despachos Internos.
DESCRIPTION:
URL:https://www.goiasfomento.com/agenda/lucas-fernandes-despachos-internos-574/
LOCATION:Gabinete da Diretoria Administrativa e Financeira – Agência de Fomento de Goiás.
CATEGORIES:Diretoria Administrativa e Financeira
END:VEVENT
BEGIN:VEVENT
DTSTART;TZID=America/Sao_Paulo:20241104T140000
DTEND;TZID=America/Sao_Paulo:20241104T150000
DTSTAMP:20260425T081521
CREATED:20241104T115704Z
LAST-MODIFIED:20241104T115704Z
UID:37848-1730728800-1730732400@www.goiasfomento.com
SUMMARY:Lucas Fernandes – Diretor Presidente (Interino): Reunião com Pedro Leonardo - SEAPA.
DESCRIPTION:
URL:https://www.goiasfomento.com/agenda/lucas-fernandes-diretor-presidente-interino-reuniao-com-pedro-leonardo-seapa/
LOCATION:Secretaria de Estado de Agricultura\, Pecuária e Abastecimento de Goiás – SEAPA
CATEGORIES:Presidência
END:VEVENT
BEGIN:VEVENT
DTSTART;TZID=America/Sao_Paulo:20241104T140000
DTEND;TZID=America/Sao_Paulo:20241104T150000
DTSTAMP:20260425T081521
CREATED:20241104T115748Z
LAST-MODIFIED:20241104T115748Z
UID:37850-1730728800-1730732400@www.goiasfomento.com
SUMMARY:Lucas Fernandes: Reunião com Pedro Leonardo - SEAPA.
DESCRIPTION:
URL:https://www.goiasfomento.com/agenda/lucas-fernandes-reuniao-com-pedro-leonardo-seapa/
LOCATION:Secretaria de Estado de Agricultura\, Pecuária e Abastecimento de Goiás – SEAPA
CATEGORIES:Diretoria Administrativa e Financeira
END:VEVENT
BEGIN:VEVENT
DTSTART;TZID=America/Sao_Paulo:20241104T140000
DTEND;TZID=America/Sao_Paulo:20241104T180000
DTSTAMP:20260425T081521
CREATED:20241104T112134Z
LAST-MODIFIED:20241104T112134Z
UID:37827-1730728800-1730743200@www.goiasfomento.com
SUMMARY:Vinícius Luz: Despachos Internos.
DESCRIPTION:
URL:https://www.goiasfomento.com/agenda/vinicius-luz-despachos-internos-132/
LOCATION:Gabinete da Diretoria de Operações da GoiásFomento – Agência de Fomento de Goiás.
CATEGORIES:Diretoria de Operações
END:VEVENT
BEGIN:VEVENT
DTSTART;TZID=America/Sao_Paulo:20241104T150000
DTEND;TZID=America/Sao_Paulo:20241104T180000
DTSTAMP:20260425T081521
CREATED:20241104T115837Z
LAST-MODIFIED:20241104T115837Z
UID:37852-1730732400-1730743200@www.goiasfomento.com
SUMMARY:Lucas Fernandes – Diretor Presidente (Interino): Despachos Internos.
DESCRIPTION:
URL:https://www.goiasfomento.com/agenda/lucas-fernandes-diretor-presidente-interino-despachos-internos-128/
LOCATION:Gabinete da Presidência da GoiásFomento – Agência de Fomento de Goiás.
CATEGORIES:Presidência
END:VEVENT
BEGIN:VEVENT
DTSTART;TZID=America/Sao_Paulo:20241104T150000
DTEND;TZID=America/Sao_Paulo:20241104T180000
DTSTAMP:20260425T081521
CREATED:20241104T115911Z
LAST-MODIFIED:20241104T115911Z
UID:37854-1730732400-1730743200@www.goiasfomento.com
SUMMARY:Lucas Fernandes: Despachos Internos.
DESCRIPTION:
URL:https://www.goiasfomento.com/agenda/lucas-fernandes-despachos-internos-575/
LOCATION:Gabinete da Diretoria Administrativa e Financeira – Agência de Fomento de Goiás.
CATEGORIES:Diretoria Administrativa e Financeira
END:VEVENT
BEGIN:VEVENT
DTSTART;VALUE=DATE:20241105
DTEND;VALUE=DATE:20241106
DTSTAMP:20260425T081521
CREATED:20241104T112344Z
LAST-MODIFIED:20241104T112344Z
UID:37831-1730764800-1730851199@www.goiasfomento.com
SUMMARY:Cargo Vago desde 02/07/2024.
DESCRIPTION:
URL:https://www.goiasfomento.com/agenda/cargo-vago-desde-02-07-2024-88/
LOCATION:Gabinete da Presidência da GoiásFomento – Agência de Fomento de Goiás.
CATEGORIES:Chefia de Gabinete
END:VEVENT
BEGIN:VEVENT
DTSTART;TZID=America/Sao_Paulo:20241105T080000
DTEND;TZID=America/Sao_Paulo:20241105T120000
DTSTAMP:20260425T081521
CREATED:20241105T111559Z
LAST-MODIFIED:20241105T111559Z
UID:37880-1730793600-1730808000@www.goiasfomento.com
SUMMARY:Vinícius Luz: Despachos Internos.
DESCRIPTION:
URL:https://www.goiasfomento.com/agenda/vinicius-luz-despachos-internos-133/
LOCATION:Gabinete da Diretoria de Operações da GoiásFomento – Agência de Fomento de Goiás.
CATEGORIES:Diretoria de Operações
END:VEVENT
BEGIN:VEVENT
DTSTART;TZID=America/Sao_Paulo:20241105T080000
DTEND;TZID=America/Sao_Paulo:20241105T120000
DTSTAMP:20260425T081521
CREATED:20241105T111734Z
LAST-MODIFIED:20241105T111734Z
UID:37884-1730793600-1730808000@www.goiasfomento.com
SUMMARY:Lucas Fernandes – Diretor Presidente (Interino): Despachos Internos.
DESCRIPTION:
URL:https://www.goiasfomento.com/agenda/lucas-fernandes-diretor-presidente-interino-despachos-internos-129/
LOCATION:Gabinete da Presidência da GoiásFomento – Agência de Fomento de Goiás.
CATEGORIES:Presidência
END:VEVENT
BEGIN:VEVENT
DTSTART;TZID=America/Sao_Paulo:20241105T080000
DTEND;TZID=America/Sao_Paulo:20241105T120000
DTSTAMP:20260425T081521
CREATED:20241105T111836Z
LAST-MODIFIED:20241105T111836Z
UID:37888-1730793600-1730808000@www.goiasfomento.com
SUMMARY:Lucas Fernandes: Despachos Internos.
DESCRIPTION:
URL:https://www.goiasfomento.com/agenda/lucas-fernandes-despachos-internos-576/
LOCATION:Gabinete da Diretoria Administrativa e Financeira – Agência de Fomento de Goiás.
CATEGORIES:Diretoria Administrativa e Financeira
END:VEVENT
BEGIN:VEVENT
DTSTART;TZID=America/Sao_Paulo:20241105T140000
DTEND;TZID=America/Sao_Paulo:20241105T180000
DTSTAMP:20260425T081521
CREATED:20241105T111631Z
LAST-MODIFIED:20241105T111631Z
UID:37882-1730815200-1730829600@www.goiasfomento.com
SUMMARY:Vinícius Luz: Despachos Internos.
DESCRIPTION:
URL:https://www.goiasfomento.com/agenda/vinicius-luz-despachos-internos-134/
LOCATION:Gabinete da Diretoria de Operações da GoiásFomento – Agência de Fomento de Goiás.
CATEGORIES:Diretoria de Operações
END:VEVENT
BEGIN:VEVENT
DTSTART;TZID=America/Sao_Paulo:20241105T140000
DTEND;TZID=America/Sao_Paulo:20241105T180000
DTSTAMP:20260425T081521
CREATED:20241105T111801Z
LAST-MODIFIED:20241105T111801Z
UID:37886-1730815200-1730829600@www.goiasfomento.com
SUMMARY:Lucas Fernandes – Diretor Presidente (Interino): Despachos Internos.
DESCRIPTION:
URL:https://www.goiasfomento.com/agenda/lucas-fernandes-diretor-presidente-interino-despachos-internos-130/
LOCATION:Gabinete da Presidência da GoiásFomento – Agência de Fomento de Goiás.
CATEGORIES:Presidência
END:VEVENT
BEGIN:VEVENT
DTSTART;TZID=America/Sao_Paulo:20241105T140000
DTEND;TZID=America/Sao_Paulo:20241105T180000
DTSTAMP:20260425T081521
CREATED:20241105T111917Z
LAST-MODIFIED:20241105T111917Z
UID:37890-1730815200-1730829600@www.goiasfomento.com
SUMMARY:Lucas Fernandes: Despachos Internos.
DESCRIPTION:
URL:https://www.goiasfomento.com/agenda/lucas-fernandes-despachos-internos-577/
LOCATION:Gabinete da Diretoria Administrativa e Financeira – Agência de Fomento de Goiás.
CATEGORIES:Diretoria Administrativa e Financeira
END:VEVENT
BEGIN:VEVENT
DTSTART;VALUE=DATE:20241106
DTEND;VALUE=DATE:20241107
DTSTAMP:20260425T081521
CREATED:20241104T112404Z
LAST-MODIFIED:20241104T112404Z
UID:37833-1730851200-1730937599@www.goiasfomento.com
SUMMARY:Cargo Vago desde 02/07/2024.
DESCRIPTION:
URL:https://www.goiasfomento.com/agenda/cargo-vago-desde-02-07-2024-89/
LOCATION:Chefia de Gabinete – Agência de Fomento de Goiás
CATEGORIES:Chefia de Gabinete
END:VEVENT
END:VCALENDAR