BEGIN:VCALENDAR
VERSION:2.0
PRODID:-//GoiásFomento - Agência de Fomento - ECPv6.15.20//NONSGML v1.0//EN
CALSCALE:GREGORIAN
METHOD:PUBLISH
X-ORIGINAL-URL:https://www.goiasfomento.com
X-WR-CALDESC:Eventos para GoiásFomento - Agência de Fomento
REFRESH-INTERVAL;VALUE=DURATION:PT1H
X-Robots-Tag:noindex
X-PUBLISHED-TTL:PT1H
BEGIN:VTIMEZONE
TZID:America/Sao_Paulo
BEGIN:STANDARD
TZOFFSETFROM:-0300
TZOFFSETTO:-0300
TZNAME:-03
DTSTART:20230101T000000
END:STANDARD
END:VTIMEZONE
BEGIN:VEVENT
DTSTART;VALUE=DATE:20241014
DTEND;VALUE=DATE:20241015
DTSTAMP:20260425T095144
CREATED:20241014T112014Z
LAST-MODIFIED:20241014T112014Z
UID:37378-1728864000-1728950399@www.goiasfomento.com
SUMMARY:Cargo Vago desde 02/07/2024.
DESCRIPTION:
URL:https://www.goiasfomento.com/agenda/cargo-vago-desde-02-07-2024-72/
LOCATION:Chefia de Gabinete – Agência de Fomento de Goiás
CATEGORIES:Chefia de Gabinete
END:VEVENT
BEGIN:VEVENT
DTSTART;TZID=America/Sao_Paulo:20241014T080000
DTEND;TZID=America/Sao_Paulo:20241014T090000
DTSTAMP:20260425T095144
CREATED:20241014T112259Z
LAST-MODIFIED:20241014T191313Z
UID:37388-1728892800-1728896400@www.goiasfomento.com
SUMMARY:Lucas Fernandes – Diretor Presidente (Interino): Despachos Internos.
DESCRIPTION:
URL:https://www.goiasfomento.com/agenda/lucas-fernandes-diretor-presidente-interino-despachos-internos-105/
LOCATION:Gabinete da Presidência da GoiásFomento – Agência de Fomento de Goiás.
CATEGORIES:Presidência
END:VEVENT
BEGIN:VEVENT
DTSTART;TZID=America/Sao_Paulo:20241014T080000
DTEND;TZID=America/Sao_Paulo:20241014T090000
DTSTAMP:20260425T095144
CREATED:20241014T112435Z
LAST-MODIFIED:20241014T191355Z
UID:37394-1728892800-1728896400@www.goiasfomento.com
SUMMARY:Lucas Fernandes: Despachos Internos.
DESCRIPTION:
URL:https://www.goiasfomento.com/agenda/lucas-fernandes-despachos-internos-555/
LOCATION:Gabinete da Diretoria Administrativa e Financeira – Agência de Fomento de Goiás.
CATEGORIES:Diretoria Administrativa e Financeira
END:VEVENT
BEGIN:VEVENT
DTSTART;TZID=America/Sao_Paulo:20241014T080000
DTEND;TZID=America/Sao_Paulo:20241014T120000
DTSTAMP:20260425T095144
CREATED:20241014T111845Z
LAST-MODIFIED:20241014T111845Z
UID:37374-1728892800-1728907200@www.goiasfomento.com
SUMMARY:Vinícius Luz: Despachos Internos.
DESCRIPTION:
URL:https://www.goiasfomento.com/agenda/vinicius-luz-despachos-internos-106/
LOCATION:Gabinete da Diretoria de Operações da GoiásFomento – Agência de Fomento de Goiás.
CATEGORIES:Diretoria de Operações
END:VEVENT
BEGIN:VEVENT
DTSTART;TZID=America/Sao_Paulo:20241014T090000
DTEND;TZID=America/Sao_Paulo:20241014T100000
DTSTAMP:20260425T095144
CREATED:20241014T191856Z
LAST-MODIFIED:20241014T191856Z
UID:37397-1728896400-1728900000@www.goiasfomento.com
SUMMARY:Lucas Fernandes – Diretor Presidente (Interino): Reunião com os Gerentes.
DESCRIPTION:
URL:https://www.goiasfomento.com/agenda/lucas-fernandes-diretor-presidente-interino-reuniao-com-os-gerentes-3/
LOCATION:Gabinete da Presidência da GoiásFomento – Agência de Fomento de Goiás.
CATEGORIES:Presidência
END:VEVENT
BEGIN:VEVENT
DTSTART;TZID=America/Sao_Paulo:20241014T090000
DTEND;TZID=America/Sao_Paulo:20241014T100000
DTSTAMP:20260425T095144
CREATED:20241014T191944Z
LAST-MODIFIED:20241014T191944Z
UID:37399-1728896400-1728900000@www.goiasfomento.com
SUMMARY:Lucas Fernandes: Reunião com os Gerentes.
DESCRIPTION:
URL:https://www.goiasfomento.com/agenda/lucas-fernandes-reuniao-com-os-gerentes-3/
LOCATION:Gabinete da Diretoria Administrativa e Financeira – Agência de Fomento de Goiás.
CATEGORIES:Diretoria Administrativa e Financeira
END:VEVENT
BEGIN:VEVENT
DTSTART;TZID=America/Sao_Paulo:20241014T100000
DTEND;TZID=America/Sao_Paulo:20241014T120000
DTSTAMP:20260425T095144
CREATED:20241014T193130Z
LAST-MODIFIED:20241014T193130Z
UID:37406-1728900000-1728907200@www.goiasfomento.com
SUMMARY:Lucas Fernandes – Diretor Presidente (Interino): Reunião com os Diretores da Empresa Integra.
DESCRIPTION:
URL:https://www.goiasfomento.com/agenda/lucas-fernandes-diretor-presidente-interino-reuniao-com-os-diretores-da-empresa-integra/
LOCATION:Gabinete da Presidência da GoiásFomento – Agência de Fomento de Goiás.
CATEGORIES:Presidência
END:VEVENT
BEGIN:VEVENT
DTSTART;TZID=America/Sao_Paulo:20241014T100000
DTEND;TZID=America/Sao_Paulo:20241014T120000
DTSTAMP:20260425T095144
CREATED:20241014T193207Z
LAST-MODIFIED:20241014T193207Z
UID:37408-1728900000-1728907200@www.goiasfomento.com
SUMMARY:Lucas Fernandes: Reunião com os Diretores da Empresa Integra.
DESCRIPTION:
URL:https://www.goiasfomento.com/agenda/lucas-fernandes-reuniao-com-os-diretores-da-empresa-integra/
LOCATION:Gabinete da Diretoria Administrativa e Financeira – Agência de Fomento de Goiás.
CATEGORIES:Diretoria Administrativa e Financeira
END:VEVENT
BEGIN:VEVENT
DTSTART;TZID=America/Sao_Paulo:20241014T140000
DTEND;TZID=America/Sao_Paulo:20241014T180000
DTSTAMP:20260425T095144
CREATED:20241014T111921Z
LAST-MODIFIED:20241014T111921Z
UID:37376-1728914400-1728928800@www.goiasfomento.com
SUMMARY:Vinícius Luz: Despachos Internos.
DESCRIPTION:
URL:https://www.goiasfomento.com/agenda/vinicius-luz-despachos-internos-107/
LOCATION:Gabinete da Diretoria de Operações da GoiásFomento – Agência de Fomento de Goiás.
CATEGORIES:Diretoria de Operações
END:VEVENT
BEGIN:VEVENT
DTSTART;TZID=America/Sao_Paulo:20241014T140000
DTEND;TZID=America/Sao_Paulo:20241014T180000
DTSTAMP:20260425T095144
CREATED:20241014T112326Z
LAST-MODIFIED:20241014T112326Z
UID:37390-1728914400-1728928800@www.goiasfomento.com
SUMMARY:Lucas Fernandes – Diretor Presidente (Interino): Despachos Internos.
DESCRIPTION:
URL:https://www.goiasfomento.com/agenda/lucas-fernandes-diretor-presidente-interino-despachos-internos-106/
LOCATION:Gabinete da Presidência da GoiásFomento – Agência de Fomento de Goiás.
CATEGORIES:Presidência
END:VEVENT
BEGIN:VEVENT
DTSTART;TZID=America/Sao_Paulo:20241014T140000
DTEND;TZID=America/Sao_Paulo:20241014T180000
DTSTAMP:20260425T095144
CREATED:20241014T112407Z
LAST-MODIFIED:20241014T112407Z
UID:37392-1728914400-1728928800@www.goiasfomento.com
SUMMARY:Lucas Fernandes: Despachos Internos.
DESCRIPTION:
URL:https://www.goiasfomento.com/agenda/lucas-fernandes-despachos-internos-554/
LOCATION:Gabinete da Diretoria Administrativa e Financeira – Agência de Fomento de Goiás.
CATEGORIES:Diretoria Administrativa e Financeira
END:VEVENT
BEGIN:VEVENT
DTSTART;VALUE=DATE:20241015
DTEND;VALUE=DATE:20241016
DTSTAMP:20260425T095144
CREATED:20241014T112043Z
LAST-MODIFIED:20241014T112043Z
UID:37380-1728950400-1729036799@www.goiasfomento.com
SUMMARY:Cargo Vago desde 02/07/2024.
DESCRIPTION:
URL:https://www.goiasfomento.com/agenda/cargo-vago-desde-02-07-2024-73/
LOCATION:Chefia de Gabinete – Agência de Fomento de Goiás
CATEGORIES:Chefia de Gabinete
END:VEVENT
BEGIN:VEVENT
DTSTART;TZID=America/Sao_Paulo:20241015T080000
DTEND;TZID=America/Sao_Paulo:20241015T103000
DTSTAMP:20260425T095144
CREATED:20241015T140730Z
LAST-MODIFIED:20241015T140730Z
UID:37414-1728979200-1728988200@www.goiasfomento.com
SUMMARY:Lucas Fernandes – Diretor Presidente (Interino): Despachos Internos.
DESCRIPTION:
URL:https://www.goiasfomento.com/agenda/lucas-fernandes-diretor-presidente-interino-despachos-internos-107/
LOCATION:Gabinete da Presidência da GoiásFomento – Agência de Fomento de Goiás.
CATEGORIES:Presidência
END:VEVENT
BEGIN:VEVENT
DTSTART;TZID=America/Sao_Paulo:20241015T080000
DTEND;TZID=America/Sao_Paulo:20241015T103000
DTSTAMP:20260425T095144
CREATED:20241015T140843Z
LAST-MODIFIED:20241015T140843Z
UID:37418-1728979200-1728988200@www.goiasfomento.com
SUMMARY:Lucas Fernandes: Despachos Internos.
DESCRIPTION:
URL:https://www.goiasfomento.com/agenda/lucas-fernandes-despachos-internos-556/
LOCATION:Gabinete da Diretoria Administrativa e Financeira – Agência de Fomento de Goiás.
CATEGORIES:Diretoria Administrativa e Financeira
END:VEVENT
BEGIN:VEVENT
DTSTART;TZID=America/Sao_Paulo:20241015T080000
DTEND;TZID=America/Sao_Paulo:20241015T120000
DTSTAMP:20260425T095144
CREATED:20241015T140422Z
LAST-MODIFIED:20241015T140422Z
UID:37410-1728979200-1728993600@www.goiasfomento.com
SUMMARY:Vinícius Luz: Despachos Internos.
DESCRIPTION:
URL:https://www.goiasfomento.com/agenda/vinicius-luz-despachos-internos-108/
LOCATION:Gabinete da Diretoria de Operações da GoiásFomento – Agência de Fomento de Goiás.
CATEGORIES:Diretoria de Operações
END:VEVENT
BEGIN:VEVENT
DTSTART;TZID=America/Sao_Paulo:20241015T103000
DTEND;TZID=America/Sao_Paulo:20241015T120000
DTSTAMP:20260425T095144
CREATED:20241001T184204Z
LAST-MODIFIED:20241001T184204Z
UID:37219-1728988200-1728993600@www.goiasfomento.com
SUMMARY:Lucas Fernandes – Diretor Presidente (Interino): Goiás Fomento: "Crédito subsidiado para micro e pequenas empresas: Casos de sucesso em Goiás"
DESCRIPTION:
URL:https://www.goiasfomento.com/agenda/lucas-fernandes-diretor-presidente-interino-goias-fomento-credito-subsidiado-para-micro-e-pequenas-empresas-casos-de-sucesso-em-goias/
LOCATION:SEBRAE – GO
CATEGORIES:Presidência
END:VEVENT
BEGIN:VEVENT
DTSTART;TZID=America/Sao_Paulo:20241015T103000
DTEND;TZID=America/Sao_Paulo:20241015T120000
DTSTAMP:20260425T095144
CREATED:20241001T184250Z
LAST-MODIFIED:20241001T184330Z
UID:37221-1728988200-1728993600@www.goiasfomento.com
SUMMARY:Lucas Fernandes: Goiás Fomento: "Crédito subsidiado para micro e pequenas empresas: Casos de sucesso em Goiás"
DESCRIPTION:
URL:https://www.goiasfomento.com/agenda/lucas-fernandes-goias-fomento-credito-subsidiado-para-micro-e-pequenas-empresas-casos-de-sucesso-em-goias/
LOCATION:SEBRAE – GO
CATEGORIES:Diretoria Administrativa e Financeira
END:VEVENT
BEGIN:VEVENT
DTSTART;TZID=America/Sao_Paulo:20241015T140000
DTEND;TZID=America/Sao_Paulo:20241015T180000
DTSTAMP:20260425T095144
CREATED:20241015T140452Z
LAST-MODIFIED:20241015T140452Z
UID:37412-1729000800-1729015200@www.goiasfomento.com
SUMMARY:Vinícius Luz: Despachos Internos.
DESCRIPTION:
URL:https://www.goiasfomento.com/agenda/vinicius-luz-despachos-internos-109/
LOCATION:Gabinete da Diretoria de Operações da GoiásFomento – Agência de Fomento de Goiás.
CATEGORIES:Diretoria de Operações
END:VEVENT
BEGIN:VEVENT
DTSTART;TZID=America/Sao_Paulo:20241015T140000
DTEND;TZID=America/Sao_Paulo:20241015T180000
DTSTAMP:20260425T095144
CREATED:20241015T140757Z
LAST-MODIFIED:20241015T140757Z
UID:37416-1729000800-1729015200@www.goiasfomento.com
SUMMARY:Lucas Fernandes – Diretor Presidente (Interino): Despachos Internos.
DESCRIPTION:
URL:https://www.goiasfomento.com/agenda/lucas-fernandes-diretor-presidente-interino-despachos-internos-108/
LOCATION:Gabinete da Presidência da GoiásFomento – Agência de Fomento de Goiás.
CATEGORIES:Presidência
END:VEVENT
BEGIN:VEVENT
DTSTART;TZID=America/Sao_Paulo:20241015T140000
DTEND;TZID=America/Sao_Paulo:20241015T180000
DTSTAMP:20260425T095144
CREATED:20241015T140912Z
LAST-MODIFIED:20241015T140912Z
UID:37420-1729000800-1729015200@www.goiasfomento.com
SUMMARY:Lucas Fernandes – Diretor Presidente (Interino): Despachos Internos.
DESCRIPTION:
URL:https://www.goiasfomento.com/agenda/lucas-fernandes-diretor-presidente-interino-despachos-internos-109/
LOCATION:Gabinete da Diretoria Administrativa e Financeira – Agência de Fomento de Goiás.
CATEGORIES:Diretoria Administrativa e Financeira
END:VEVENT
BEGIN:VEVENT
DTSTART;VALUE=DATE:20241016
DTEND;VALUE=DATE:20241017
DTSTAMP:20260425T095144
CREATED:20241014T112104Z
LAST-MODIFIED:20241014T112104Z
UID:37382-1729036800-1729123199@www.goiasfomento.com
SUMMARY:Cargo Vago desde 02/07/2024.
DESCRIPTION:
URL:https://www.goiasfomento.com/agenda/cargo-vago-desde-02-07-2024-74/
LOCATION:Chefia de Gabinete – Agência de Fomento de Goiás
CATEGORIES:Chefia de Gabinete
END:VEVENT
BEGIN:VEVENT
DTSTART;TZID=America/Sao_Paulo:20241016T080000
DTEND;TZID=America/Sao_Paulo:20241016T100000
DTSTAMP:20260425T095144
CREATED:20241014T192620Z
LAST-MODIFIED:20241016T141903Z
UID:37401-1729065600-1729072800@www.goiasfomento.com
SUMMARY:Lucas Fernandes – Diretor Presidente (Interino): ll Seminário Recicla Goiás.
DESCRIPTION:
URL:https://www.goiasfomento.com/agenda/lucas-fernandes-diretor-presidente-interino-ll-seminario-recicla-goias/
LOCATION:Alego-Auditório Carlos  Vieira
CATEGORIES:Presidência
END:VEVENT
BEGIN:VEVENT
DTSTART;TZID=America/Sao_Paulo:20241016T080000
DTEND;TZID=America/Sao_Paulo:20241016T100000
DTSTAMP:20260425T095144
CREATED:20241014T192709Z
LAST-MODIFIED:20241016T142015Z
UID:37404-1729065600-1729072800@www.goiasfomento.com
SUMMARY:Lucas Fernandes: ll Seminário Recicla Goiás.
DESCRIPTION:
URL:https://www.goiasfomento.com/agenda/lucas-fernandes-ll-seminario-recicla-goias/
LOCATION:Alego-Auditório Carlos  Vieira
CATEGORIES:Diretoria Administrativa e Financeira
END:VEVENT
BEGIN:VEVENT
DTSTART;TZID=America/Sao_Paulo:20241016T080000
DTEND;TZID=America/Sao_Paulo:20241016T100000
DTSTAMP:20260425T095144
CREATED:20241016T105151Z
LAST-MODIFIED:20241016T142039Z
UID:37453-1729065600-1729072800@www.goiasfomento.com
SUMMARY:Vinícius Luz: Despachos Internos.
DESCRIPTION:
URL:https://www.goiasfomento.com/agenda/vinicius-luz-despachos-internos-110/
LOCATION:Gabinete da Diretoria de Operações da GoiásFomento – Agência de Fomento de Goiás.
CATEGORIES:Diretoria de Operações
END:VEVENT
BEGIN:VEVENT
DTSTART;TZID=America/Sao_Paulo:20241016T080000
DTEND;TZID=America/Sao_Paulo:20241016T103000
DTSTAMP:20260425T095144
CREATED:20241016T143318Z
LAST-MODIFIED:20241016T143318Z
UID:37477-1729065600-1729074600@www.goiasfomento.com
SUMMARY:Lucas Fernandes – Diretor Presidente (Interino): Goiás Social.
DESCRIPTION:
URL:https://www.goiasfomento.com/agenda/lucas-fernandes-diretor-presidente-interino-goias-social-5/
CATEGORIES:Presidência
END:VEVENT
BEGIN:VEVENT
DTSTART;TZID=America/Sao_Paulo:20241016T100000
DTEND;TZID=America/Sao_Paulo:20241016T110000
DTSTAMP:20260425T095144
CREATED:20241016T142301Z
LAST-MODIFIED:20241016T142301Z
UID:37467-1729072800-1729076400@www.goiasfomento.com
SUMMARY:Vinícius Luz: Reunião da Diretoria Executiva da Agência de Fomento de Goiás.
DESCRIPTION:
URL:https://www.goiasfomento.com/agenda/vinicius-luz-reuniao-da-diretoria-executiva-da-agencia-de-fomento-de-goias-3/
LOCATION:Gabinete da Diretoria de Operações da GoiásFomento – Agência de Fomento de Goiás.
CATEGORIES:Diretoria de Operações
END:VEVENT
BEGIN:VEVENT
DTSTART;TZID=America/Sao_Paulo:20241016T100000
DTEND;TZID=America/Sao_Paulo:20241016T110000
DTSTAMP:20260425T095144
CREATED:20241016T142421Z
LAST-MODIFIED:20241016T142439Z
UID:37469-1729072800-1729076400@www.goiasfomento.com
SUMMARY:Lucas Fernandes – Diretor Presidente (Interino): Reunião da Diretoria Executiva da Agência de Fomento de Goiás.
DESCRIPTION:
URL:https://www.goiasfomento.com/agenda/lucas-fernandes-diretor-presidente-interino-reuniao-da-diretoria-executiva-da-agencia-de-fomento-de-goias-4/
LOCATION:Gabinete da Diretoria de Operações da GoiásFomento – Agência de Fomento de Goiás.
CATEGORIES:Presidência
END:VEVENT
BEGIN:VEVENT
DTSTART;TZID=America/Sao_Paulo:20241016T100000
DTEND;TZID=America/Sao_Paulo:20241016T110000
DTSTAMP:20260425T095144
CREATED:20241016T142522Z
LAST-MODIFIED:20241016T142522Z
UID:37471-1729072800-1729076400@www.goiasfomento.com
SUMMARY:Lucas Fernandes: Reunião da Diretoria Executiva da Agência de Fomento de Goiás.
DESCRIPTION:
URL:https://www.goiasfomento.com/agenda/lucas-fernandes-reuniao-da-diretoria-executiva-da-agencia-de-fomento-de-goias-4/
LOCATION:Gabinete da Diretoria de Operações da GoiásFomento – Agência de Fomento de Goiás.
CATEGORIES:Diretoria Administrativa e Financeira
END:VEVENT
BEGIN:VEVENT
DTSTART;TZID=America/Sao_Paulo:20241016T110000
DTEND;TZID=America/Sao_Paulo:20241016T120000
DTSTAMP:20260425T095144
CREATED:20241016T142601Z
LAST-MODIFIED:20241016T142601Z
UID:37473-1729076400-1729080000@www.goiasfomento.com
SUMMARY:Lucas Fernandes – Diretor Presidente (Interino): Despachos Internos.
DESCRIPTION:
URL:https://www.goiasfomento.com/agenda/lucas-fernandes-diretor-presidente-interino-despachos-internos-111/
LOCATION:Gabinete da Presidência da GoiásFomento – Agência de Fomento de Goiás.
CATEGORIES:Presidência
END:VEVENT
BEGIN:VEVENT
DTSTART;TZID=America/Sao_Paulo:20241016T110000
DTEND;TZID=America/Sao_Paulo:20241016T120000
DTSTAMP:20260425T095144
CREATED:20241016T142642Z
LAST-MODIFIED:20241016T142642Z
UID:37475-1729076400-1729080000@www.goiasfomento.com
SUMMARY:Lucas Fernandes: Despachos Internos.
DESCRIPTION:
URL:https://www.goiasfomento.com/agenda/lucas-fernandes-despachos-internos-558/
LOCATION:Gabinete da Diretoria Administrativa e Financeira – Agência de Fomento de Goiás.
CATEGORIES:Diretoria Administrativa e Financeira
END:VEVENT
END:VCALENDAR