BEGIN:VCALENDAR
VERSION:2.0
PRODID:-//GoiásFomento - Agência de Fomento - ECPv6.15.20//NONSGML v1.0//EN
CALSCALE:GREGORIAN
METHOD:PUBLISH
X-ORIGINAL-URL:https://www.goiasfomento.com
X-WR-CALDESC:Eventos para GoiásFomento - Agência de Fomento
REFRESH-INTERVAL;VALUE=DURATION:PT1H
X-Robots-Tag:noindex
X-PUBLISHED-TTL:PT1H
BEGIN:VTIMEZONE
TZID:America/Sao_Paulo
BEGIN:STANDARD
TZOFFSETFROM:-0300
TZOFFSETTO:-0300
TZNAME:-03
DTSTART:20230101T000000
END:STANDARD
END:VTIMEZONE
BEGIN:VEVENT
DTSTART;VALUE=DATE:20240910
DTEND;VALUE=DATE:20240911
DTSTAMP:20260425T093247
CREATED:20240910T112009Z
LAST-MODIFIED:20240910T112009Z
UID:36680-1725926400-1726012799@www.goiasfomento.com
SUMMARY:Cargo Vago desde 02/07/2024.
DESCRIPTION:
URL:https://www.goiasfomento.com/agenda/cargo-vago-desde-02-07-2024-48/
LOCATION:Chefia de Gabinete – Agência de Fomento de Goiás
CATEGORIES:Chefia de Gabinete
END:VEVENT
BEGIN:VEVENT
DTSTART;TZID=America/Sao_Paulo:20240910T080000
DTEND;TZID=America/Sao_Paulo:20240910T120000
DTSTAMP:20260425T093247
CREATED:20240910T111907Z
LAST-MODIFIED:20240910T111907Z
UID:36676-1725955200-1725969600@www.goiasfomento.com
SUMMARY:Vinícius Luz: Despachos Internos.
DESCRIPTION:
URL:https://www.goiasfomento.com/agenda/vinicius-luz-despachos-internos-58/
LOCATION:Gabinete da Diretoria de Operações da GoiásFomento – Agência de Fomento de Goiás.
CATEGORIES:Diretoria de Operações
END:VEVENT
BEGIN:VEVENT
DTSTART;TZID=America/Sao_Paulo:20240910T080000
DTEND;TZID=America/Sao_Paulo:20240910T120000
DTSTAMP:20260425T093247
CREATED:20240910T112133Z
LAST-MODIFIED:20240910T112133Z
UID:36682-1725955200-1725969600@www.goiasfomento.com
SUMMARY:Lucas Fernandes – Diretor Presidente (Interino): Despachos Internos.
DESCRIPTION:
URL:https://www.goiasfomento.com/agenda/lucas-fernandes-diretor-presidente-interino-despachos-internos-56/
LOCATION:Gabinete da Presidência da GoiásFomento – Agência de Fomento de Goiás.
CATEGORIES:Presidência
END:VEVENT
BEGIN:VEVENT
DTSTART;TZID=America/Sao_Paulo:20240910T080000
DTEND;TZID=America/Sao_Paulo:20240910T120000
DTSTAMP:20260425T093247
CREATED:20240910T112251Z
LAST-MODIFIED:20240910T112251Z
UID:36686-1725955200-1725969600@www.goiasfomento.com
SUMMARY:Lucas Fernandes: Despachos Internos.
DESCRIPTION:
URL:https://www.goiasfomento.com/agenda/lucas-fernandes-despachos-internos-504/
LOCATION:Gabinete da Diretoria Administrativa e Financeira – Agência de Fomento de Goiás.
CATEGORIES:Diretoria Administrativa e Financeira
END:VEVENT
BEGIN:VEVENT
DTSTART;TZID=America/Sao_Paulo:20240910T140000
DTEND;TZID=America/Sao_Paulo:20240910T180000
DTSTAMP:20260425T093247
CREATED:20240910T111936Z
LAST-MODIFIED:20240910T111936Z
UID:36678-1725976800-1725991200@www.goiasfomento.com
SUMMARY:Vinícius Luz: Despachos Internos.
DESCRIPTION:
URL:https://www.goiasfomento.com/agenda/vinicius-luz-despachos-internos-59/
LOCATION:Gabinete da Diretoria de Operações da GoiásFomento – Agência de Fomento de Goiás.
CATEGORIES:Diretoria de Operações
END:VEVENT
BEGIN:VEVENT
DTSTART;TZID=America/Sao_Paulo:20240910T140000
DTEND;TZID=America/Sao_Paulo:20240910T180000
DTSTAMP:20260425T093247
CREATED:20240910T112201Z
LAST-MODIFIED:20240910T112201Z
UID:36684-1725976800-1725991200@www.goiasfomento.com
SUMMARY:Lucas Fernandes – Diretor Presidente (Interino): Despachos Internos.
DESCRIPTION:
URL:https://www.goiasfomento.com/agenda/lucas-fernandes-diretor-presidente-interino-despachos-internos-57/
LOCATION:Gabinete da Presidência da GoiásFomento – Agência de Fomento de Goiás.
CATEGORIES:Presidência
END:VEVENT
BEGIN:VEVENT
DTSTART;TZID=America/Sao_Paulo:20240910T140000
DTEND;TZID=America/Sao_Paulo:20240910T180000
DTSTAMP:20260425T093247
CREATED:20240910T112326Z
LAST-MODIFIED:20240910T112326Z
UID:36688-1725976800-1725991200@www.goiasfomento.com
SUMMARY:Lucas Fernandes: Despachos Internos.
DESCRIPTION:
URL:https://www.goiasfomento.com/agenda/lucas-fernandes-despachos-internos-505/
LOCATION:Gabinete da Diretoria Administrativa e Financeira – Agência de Fomento de Goiás.
CATEGORIES:Diretoria Administrativa e Financeira
END:VEVENT
BEGIN:VEVENT
DTSTART;VALUE=DATE:20240911
DTEND;VALUE=DATE:20240912
DTSTAMP:20260425T093247
CREATED:20240911T111322Z
LAST-MODIFIED:20240911T111322Z
UID:36713-1726012800-1726099199@www.goiasfomento.com
SUMMARY:Cargo Vago desde 02/07/2024.
DESCRIPTION:
URL:https://www.goiasfomento.com/agenda/cargo-vago-desde-02-07-2024-49/
LOCATION:Chefia de Gabinete – Agência de Fomento de Goiás
CATEGORIES:Chefia de Gabinete
END:VEVENT
BEGIN:VEVENT
DTSTART;TZID=America/Sao_Paulo:20240911T080000
DTEND;TZID=America/Sao_Paulo:20240911T110000
DTSTAMP:20260425T093247
CREATED:20240911T111412Z
LAST-MODIFIED:20240911T111412Z
UID:36715-1726041600-1726052400@www.goiasfomento.com
SUMMARY:Lucas Fernandes – Diretor Presidente (Interino): Despachos Internos.
DESCRIPTION:
URL:https://www.goiasfomento.com/agenda/lucas-fernandes-diretor-presidente-interino-despachos-internos-58/
LOCATION:Gabinete da Presidência da GoiásFomento – Agência de Fomento de Goiás.
CATEGORIES:Presidência
END:VEVENT
BEGIN:VEVENT
DTSTART;TZID=America/Sao_Paulo:20240911T080000
DTEND;TZID=America/Sao_Paulo:20240911T110000
DTSTAMP:20260425T093247
CREATED:20240911T111656Z
LAST-MODIFIED:20240911T111656Z
UID:36719-1726041600-1726052400@www.goiasfomento.com
SUMMARY:Lucas Fernandes: Despachos Internos.
DESCRIPTION:
URL:https://www.goiasfomento.com/agenda/lucas-fernandes-despachos-internos-506/
LOCATION:Gabinete da Diretoria Administrativa e Financeira – Agência de Fomento de Goiás.
CATEGORIES:Diretoria Administrativa e Financeira
END:VEVENT
BEGIN:VEVENT
DTSTART;TZID=America/Sao_Paulo:20240911T080000
DTEND;TZID=America/Sao_Paulo:20240911T120000
DTSTAMP:20260425T093247
CREATED:20240911T111132Z
LAST-MODIFIED:20240911T111132Z
UID:36709-1726041600-1726056000@www.goiasfomento.com
SUMMARY:Vinícius Luz: Despachos Internos.
DESCRIPTION:
URL:https://www.goiasfomento.com/agenda/vinicius-luz-despachos-internos-60/
LOCATION:Gabinete da Diretoria de Operações da GoiásFomento – Agência de Fomento de Goiás.
CATEGORIES:Diretoria de Operações
END:VEVENT
BEGIN:VEVENT
DTSTART;TZID=America/Sao_Paulo:20240911T110000
DTEND;TZID=America/Sao_Paulo:20240911T120000
DTSTAMP:20260425T093247
CREATED:20240911T112533Z
LAST-MODIFIED:20240911T112533Z
UID:36723-1726052400-1726056000@www.goiasfomento.com
SUMMARY:Lucas Fernandes – Diretor Presidente (Interino): Reunião Sebrae Goiás e Nacional.
DESCRIPTION:
URL:https://www.goiasfomento.com/agenda/lucas-fernandes-diretor-presidente-interino-reuniao-sebrae-goias-e-nacional/
LOCATION:Sala de Reuniões da Diretoria – Agência de Fomento de Goiás.
CATEGORIES:Presidência
END:VEVENT
BEGIN:VEVENT
DTSTART;TZID=America/Sao_Paulo:20240911T110000
DTEND;TZID=America/Sao_Paulo:20240911T120000
DTSTAMP:20260425T093247
CREATED:20240911T112621Z
LAST-MODIFIED:20240911T112621Z
UID:36725-1726052400-1726056000@www.goiasfomento.com
SUMMARY:Lucas Fernandes: Reunião Sebrae Goiás e Nacional.
DESCRIPTION:
URL:https://www.goiasfomento.com/agenda/lucas-fernandes-reuniao-sebrae-goias-e-nacional/
LOCATION:Sala de Reuniões da Diretoria – Agência de Fomento de Goiás.
CATEGORIES:Diretoria Administrativa e Financeira
END:VEVENT
BEGIN:VEVENT
DTSTART;TZID=America/Sao_Paulo:20240911T140000
DTEND;TZID=America/Sao_Paulo:20240911T180000
DTSTAMP:20260425T093247
CREATED:20240911T111203Z
LAST-MODIFIED:20240911T111203Z
UID:36711-1726063200-1726077600@www.goiasfomento.com
SUMMARY:Vinícius Luz: Despachos Internos.
DESCRIPTION:
URL:https://www.goiasfomento.com/agenda/vinicius-luz-despachos-internos-61/
LOCATION:Gabinete da Diretoria de Operações da GoiásFomento – Agência de Fomento de Goiás.
CATEGORIES:Diretoria de Operações
END:VEVENT
BEGIN:VEVENT
DTSTART;TZID=America/Sao_Paulo:20240911T140000
DTEND;TZID=America/Sao_Paulo:20240911T180000
DTSTAMP:20260425T093247
CREATED:20240911T111554Z
LAST-MODIFIED:20240911T111554Z
UID:36717-1726063200-1726077600@www.goiasfomento.com
SUMMARY:Lucas Fernandes – Diretor Presidente (Interino): Despachos Internos.
DESCRIPTION:
URL:https://www.goiasfomento.com/agenda/lucas-fernandes-diretor-presidente-interino-despachos-internos-59/
LOCATION:Gabinete da Presidência da GoiásFomento – Agência de Fomento de Goiás.
CATEGORIES:Presidência
END:VEVENT
BEGIN:VEVENT
DTSTART;TZID=America/Sao_Paulo:20240911T140000
DTEND;TZID=America/Sao_Paulo:20240911T180000
DTSTAMP:20260425T093247
CREATED:20240911T111727Z
LAST-MODIFIED:20240911T111727Z
UID:36721-1726063200-1726077600@www.goiasfomento.com
SUMMARY:Lucas Fernandes: Despachos Internos.
DESCRIPTION:
URL:https://www.goiasfomento.com/agenda/lucas-fernandes-despachos-internos-507/
LOCATION:Gabinete da Diretoria Administrativa e Financeira – Agência de Fomento de Goiás.
CATEGORIES:Diretoria Administrativa e Financeira
END:VEVENT
BEGIN:VEVENT
DTSTART;VALUE=DATE:20240912
DTEND;VALUE=DATE:20240913
DTSTAMP:20260425T093247
CREATED:20240912T112626Z
LAST-MODIFIED:20240912T112626Z
UID:36774-1726099200-1726185599@www.goiasfomento.com
SUMMARY:Cargo Vago desde 02/07/2024.
DESCRIPTION:
URL:https://www.goiasfomento.com/agenda/cargo-vago-desde-02-07-2024-51/
LOCATION:Chefia de Gabinete – Agência de Fomento de Goiás
CATEGORIES:Chefia de Gabinete
END:VEVENT
BEGIN:VEVENT
DTSTART;TZID=America/Sao_Paulo:20240912T080000
DTEND;TZID=America/Sao_Paulo:20240912T120000
DTSTAMP:20260425T093247
CREATED:20240912T111831Z
LAST-MODIFIED:20240912T111831Z
UID:36768-1726128000-1726142400@www.goiasfomento.com
SUMMARY:Vinícius Luz: Despachos Internos.
DESCRIPTION:
URL:https://www.goiasfomento.com/agenda/vinicius-luz-despachos-internos-62/
LOCATION:Gabinete da Diretoria de Operações da GoiásFomento – Agência de Fomento de Goiás.
CATEGORIES:Diretoria de Operações
END:VEVENT
BEGIN:VEVENT
DTSTART;TZID=America/Sao_Paulo:20240912T080000
DTEND;TZID=America/Sao_Paulo:20240912T120000
DTSTAMP:20260425T093247
CREATED:20240912T112735Z
LAST-MODIFIED:20240912T112735Z
UID:36776-1726128000-1726142400@www.goiasfomento.com
SUMMARY:Lucas Fernandes – Diretor Presidente (Interino): Despachos Internos.
DESCRIPTION:
URL:https://www.goiasfomento.com/agenda/lucas-fernandes-diretor-presidente-interino-despachos-internos-60/
LOCATION:Gabinete da Presidência da GoiásFomento – Agência de Fomento de Goiás.
CATEGORIES:Presidência
END:VEVENT
BEGIN:VEVENT
DTSTART;TZID=America/Sao_Paulo:20240912T080000
DTEND;TZID=America/Sao_Paulo:20240912T120000
DTSTAMP:20260425T093247
CREATED:20240912T112841Z
LAST-MODIFIED:20240912T112841Z
UID:36780-1726128000-1726142400@www.goiasfomento.com
SUMMARY:Lucas Fernandes: Despachos Internos.
DESCRIPTION:
URL:https://www.goiasfomento.com/agenda/lucas-fernandes-despachos-internos-508/
LOCATION:Gabinete da Diretoria Administrativa e Financeira – Agência de Fomento de Goiás.
CATEGORIES:Diretoria Administrativa e Financeira
END:VEVENT
BEGIN:VEVENT
DTSTART;TZID=America/Sao_Paulo:20240912T140000
DTEND;TZID=America/Sao_Paulo:20240912T180000
DTSTAMP:20260425T093247
CREATED:20240912T112351Z
LAST-MODIFIED:20240912T112351Z
UID:36770-1726149600-1726164000@www.goiasfomento.com
SUMMARY:Vinícius Luz: Despachos Internos.
DESCRIPTION:
URL:https://www.goiasfomento.com/agenda/vinicius-luz-despachos-internos-63/
LOCATION:Gabinete da Diretoria de Operações da GoiásFomento – Agência de Fomento de Goiás.
CATEGORIES:Diretoria de Operações
END:VEVENT
BEGIN:VEVENT
DTSTART;TZID=America/Sao_Paulo:20240912T140000
DTEND;TZID=America/Sao_Paulo:20240912T180000
DTSTAMP:20260425T093247
CREATED:20240912T112810Z
LAST-MODIFIED:20240912T112810Z
UID:36778-1726149600-1726164000@www.goiasfomento.com
SUMMARY:Lucas Fernandes – Diretor Presidente (Interino): Despachos Internos.
DESCRIPTION:
URL:https://www.goiasfomento.com/agenda/lucas-fernandes-diretor-presidente-interino-despachos-internos-61/
LOCATION:Gabinete da Presidência da GoiásFomento – Agência de Fomento de Goiás.
CATEGORIES:Presidência
END:VEVENT
BEGIN:VEVENT
DTSTART;TZID=America/Sao_Paulo:20240912T140000
DTEND;TZID=America/Sao_Paulo:20240912T180000
DTSTAMP:20260425T093247
CREATED:20240912T112913Z
LAST-MODIFIED:20240912T112913Z
UID:36782-1726149600-1726164000@www.goiasfomento.com
SUMMARY:Lucas Fernandes: Despachos Internos.
DESCRIPTION:
URL:https://www.goiasfomento.com/agenda/lucas-fernandes-despachos-internos-509/
LOCATION:Gabinete da Diretoria Administrativa e Financeira – Agência de Fomento de Goiás.
CATEGORIES:Diretoria Administrativa e Financeira
END:VEVENT
BEGIN:VEVENT
DTSTART;VALUE=DATE:20240913
DTEND;VALUE=DATE:20240914
DTSTAMP:20260425T093247
CREATED:20240912T112510Z
LAST-MODIFIED:20240912T112510Z
UID:36772-1726185600-1726271999@www.goiasfomento.com
SUMMARY:Cargo Vago desde 02/07/2024.
DESCRIPTION:
URL:https://www.goiasfomento.com/agenda/cargo-vago-desde-02-07-2024-50/
LOCATION:Chefia de Gabinete – Agência de Fomento de Goiás
CATEGORIES:Chefia de Gabinete
END:VEVENT
BEGIN:VEVENT
DTSTART;TZID=America/Sao_Paulo:20240913T080000
DTEND;TZID=America/Sao_Paulo:20240913T120000
DTSTAMP:20260425T093247
CREATED:20240913T110846Z
LAST-MODIFIED:20240913T110952Z
UID:36807-1726214400-1726228800@www.goiasfomento.com
SUMMARY:Vinícius Luz: Despachos Internos.
DESCRIPTION:
URL:https://www.goiasfomento.com/agenda/vinicius-luz-despachos-internos-64/
LOCATION:Gabinete da Diretoria de Operações da GoiásFomento – Agência de Fomento de Goiás.
CATEGORIES:Diretoria de Operações
END:VEVENT
BEGIN:VEVENT
DTSTART;TZID=America/Sao_Paulo:20240913T080000
DTEND;TZID=America/Sao_Paulo:20240913T120000
DTSTAMP:20260425T093247
CREATED:20240913T125736Z
LAST-MODIFIED:20240913T125736Z
UID:36811-1726214400-1726228800@www.goiasfomento.com
SUMMARY:Lucas Fernandes – Diretor Presidente (Interino): Despachos Internos.
DESCRIPTION:
URL:https://www.goiasfomento.com/agenda/lucas-fernandes-diretor-presidente-interino-despachos-internos-62/
LOCATION:Gabinete da Presidência da GoiásFomento – Agência de Fomento de Goiás.
CATEGORIES:Presidência
END:VEVENT
BEGIN:VEVENT
DTSTART;TZID=America/Sao_Paulo:20240913T080000
DTEND;TZID=America/Sao_Paulo:20240913T120000
DTSTAMP:20260425T093247
CREATED:20240913T130512Z
LAST-MODIFIED:20240913T130512Z
UID:36817-1726214400-1726228800@www.goiasfomento.com
SUMMARY:Lucas Fernandes: Despachos Internos.
DESCRIPTION:
URL:https://www.goiasfomento.com/agenda/lucas-fernandes-despachos-internos-510/
LOCATION:Gabinete da Diretoria Administrativa e Financeira – Agência de Fomento de Goiás.
CATEGORIES:Diretoria Administrativa e Financeira
END:VEVENT
BEGIN:VEVENT
DTSTART;TZID=America/Sao_Paulo:20240913T140000
DTEND;TZID=America/Sao_Paulo:20240913T180000
DTSTAMP:20260425T093247
CREATED:20240913T111120Z
LAST-MODIFIED:20240913T111120Z
UID:36809-1726236000-1726250400@www.goiasfomento.com
SUMMARY:Vinícius Luz: Despachos Internos.
DESCRIPTION:
URL:https://www.goiasfomento.com/agenda/vinicius-luz-despachos-internos-65/
LOCATION:Gabinete da Diretoria de Operações da GoiásFomento – Agência de Fomento de Goiás.
CATEGORIES:Diretoria de Operações
END:VEVENT
BEGIN:VEVENT
DTSTART;TZID=America/Sao_Paulo:20240913T140000
DTEND;TZID=America/Sao_Paulo:20240913T180000
DTSTAMP:20260425T093247
CREATED:20240913T125814Z
LAST-MODIFIED:20240913T125814Z
UID:36813-1726236000-1726250400@www.goiasfomento.com
SUMMARY:Lucas Fernandes – Diretor Presidente (Interino): Despachos Internos.
DESCRIPTION:
URL:https://www.goiasfomento.com/agenda/lucas-fernandes-diretor-presidente-interino-despachos-internos-63/
LOCATION:Gabinete da Presidência da GoiásFomento – Agência de Fomento de Goiás.
CATEGORIES:Presidência
END:VEVENT
BEGIN:VEVENT
DTSTART;TZID=America/Sao_Paulo:20240913T140000
DTEND;TZID=America/Sao_Paulo:20240913T180000
DTSTAMP:20260425T093247
CREATED:20240913T130544Z
LAST-MODIFIED:20240913T130544Z
UID:36819-1726236000-1726250400@www.goiasfomento.com
SUMMARY:Lucas Fernandes: Despachos Internos.
DESCRIPTION:
URL:https://www.goiasfomento.com/agenda/lucas-fernandes-despachos-internos-511/
LOCATION:Gabinete da Diretoria Administrativa e Financeira – Agência de Fomento de Goiás.
CATEGORIES:Diretoria Administrativa e Financeira
END:VEVENT
END:VCALENDAR