BEGIN:VCALENDAR
VERSION:2.0
PRODID:-//GoiásFomento - Agência de Fomento - ECPv6.15.20//NONSGML v1.0//EN
CALSCALE:GREGORIAN
METHOD:PUBLISH
X-ORIGINAL-URL:https://www.goiasfomento.com
X-WR-CALDESC:Eventos para GoiásFomento - Agência de Fomento
REFRESH-INTERVAL;VALUE=DURATION:PT1H
X-Robots-Tag:noindex
X-PUBLISHED-TTL:PT1H
BEGIN:VTIMEZONE
TZID:America/Sao_Paulo
BEGIN:STANDARD
TZOFFSETFROM:-0300
TZOFFSETTO:-0300
TZNAME:-03
DTSTART:20230101T000000
END:STANDARD
END:VTIMEZONE
BEGIN:VEVENT
DTSTART;VALUE=DATE:20240806
DTEND;VALUE=DATE:20240807
DTSTAMP:20260425T153206
CREATED:20240806T120219Z
LAST-MODIFIED:20240806T120219Z
UID:36060-1722902400-1722988799@www.goiasfomento.com
SUMMARY:Cargo Vago desde 02/07/2024.
DESCRIPTION:
URL:https://www.goiasfomento.com/agenda/cargo-vago-desde-02-07-2024-23/
LOCATION:Chefia de Gabinete – Agência de Fomento de Goiás
CATEGORIES:Chefia de Gabinete
END:VEVENT
BEGIN:VEVENT
DTSTART;TZID=America/Sao_Paulo:20240806T080000
DTEND;TZID=America/Sao_Paulo:20240806T110000
DTSTAMP:20260425T153206
CREATED:20240806T120803Z
LAST-MODIFIED:20240806T120803Z
UID:36070-1722931200-1722942000@www.goiasfomento.com
SUMMARY:Vinícius Luz: Despachos Internos.
DESCRIPTION:
URL:https://www.goiasfomento.com/agenda/vinicius-luz-despachos-internos-8/
LOCATION:Gabinete da Diretoria de Operações da GoiásFomento – Agência de Fomento de Goiás.
CATEGORIES:Diretoria de Operações
END:VEVENT
BEGIN:VEVENT
DTSTART;TZID=America/Sao_Paulo:20240806T080000
DTEND;TZID=America/Sao_Paulo:20240806T120000
DTSTAMP:20260425T153206
CREATED:20240806T120314Z
LAST-MODIFIED:20240806T120314Z
UID:36062-1722931200-1722945600@www.goiasfomento.com
SUMMARY:Lucas Fernandes – Diretor Presidente (Interino): Despachos Internos.
DESCRIPTION:
URL:https://www.goiasfomento.com/agenda/lucas-fernandes-diretor-presidente-interino-despachos-internos-6/
LOCATION:Gabinete da Presidência da GoiásFomento – Agência de Fomento de Goiás.
CATEGORIES:Presidência
END:VEVENT
BEGIN:VEVENT
DTSTART;TZID=America/Sao_Paulo:20240806T080000
DTEND;TZID=America/Sao_Paulo:20240806T120000
DTSTAMP:20260425T153206
CREATED:20240806T120436Z
LAST-MODIFIED:20240806T120436Z
UID:36066-1722931200-1722945600@www.goiasfomento.com
SUMMARY:Lucas Fernandes: Despachos Internos.
DESCRIPTION:
URL:https://www.goiasfomento.com/agenda/lucas-fernandes-despachos-internos-453/
LOCATION:Diretoria Administrativa e Financeira da GoiásFomento – Agência de Fomento de Goiás.
CATEGORIES:Diretoria Administrativa e Financeira
END:VEVENT
BEGIN:VEVENT
DTSTART;TZID=America/Sao_Paulo:20240806T110000
DTEND;TZID=America/Sao_Paulo:20240806T120000
DTSTAMP:20260425T153206
CREATED:20240806T121004Z
LAST-MODIFIED:20240806T121004Z
UID:36072-1722942000-1722945600@www.goiasfomento.com
SUMMARY:Vinícius Luz: Reunião com os Gerentes da Agência de Fomento de Goiás.
DESCRIPTION:
URL:https://www.goiasfomento.com/agenda/vinicius-luz-reuniao-com-os-gerentes-da-agencia-de-fomento-de-goias/
LOCATION:Gabinete da Diretoria de Operações da GoiásFomento – Agência de Fomento de Goiás.
CATEGORIES:Diretoria de Operações
END:VEVENT
BEGIN:VEVENT
DTSTART;TZID=America/Sao_Paulo:20240806T140000
DTEND;TZID=America/Sao_Paulo:20240806T180000
DTSTAMP:20260425T153206
CREATED:20240806T120353Z
LAST-MODIFIED:20240806T120353Z
UID:36064-1722952800-1722967200@www.goiasfomento.com
SUMMARY:Lucas Fernandes – Diretor Presidente (Interino): Despachos Internos.
DESCRIPTION:
URL:https://www.goiasfomento.com/agenda/lucas-fernandes-diretor-presidente-interino-despachos-internos-7/
LOCATION:Gabinete da Presidência da GoiásFomento – Agência de Fomento de Goiás.
CATEGORIES:Presidência
END:VEVENT
BEGIN:VEVENT
DTSTART;TZID=America/Sao_Paulo:20240806T140000
DTEND;TZID=America/Sao_Paulo:20240806T180000
DTSTAMP:20260425T153206
CREATED:20240806T120503Z
LAST-MODIFIED:20240806T120503Z
UID:36068-1722952800-1722967200@www.goiasfomento.com
SUMMARY:Lucas Fernandes: Despachos Internos.
DESCRIPTION:
URL:https://www.goiasfomento.com/agenda/lucas-fernandes-despachos-internos-454/
LOCATION:Diretoria Administrativa e Financeira da GoiásFomento – Agência de Fomento de Goiás.
CATEGORIES:Diretoria Administrativa e Financeira
END:VEVENT
BEGIN:VEVENT
DTSTART;TZID=America/Sao_Paulo:20240806T140000
DTEND;TZID=America/Sao_Paulo:20240806T180000
DTSTAMP:20260425T153206
CREATED:20240806T121107Z
LAST-MODIFIED:20240806T121107Z
UID:36074-1722952800-1722967200@www.goiasfomento.com
SUMMARY:Vinícius Luz: Despachos Internos.
DESCRIPTION:
URL:https://www.goiasfomento.com/agenda/vinicius-luz-despachos-internos-9/
LOCATION:Gabinete da Diretoria de Operações da GoiásFomento – Agência de Fomento de Goiás.
CATEGORIES:Diretoria de Operações
END:VEVENT
BEGIN:VEVENT
DTSTART;VALUE=DATE:20240807
DTEND;VALUE=DATE:20240808
DTSTAMP:20260425T153206
CREATED:20240807T120848Z
LAST-MODIFIED:20240807T120848Z
UID:36080-1722988800-1723075199@www.goiasfomento.com
SUMMARY:Cargo Vago desde 02/07/2024.
DESCRIPTION:
URL:https://www.goiasfomento.com/agenda/cargo-vago-desde-02-07-2024-24/
LOCATION:Chefia de Gabinete – Agência de Fomento de Goiás
CATEGORIES:Chefia de Gabinete
END:VEVENT
BEGIN:VEVENT
DTSTART;TZID=America/Sao_Paulo:20240807T080000
DTEND;TZID=America/Sao_Paulo:20240807T115000
DTSTAMP:20260425T153206
CREATED:20240807T121100Z
LAST-MODIFIED:20240807T121100Z
UID:36082-1723017600-1723031400@www.goiasfomento.com
SUMMARY:Lucas Fernandes – Diretor Presidente (Interino): Despachos Internos.
DESCRIPTION:
URL:https://www.goiasfomento.com/agenda/lucas-fernandes-diretor-presidente-interino-despachos-internos-8/
LOCATION:Gabinete da Presidência da GoiásFomento – Agência de Fomento de Goiás.
CATEGORIES:Presidência
END:VEVENT
BEGIN:VEVENT
DTSTART;TZID=America/Sao_Paulo:20240807T080000
DTEND;TZID=America/Sao_Paulo:20240807T115000
DTSTAMP:20260425T153206
CREATED:20240807T121532Z
LAST-MODIFIED:20240807T121532Z
UID:36090-1723017600-1723031400@www.goiasfomento.com
SUMMARY:Lucas Fernandes: Despachos Internos.
DESCRIPTION:
URL:https://www.goiasfomento.com/agenda/lucas-fernandes-despachos-internos-455/
LOCATION:Diretoria Administrativa e Financeira da GoiásFomento – Agência de Fomento de Goiás.
CATEGORIES:Diretoria Administrativa e Financeira
END:VEVENT
BEGIN:VEVENT
DTSTART;TZID=America/Sao_Paulo:20240807T080000
DTEND;TZID=America/Sao_Paulo:20240807T120000
DTSTAMP:20260425T153206
CREATED:20240807T120741Z
LAST-MODIFIED:20240807T120741Z
UID:36076-1723017600-1723032000@www.goiasfomento.com
SUMMARY:Vinícius Luz: Despachos Internos.
DESCRIPTION:
URL:https://www.goiasfomento.com/agenda/vinicius-luz-despachos-internos-10/
LOCATION:Gabinete da Diretoria de Operações da GoiásFomento – Agência de Fomento de Goiás.
CATEGORIES:Diretoria de Operações
END:VEVENT
BEGIN:VEVENT
DTSTART;TZID=America/Sao_Paulo:20240807T080000
DTEND;TZID=America/Sao_Paulo:20240807T170000
DTSTAMP:20260425T153206
CREATED:20240807T120805Z
LAST-MODIFIED:20240807T120805Z
UID:36078-1723017600-1723050000@www.goiasfomento.com
SUMMARY:Vinícius Luz: Despachos Internos.
DESCRIPTION:
URL:https://www.goiasfomento.com/agenda/vinicius-luz-despachos-internos-11/
LOCATION:Gabinete da Diretoria de Operações da GoiásFomento – Agência de Fomento de Goiás.
CATEGORIES:Diretoria de Operações
END:VEVENT
BEGIN:VEVENT
DTSTART;TZID=America/Sao_Paulo:20240807T115000
DTEND;TZID=America/Sao_Paulo:20240807T122000
DTSTAMP:20260425T153206
CREATED:20240807T121144Z
LAST-MODIFIED:20240807T121914Z
UID:36084-1723031400-1723033200@www.goiasfomento.com
SUMMARY:Lucas Fernandes – Diretor Presidente (Interino): Entrevista na Rádio Nova Liberdade de Catalão-GO.
DESCRIPTION:
URL:https://www.goiasfomento.com/agenda/lucas-fernandes-diretor-presidente-interino-despachos-internos-9/
LOCATION:Gabinete da Presidência da GoiásFomento – Agência de Fomento de Goiás.
CATEGORIES:Presidência
END:VEVENT
BEGIN:VEVENT
DTSTART;TZID=America/Sao_Paulo:20240807T115000
DTEND;TZID=America/Sao_Paulo:20240807T122000
DTSTAMP:20260425T153207
CREATED:20240807T121457Z
LAST-MODIFIED:20240807T121940Z
UID:36088-1723031400-1723033200@www.goiasfomento.com
SUMMARY:Lucas Fernandes: Entrevista na Rádio Nova Liberdade de Catalão-GO.
DESCRIPTION:
URL:https://www.goiasfomento.com/agenda/lucas-fernandes-entrevista-na-radio-nova-liberdade-catalao/
LOCATION:Diretoria Administrativa e Financeira da GoiásFomento – Agência de Fomento de Goiás.
CATEGORIES:Diretoria Administrativa e Financeira
END:VEVENT
BEGIN:VEVENT
DTSTART;TZID=America/Sao_Paulo:20240807T140000
DTEND;TZID=America/Sao_Paulo:20240807T180000
DTSTAMP:20260425T153207
CREATED:20240807T121638Z
LAST-MODIFIED:20240807T121638Z
UID:36092-1723039200-1723053600@www.goiasfomento.com
SUMMARY:Lucas Fernandes: Despachos Internos.
DESCRIPTION:
URL:https://www.goiasfomento.com/agenda/lucas-fernandes-despachos-internos-456/
LOCATION:Diretoria Administrativa e Financeira da GoiásFomento – Agência de Fomento de Goiás.
CATEGORIES:Diretoria Administrativa e Financeira
END:VEVENT
BEGIN:VEVENT
DTSTART;TZID=America/Sao_Paulo:20240807T140000
DTEND;TZID=America/Sao_Paulo:20240807T180000
DTSTAMP:20260425T153207
CREATED:20240807T121823Z
LAST-MODIFIED:20240807T121823Z
UID:36094-1723039200-1723053600@www.goiasfomento.com
SUMMARY:Lucas Fernandes – Diretor Presidente (Interino): Despachos Internos.
DESCRIPTION:
URL:https://www.goiasfomento.com/agenda/lucas-fernandes-diretor-presidente-interino-despachos-internos-10/
LOCATION:Gabinete da Presidência da GoiásFomento – Agência de Fomento de Goiás.
CATEGORIES:Presidência
END:VEVENT
BEGIN:VEVENT
DTSTART;TZID=America/Sao_Paulo:20240807T180000
DTEND;TZID=America/Sao_Paulo:20240807T183000
DTSTAMP:20260425T153207
CREATED:20240807T170409Z
LAST-MODIFIED:20240807T170431Z
UID:36098-1723053600-1723055400@www.goiasfomento.com
SUMMARY:Lucas Fernandes – Diretor Presidente (Interino): Entrevista na Rádio Cultura 101.1 FM de Catalão-GO.
DESCRIPTION:
URL:https://www.goiasfomento.com/agenda/lucas-fernandes-diretor-presidente-interino-entrevista-na-radio-cultura-catalao-101-1-fm-de-catalao-go/
LOCATION:Gabinete da Presidência da GoiásFomento – Agência de Fomento de Goiás.
CATEGORIES:Presidência
END:VEVENT
BEGIN:VEVENT
DTSTART;TZID=America/Sao_Paulo:20240807T180000
DTEND;TZID=America/Sao_Paulo:20240807T183000
DTSTAMP:20260425T153207
CREATED:20240807T170651Z
LAST-MODIFIED:20240807T170651Z
UID:36101-1723053600-1723055400@www.goiasfomento.com
SUMMARY:Lucas Fernandes: Entrevista na Rádio Cultura 101.1 FM de Catalão-GO.
DESCRIPTION:
URL:https://www.goiasfomento.com/agenda/lucas-fernandes-entrevista-na-radio-cultura-101-1-fm-de-catalao-go/
LOCATION:Diretoria Administrativa e Financeira da GoiásFomento – Agência de Fomento de Goiás.
CATEGORIES:Diretoria Administrativa e Financeira
END:VEVENT
BEGIN:VEVENT
DTSTART;VALUE=DATE:20240808
DTEND;VALUE=DATE:20240809
DTSTAMP:20260425T153207
CREATED:20240808T170012Z
LAST-MODIFIED:20240808T172942Z
UID:36122-1723075200-1723161599@www.goiasfomento.com
SUMMARY:Cargo Vago desde 02/07/2024.
DESCRIPTION:
URL:https://www.goiasfomento.com/agenda/cargo-vago-desde-02-07-2024-26/
LOCATION:Chefia de Gabinete – Agência de Fomento de Goiás
CATEGORIES:Chefia de Gabinete
END:VEVENT
BEGIN:VEVENT
DTSTART;TZID=America/Sao_Paulo:20240808T080000
DTEND;TZID=America/Sao_Paulo:20240808T120000
DTSTAMP:20260425T153207
CREATED:20240808T111925Z
LAST-MODIFIED:20240808T111925Z
UID:36108-1723104000-1723118400@www.goiasfomento.com
SUMMARY:Vinícius Luz: Despachos Internos.
DESCRIPTION:
URL:https://www.goiasfomento.com/agenda/vinicius-luz-despachos-internos-12/
LOCATION:Gabinete da Diretoria de Operações da GoiásFomento – Agência de Fomento de Goiás.
CATEGORIES:Diretoria de Operações
END:VEVENT
BEGIN:VEVENT
DTSTART;TZID=America/Sao_Paulo:20240808T080000
DTEND;TZID=America/Sao_Paulo:20240808T120000
DTSTAMP:20260425T153207
CREATED:20240808T112236Z
LAST-MODIFIED:20240808T112236Z
UID:36114-1723104000-1723118400@www.goiasfomento.com
SUMMARY:Lucas Fernandes – Diretor Presidente (Interino): Despachos Internos.
DESCRIPTION:
URL:https://www.goiasfomento.com/agenda/lucas-fernandes-diretor-presidente-interino-despachos-internos-11/
LOCATION:Gabinete da Presidência da GoiásFomento – Agência de Fomento de Goiás.
CATEGORIES:Presidência
END:VEVENT
BEGIN:VEVENT
DTSTART;TZID=America/Sao_Paulo:20240808T080000
DTEND;TZID=America/Sao_Paulo:20240808T120000
DTSTAMP:20260425T153207
CREATED:20240808T112342Z
LAST-MODIFIED:20240808T112342Z
UID:36118-1723104000-1723118400@www.goiasfomento.com
SUMMARY:Lucas Fernandes: Despachos Internos.
DESCRIPTION:
URL:https://www.goiasfomento.com/agenda/lucas-fernandes-despachos-internos-457/
LOCATION:Diretoria Administrativa e Financeira da GoiásFomento – Agência de Fomento de Goiás.
CATEGORIES:Diretoria Administrativa e Financeira
END:VEVENT
BEGIN:VEVENT
DTSTART;TZID=America/Sao_Paulo:20240808T140000
DTEND;TZID=America/Sao_Paulo:20240808T180000
DTSTAMP:20260425T153207
CREATED:20240808T111957Z
LAST-MODIFIED:20240808T111957Z
UID:36110-1723125600-1723140000@www.goiasfomento.com
SUMMARY:Vinícius Luz: Despachos Internos.
DESCRIPTION:
URL:https://www.goiasfomento.com/agenda/vinicius-luz-despachos-internos-13/
LOCATION:Gabinete da Diretoria de Operações da GoiásFomento – Agência de Fomento de Goiás.
CATEGORIES:Diretoria de Operações
END:VEVENT
BEGIN:VEVENT
DTSTART;TZID=America/Sao_Paulo:20240808T140000
DTEND;TZID=America/Sao_Paulo:20240808T180000
DTSTAMP:20260425T153207
CREATED:20240808T112412Z
LAST-MODIFIED:20240808T112412Z
UID:36120-1723125600-1723140000@www.goiasfomento.com
SUMMARY:Lucas Fernandes: Despachos Internos.
DESCRIPTION:
URL:https://www.goiasfomento.com/agenda/lucas-fernandes-despachos-internos-458/
LOCATION:Diretoria Administrativa e Financeira da GoiásFomento – Agência de Fomento de Goiás.
CATEGORIES:Diretoria Administrativa e Financeira
END:VEVENT
BEGIN:VEVENT
DTSTART;TZID=America/Sao_Paulo:20240808T140000
DTEND;TZID=America/Sao_Paulo:20240808T180000
DTSTAMP:20260425T153207
CREATED:20240808T171921Z
LAST-MODIFIED:20240808T171921Z
UID:36133-1723125600-1723140000@www.goiasfomento.com
SUMMARY:Lucas Fernandes – Diretor Presidente (Interino): Despachos Internos.
DESCRIPTION:
URL:https://www.goiasfomento.com/agenda/lucas-fernandes-diretor-presidente-interino-despachos-internos-14/
LOCATION:Gabinete da Presidência da GoiásFomento – Agência de Fomento de Goiás.
CATEGORIES:Presidência
END:VEVENT
BEGIN:VEVENT
DTSTART;VALUE=DATE:20240809
DTEND;VALUE=DATE:20240810
DTSTAMP:20260425T153207
CREATED:20240808T112105Z
LAST-MODIFIED:20240808T172328Z
UID:36112-1723161600-1723247999@www.goiasfomento.com
SUMMARY:Cargo Vago desde 02/07/2024.
DESCRIPTION:
URL:https://www.goiasfomento.com/agenda/cargo-vago-desde-02-07-2024-25/
LOCATION:Chefia de Gabinete – Agência de Fomento de Goiás
CATEGORIES:Chefia de Gabinete
END:VEVENT
BEGIN:VEVENT
DTSTART;TZID=America/Sao_Paulo:20240809T080000
DTEND;TZID=America/Sao_Paulo:20240809T120000
DTSTAMP:20260425T153207
CREATED:20240808T171855Z
LAST-MODIFIED:20240808T171855Z
UID:36131-1723190400-1723204800@www.goiasfomento.com
SUMMARY:Lucas Fernandes – Diretor Presidente (Interino): Despachos Internos.
DESCRIPTION:
URL:https://www.goiasfomento.com/agenda/lucas-fernandes-diretor-presidente-interino-despachos-internos-13/
LOCATION:Gabinete da Presidência da GoiásFomento – Agência de Fomento de Goiás.
CATEGORIES:Presidência
END:VEVENT
BEGIN:VEVENT
DTSTART;TZID=America/Sao_Paulo:20240809T080000
DTEND;TZID=America/Sao_Paulo:20240809T120000
DTSTAMP:20260425T153207
CREATED:20240808T171951Z
LAST-MODIFIED:20240808T171951Z
UID:36135-1723190400-1723204800@www.goiasfomento.com
SUMMARY:Lucas Fernandes: Despachos Internos.
DESCRIPTION:
URL:https://www.goiasfomento.com/agenda/lucas-fernandes-despachos-internos-459/
LOCATION:Diretoria Administrativa e Financeira da GoiásFomento – Agência de Fomento de Goiás.
CATEGORIES:Diretoria Administrativa e Financeira
END:VEVENT
BEGIN:VEVENT
DTSTART;TZID=America/Sao_Paulo:20240809T080000
DTEND;TZID=America/Sao_Paulo:20240809T120000
DTSTAMP:20260425T153207
CREATED:20240809T130619Z
LAST-MODIFIED:20240809T130619Z
UID:36152-1723190400-1723204800@www.goiasfomento.com
SUMMARY:Vinícius Luz: Despachos Internos.
DESCRIPTION:
URL:https://www.goiasfomento.com/agenda/vinicius-luz-despachos-internos-14/
LOCATION:Gabinete da Diretoria de Operações da GoiásFomento – Agência de Fomento de Goiás.
CATEGORIES:Diretoria de Operações
END:VEVENT
END:VCALENDAR