BEGIN:VCALENDAR
VERSION:2.0
PRODID:-//GoiásFomento - Agência de Fomento - ECPv6.15.20//NONSGML v1.0//EN
CALSCALE:GREGORIAN
METHOD:PUBLISH
X-ORIGINAL-URL:https://www.goiasfomento.com
X-WR-CALDESC:Eventos para GoiásFomento - Agência de Fomento
REFRESH-INTERVAL;VALUE=DURATION:PT1H
X-Robots-Tag:noindex
X-PUBLISHED-TTL:PT1H
BEGIN:VTIMEZONE
TZID:America/Sao_Paulo
BEGIN:STANDARD
TZOFFSETFROM:-0300
TZOFFSETTO:-0300
TZNAME:-03
DTSTART:20230101T000000
END:STANDARD
END:VTIMEZONE
BEGIN:VEVENT
DTSTART;VALUE=DATE:20240610
DTEND;VALUE=DATE:20240611
DTSTAMP:20260425T202722
CREATED:20240610T121343Z
LAST-MODIFIED:20240610T121343Z
UID:34910-1717977600-1718063999@www.goiasfomento.com
SUMMARY:Cargo Vago desde 04/06/2024.
DESCRIPTION:
URL:https://www.goiasfomento.com/agenda/cargo-vago-desde-04-06-2024-5/
CATEGORIES:Presidência
END:VEVENT
BEGIN:VEVENT
DTSTART;TZID=America/Sao_Paulo:20240610T080000
DTEND;TZID=America/Sao_Paulo:20240610T083000
DTSTAMP:20260425T202722
CREATED:20240610T121454Z
LAST-MODIFIED:20240610T121454Z
UID:34912-1718006400-1718008200@www.goiasfomento.com
SUMMARY:Lucas Fernandes: Despachos Internos.
DESCRIPTION:
URL:https://www.goiasfomento.com/agenda/lucas-fernandes-despachos-internos-395/
LOCATION:Gabinete da Diretoria Administrativa e Financeira – Agência de Fomento de Goiás.
CATEGORIES:Diretoria Administrativa e Financeira
END:VEVENT
BEGIN:VEVENT
DTSTART;TZID=America/Sao_Paulo:20240610T080000
DTEND;TZID=America/Sao_Paulo:20240610T090000
DTSTAMP:20260425T202722
CREATED:20240610T130313Z
LAST-MODIFIED:20240610T130313Z
UID:34921-1718006400-1718010000@www.goiasfomento.com
SUMMARY:Josafá Sousa: Despachos Internos.
DESCRIPTION:
URL:https://www.goiasfomento.com/agenda/josafa-sousa-despachos-internos-536/
LOCATION:Chefia de Gabinete – Agência de Fomento de Goiás
CATEGORIES:Chefia de Gabinete
END:VEVENT
BEGIN:VEVENT
DTSTART;TZID=America/Sao_Paulo:20240610T080000
DTEND;TZID=America/Sao_Paulo:20240610T120000
DTSTAMP:20260425T202722
CREATED:20240610T132627Z
LAST-MODIFIED:20240610T132627Z
UID:34929-1718006400-1718020800@www.goiasfomento.com
SUMMARY:Vinícius de Cecílio Luz: Despachos Internos.
DESCRIPTION:
URL:https://www.goiasfomento.com/agenda/vinicius-de-cecilio-luz-despachos-internos-131/
LOCATION:Diretoria de Operações da GoiásFomento – Agência de Fomento de Goiás.
CATEGORIES:Diretoria de Operações
END:VEVENT
BEGIN:VEVENT
DTSTART;TZID=America/Sao_Paulo:20240610T083000
DTEND;TZID=America/Sao_Paulo:20240610T100000
DTSTAMP:20260425T202722
CREATED:20240610T122846Z
LAST-MODIFIED:20240610T122846Z
UID:34914-1718008200-1718013600@www.goiasfomento.com
SUMMARY:Lucas Fernandes: Encontro Goiano dos Técnicos Governamentais ( TEC. GOV ) edição 2024.
DESCRIPTION:
URL:https://www.goiasfomento.com/agenda/lucas-fernandes-encontro-goiano-dos-tecnicos-governamentais-tec-gov-edicao-2024/
LOCATION:Auditório do Tribunal de Contas do Estado de Goiás Av. Ubirajara Berocan Leite\, 640 Setor Jaó Goiânia-GO.
CATEGORIES:Diretoria Administrativa e Financeira
END:VEVENT
BEGIN:VEVENT
DTSTART;TZID=America/Sao_Paulo:20240610T090000
DTEND;TZID=America/Sao_Paulo:20240610T103000
DTSTAMP:20260425T202722
CREATED:20240610T131355Z
LAST-MODIFIED:20240610T133956Z
UID:34923-1718010000-1718015400@www.goiasfomento.com
SUMMARY:Josafá Sousa: Palestra da SIPAT- Semana Interna de Prevenção de Acidentes do Trabalho.
DESCRIPTION:
URL:https://www.goiasfomento.com/agenda/josafa-sousa-palestra-com-a-sipat-semana-interna-de-prevencao-de-acidentes-do-trabalho/
LOCATION:Auditorio da Goiásfomento
CATEGORIES:Chefia de Gabinete
END:VEVENT
BEGIN:VEVENT
DTSTART;TZID=America/Sao_Paulo:20240610T100000
DTEND;TZID=America/Sao_Paulo:20240610T120000
DTSTAMP:20260425T202722
CREATED:20240610T123001Z
LAST-MODIFIED:20240610T123001Z
UID:34917-1718013600-1718020800@www.goiasfomento.com
SUMMARY:Lucas Fernandes: Despachos Internos.
DESCRIPTION:
URL:https://www.goiasfomento.com/agenda/lucas-fernandes-despachos-internos-396/
LOCATION:Gabinete da Diretoria Administrativa e Financeira – Agência de Fomento de Goiás.
CATEGORIES:Diretoria Administrativa e Financeira
END:VEVENT
BEGIN:VEVENT
DTSTART;TZID=America/Sao_Paulo:20240610T103000
DTEND;TZID=America/Sao_Paulo:20240610T120000
DTSTAMP:20260425T202722
CREATED:20240610T131553Z
LAST-MODIFIED:20240610T131553Z
UID:34925-1718015400-1718020800@www.goiasfomento.com
SUMMARY:Josafá Sousa: Despachos Internos.
DESCRIPTION:
URL:https://www.goiasfomento.com/agenda/josafa-sousa-despachos-internos-537/
LOCATION:Chefia de Gabinete – Agência de Fomento de Goiás
CATEGORIES:Chefia de Gabinete
END:VEVENT
BEGIN:VEVENT
DTSTART;TZID=America/Sao_Paulo:20240610T140000
DTEND;TZID=America/Sao_Paulo:20240610T180000
DTSTAMP:20260425T202722
CREATED:20240610T123055Z
LAST-MODIFIED:20240610T123055Z
UID:34919-1718028000-1718042400@www.goiasfomento.com
SUMMARY:Lucas Fernandes: Despachos Internos.
DESCRIPTION:
URL:https://www.goiasfomento.com/agenda/lucas-fernandes-despachos-internos-397/
LOCATION:Gabinete da Diretoria Administrativa e Financeira – Agência de Fomento de Goiás.
CATEGORIES:Diretoria Administrativa e Financeira
END:VEVENT
BEGIN:VEVENT
DTSTART;TZID=America/Sao_Paulo:20240610T140000
DTEND;TZID=America/Sao_Paulo:20240610T180000
DTSTAMP:20260425T202722
CREATED:20240610T131632Z
LAST-MODIFIED:20240610T131632Z
UID:34927-1718028000-1718042400@www.goiasfomento.com
SUMMARY:Josafá Sousa: Despachos Internos.
DESCRIPTION:
URL:https://www.goiasfomento.com/agenda/josafa-sousa-despachos-internos-538/
LOCATION:Chefia de Gabinete – Agência de Fomento de Goiás
CATEGORIES:Chefia de Gabinete
END:VEVENT
BEGIN:VEVENT
DTSTART;TZID=America/Sao_Paulo:20240610T140000
DTEND;TZID=America/Sao_Paulo:20240610T180000
DTSTAMP:20260425T202722
CREATED:20240611T114312Z
LAST-MODIFIED:20240702T124757Z
UID:34948-1718028000-1718042400@www.goiasfomento.com
SUMMARY:Vinícius de Cecílio Luz: Reunião com os Gerentes da Diretoria de Operações da  Agência de Fomento de Goiás.
DESCRIPTION:
URL:https://www.goiasfomento.com/agenda/vinicius-de-cecilio-luz-reuniao-com-os-gerentes-da-diretoria-de-operacoes-3/
LOCATION:Diretoria de Operações da GoiásFomento – Agência de Fomento de Goiás.
CATEGORIES:Diretoria de Operações
END:VEVENT
BEGIN:VEVENT
DTSTART;VALUE=DATE:20240611
DTEND;VALUE=DATE:20240612
DTSTAMP:20260425T202722
CREATED:20240611T115254Z
LAST-MODIFIED:20240611T115254Z
UID:34952-1718064000-1718150399@www.goiasfomento.com
SUMMARY:Cargo Vago desde 04/06/2024.
DESCRIPTION:
URL:https://www.goiasfomento.com/agenda/cargo-vago-desde-04-06-2024-6/
CATEGORIES:Presidência
END:VEVENT
BEGIN:VEVENT
DTSTART;TZID=America/Sao_Paulo:20240611T080000
DTEND;TZID=America/Sao_Paulo:20240611T100000
DTSTAMP:20260425T202722
CREATED:20240611T114803Z
LAST-MODIFIED:20240611T114803Z
UID:34950-1718092800-1718100000@www.goiasfomento.com
SUMMARY:Vinícius de Cecílio Luz: Despachos Internos.
DESCRIPTION:
URL:https://www.goiasfomento.com/agenda/vinicius-de-cecilio-luz-despachos-internos-132/
LOCATION:Diretoria de Operações da GoiásFomento – Agência de Fomento de Goiás.
CATEGORIES:Diretoria de Operações
END:VEVENT
BEGIN:VEVENT
DTSTART;TZID=America/Sao_Paulo:20240611T080000
DTEND;TZID=America/Sao_Paulo:20240611T100000
DTSTAMP:20260425T202722
CREATED:20240611T141550Z
LAST-MODIFIED:20240611T141550Z
UID:34970-1718092800-1718100000@www.goiasfomento.com
SUMMARY:Lucas Fernandes: Despachos Internos.
DESCRIPTION:
URL:https://www.goiasfomento.com/agenda/lucas-fernandes-despachos-internos-398/
LOCATION:Gabinete da Diretoria Administrativa e Financeira – Agência de Fomento de Goiás.
CATEGORIES:Diretoria Administrativa e Financeira
END:VEVENT
BEGIN:VEVENT
DTSTART;TZID=America/Sao_Paulo:20240611T080000
DTEND;TZID=America/Sao_Paulo:20240611T120000
DTSTAMP:20260425T202722
CREATED:20240611T132412Z
LAST-MODIFIED:20240611T132412Z
UID:34954-1718092800-1718107200@www.goiasfomento.com
SUMMARY:Josafá Sousa: Despachos Internos.
DESCRIPTION:
URL:https://www.goiasfomento.com/agenda/josafa-sousa-despachos-internos-539/
LOCATION:Chefia de Gabinete – Agência de Fomento de Goiás
CATEGORIES:Chefia de Gabinete
END:VEVENT
BEGIN:VEVENT
DTSTART;TZID=America/Sao_Paulo:20240611T100000
DTEND;TZID=America/Sao_Paulo:20240611T120000
DTSTAMP:20260425T202722
CREATED:20240611T133859Z
LAST-MODIFIED:20240702T124702Z
UID:34966-1718100000-1718107200@www.goiasfomento.com
SUMMARY:Vinícius de Cecílio Luz: Reunião da Diretoria  com os Colaboradores da Gerencia de Parcerias e Operações Estruturadas da Agência de Fomento de Goiás..
DESCRIPTION:
URL:https://www.goiasfomento.com/agenda/vinicius-de-cecilio-luz-reuniao-da-diretoria-com-os-colaboradores-da-gerop/
LOCATION:Diretoria de Operações da GoiásFomento – Agência de Fomento de Goiás.
CATEGORIES:Diretoria de Operações
END:VEVENT
BEGIN:VEVENT
DTSTART;TZID=America/Sao_Paulo:20240611T100000
DTEND;TZID=America/Sao_Paulo:20240611T120000
DTSTAMP:20260425T202722
CREATED:20240611T141431Z
LAST-MODIFIED:20240611T141431Z
UID:34965-1718100000-1718107200@www.goiasfomento.com
SUMMARY:Lucas Fernandes: Reunião da Diretoria com os Colaboradores da GEROP.
DESCRIPTION:
URL:https://www.goiasfomento.com/agenda/lucas-fernandes-reuniao-da-diretoria-com-os-colaboradores-da-gerop/
LOCATION:Sala de Reuniões da Diretoria – Agência de Fomento de Goiás.
CATEGORIES:Diretoria Administrativa e Financeira
END:VEVENT
BEGIN:VEVENT
DTSTART;TZID=America/Sao_Paulo:20240611T140000
DTEND;TZID=America/Sao_Paulo:20240611T153000
DTSTAMP:20260425T202722
CREATED:20240612T122859Z
LAST-MODIFIED:20240612T122859Z
UID:34981-1718114400-1718119800@www.goiasfomento.com
SUMMARY:Vinícius de Cecílio Luz: Reunião com o Comando da Policia Militar.
DESCRIPTION:
URL:https://www.goiasfomento.com/agenda/vinicius-de-cecilio-luz-reuniao-com-o-comando-da-policia-militar/
LOCATION:Colegio Da Policia Militar De Goias Unidade Polivalente Modelo Vasco Dos Reis.
CATEGORIES:Diretoria de Operações
END:VEVENT
BEGIN:VEVENT
DTSTART;TZID=America/Sao_Paulo:20240611T140000
DTEND;TZID=America/Sao_Paulo:20240611T180000
DTSTAMP:20260425T202722
CREATED:20240611T132448Z
LAST-MODIFIED:20240611T132448Z
UID:34963-1718114400-1718128800@www.goiasfomento.com
SUMMARY:Josafá Sousa: Despachos Internos.
DESCRIPTION:
URL:https://www.goiasfomento.com/agenda/josafa-sousa-despachos-internos-540/
LOCATION:Chefia de Gabinete – Agência de Fomento de Goiás
CATEGORIES:Chefia de Gabinete
END:VEVENT
BEGIN:VEVENT
DTSTART;TZID=America/Sao_Paulo:20240611T140000
DTEND;TZID=America/Sao_Paulo:20240611T180000
DTSTAMP:20260425T202722
CREATED:20240611T141623Z
LAST-MODIFIED:20240611T141623Z
UID:34972-1718114400-1718128800@www.goiasfomento.com
SUMMARY:Lucas Fernandes: Despachos Internos.
DESCRIPTION:
URL:https://www.goiasfomento.com/agenda/lucas-fernandes-despachos-internos-399/
LOCATION:Gabinete da Diretoria Administrativa e Financeira – Agência de Fomento de Goiás.
CATEGORIES:Diretoria Administrativa e Financeira
END:VEVENT
BEGIN:VEVENT
DTSTART;TZID=America/Sao_Paulo:20240611T153000
DTEND;TZID=America/Sao_Paulo:20240611T180000
DTSTAMP:20260425T202722
CREATED:20240611T143228Z
LAST-MODIFIED:20240612T120254Z
UID:34974-1718119800-1718128800@www.goiasfomento.com
SUMMARY:Vinícius de Cecílio Luz: Despachos Internos.
DESCRIPTION:
URL:https://www.goiasfomento.com/agenda/vinicius-de-cecilio-luz-despachos-internos-133/
LOCATION:Diretoria de Operações da GoiásFomento – Agência de Fomento de Goiás.
CATEGORIES:Diretoria de Operações
END:VEVENT
BEGIN:VEVENT
DTSTART;VALUE=DATE:20240612
DTEND;VALUE=DATE:20240613
DTSTAMP:20260425T202722
CREATED:20240612T120119Z
LAST-MODIFIED:20240613T193812Z
UID:34978-1718150400-1718236799@www.goiasfomento.com
SUMMARY:Vinícius de Cecílio Luz: Reunião com Entidades Locais e o Prefeito Aleomar Resende - Mineiros – GO.
DESCRIPTION:
URL:https://www.goiasfomento.com/agenda/vinicius-de-cecilio-luz-reuniao-com-representante-do-comercio-local-e-o-poder-publico-municipal-de-mineiros-go/
LOCATION:Mineiros Goiás
CATEGORIES:Diretoria de Operações
END:VEVENT
BEGIN:VEVENT
DTSTART;VALUE=DATE:20240612
DTEND;VALUE=DATE:20240613
DTSTAMP:20260425T202722
CREATED:20240612T145638Z
LAST-MODIFIED:20240612T145638Z
UID:34984-1718150400-1718236799@www.goiasfomento.com
SUMMARY:Cargo Vago desde 04/06/2024.
DESCRIPTION:
URL:https://www.goiasfomento.com/agenda/cargo-vago-desde-04-06-2024-7/
CATEGORIES:Presidência
END:VEVENT
BEGIN:VEVENT
DTSTART;TZID=America/Sao_Paulo:20240612T080000
DTEND;TZID=America/Sao_Paulo:20240612T100000
DTSTAMP:20260425T202722
CREATED:20240612T180756Z
LAST-MODIFIED:20240612T180756Z
UID:34986-1718179200-1718186400@www.goiasfomento.com
SUMMARY:Lucas Fernandes: Despachos Internos.
DESCRIPTION:
URL:https://www.goiasfomento.com/agenda/lucas-fernandes-despachos-internos-400/
LOCATION:Gabinete da Diretoria Administrativa e Financeira – Agência de Fomento de Goiás.
CATEGORIES:Diretoria Administrativa e Financeira
END:VEVENT
BEGIN:VEVENT
DTSTART;TZID=America/Sao_Paulo:20240612T080000
DTEND;TZID=America/Sao_Paulo:20240612T120000
DTSTAMP:20260425T202722
CREATED:20240613T200134Z
LAST-MODIFIED:20240613T200134Z
UID:35031-1718179200-1718193600@www.goiasfomento.com
SUMMARY:Josafá Sousa: Despachos Internos.
DESCRIPTION:
URL:https://www.goiasfomento.com/agenda/josafa-sousa-despachos-internos-543/
LOCATION:Chefia de Gabinete – Agência de Fomento de Goiás
CATEGORIES:Chefia de Gabinete
END:VEVENT
BEGIN:VEVENT
DTSTART;TZID=America/Sao_Paulo:20240612T100000
DTEND;TZID=America/Sao_Paulo:20240612T120000
DTSTAMP:20260425T202722
CREATED:20240612T181120Z
LAST-MODIFIED:20240612T181120Z
UID:34988-1718186400-1718193600@www.goiasfomento.com
SUMMARY:Lucas Fernandes: Reunião com Secretário Geral da GoiásFomento.
DESCRIPTION:
URL:https://www.goiasfomento.com/agenda/lucas-fernandes-reuniao-com-secretario-geral-da-goiasfomento/
LOCATION:Gabinete da Diretoria Administrativa e Financeira – Agência de Fomento de Goiás.
CATEGORIES:Diretoria Administrativa e Financeira
END:VEVENT
BEGIN:VEVENT
DTSTART;TZID=America/Sao_Paulo:20240612T140000
DTEND;TZID=America/Sao_Paulo:20240612T180000
DTSTAMP:20260425T202722
CREATED:20240612T181406Z
LAST-MODIFIED:20240612T181406Z
UID:34990-1718200800-1718215200@www.goiasfomento.com
SUMMARY:Lucas Fernandes: Despachos Internos.
DESCRIPTION:
URL:https://www.goiasfomento.com/agenda/lucas-fernandes-despachos-internos-401/
LOCATION:Gabinete da Diretoria Administrativa e Financeira – Agência de Fomento de Goiás.
CATEGORIES:Diretoria Administrativa e Financeira
END:VEVENT
BEGIN:VEVENT
DTSTART;TZID=America/Sao_Paulo:20240612T140000
DTEND;TZID=America/Sao_Paulo:20240612T180000
DTSTAMP:20260425T202722
CREATED:20240613T200222Z
LAST-MODIFIED:20240613T200222Z
UID:35033-1718200800-1718215200@www.goiasfomento.com
SUMMARY:Josafá Sousa: Despachos Internos.
DESCRIPTION:
URL:https://www.goiasfomento.com/agenda/josafa-sousa-despachos-internos-544/
LOCATION:Chefia de Gabinete – Agência de Fomento de Goiás
CATEGORIES:Chefia de Gabinete
END:VEVENT
BEGIN:VEVENT
DTSTART;VALUE=DATE:20240613
DTEND;VALUE=DATE:20240614
DTSTAMP:20260425T202722
CREATED:20240613T191042Z
LAST-MODIFIED:20240613T191042Z
UID:35013-1718236800-1718323199@www.goiasfomento.com
SUMMARY:Cargo Vago desde 04/06/2024.
DESCRIPTION:
URL:https://www.goiasfomento.com/agenda/cargo-vago-desde-04-06-2024-8/
CATEGORIES:Presidência
END:VEVENT
BEGIN:VEVENT
DTSTART;TZID=America/Sao_Paulo:20240613T080000
DTEND;TZID=America/Sao_Paulo:20240613T090000
DTSTAMP:20260425T202722
CREATED:20240613T142927Z
LAST-MODIFIED:20240613T142927Z
UID:35003-1718265600-1718269200@www.goiasfomento.com
SUMMARY:Vinícius de Cecílio Luz: Despachos Internos.
DESCRIPTION:
URL:https://www.goiasfomento.com/agenda/vinicius-de-cecilio-luz-despachos-internos-134/
LOCATION:Diretoria de Operações da GoiásFomento – Agência de Fomento de Goiás.
CATEGORIES:Diretoria de Operações
END:VEVENT
END:VCALENDAR