BEGIN:VCALENDAR
VERSION:2.0
PRODID:-//GoiásFomento - Agência de Fomento - ECPv6.15.20//NONSGML v1.0//EN
CALSCALE:GREGORIAN
METHOD:PUBLISH
X-ORIGINAL-URL:https://www.goiasfomento.com
X-WR-CALDESC:Eventos para GoiásFomento - Agência de Fomento
REFRESH-INTERVAL;VALUE=DURATION:PT1H
X-Robots-Tag:noindex
X-PUBLISHED-TTL:PT1H
BEGIN:VTIMEZONE
TZID:America/Sao_Paulo
BEGIN:STANDARD
TZOFFSETFROM:-0300
TZOFFSETTO:-0300
TZNAME:-03
DTSTART:20230101T000000
END:STANDARD
END:VTIMEZONE
BEGIN:VEVENT
DTSTART;VALUE=DATE:20240604
DTEND;VALUE=DATE:20240605
DTSTAMP:20260425T203138
CREATED:20240604T132741Z
LAST-MODIFIED:20240604T132741Z
UID:34740-1717459200-1717545599@www.goiasfomento.com
SUMMARY:Cargo Vago desde 04/06/2024
DESCRIPTION:
URL:https://www.goiasfomento.com/agenda/cargo-vago-desde-04-06-2024/
CATEGORIES:Presidência
END:VEVENT
BEGIN:VEVENT
DTSTART;TZID=America/Sao_Paulo:20240604T080000
DTEND;TZID=America/Sao_Paulo:20240604T100000
DTSTAMP:20260425T203138
CREATED:20240604T123416Z
LAST-MODIFIED:20240604T143920Z
UID:34734-1717488000-1717495200@www.goiasfomento.com
SUMMARY:Vinícius de Cecílio Luz: Despachos Internos.
DESCRIPTION:
URL:https://www.goiasfomento.com/agenda/vinicius-de-cecilio-luz-despachos-internos-122/
LOCATION:Diretoria de Operações da GoiásFomento – Agência de Fomento de Goiás.
CATEGORIES:Diretoria de Operações
END:VEVENT
BEGIN:VEVENT
DTSTART;TZID=America/Sao_Paulo:20240604T080000
DTEND;TZID=America/Sao_Paulo:20240604T100000
DTSTAMP:20260425T203138
CREATED:20240604T132229Z
LAST-MODIFIED:20240604T144125Z
UID:34736-1717488000-1717495200@www.goiasfomento.com
SUMMARY:Lucas Fernandes: Despachos Internos.
DESCRIPTION:
URL:https://www.goiasfomento.com/agenda/lucas-fernandes-despachos-internos-386/
LOCATION:Gabinete da Diretoria Administrativa e Financeira – Agência de Fomento de Goiás.
CATEGORIES:Diretoria Administrativa e Financeira
END:VEVENT
BEGIN:VEVENT
DTSTART;TZID=America/Sao_Paulo:20240604T080000
DTEND;TZID=America/Sao_Paulo:20240604T120000
DTSTAMP:20260425T203138
CREATED:20240604T132931Z
LAST-MODIFIED:20240604T132931Z
UID:34742-1717488000-1717502400@www.goiasfomento.com
SUMMARY:Josafá Sousa: Despachos Internos.
DESCRIPTION:
URL:https://www.goiasfomento.com/agenda/josafa-sousa-despachos-internos-527/
LOCATION:Chefia de Gabinete – Agência de Fomento de Goiás
CATEGORIES:Chefia de Gabinete
END:VEVENT
BEGIN:VEVENT
DTSTART;TZID=America/Sao_Paulo:20240604T100000
DTEND;TZID=America/Sao_Paulo:20240604T120000
DTSTAMP:20260425T203138
CREATED:20240604T144045Z
LAST-MODIFIED:20240702T130132Z
UID:34754-1717495200-1717502400@www.goiasfomento.com
SUMMARY:Vinícius de Cecílio Luz: Reunião da Diretoria Executiva da Agência de Fomento de Goiás.
DESCRIPTION:
URL:https://www.goiasfomento.com/agenda/vinicius-de-cecilio-luz-reuniao-da-diretoria/
LOCATION:Diretoria Administrativa e Financeira – Agência de Fomento de Goiás.
CATEGORIES:Diretoria de Operações
END:VEVENT
BEGIN:VEVENT
DTSTART;TZID=America/Sao_Paulo:20240604T100000
DTEND;TZID=America/Sao_Paulo:20240604T120000
DTSTAMP:20260425T203138
CREATED:20240604T144232Z
LAST-MODIFIED:20240604T144232Z
UID:34756-1717495200-1717502400@www.goiasfomento.com
SUMMARY:Lucas Fernandes: Reunião da Diretoria.
DESCRIPTION:
URL:https://www.goiasfomento.com/agenda/lucas-fernandes-reuniao-da-diretoria/
LOCATION:Gabinete da Diretoria Administrativa e Financeira – Agência de Fomento de Goiás.
CATEGORIES:Diretoria Administrativa e Financeira
END:VEVENT
BEGIN:VEVENT
DTSTART;TZID=America/Sao_Paulo:20240604T140000
DTEND;TZID=America/Sao_Paulo:20240604T153000
DTSTAMP:20260425T203138
CREATED:20240604T135209Z
LAST-MODIFIED:20240604T191145Z
UID:34746-1717509600-1717515000@www.goiasfomento.com
SUMMARY:Vinícius de Cecílio Luz: Reunião com a Gerência da Rede Credenciada da GoiásFomento.
DESCRIPTION:
URL:https://www.goiasfomento.com/agenda/vinicius-de-cecilio-luz-despachos-internos-123/
LOCATION:Diretoria de Operações da GoiásFomento – Agência de Fomento de Goiás.
CATEGORIES:Diretoria de Operações
END:VEVENT
BEGIN:VEVENT
DTSTART;TZID=America/Sao_Paulo:20240604T140000
DTEND;TZID=America/Sao_Paulo:20240604T180000
DTSTAMP:20260425T203138
CREATED:20240604T132557Z
LAST-MODIFIED:20240604T143949Z
UID:34738-1717509600-1717524000@www.goiasfomento.com
SUMMARY:Lucas Fernandes: Despachos Internos.
DESCRIPTION:
URL:https://www.goiasfomento.com/agenda/lucas-fernandes-despachos-internos-387/
LOCATION:Gabinete da Diretoria Administrativa e Financeira – Agência de Fomento de Goiás.
CATEGORIES:Diretoria Administrativa e Financeira
END:VEVENT
BEGIN:VEVENT
DTSTART;TZID=America/Sao_Paulo:20240604T140000
DTEND;TZID=America/Sao_Paulo:20240604T180000
DTSTAMP:20260425T203138
CREATED:20240604T133021Z
LAST-MODIFIED:20240604T133021Z
UID:34744-1717509600-1717524000@www.goiasfomento.com
SUMMARY:Josafá Sousa: Despachos Internos.
DESCRIPTION:
URL:https://www.goiasfomento.com/agenda/josafa-sousa-despachos-internos-528/
LOCATION:Chefia de Gabinete – Agência de Fomento de Goiás
CATEGORIES:Chefia de Gabinete
END:VEVENT
BEGIN:VEVENT
DTSTART;TZID=America/Sao_Paulo:20240604T153000
DTEND;TZID=America/Sao_Paulo:20240604T180000
DTSTAMP:20260425T203138
CREATED:20240604T185814Z
LAST-MODIFIED:20240604T190224Z
UID:34767-1717515000-1717524000@www.goiasfomento.com
SUMMARY:Vinícius de Cecílio Luz: Despachos Internos.
DESCRIPTION:
URL:https://www.goiasfomento.com/agenda/vinicius-de-cecilio-luz-despachos-internos-124/
LOCATION:Diretoria de Operações da GoiásFomento – Agência de Fomento de Goiás.
CATEGORIES:Diretoria de Operações
END:VEVENT
BEGIN:VEVENT
DTSTART;VALUE=DATE:20240605
DTEND;VALUE=DATE:20240606
DTSTAMP:20260425T203138
CREATED:20240605T132844Z
LAST-MODIFIED:20240605T132844Z
UID:34771-1717545600-1717631999@www.goiasfomento.com
SUMMARY:Cargo Vago desde 04/06/2024.
DESCRIPTION:
URL:https://www.goiasfomento.com/agenda/cargo-vago-desde-04-06-2024-2/
CATEGORIES:Presidência
END:VEVENT
BEGIN:VEVENT
DTSTART;TZID=America/Sao_Paulo:20240605T080000
DTEND;TZID=America/Sao_Paulo:20240605T100000
DTSTAMP:20260425T203138
CREATED:20240605T132630Z
LAST-MODIFIED:20240702T125241Z
UID:34772-1717574400-1717581600@www.goiasfomento.com
SUMMARY:Vinícius de Cecílio Luz: Reunião da Diretoria Executiva da Agência de Fomento de Goiás.
DESCRIPTION:
URL:https://www.goiasfomento.com/agenda/vinicius-de-cecilio-luz-reuniao-da-diretoria-2/
LOCATION:Diretoria Administrativa e Financeira da GoiásFomento – Agência de Fomento de Goiás.
CATEGORIES:Diretoria de Operações
END:VEVENT
BEGIN:VEVENT
DTSTART;TZID=America/Sao_Paulo:20240605T080000
DTEND;TZID=America/Sao_Paulo:20240605T100000
DTSTAMP:20260425T203138
CREATED:20240605T133559Z
LAST-MODIFIED:20240605T133559Z
UID:34776-1717574400-1717581600@www.goiasfomento.com
SUMMARY:Lucas Fernandes: Reunião da Diretoria.
DESCRIPTION:
URL:https://www.goiasfomento.com/agenda/lucas-fernandes-reuniao-da-diretoria-2/
LOCATION:Gabinete da Diretoria Administrativa e Financeira – Agência de Fomento de Goiás.
CATEGORIES:Diretoria Administrativa e Financeira
END:VEVENT
BEGIN:VEVENT
DTSTART;TZID=America/Sao_Paulo:20240605T080000
DTEND;TZID=America/Sao_Paulo:20240605T103000
DTSTAMP:20260425T203138
CREATED:20240605T134539Z
LAST-MODIFIED:20240606T181420Z
UID:34782-1717574400-1717583400@www.goiasfomento.com
SUMMARY:Josafá Sousa: Reunião com Gerente do Departamento de Cobrança.
DESCRIPTION:
URL:https://www.goiasfomento.com/agenda/josafa-sousa-reuniao-com-gerente-do-departamento-de-cobranca/
LOCATION:Chefia de Gabinete – Agência de Fomento de Goiás
CATEGORIES:Chefia de Gabinete
END:VEVENT
BEGIN:VEVENT
DTSTART;TZID=America/Sao_Paulo:20240605T100000
DTEND;TZID=America/Sao_Paulo:20240605T110000
DTSTAMP:20260425T203138
CREATED:20240605T142819Z
LAST-MODIFIED:20240702T125042Z
UID:34788-1717581600-1717585200@www.goiasfomento.com
SUMMARY:Vinícius de Cecílio Luz: Reunião com os Gerentes da Diretoria de Operações da Agência de Fomento de Goiás.
DESCRIPTION:
URL:https://www.goiasfomento.com/agenda/vinicius-de-cecilio-luz-reuniao-com-os-gerentes-da-diretoria-de-operacoes-2/
LOCATION:Diretoria de Operações da GoiásFomento – Agência de Fomento de Goiás.
CATEGORIES:Diretoria de Operações
END:VEVENT
BEGIN:VEVENT
DTSTART;TZID=America/Sao_Paulo:20240605T100000
DTEND;TZID=America/Sao_Paulo:20240605T120000
DTSTAMP:20260425T203138
CREATED:20240605T133714Z
LAST-MODIFIED:20240605T133714Z
UID:34778-1717581600-1717588800@www.goiasfomento.com
SUMMARY:Lucas Fernandes: Despachos Internos.
DESCRIPTION:
URL:https://www.goiasfomento.com/agenda/lucas-fernandes-despachos-internos-388/
LOCATION:Gabinete da Diretoria Administrativa e Financeira – Agência de Fomento de Goiás.
CATEGORIES:Diretoria Administrativa e Financeira
END:VEVENT
BEGIN:VEVENT
DTSTART;TZID=America/Sao_Paulo:20240605T103000
DTEND;TZID=America/Sao_Paulo:20240605T120000
DTSTAMP:20260425T203138
CREATED:20240605T134623Z
LAST-MODIFIED:20240605T134623Z
UID:34784-1717583400-1717588800@www.goiasfomento.com
SUMMARY:Josafá Sousa: Despachos Internos.
DESCRIPTION:
URL:https://www.goiasfomento.com/agenda/josafa-sousa-despachos-internos-529/
LOCATION:Chefia de Gabinete – Agência de Fomento de Goiás
CATEGORIES:Chefia de Gabinete
END:VEVENT
BEGIN:VEVENT
DTSTART;TZID=America/Sao_Paulo:20240605T110000
DTEND;TZID=America/Sao_Paulo:20240605T113000
DTSTAMP:20260425T203138
CREATED:20240605T143201Z
LAST-MODIFIED:20240702T124947Z
UID:34790-1717585200-1717587000@www.goiasfomento.com
SUMMARY:Vinícius de Cecílio Luz: Reunião com o José Marco Ferreira de Barri Gerente Financeiro da Agência de Fomento de Goiás.
DESCRIPTION:
URL:https://www.goiasfomento.com/agenda/vinicius-de-cecilio-luz-reuniao-com-o-gerente-financeiro/
LOCATION:Diretoria de Operações da GoiásFomento – Agência de Fomento de Goiás.
CATEGORIES:Diretoria de Operações
END:VEVENT
BEGIN:VEVENT
DTSTART;TZID=America/Sao_Paulo:20240605T113000
DTEND;TZID=America/Sao_Paulo:20240605T120000
DTSTAMP:20260425T203138
CREATED:20240605T144109Z
LAST-MODIFIED:20240605T144109Z
UID:34792-1717587000-1717588800@www.goiasfomento.com
SUMMARY:Vinícius de Cecílio Luz: Despachos Internos.
DESCRIPTION:
URL:https://www.goiasfomento.com/agenda/vinicius-de-cecilio-luz-despachos-internos-125/
LOCATION:Diretoria de Operações da GoiásFomento – Agência de Fomento de Goiás.
CATEGORIES:Diretoria de Operações
END:VEVENT
BEGIN:VEVENT
DTSTART;TZID=America/Sao_Paulo:20240605T140000
DTEND;TZID=America/Sao_Paulo:20240605T180000
DTSTAMP:20260425T203138
CREATED:20240605T133754Z
LAST-MODIFIED:20240605T133754Z
UID:34780-1717596000-1717610400@www.goiasfomento.com
SUMMARY:Lucas Fernandes: Despachos Internos.
DESCRIPTION:
URL:https://www.goiasfomento.com/agenda/lucas-fernandes-despachos-internos-389/
LOCATION:Gabinete da Diretoria Administrativa e Financeira – Agência de Fomento de Goiás.
CATEGORIES:Diretoria Administrativa e Financeira
END:VEVENT
BEGIN:VEVENT
DTSTART;TZID=America/Sao_Paulo:20240605T140000
DTEND;TZID=America/Sao_Paulo:20240605T180000
DTSTAMP:20260425T203138
CREATED:20240605T134807Z
LAST-MODIFIED:20240605T134807Z
UID:34786-1717596000-1717610400@www.goiasfomento.com
SUMMARY:Josafá Sousa: Despachos Internos.
DESCRIPTION:
URL:https://www.goiasfomento.com/agenda/josafa-sousa-despachos-internos-530/
LOCATION:Chefia de Gabinete – Agência de Fomento de Goiás
CATEGORIES:Chefia de Gabinete
END:VEVENT
BEGIN:VEVENT
DTSTART;TZID=America/Sao_Paulo:20240605T140000
DTEND;TZID=America/Sao_Paulo:20240605T180000
DTSTAMP:20260425T203138
CREATED:20240605T175153Z
LAST-MODIFIED:20240605T175153Z
UID:34795-1717596000-1717610400@www.goiasfomento.com
SUMMARY:Vinícius de Cecílio Luz: Despachos Internos.
DESCRIPTION:
URL:https://www.goiasfomento.com/agenda/vinicius-de-cecilio-luz-despachos-internos-126/
LOCATION:Diretoria de Operações da GoiásFomento – Agência de Fomento de Goiás.
CATEGORIES:Diretoria de Operações
END:VEVENT
BEGIN:VEVENT
DTSTART;VALUE=DATE:20240606
DTEND;VALUE=DATE:20240607
DTSTAMP:20260425T203138
CREATED:20240606T134244Z
LAST-MODIFIED:20240606T134244Z
UID:34800-1717632000-1717718399@www.goiasfomento.com
SUMMARY:Cargo Vago desde 04/06/2024.
DESCRIPTION:
URL:https://www.goiasfomento.com/agenda/cargo-vago-desde-04-06-2024-3/
CATEGORIES:Presidência
END:VEVENT
BEGIN:VEVENT
DTSTART;TZID=America/Sao_Paulo:20240606T080000
DTEND;TZID=America/Sao_Paulo:20240606T100000
DTSTAMP:20260425T203138
CREATED:20240606T134401Z
LAST-MODIFIED:20240606T134401Z
UID:34807-1717660800-1717668000@www.goiasfomento.com
SUMMARY:Lucas Fernandes: Despachos Internos.
DESCRIPTION:
URL:https://www.goiasfomento.com/agenda/lucas-fernandes-despachos-internos-390/
LOCATION:Gabinete da Diretoria Administrativa e Financeira – Agência de Fomento de Goiás.
CATEGORIES:Diretoria Administrativa e Financeira
END:VEVENT
BEGIN:VEVENT
DTSTART;TZID=America/Sao_Paulo:20240606T080000
DTEND;TZID=America/Sao_Paulo:20240606T103000
DTSTAMP:20260425T203138
CREATED:20240606T125341Z
LAST-MODIFIED:20240606T125341Z
UID:34801-1717660800-1717669800@www.goiasfomento.com
SUMMARY:Vinícius de Cecílio Luz: Despachos Internos.
DESCRIPTION:
URL:https://www.goiasfomento.com/agenda/vinicius-de-cecilio-luz-despachos-internos-127/
LOCATION:Diretoria de Operações da GoiásFomento – Agência de Fomento de Goiás.
CATEGORIES:Diretoria de Operações
END:VEVENT
BEGIN:VEVENT
DTSTART;TZID=America/Sao_Paulo:20240606T080000
DTEND;TZID=America/Sao_Paulo:20240606T120000
DTSTAMP:20260425T203138
CREATED:20240606T141141Z
LAST-MODIFIED:20240606T141141Z
UID:34814-1717660800-1717675200@www.goiasfomento.com
SUMMARY:Josafá Sousa: Despachos Internos.
DESCRIPTION:
URL:https://www.goiasfomento.com/agenda/josafa-sousa-despachos-internos-531/
LOCATION:Chefia de Gabinete – Agência de Fomento de Goiás
CATEGORIES:Chefia de Gabinete
END:VEVENT
BEGIN:VEVENT
DTSTART;TZID=America/Sao_Paulo:20240606T100000
DTEND;TZID=America/Sao_Paulo:20240606T113000
DTSTAMP:20260425T203138
CREATED:20240606T134856Z
LAST-MODIFIED:20240606T134856Z
UID:34809-1717668000-1717673400@www.goiasfomento.com
SUMMARY:Lucas Fernandes: Reunião com Diretor da Empressa BHS e o Conrrespondente Idelfonso.
DESCRIPTION:
URL:https://www.goiasfomento.com/agenda/lucas-fernandes-reuniao-com-diretor-da-empressa-bhs-e-o-conrrespondente-idelfonso/
LOCATION:Gabinete da Diretoria Administrativa e Financeira – Agência de Fomento de Goiás.
CATEGORIES:Diretoria Administrativa e Financeira
END:VEVENT
BEGIN:VEVENT
DTSTART;TZID=America/Sao_Paulo:20240606T103000
DTEND;TZID=America/Sao_Paulo:20240606T120000
DTSTAMP:20260425T203138
CREATED:20240606T125503Z
LAST-MODIFIED:20240606T125503Z
UID:34804-1717669800-1717675200@www.goiasfomento.com
SUMMARY:Vinícius de Cecílio Luz:  Reunião BNDES - GoiásFomento.
DESCRIPTION:
URL:https://www.goiasfomento.com/agenda/vinicius-de-cecilio-luz-reuniao-bndes-goiasfomento/
LOCATION:Diretoria de Operações da GoiásFomento – Agência de Fomento de Goiás.
CATEGORIES:Diretoria de Operações
END:VEVENT
BEGIN:VEVENT
DTSTART;TZID=America/Sao_Paulo:20240606T113000
DTEND;TZID=America/Sao_Paulo:20240606T120000
DTSTAMP:20260425T203138
CREATED:20240606T135023Z
LAST-MODIFIED:20240606T135023Z
UID:34812-1717673400-1717675200@www.goiasfomento.com
SUMMARY:Lucas Fernandes: Despachos Internos.
DESCRIPTION:
URL:https://www.goiasfomento.com/agenda/lucas-fernandes-despachos-internos-391/
LOCATION:Gabinete da Diretoria Administrativa e Financeira – Agência de Fomento de Goiás.
CATEGORIES:Diretoria Administrativa e Financeira
END:VEVENT
BEGIN:VEVENT
DTSTART;TZID=America/Sao_Paulo:20240606T140000
DTEND;TZID=America/Sao_Paulo:20240606T180000
DTSTAMP:20260425T203138
CREATED:20240606T141215Z
LAST-MODIFIED:20240606T141215Z
UID:34816-1717682400-1717696800@www.goiasfomento.com
SUMMARY:Josafá Sousa: Despachos Internos.
DESCRIPTION:
URL:https://www.goiasfomento.com/agenda/josafa-sousa-despachos-internos-532/
LOCATION:Chefia de Gabinete – Agência de Fomento de Goiás
CATEGORIES:Chefia de Gabinete
END:VEVENT
END:VCALENDAR