BEGIN:VCALENDAR
VERSION:2.0
PRODID:-//GoiásFomento - Agência de Fomento - ECPv6.15.20//NONSGML v1.0//EN
CALSCALE:GREGORIAN
METHOD:PUBLISH
X-WR-CALNAME:GoiásFomento - Agência de Fomento
X-ORIGINAL-URL:https://www.goiasfomento.com
X-WR-CALDESC:Eventos para GoiásFomento - Agência de Fomento
REFRESH-INTERVAL;VALUE=DURATION:PT1H
X-Robots-Tag:noindex
X-PUBLISHED-TTL:PT1H
BEGIN:VTIMEZONE
TZID:America/Sao_Paulo
BEGIN:STANDARD
TZOFFSETFROM:-0300
TZOFFSETTO:-0300
TZNAME:-03
DTSTART:20240101T000000
END:STANDARD
END:VTIMEZONE
BEGIN:VEVENT
DTSTART;TZID=America/Sao_Paulo:20251113T080000
DTEND;TZID=America/Sao_Paulo:20251113T103000
DTSTAMP:20260426T011224
CREATED:20251113T121926Z
LAST-MODIFIED:20251113T121926Z
UID:47061-1763020800-1763029800@www.goiasfomento.com
SUMMARY:Rivael Aguiar Pereira: ABERTURA - SInDGESTOR - ‘Inovação na Gestão Pública: Integrando Tecnologia\, Governança Colaborativa e Sustentabilidade
DESCRIPTION:
URL:https://www.goiasfomento.com/agenda/rivael-aguiar-pereira-abertura-sindgestor-inovacao-na-gestao-publica-integrando-tecnologia-governanca-colaborativa-e-sustentabilidade/
LOCATION:Auditório do Tribunal de Contas do Estado de Goiás Av. Ubirajara Berocan Leite\, 640 Setor Jaó Goiânia-GO.
CATEGORIES:Presidência
END:VEVENT
BEGIN:VEVENT
DTSTART;TZID=America/Sao_Paulo:20251113T080000
DTEND;TZID=America/Sao_Paulo:20251113T110000
DTSTAMP:20260426T011224
CREATED:20251113T150011Z
LAST-MODIFIED:20251113T150011Z
UID:47081-1763020800-1763031600@www.goiasfomento.com
SUMMARY:Lara Garcia: ABERTURA – SInDGESTOR – ‘Inovação na Gestão Pública: Integrando Tecnologia\, Governança Colaborativa e Sustentabilidade.
DESCRIPTION:
URL:https://www.goiasfomento.com/agenda/lara-garcia-abertura-sindgestor-inovacao-na-gestao-publica-integrando-tecnologia-governanca-colaborativa-e-sustentabilidade/
LOCATION:TCE – Tribunal de Contas do Estado de Goiás – Endereço: Av. Ubirajara Berocan Leite\, 640 – St. Jao\, Goiânia – GO\, 74674-015.
CATEGORIES:Diretoria Administrativa e Financeira
END:VEVENT
BEGIN:VEVENT
DTSTART;TZID=America/Sao_Paulo:20251113T080000
DTEND;TZID=America/Sao_Paulo:20251113T120000
DTSTAMP:20260426T011224
CREATED:20251106T175839Z
LAST-MODIFIED:20251106T175839Z
UID:46973-1763020800-1763035200@www.goiasfomento.com
SUMMARY:Rufino Veríssimo: Atendimentos e Despachos Internos.
DESCRIPTION:
URL:https://www.goiasfomento.com/agenda/rufino-verissimo-atendimentos-e-despachos-internos-169/
CATEGORIES:Chefia de Gabinete
END:VEVENT
BEGIN:VEVENT
DTSTART;TZID=America/Sao_Paulo:20251113T080000
DTEND;TZID=America/Sao_Paulo:20251113T120000
DTSTAMP:20260426T011224
CREATED:20251113T165710Z
LAST-MODIFIED:20251113T165710Z
UID:47088-1763020800-1763035200@www.goiasfomento.com
SUMMARY:Vinícius Luz: Atendimentos e Despachos Internos.
DESCRIPTION:
URL:https://www.goiasfomento.com/agenda/vinicius-luz-atendimentos-e-despachos-internos-166/
LOCATION:Gabinete da Diretoria de Operações da GoiásFomento – Agência de Fomento de Goiás.
CATEGORIES:Diretoria de Operações
END:VEVENT
BEGIN:VEVENT
DTSTART;TZID=America/Sao_Paulo:20251113T103000
DTEND;TZID=America/Sao_Paulo:20251113T120000
DTSTAMP:20260426T011224
CREATED:20251113T122231Z
LAST-MODIFIED:20251113T122231Z
UID:47064-1763029800-1763035200@www.goiasfomento.com
SUMMARY:Rivael Aguiar Pereira: Atendimentos e Despachos Internos
DESCRIPTION:
URL:https://www.goiasfomento.com/agenda/rivael-aguiar-pereira-atendimentos-e-despachos-internos-171/
LOCATION:Auditório do Tribunal de Contas do Estado de Goiás Av. Ubirajara Berocan Leite\, 640 Setor Jaó Goiânia-GO.
CATEGORIES:Presidência
END:VEVENT
BEGIN:VEVENT
DTSTART;TZID=America/Sao_Paulo:20251113T110000
DTEND;TZID=America/Sao_Paulo:20251113T120000
DTSTAMP:20260426T011224
CREATED:20251113T150121Z
LAST-MODIFIED:20251113T150121Z
UID:47083-1763031600-1763035200@www.goiasfomento.com
SUMMARY:Lara Garcia: Despachos Internos e Administrativos.
DESCRIPTION:
URL:https://www.goiasfomento.com/agenda/lara-garcia-despachos-internos-e-administrativos-85/
CATEGORIES:Diretoria Administrativa e Financeira
END:VEVENT
BEGIN:VEVENT
DTSTART;TZID=America/Sao_Paulo:20251113T140000
DTEND;TZID=America/Sao_Paulo:20251113T153000
DTSTAMP:20260426T011224
CREATED:20251113T122451Z
LAST-MODIFIED:20251113T122451Z
UID:47066-1763042400-1763047800@www.goiasfomento.com
SUMMARY:Rivael Aguiar Pereira: Composição de Congresso - SINDGESTOR - ‘Inovação na Gestão Pública: Integrando Tecnologia\, Governança Colaborativa e Sustentabilidade
DESCRIPTION:
URL:https://www.goiasfomento.com/agenda/rivael-aguiar-pereira-composicao-de-congresso-sindgestor-inovacao-na-gestao-publica-integrando-tecnologia-governanca-colaborativa-e-sustentabilidade/
LOCATION:Auditório do Tribunal de Contas do Estado de Goiás Av. Ubirajara Berocan Leite\, 640 Setor Jaó Goiânia-GO.
CATEGORIES:Presidência
END:VEVENT
BEGIN:VEVENT
DTSTART;TZID=America/Sao_Paulo:20251113T140000
DTEND;TZID=America/Sao_Paulo:20251113T160000
DTSTAMP:20260426T011224
CREATED:20251113T165325Z
LAST-MODIFIED:20251113T165419Z
UID:47086-1763042400-1763049600@www.goiasfomento.com
SUMMARY:Lara Garcia: ABERTURA – SInDGESTOR – ‘Inovação na Gestão Pública: Integrando Tecnologia\, Governança Colaborativa e Sustentabilidade.
DESCRIPTION:
URL:https://www.goiasfomento.com/agenda/lara-garcia-abertura-sindgestor-inovacao-na-gestao-publica-integrando-tecnologia-governanca-colaborativa-e-sustentabilidade-2/
CATEGORIES:Diretoria Administrativa e Financeira
END:VEVENT
BEGIN:VEVENT
DTSTART;TZID=America/Sao_Paulo:20251113T140000
DTEND;TZID=America/Sao_Paulo:20251113T180000
DTSTAMP:20260426T011224
CREATED:20251106T175935Z
LAST-MODIFIED:20251106T175935Z
UID:46975-1763042400-1763056800@www.goiasfomento.com
SUMMARY:Rufino Veríssimo: Atendimentos e Despachos Internos.
DESCRIPTION:
URL:https://www.goiasfomento.com/agenda/rufino-verissimo-atendimentos-e-despachos-internos-170/
CATEGORIES:Chefia de Gabinete
END:VEVENT
BEGIN:VEVENT
DTSTART;TZID=America/Sao_Paulo:20251113T140000
DTEND;TZID=America/Sao_Paulo:20251113T180000
DTSTAMP:20260426T011224
CREATED:20251113T165742Z
LAST-MODIFIED:20251113T165742Z
UID:47090-1763042400-1763056800@www.goiasfomento.com
SUMMARY:Vinícius Luz: Atendimentos e Despachos Internos.
DESCRIPTION:
URL:https://www.goiasfomento.com/agenda/vinicius-luz-atendimentos-e-despachos-internos-167/
LOCATION:Gabinete da Diretoria de Operações da GoiásFomento – Agência de Fomento de Goiás.
CATEGORIES:Diretoria de Operações
END:VEVENT
BEGIN:VEVENT
DTSTART;TZID=America/Sao_Paulo:20251113T153000
DTEND;TZID=America/Sao_Paulo:20251113T180000
DTSTAMP:20260426T011224
CREATED:20251113T122558Z
LAST-MODIFIED:20251113T122558Z
UID:47070-1763047800-1763056800@www.goiasfomento.com
SUMMARY:Rivael Aguiar Pereira: Atendimentos e Despachos Internos
DESCRIPTION:
URL:https://www.goiasfomento.com/agenda/rivael-aguiar-pereira-atendimentos-e-despachos-internos-172/
LOCATION:Agência de Fomento de Goiás.
CATEGORIES:Presidência
END:VEVENT
BEGIN:VEVENT
DTSTART;TZID=America/Sao_Paulo:20251113T160000
DTEND;TZID=America/Sao_Paulo:20251113T180000
DTSTAMP:20260426T011224
CREATED:20251113T122656Z
LAST-MODIFIED:20251113T180843Z
UID:47068-1763049600-1763056800@www.goiasfomento.com
SUMMARY:Lara Garcia: Despachos Internos e Administrativos.
DESCRIPTION:
URL:https://www.goiasfomento.com/agenda/lara-garcia-despachos-internos-e-administrativos-84/
LOCATION:Gabinete da Diretoria Administrativa e Financeira – Agência de Fomento de Goiás.
CATEGORIES:Diretoria Administrativa e Financeira
END:VEVENT
BEGIN:VEVENT
DTSTART;TZID=America/Sao_Paulo:20251113T193000
DTEND;TZID=America/Sao_Paulo:20251113T213000
DTSTAMP:20260426T011224
CREATED:20251113T122725Z
LAST-MODIFIED:20251113T122725Z
UID:47072-1763062200-1763069400@www.goiasfomento.com
SUMMARY:Rivael Aguiar Pereira: SOLENIDADE - PRÉ ABERTURA NATAL DO BEM 2025
DESCRIPTION:
URL:https://www.goiasfomento.com/agenda/rivael-aguiar-pereira-solenidade-pre-abertura-natal-do-bem-2025/
LOCATION:Centro Cultural Oscar Niemeyer – CineX (Av. Dep. Jamel Cecílio\, Q. Gleba\, L\, 01\, Nº 4.490 – Setor Fazenda Gameleira)
CATEGORIES:Presidência
END:VEVENT
BEGIN:VEVENT
DTSTART;TZID=America/Sao_Paulo:20251114T080000
DTEND;TZID=America/Sao_Paulo:20251114T120000
DTSTAMP:20260426T011224
CREATED:20251105T140039Z
LAST-MODIFIED:20251105T140039Z
UID:46941-1763107200-1763121600@www.goiasfomento.com
SUMMARY:Rufino Veríssimo: Atendimentos e Despachos Internos.
DESCRIPTION:
URL:https://www.goiasfomento.com/agenda/rufino-verissimo-atendimentos-e-despachos-internos-171/
LOCATION:Chefia de Gabinete – Agência de Fomento de Goiás
CATEGORIES:Chefia de Gabinete
END:VEVENT
BEGIN:VEVENT
DTSTART;TZID=America/Sao_Paulo:20251114T080000
DTEND;TZID=America/Sao_Paulo:20251114T120000
DTSTAMP:20260426T011224
CREATED:20251113T122917Z
LAST-MODIFIED:20251113T122917Z
UID:47075-1763107200-1763121600@www.goiasfomento.com
SUMMARY:Rivael Aguiar Pereira: Atendimentos e Despachos Internos
DESCRIPTION:
URL:https://www.goiasfomento.com/agenda/rivael-aguiar-pereira-atendimentos-e-despachos-internos-173/
LOCATION:Gabinete da Presidência da GoiásFomento – Agência de Fomento de Goiás.
CATEGORIES:Presidência
END:VEVENT
BEGIN:VEVENT
DTSTART;TZID=America/Sao_Paulo:20251114T080000
DTEND;TZID=America/Sao_Paulo:20251114T120000
DTSTAMP:20260426T011224
CREATED:20251114T145605Z
LAST-MODIFIED:20251114T145605Z
UID:47092-1763107200-1763121600@www.goiasfomento.com
SUMMARY:Lara Garcia: Despachos Internos e Administrativos.
DESCRIPTION:
URL:https://www.goiasfomento.com/agenda/lara-garcia-despachos-internos-e-administrativos-86/
LOCATION:Gabinete da Diretoria Administrativa e Financeira – Agência de Fomento de Goiás.
CATEGORIES:Diretoria Administrativa e Financeira
END:VEVENT
BEGIN:VEVENT
DTSTART;TZID=America/Sao_Paulo:20251114T080000
DTEND;TZID=America/Sao_Paulo:20251114T120000
DTSTAMP:20260426T011224
CREATED:20251114T150017Z
LAST-MODIFIED:20251114T150017Z
UID:47096-1763107200-1763121600@www.goiasfomento.com
SUMMARY:Vinícius Luz: Atendimentos e Despachos Internos.
DESCRIPTION:
URL:https://www.goiasfomento.com/agenda/vinicius-luz-atendimentos-e-despachos-internos-168/
CATEGORIES:Diretoria de Operações
END:VEVENT
BEGIN:VEVENT
DTSTART;TZID=America/Sao_Paulo:20251114T140000
DTEND;TZID=America/Sao_Paulo:20251114T160000
DTSTAMP:20260426T011224
CREATED:20251117T203809Z
LAST-MODIFIED:20251117T203935Z
UID:47104-1763128800-1763136000@www.goiasfomento.com
SUMMARY:Vinícius Luz: Reunião com Ildelfonso com os Prefeitos  Kleber Freitas -Santo Antônio de Goias e Cleiton Melo -Itauçu-Goiás.
DESCRIPTION:
URL:https://www.goiasfomento.com/agenda/vinicius-luz-reuniao-com-prefeitos-e-empresarios/
LOCATION:Sala de Reuniões da Diretoria – Agência de Fomento de Goiás.
CATEGORIES:Diretoria de Operações
END:VEVENT
BEGIN:VEVENT
DTSTART;TZID=America/Sao_Paulo:20251114T140000
DTEND;TZID=America/Sao_Paulo:20251114T180000
DTSTAMP:20260426T011224
CREATED:20251105T140100Z
LAST-MODIFIED:20251105T140100Z
UID:46943-1763128800-1763143200@www.goiasfomento.com
SUMMARY:Rufino Veríssimo: Atendimentos e Despachos Internos.
DESCRIPTION:
URL:https://www.goiasfomento.com/agenda/rufino-verissimo-atendimentos-e-despachos-internos-172/
CATEGORIES:Chefia de Gabinete
END:VEVENT
BEGIN:VEVENT
DTSTART;TZID=America/Sao_Paulo:20251114T140000
DTEND;TZID=America/Sao_Paulo:20251114T180000
DTSTAMP:20260426T011224
CREATED:20251114T145721Z
LAST-MODIFIED:20251114T145721Z
UID:47094-1763128800-1763143200@www.goiasfomento.com
SUMMARY:Lara Garcia: Despachos Internos e Administrativos.
DESCRIPTION:
URL:https://www.goiasfomento.com/agenda/lara-garcia-despachos-internos-e-administrativos-87/
CATEGORIES:Diretoria Administrativa e Financeira
END:VEVENT
BEGIN:VEVENT
DTSTART;TZID=America/Sao_Paulo:20251114T160000
DTEND;TZID=America/Sao_Paulo:20251114T180000
DTSTAMP:20260426T011224
CREATED:20251117T204028Z
LAST-MODIFIED:20251117T204039Z
UID:47109-1763136000-1763143200@www.goiasfomento.com
SUMMARY:Vinícius Luz: Reunião com Ildelfonso e Empresários.
DESCRIPTION:
URL:https://www.goiasfomento.com/agenda/vinicius-luz-reuniao-com-ildelfonso-e-empresarios/
LOCATION:Gabinete da Diretoria de Operações da GoiásFomento – Agência de Fomento de Goiás.
CATEGORIES:Diretoria de Operações
END:VEVENT
BEGIN:VEVENT
DTSTART;VALUE=DATE:20251117
DTEND;VALUE=DATE:20251119
DTSTAMP:20260426T011224
CREATED:20251118T131815Z
LAST-MODIFIED:20251118T132225Z
UID:47123-1763337600-1763510399@www.goiasfomento.com
SUMMARY:Rivael Aguiar Pereira:  PARTICIPAÇÃO NA COP30 - Goiás debate crédito verde para pequenos negócios.
DESCRIPTION:COP 30 – Destaco que o Paine 34 | Small Business\, Big Policy Impact ocorrerá no dia 17/11 às 16h. \nO local é o estande do Sebrae localizado na Green Zone: \nParque da Cidade na R. Sen. Lemos – Souza\, Portão 9.
URL:https://www.goiasfomento.com/agenda/rivael-aguiar-pereira-participacao-na-cop30-goias-debate-acesso-verde-para-pequenos-negocios/
LOCATION:Parque da Cidade na R. Sen. Lemos – Souza\, Portão 9. Belém do Pará
CATEGORIES:Presidência
END:VEVENT
BEGIN:VEVENT
DTSTART;TZID=America/Sao_Paulo:20251117T080000
DTEND;TZID=America/Sao_Paulo:20251117T090000
DTSTAMP:20260426T011224
CREATED:20251117T204620Z
LAST-MODIFIED:20251117T204620Z
UID:47111-1763366400-1763370000@www.goiasfomento.com
SUMMARY:Vinícius Luz: Atendimentos e Despachos Internos.
DESCRIPTION:
URL:https://www.goiasfomento.com/agenda/vinicius-luz-atendimentos-e-despachos-internos-169/
LOCATION:Gabinete da Diretoria de Operações da GoiásFomento – Agência de Fomento de Goiás.
CATEGORIES:Diretoria de Operações
END:VEVENT
BEGIN:VEVENT
DTSTART;TZID=America/Sao_Paulo:20251117T080000
DTEND;TZID=America/Sao_Paulo:20251117T120000
DTSTAMP:20260426T011224
CREATED:20251105T140347Z
LAST-MODIFIED:20251105T140347Z
UID:46951-1763366400-1763380800@www.goiasfomento.com
SUMMARY:Rufino Veríssimo: Atendimentos e Despachos Internos.
DESCRIPTION:
URL:https://www.goiasfomento.com/agenda/rufino-verissimo-atendimentos-e-despachos-internos-176/
LOCATION:Chefia de Gabinete – Agência de Fomento de Goiás
CATEGORIES:Chefia de Gabinete
END:VEVENT
BEGIN:VEVENT
DTSTART;TZID=America/Sao_Paulo:20251117T080000
DTEND;TZID=America/Sao_Paulo:20251117T120000
DTSTAMP:20260426T011224
CREATED:20251117T203230Z
LAST-MODIFIED:20251117T203230Z
UID:47100-1763366400-1763380800@www.goiasfomento.com
SUMMARY:Lara Garcia: Despachos Internos e Administrativos.
DESCRIPTION:
URL:https://www.goiasfomento.com/agenda/lara-garcia-despachos-internos-e-administrativos-88/
LOCATION:Gabinete da Diretoria Administrativa e Financeira – Agência de Fomento de Goiás.
CATEGORIES:Diretoria Administrativa e Financeira
END:VEVENT
BEGIN:VEVENT
DTSTART;TZID=America/Sao_Paulo:20251117T090000
DTEND;TZID=America/Sao_Paulo:20251117T100000
DTSTAMP:20260426T011224
CREATED:20251117T204824Z
LAST-MODIFIED:20251117T204824Z
UID:47113-1763370000-1763373600@www.goiasfomento.com
SUMMARY:Vinícius Luz:  Reunião com Janio Pacheco - Prefeito e Secretarios de Ipameri - Goiás.
DESCRIPTION:
URL:https://www.goiasfomento.com/agenda/vinicius-luz-reuniao-com-janio-pacheco-prefeito-e-secretarios-de-ipameri-goias/
LOCATION:Gabinete da Diretoria de Operações da GoiásFomento – Agência de Fomento de Goiás.
CATEGORIES:Diretoria de Operações
END:VEVENT
BEGIN:VEVENT
DTSTART;TZID=America/Sao_Paulo:20251117T100000
DTEND;TZID=America/Sao_Paulo:20251117T120000
DTSTAMP:20260426T011224
CREATED:20251117T204908Z
LAST-MODIFIED:20251117T204908Z
UID:47115-1763373600-1763380800@www.goiasfomento.com
SUMMARY:Vinícius Luz: Atendimentos e Despachos Internos.
DESCRIPTION:
URL:https://www.goiasfomento.com/agenda/vinicius-luz-atendimentos-e-despachos-internos-170/
LOCATION:Gabinete da Diretoria de Operações da GoiásFomento – Agência de Fomento de Goiás.
CATEGORIES:Diretoria de Operações
END:VEVENT
BEGIN:VEVENT
DTSTART;TZID=America/Sao_Paulo:20251117T140000
DTEND;TZID=America/Sao_Paulo:20251117T160000
DTSTAMP:20260426T011224
CREATED:20251117T204944Z
LAST-MODIFIED:20251117T204944Z
UID:47117-1763388000-1763395200@www.goiasfomento.com
SUMMARY:Vinícius Luz: Atendimentos e Despachos Internos.
DESCRIPTION:
URL:https://www.goiasfomento.com/agenda/vinicius-luz-atendimentos-e-despachos-internos-171/
LOCATION:Gabinete da Diretoria de Operações da GoiásFomento – Agência de Fomento de Goiás.
CATEGORIES:Diretoria de Operações
END:VEVENT
BEGIN:VEVENT
DTSTART;TZID=America/Sao_Paulo:20251117T140000
DTEND;TZID=America/Sao_Paulo:20251117T180000
DTSTAMP:20260426T011224
CREATED:20251105T140422Z
LAST-MODIFIED:20251105T140422Z
UID:46953-1763388000-1763402400@www.goiasfomento.com
SUMMARY:Rufino Veríssimo: Atendimentos e Despachos Internos.
DESCRIPTION:
URL:https://www.goiasfomento.com/agenda/rufino-verissimo-atendimentos-e-despachos-internos-177/
LOCATION:Chefia de Gabinete – Agência de Fomento de Goiás
CATEGORIES:Chefia de Gabinete
END:VEVENT
BEGIN:VEVENT
DTSTART;TZID=America/Sao_Paulo:20251117T140000
DTEND;TZID=America/Sao_Paulo:20251117T180000
DTSTAMP:20260426T011224
CREATED:20251117T203306Z
LAST-MODIFIED:20251117T203306Z
UID:47102-1763388000-1763402400@www.goiasfomento.com
SUMMARY:Lara Garcia: Despachos Internos e Administrativos.
DESCRIPTION:
URL:https://www.goiasfomento.com/agenda/lara-garcia-despachos-internos-e-administrativos-89/
LOCATION:Gabinete da Diretoria Administrativa e Financeira – Agência de Fomento de Goiás.
CATEGORIES:Diretoria Administrativa e Financeira
END:VEVENT
END:VCALENDAR