BEGIN:VCALENDAR
VERSION:2.0
PRODID:-//GoiásFomento - Agência de Fomento - ECPv6.15.20//NONSGML v1.0//EN
CALSCALE:GREGORIAN
METHOD:PUBLISH
X-WR-CALNAME:GoiásFomento - Agência de Fomento
X-ORIGINAL-URL:https://www.goiasfomento.com
X-WR-CALDESC:Eventos para GoiásFomento - Agência de Fomento
REFRESH-INTERVAL;VALUE=DURATION:PT1H
X-Robots-Tag:noindex
X-PUBLISHED-TTL:PT1H
BEGIN:VTIMEZONE
TZID:America/Sao_Paulo
BEGIN:STANDARD
TZOFFSETFROM:-0300
TZOFFSETTO:-0300
TZNAME:-03
DTSTART:20240101T000000
END:STANDARD
END:VTIMEZONE
BEGIN:VEVENT
DTSTART;TZID=America/Sao_Paulo:20251105T080000
DTEND;TZID=America/Sao_Paulo:20251105T120000
DTSTAMP:20260426T013405
CREATED:20251104T174614Z
LAST-MODIFIED:20251104T174614Z
UID:46882-1762329600-1762344000@www.goiasfomento.com
SUMMARY:Rivael Aguiar Pereira: Atendimentos e Despachos Internos
DESCRIPTION:
URL:https://www.goiasfomento.com/agenda/rivael-aguiar-pereira-atendimentos-e-despachos-internos-158/
LOCATION:Gabinete da Presidência da GoiásFomento – Agência de Fomento de Goiás.
CATEGORIES:Presidência
END:VEVENT
BEGIN:VEVENT
DTSTART;TZID=America/Sao_Paulo:20251105T080000
DTEND;TZID=America/Sao_Paulo:20251105T120000
DTSTAMP:20260426T013405
CREATED:20251104T175835Z
LAST-MODIFIED:20251104T175835Z
UID:46907-1762329600-1762344000@www.goiasfomento.com
SUMMARY:Rufino Veríssimo: Atendimentos e Despachos Internos.
DESCRIPTION:
URL:https://www.goiasfomento.com/agenda/rufino-verissimo-atendimentos-e-despachos-internos-159/
LOCATION:Chefia de Gabinete – Agência de Fomento de Goiás
CATEGORIES:Chefia de Gabinete
END:VEVENT
BEGIN:VEVENT
DTSTART;TZID=America/Sao_Paulo:20251105T080000
DTEND;TZID=America/Sao_Paulo:20251105T120000
DTSTAMP:20260426T013405
CREATED:20251105T150815Z
LAST-MODIFIED:20251105T150815Z
UID:46963-1762329600-1762344000@www.goiasfomento.com
SUMMARY:Vinícius Luz: Atendimentos e Despachos Internos.
DESCRIPTION:
URL:https://www.goiasfomento.com/agenda/vinicius-luz-atendimentos-e-despachos-internos-158/
LOCATION:Gabinete da Diretoria de Operações da GoiásFomento – Agência de Fomento de Goiás.
CATEGORIES:Diretoria de Operações
END:VEVENT
BEGIN:VEVENT
DTSTART;TZID=America/Sao_Paulo:20251105T080000
DTEND;TZID=America/Sao_Paulo:20251105T120000
DTSTAMP:20260426T013405
CREATED:20251105T185113Z
LAST-MODIFIED:20251105T185113Z
UID:46967-1762329600-1762344000@www.goiasfomento.com
SUMMARY:Lara Garcia: Despachos Internos e Administrativos.
DESCRIPTION:
URL:https://www.goiasfomento.com/agenda/lara-garcia-despachos-internos-e-administrativos-72/
LOCATION:Gabinete da Diretoria Administrativa e Financeira – Agência de Fomento de Goiás.
CATEGORIES:Diretoria Administrativa e Financeira
END:VEVENT
BEGIN:VEVENT
DTSTART;TZID=America/Sao_Paulo:20251105T140000
DTEND;TZID=America/Sao_Paulo:20251105T180000
DTSTAMP:20260426T013405
CREATED:20251104T174704Z
LAST-MODIFIED:20251104T174704Z
UID:46884-1762351200-1762365600@www.goiasfomento.com
SUMMARY:Rivael Aguiar Pereira: Atendimentos e Despachos Internos
DESCRIPTION:
URL:https://www.goiasfomento.com/agenda/rivael-aguiar-pereira-atendimentos-e-despachos-internos-159/
LOCATION:Gabinete da Presidência da GoiásFomento – Agência de Fomento de Goiás.
CATEGORIES:Presidência
END:VEVENT
BEGIN:VEVENT
DTSTART;TZID=America/Sao_Paulo:20251105T140000
DTEND;TZID=America/Sao_Paulo:20251105T180000
DTSTAMP:20260426T013405
CREATED:20251104T175902Z
LAST-MODIFIED:20251104T175902Z
UID:46912-1762351200-1762365600@www.goiasfomento.com
SUMMARY:Rufino Veríssimo: Atendimentos e Despachos Internos.
DESCRIPTION:
URL:https://www.goiasfomento.com/agenda/rufino-verissimo-atendimentos-e-despachos-internos-160/
LOCATION:Chefia de Gabinete – Agência de Fomento de Goiás
CATEGORIES:Chefia de Gabinete
END:VEVENT
BEGIN:VEVENT
DTSTART;TZID=America/Sao_Paulo:20251105T140000
DTEND;TZID=America/Sao_Paulo:20251105T180000
DTSTAMP:20260426T013405
CREATED:20251105T151531Z
LAST-MODIFIED:20251105T151531Z
UID:46965-1762351200-1762365600@www.goiasfomento.com
SUMMARY:Vinícius Luz: Atendimentos e Despachos Internos.
DESCRIPTION:
URL:https://www.goiasfomento.com/agenda/vinicius-luz-atendimentos-e-despachos-internos-159/
CATEGORIES:Diretoria de Operações
END:VEVENT
BEGIN:VEVENT
DTSTART;TZID=America/Sao_Paulo:20251105T140000
DTEND;TZID=America/Sao_Paulo:20251105T180000
DTSTAMP:20260426T013405
CREATED:20251105T185525Z
LAST-MODIFIED:20251105T185525Z
UID:46969-1762351200-1762365600@www.goiasfomento.com
SUMMARY:Lara Garcia: Despachos Internos e Administrativos.
DESCRIPTION:
URL:https://www.goiasfomento.com/agenda/lara-garcia-despachos-internos-e-administrativos-73/
LOCATION:Gabinete da Diretoria Administrativa e Financeira – Agência de Fomento de Goiás.
CATEGORIES:Diretoria Administrativa e Financeira
END:VEVENT
BEGIN:VEVENT
DTSTART;VALUE=DATE:20251106
DTEND;VALUE=DATE:20251107
DTSTAMP:20260426T013405
CREATED:20251105T185827Z
LAST-MODIFIED:20251105T185827Z
UID:46971-1762387200-1762473599@www.goiasfomento.com
SUMMARY:Vinícius Luz: GOIÁS SOCIAL em Planaltina de Goiás.
DESCRIPTION:
URL:https://www.goiasfomento.com/agenda/vinicius-luz-goias-social-em-planaltina-de-goias/
CATEGORIES:Diretoria de Operações
END:VEVENT
BEGIN:VEVENT
DTSTART;TZID=America/Sao_Paulo:20251106T080000
DTEND;TZID=America/Sao_Paulo:20251106T110000
DTSTAMP:20260426T013405
CREATED:20251104T174847Z
LAST-MODIFIED:20251104T174847Z
UID:46886-1762416000-1762426800@www.goiasfomento.com
SUMMARY:Rivael Aguiar Pereira: Atendimentos e Despachos Internos
DESCRIPTION:
URL:https://www.goiasfomento.com/agenda/rivael-aguiar-pereira-atendimentos-e-despachos-internos-160/
LOCATION:Gabinete da Presidência da GoiásFomento – Agência de Fomento de Goiás.
CATEGORIES:Presidência
END:VEVENT
BEGIN:VEVENT
DTSTART;TZID=America/Sao_Paulo:20251106T080000
DTEND;TZID=America/Sao_Paulo:20251106T120000
DTSTAMP:20260426T013405
CREATED:20251104T175959Z
LAST-MODIFIED:20251104T175959Z
UID:46915-1762416000-1762430400@www.goiasfomento.com
SUMMARY:Rufino Veríssimo: Atendimentos e Despachos Internos.
DESCRIPTION:
URL:https://www.goiasfomento.com/agenda/rufino-verissimo-atendimentos-e-despachos-internos-161/
LOCATION:Chefia de Gabinete – Agência de Fomento de Goiás
CATEGORIES:Chefia de Gabinete
END:VEVENT
BEGIN:VEVENT
DTSTART;TZID=America/Sao_Paulo:20251106T080000
DTEND;TZID=America/Sao_Paulo:20251106T120000
DTSTAMP:20260426T013405
CREATED:20251107T142003Z
LAST-MODIFIED:20251107T142003Z
UID:46980-1762416000-1762430400@www.goiasfomento.com
SUMMARY:Lara Garcia: Despachos Internos e Administrativos.
DESCRIPTION:
URL:https://www.goiasfomento.com/agenda/lara-garcia-despachos-internos-e-administrativos-74/
LOCATION:Diretoria Administrativa e Financeira – Agência de Fomento de Goiás.
CATEGORIES:Diretoria Administrativa e Financeira
END:VEVENT
BEGIN:VEVENT
DTSTART;TZID=America/Sao_Paulo:20251106T110000
DTEND;TZID=America/Sao_Paulo:20251106T120000
DTSTAMP:20260426T013405
CREATED:20251104T175136Z
LAST-MODIFIED:20251104T175136Z
UID:46890-1762426800-1762430400@www.goiasfomento.com
SUMMARY:Rivael Aguiar Pereira:  Assembleia Geral Extraordinária - Goiás Parcerias
DESCRIPTION:
URL:https://www.goiasfomento.com/agenda/rivael-aguiar-pereira-assembleia-geral-extraordinaria-goias-parcerias/
CATEGORIES:Presidência
END:VEVENT
BEGIN:VEVENT
DTSTART;TZID=America/Sao_Paulo:20251106T120000
DTEND;TZID=America/Sao_Paulo:20251106T123000
DTSTAMP:20260426T013405
CREATED:20251104T175009Z
LAST-MODIFIED:20251104T175009Z
UID:46888-1762430400-1762432200@www.goiasfomento.com
SUMMARY:Rivael Aguiar Pereira:  ENTREVISTA PRESENCIAL -12 horas ao vivo no estúdio TV BRASIL central
DESCRIPTION:
URL:https://www.goiasfomento.com/agenda/rivael-aguiar-pereira-entrevista-presencial-12-horas-ao-vivo-no-estudio-tv-brasil-central/
CATEGORIES:Presidência
END:VEVENT
BEGIN:VEVENT
DTSTART;TZID=America/Sao_Paulo:20251106T140000
DTEND;TZID=America/Sao_Paulo:20251106T180000
DTSTAMP:20260426T013405
CREATED:20251104T175230Z
LAST-MODIFIED:20251104T175230Z
UID:46893-1762437600-1762452000@www.goiasfomento.com
SUMMARY:Rivael Aguiar Pereira: Atendimentos e Despachos Internos
DESCRIPTION:
URL:https://www.goiasfomento.com/agenda/rivael-aguiar-pereira-atendimentos-e-despachos-internos-161/
LOCATION:Gabinete da Presidência da GoiásFomento – Agência de Fomento de Goiás.
CATEGORIES:Presidência
END:VEVENT
BEGIN:VEVENT
DTSTART;TZID=America/Sao_Paulo:20251106T140000
DTEND;TZID=America/Sao_Paulo:20251106T180000
DTSTAMP:20260426T013405
CREATED:20251104T180109Z
LAST-MODIFIED:20251104T180109Z
UID:46918-1762437600-1762452000@www.goiasfomento.com
SUMMARY:Rufino Veríssimo: Atendimentos e Despachos Internos.
DESCRIPTION:
URL:https://www.goiasfomento.com/agenda/rufino-verissimo-atendimentos-e-despachos-internos-162/
LOCATION:Chefia de Gabinete – Agência de Fomento de Goiás
CATEGORIES:Chefia de Gabinete
END:VEVENT
BEGIN:VEVENT
DTSTART;TZID=America/Sao_Paulo:20251106T140000
DTEND;TZID=America/Sao_Paulo:20251106T180000
DTSTAMP:20260426T013405
CREATED:20251107T142036Z
LAST-MODIFIED:20251107T142036Z
UID:46982-1762437600-1762452000@www.goiasfomento.com
SUMMARY:Lara Garcia: Despachos Internos e Administrativos.
DESCRIPTION:
URL:https://www.goiasfomento.com/agenda/lara-garcia-despachos-internos-e-administrativos-75/
LOCATION:Diretoria Administrativa e Financeira – Agência de Fomento de Goiás.
CATEGORIES:Diretoria Administrativa e Financeira
END:VEVENT
BEGIN:VEVENT
DTSTART;TZID=America/Sao_Paulo:20251107T080000
DTEND;TZID=America/Sao_Paulo:20251107T120000
DTSTAMP:20260426T013405
CREATED:20251104T175322Z
LAST-MODIFIED:20251104T175322Z
UID:46895-1762502400-1762516800@www.goiasfomento.com
SUMMARY:Rivael Aguiar Pereira: Atendimentos e Despachos Internos
DESCRIPTION:
URL:https://www.goiasfomento.com/agenda/rivael-aguiar-pereira-atendimentos-e-despachos-internos-162/
LOCATION:Gabinete da Presidência da GoiásFomento – Agência de Fomento de Goiás.
CATEGORIES:Presidência
END:VEVENT
BEGIN:VEVENT
DTSTART;TZID=America/Sao_Paulo:20251107T080000
DTEND;TZID=America/Sao_Paulo:20251107T120000
DTSTAMP:20260426T013405
CREATED:20251104T180221Z
LAST-MODIFIED:20251104T180221Z
UID:46920-1762502400-1762516800@www.goiasfomento.com
SUMMARY:Rufino Veríssimo: Atendimentos e Despachos Internos.
DESCRIPTION:
URL:https://www.goiasfomento.com/agenda/rufino-verissimo-atendimentos-e-despachos-internos-163/
LOCATION:Chefia de Gabinete – Agência de Fomento de Goiás
CATEGORIES:Chefia de Gabinete
END:VEVENT
BEGIN:VEVENT
DTSTART;TZID=America/Sao_Paulo:20251107T080000
DTEND;TZID=America/Sao_Paulo:20251107T120000
DTSTAMP:20260426T013405
CREATED:20251107T142116Z
LAST-MODIFIED:20251107T142116Z
UID:46984-1762502400-1762516800@www.goiasfomento.com
SUMMARY:Lara Garcia: Despachos Internos e Administrativos.
DESCRIPTION:
URL:https://www.goiasfomento.com/agenda/lara-garcia-despachos-internos-e-administrativos-76/
LOCATION:Diretoria Administrativa e Financeira da GoiásFomento – Agência de Fomento de Goiás.
CATEGORIES:Chefia de Gabinete,Diretoria Administrativa e Financeira
END:VEVENT
BEGIN:VEVENT
DTSTART;TZID=America/Sao_Paulo:20251107T080000
DTEND;TZID=America/Sao_Paulo:20251107T120000
DTSTAMP:20260426T013405
CREATED:20251107T184828Z
LAST-MODIFIED:20251107T185111Z
UID:47000-1762502400-1762516800@www.goiasfomento.com
SUMMARY:Vinícius Luz: GOIÁS SOCIAL em Planaltina de Goiás.
DESCRIPTION:
URL:https://www.goiasfomento.com/agenda/vinicius-luz-goias-social-em-planaltina-de-goias-2/
LOCATION:Planaltina/GO
CATEGORIES:Diretoria de Operações
END:VEVENT
BEGIN:VEVENT
DTSTART;TZID=America/Sao_Paulo:20251107T140000
DTEND;TZID=America/Sao_Paulo:20251107T180000
DTSTAMP:20260426T013405
CREATED:20251104T175345Z
LAST-MODIFIED:20251104T175345Z
UID:46897-1762524000-1762538400@www.goiasfomento.com
SUMMARY:Rivael Aguiar Pereira: Atendimentos e Despachos Internos
DESCRIPTION:
URL:https://www.goiasfomento.com/agenda/rivael-aguiar-pereira-atendimentos-e-despachos-internos-163/
LOCATION:Presidência – Agência de Fomento de Goiás
CATEGORIES:Presidência
END:VEVENT
BEGIN:VEVENT
DTSTART;TZID=America/Sao_Paulo:20251107T140000
DTEND;TZID=America/Sao_Paulo:20251107T180000
DTSTAMP:20260426T013405
CREATED:20251104T180310Z
LAST-MODIFIED:20251104T180310Z
UID:46922-1762524000-1762538400@www.goiasfomento.com
SUMMARY:Rufino Veríssimo: Atendimentos e Despachos Internos.
DESCRIPTION:
URL:https://www.goiasfomento.com/agenda/rufino-verissimo-atendimentos-e-despachos-internos-164/
CATEGORIES:Chefia de Gabinete
END:VEVENT
BEGIN:VEVENT
DTSTART;TZID=America/Sao_Paulo:20251107T140000
DTEND;TZID=America/Sao_Paulo:20251107T180000
DTSTAMP:20260426T013405
CREATED:20251107T142157Z
LAST-MODIFIED:20251107T142157Z
UID:46986-1762524000-1762538400@www.goiasfomento.com
SUMMARY:Lara Garcia: Despachos Internos e Administrativos.
DESCRIPTION:
URL:https://www.goiasfomento.com/agenda/lara-garcia-despachos-internos-e-administrativos-77/
LOCATION:Diretoria Administrativa e Financeira – Agência de Fomento de Goiás.
CATEGORIES:Diretoria Administrativa e Financeira
END:VEVENT
BEGIN:VEVENT
DTSTART;TZID=America/Sao_Paulo:20251107T140000
DTEND;TZID=America/Sao_Paulo:20251107T180000
DTSTAMP:20260426T013405
CREATED:20251107T185510Z
LAST-MODIFIED:20251107T185510Z
UID:47002-1762524000-1762538400@www.goiasfomento.com
SUMMARY:Vinícius Luz: Inauguração do Primeiro Mercadão do Entorno.
DESCRIPTION:
URL:https://www.goiasfomento.com/agenda/vinicius-luz-inauguracao-do-primeiro-mercadao-do-entorno/
LOCATION:Águas Lindas de Goiás.
CATEGORIES:Diretoria de Operações
END:VEVENT
BEGIN:VEVENT
DTSTART;TZID=America/Sao_Paulo:20251110T080000
DTEND;TZID=America/Sao_Paulo:20251110T090000
DTSTAMP:20260426T013405
CREATED:20251111T122701Z
LAST-MODIFIED:20251111T122701Z
UID:47009-1762761600-1762765200@www.goiasfomento.com
SUMMARY:Rivael Aguiar Pereira: Atendimentos e Despachos Internos
DESCRIPTION:
URL:https://www.goiasfomento.com/agenda/rivael-aguiar-pereira-atendimentos-e-despachos-internos-164/
LOCATION:Presidência – Agência de Fomento de Goiás
CATEGORIES:Presidência
END:VEVENT
BEGIN:VEVENT
DTSTART;TZID=America/Sao_Paulo:20251110T080000
DTEND;TZID=America/Sao_Paulo:20251110T090000
DTSTAMP:20260426T013405
CREATED:20251111T133117Z
LAST-MODIFIED:20251111T133117Z
UID:47033-1762761600-1762765200@www.goiasfomento.com
SUMMARY:Vinícius Luz: Atendimentos e Despachos Internos.
DESCRIPTION:
URL:https://www.goiasfomento.com/agenda/vinicius-luz-atendimentos-e-despachos-internos-160/
CATEGORIES:Diretoria de Operações
END:VEVENT
BEGIN:VEVENT
DTSTART;TZID=America/Sao_Paulo:20251110T080000
DTEND;TZID=America/Sao_Paulo:20251110T120000
DTSTAMP:20260426T013405
CREATED:20251105T140212Z
LAST-MODIFIED:20251105T140212Z
UID:46947-1762761600-1762776000@www.goiasfomento.com
SUMMARY:Rufino Veríssimo: Atendimentos e Despachos Internos.
DESCRIPTION:
URL:https://www.goiasfomento.com/agenda/rufino-verissimo-atendimentos-e-despachos-internos-174/
LOCATION:Chefia de Gabinete – Agência de Fomento de Goiás
CATEGORIES:Chefia de Gabinete
END:VEVENT
BEGIN:VEVENT
DTSTART;TZID=America/Sao_Paulo:20251110T080000
DTEND;TZID=America/Sao_Paulo:20251110T120000
DTSTAMP:20260426T013405
CREATED:20251110T195552Z
LAST-MODIFIED:20251110T195552Z
UID:47004-1762761600-1762776000@www.goiasfomento.com
SUMMARY:Lara Garcia: Despachos Internos e Administrativos.
DESCRIPTION:
URL:https://www.goiasfomento.com/agenda/lara-garcia-despachos-internos-e-administrativos-78/
LOCATION:Gabinete da Diretoria Administrativa e Financeira – Agência de Fomento de Goiás.
CATEGORIES:Diretoria Administrativa e Financeira
END:VEVENT
BEGIN:VEVENT
DTSTART;TZID=America/Sao_Paulo:20251110T090000
DTEND;TZID=America/Sao_Paulo:20251110T100000
DTSTAMP:20260426T013405
CREATED:20251111T123019Z
LAST-MODIFIED:20251111T123019Z
UID:47011-1762765200-1762768800@www.goiasfomento.com
SUMMARY:Rivael Aguiar Pereira: Reunião com Fernando Pellozo - Prefeito de Senador Canedo
DESCRIPTION:Pauta:  Parceria da  GoiásFomento com o Município.
URL:https://www.goiasfomento.com/agenda/rivael-aguiar-pereira-reuniao-com-fernando-pellozo-prefeito-de-senador-canedo/
LOCATION:Gabinete da Presidência da GoiásFomento – Agência de Fomento de Goiás.
CATEGORIES:Presidência
END:VEVENT
END:VCALENDAR