BEGIN:VCALENDAR
VERSION:2.0
PRODID:-//GoiásFomento - Agência de Fomento - ECPv6.15.20//NONSGML v1.0//EN
CALSCALE:GREGORIAN
METHOD:PUBLISH
X-WR-CALNAME:GoiásFomento - Agência de Fomento
X-ORIGINAL-URL:https://www.goiasfomento.com
X-WR-CALDESC:Eventos para GoiásFomento - Agência de Fomento
REFRESH-INTERVAL;VALUE=DURATION:PT1H
X-Robots-Tag:noindex
X-PUBLISHED-TTL:PT1H
BEGIN:VTIMEZONE
TZID:America/Sao_Paulo
BEGIN:STANDARD
TZOFFSETFROM:-0300
TZOFFSETTO:-0300
TZNAME:-03
DTSTART:20240101T000000
END:STANDARD
END:VTIMEZONE
BEGIN:VEVENT
DTSTART;TZID=America/Sao_Paulo:20250827T080000
DTEND;TZID=America/Sao_Paulo:20250827T120000
DTSTAMP:20260425T203722
CREATED:20250826T115459Z
LAST-MODIFIED:20250826T115459Z
UID:45684-1756281600-1756296000@www.goiasfomento.com
SUMMARY:Rivael Aguiar Pereira: Instalação dos Poderes Executivo\, Legislativo e Judiciário e Inauguração de 30 Unidades Habitacionais do Programa Pra Ter Onde Morar
DESCRIPTION:
URL:https://www.goiasfomento.com/agenda/rivael-aguiar-pereira-instalacao-dos-poderes-executivo-legislativo-e-judiciario-e-inauguracao-de-30-unidades-habitacionais-do-programa-pra-ter-onde-morar/
LOCATION:Santa Cruz de Goiás – praça da Matriz.
CATEGORIES:Presidência
END:VEVENT
BEGIN:VEVENT
DTSTART;TZID=America/Sao_Paulo:20250827T080000
DTEND;TZID=America/Sao_Paulo:20250827T120000
DTSTAMP:20260425T203722
CREATED:20250826T122601Z
LAST-MODIFIED:20250826T122601Z
UID:45706-1756281600-1756296000@www.goiasfomento.com
SUMMARY:Rufino Veríssimo: Atendimentos e Despachos Internos
DESCRIPTION:
URL:https://www.goiasfomento.com/agenda/rufino-verissimo-atendimentos-e-despachos-internos-62/
CATEGORIES:Chefia de Gabinete
END:VEVENT
BEGIN:VEVENT
DTSTART;TZID=America/Sao_Paulo:20250827T080000
DTEND;TZID=America/Sao_Paulo:20250827T120000
DTSTAMP:20260425T203722
CREATED:20250827T131850Z
LAST-MODIFIED:20250827T131850Z
UID:45728-1756281600-1756296000@www.goiasfomento.com
SUMMARY:Vinícius Luz: Atendimentos e Despachos Internos.
DESCRIPTION:
URL:https://www.goiasfomento.com/agenda/vinicius-luz-atendimentos-e-despachos-internos-62/
LOCATION:Gabinete da Diretoria de Operações da GoiásFomento – Agência de Fomento de Goiás.
CATEGORIES:Diretoria de Operações
END:VEVENT
BEGIN:VEVENT
DTSTART;TZID=America/Sao_Paulo:20250827T080000
DTEND;TZID=America/Sao_Paulo:20250827T120000
DTSTAMP:20260425T203722
CREATED:20250827T195357Z
LAST-MODIFIED:20250827T195357Z
UID:45730-1756281600-1756296000@www.goiasfomento.com
SUMMARY:Lara Garcia: Atendimentos e Despachos Internos.
DESCRIPTION:
URL:https://www.goiasfomento.com/agenda/lara-garcia-atendimentos-e-despachos-internos-63/
LOCATION:Gabinete da Diretoria Administrativa e Financeira – Agência de Fomento de Goiás.
CATEGORIES:Diretoria Administrativa e Financeira
END:VEVENT
BEGIN:VEVENT
DTSTART;TZID=America/Sao_Paulo:20250827T140000
DTEND;TZID=America/Sao_Paulo:20250827T170000
DTSTAMP:20260425T203722
CREATED:20250826T115631Z
LAST-MODIFIED:20250826T120036Z
UID:45686-1756303200-1756314000@www.goiasfomento.com
SUMMARY:Rivael Aguiar Pereira: Atendimentos e Despachos Interno.
DESCRIPTION:
URL:https://www.goiasfomento.com/agenda/rivael-aguiar-pereira-atendimentos-e-despachos-interno-68/
CATEGORIES:Presidência
END:VEVENT
BEGIN:VEVENT
DTSTART;TZID=America/Sao_Paulo:20250827T140000
DTEND;TZID=America/Sao_Paulo:20250827T180000
DTSTAMP:20260425T203722
CREATED:20250826T122624Z
LAST-MODIFIED:20250826T122624Z
UID:45708-1756303200-1756317600@www.goiasfomento.com
SUMMARY:Rufino Veríssimo: Atendimentos e Despachos Internos
DESCRIPTION:
URL:https://www.goiasfomento.com/agenda/rufino-verissimo-atendimentos-e-despachos-internos-63/
CATEGORIES:Chefia de Gabinete
END:VEVENT
BEGIN:VEVENT
DTSTART;TZID=America/Sao_Paulo:20250827T140000
DTEND;TZID=America/Sao_Paulo:20250827T180000
DTSTAMP:20260425T203722
CREATED:20250827T195418Z
LAST-MODIFIED:20250827T195418Z
UID:45732-1756303200-1756317600@www.goiasfomento.com
SUMMARY:Lara Garcia: Atendimentos e Despachos Internos.
DESCRIPTION:
URL:https://www.goiasfomento.com/agenda/lara-garcia-atendimentos-e-despachos-internos-64/
LOCATION:Gabinete da Diretoria Administrativa e Financeira – Agência de Fomento de Goiás.
CATEGORIES:Diretoria Administrativa e Financeira
END:VEVENT
BEGIN:VEVENT
DTSTART;TZID=America/Sao_Paulo:20250827T140000
DTEND;TZID=America/Sao_Paulo:20250827T180000
DTSTAMP:20260425T203722
CREATED:20250827T195526Z
LAST-MODIFIED:20250827T195526Z
UID:45734-1756303200-1756317600@www.goiasfomento.com
SUMMARY:Vinícius Luz: Atendimentos e Despachos Internos.
DESCRIPTION:
URL:https://www.goiasfomento.com/agenda/vinicius-luz-atendimentos-e-despachos-internos-63/
LOCATION:Gabinete da Diretoria de Operações da GoiásFomento – Agência de Fomento de Goiás.
CATEGORIES:Diretoria de Operações
END:VEVENT
BEGIN:VEVENT
DTSTART;TZID=America/Sao_Paulo:20250827T170000
DTEND;TZID=America/Sao_Paulo:20250827T180000
DTSTAMP:20260425T203722
CREATED:20250826T120229Z
LAST-MODIFIED:20250826T120229Z
UID:45688-1756314000-1756317600@www.goiasfomento.com
SUMMARY:Rivael Aguiar Pereira: Entrega do Evento de Inclusão dos Beneficiários  - PROBEM/OVG
DESCRIPTION:
URL:https://www.goiasfomento.com/agenda/rivael-aguiar-pereira-entrega-do-evento-de-inclusao-dos-beneficiarios-probem-ovg/
CATEGORIES:Presidência
END:VEVENT
BEGIN:VEVENT
DTSTART;TZID=America/Sao_Paulo:20250828T080000
DTEND;TZID=America/Sao_Paulo:20250828T120000
DTSTAMP:20260425T203722
CREATED:20250826T120342Z
LAST-MODIFIED:20250826T120342Z
UID:45690-1756368000-1756382400@www.goiasfomento.com
SUMMARY:Rivael Aguiar Pereira: Lançamento do Programa - CAPACITA IA
DESCRIPTION:
URL:https://www.goiasfomento.com/agenda/rivael-aguiar-pereira-lancamento-do-programa-capacita-ia/
LOCATION:Secretaria de Estado da Educação – SEDUC –  Av. Quinta Avenida\, quadra 71\, número 212\, Setor Leste Vila Nova\, Goiânia.
CATEGORIES:Presidência
END:VEVENT
BEGIN:VEVENT
DTSTART;TZID=America/Sao_Paulo:20250828T080000
DTEND;TZID=America/Sao_Paulo:20250828T120000
DTSTAMP:20260425T203722
CREATED:20250826T122647Z
LAST-MODIFIED:20250826T122647Z
UID:45710-1756368000-1756382400@www.goiasfomento.com
SUMMARY:Rufino Veríssimo: Atendimentos e Despachos Internos
DESCRIPTION:
URL:https://www.goiasfomento.com/agenda/rufino-verissimo-atendimentos-e-despachos-internos-64/
CATEGORIES:Chefia de Gabinete
END:VEVENT
BEGIN:VEVENT
DTSTART;TZID=America/Sao_Paulo:20250828T080000
DTEND;TZID=America/Sao_Paulo:20250828T120000
DTSTAMP:20260425T203722
CREATED:20250828T181025Z
LAST-MODIFIED:20250828T181025Z
UID:45736-1756368000-1756382400@www.goiasfomento.com
SUMMARY:Lara Garcia: Atendimentos e Despachos Internos.
DESCRIPTION:
URL:https://www.goiasfomento.com/agenda/lara-garcia-atendimentos-e-despachos-internos-65/
LOCATION:Gabinete da Diretoria Administrativa e Financeira – Agência de Fomento de Goiás.
CATEGORIES:Diretoria Administrativa e Financeira
END:VEVENT
BEGIN:VEVENT
DTSTART;TZID=America/Sao_Paulo:20250828T080000
DTEND;TZID=America/Sao_Paulo:20250828T120000
DTSTAMP:20260425T203722
CREATED:20250828T181453Z
LAST-MODIFIED:20250828T181453Z
UID:45740-1756368000-1756382400@www.goiasfomento.com
SUMMARY:Vinícius Luz: Atendimentos e Despachos Internos.
DESCRIPTION:
URL:https://www.goiasfomento.com/agenda/vinicius-luz-atendimentos-e-despachos-internos-64/
LOCATION:Gabinete da Diretoria de Operações da GoiásFomento – Agência de Fomento de Goiás.
CATEGORIES:Diretoria de Operações
END:VEVENT
BEGIN:VEVENT
DTSTART;TZID=America/Sao_Paulo:20250828T080000
DTEND;TZID=America/Sao_Paulo:20250828T120000
DTSTAMP:20260425T203722
CREATED:20250828T212933Z
LAST-MODIFIED:20250828T212933Z
UID:45752-1756368000-1756382400@www.goiasfomento.com
SUMMARY:Lara Garcia: Atendimentos e Despachos Internos.
DESCRIPTION:
URL:https://www.goiasfomento.com/agenda/lara-garcia-atendimentos-e-despachos-internos-67/
LOCATION:Gabinete da Diretoria Administrativa e Financeira – Agência de Fomento de Goiás.
CATEGORIES:Diretoria Administrativa e Financeira
END:VEVENT
BEGIN:VEVENT
DTSTART;TZID=America/Sao_Paulo:20250828T130000
DTEND;TZID=America/Sao_Paulo:20250828T150000
DTSTAMP:20260425T203722
CREATED:20250828T183334Z
LAST-MODIFIED:20250828T183334Z
UID:45742-1756386000-1756393200@www.goiasfomento.com
SUMMARY:Vinícius Luz:  Reunião com Presidente AGM  - Prefeito José Delio Jr.
DESCRIPTION:
URL:https://www.goiasfomento.com/agenda/vinicius-luz-reuniao-com-presidente-agm-prefeito-jose-delio-jr/
LOCATION:AGM – Associação Goiana de Municípios
CATEGORIES:Diretoria de Operações
END:VEVENT
BEGIN:VEVENT
DTSTART;TZID=America/Sao_Paulo:20250828T140000
DTEND;TZID=America/Sao_Paulo:20250828T180000
DTSTAMP:20260425T203722
CREATED:20250826T120832Z
LAST-MODIFIED:20250826T120832Z
UID:45694-1756389600-1756404000@www.goiasfomento.com
SUMMARY:Rivael Aguiar Pereira: Atendimentos e Despachos Internos
DESCRIPTION:
URL:https://www.goiasfomento.com/agenda/rivael-aguiar-pereira-atendimentos-e-despachos-internos-69/
CATEGORIES:Presidência
END:VEVENT
BEGIN:VEVENT
DTSTART;TZID=America/Sao_Paulo:20250828T140000
DTEND;TZID=America/Sao_Paulo:20250828T180000
DTSTAMP:20260425T203722
CREATED:20250826T122714Z
LAST-MODIFIED:20250826T122714Z
UID:45712-1756389600-1756404000@www.goiasfomento.com
SUMMARY:Rufino Veríssimo: Atendimentos e Despachos Internos
DESCRIPTION:
URL:https://www.goiasfomento.com/agenda/rufino-verissimo-atendimentos-e-despachos-internos-65/
CATEGORIES:Chefia de Gabinete
END:VEVENT
BEGIN:VEVENT
DTSTART;TZID=America/Sao_Paulo:20250828T150000
DTEND;TZID=America/Sao_Paulo:20250828T180000
DTSTAMP:20260425T203722
CREATED:20250828T183408Z
LAST-MODIFIED:20250828T183408Z
UID:45744-1756393200-1756404000@www.goiasfomento.com
SUMMARY:Vinícius Luz: Atendimentos e Despachos Internos.
DESCRIPTION:
URL:https://www.goiasfomento.com/agenda/vinicius-luz-atendimentos-e-despachos-internos-65/
LOCATION:Gabinete da Diretoria de Operações da GoiásFomento – Agência de Fomento de Goiás.
CATEGORIES:Diretoria de Operações
END:VEVENT
BEGIN:VEVENT
DTSTART;TZID=America/Sao_Paulo:20250829T080000
DTEND;TZID=America/Sao_Paulo:20250829T090000
DTSTAMP:20260425T203722
CREATED:20250828T183735Z
LAST-MODIFIED:20250828T183735Z
UID:45748-1756454400-1756458000@www.goiasfomento.com
SUMMARY:Vinícius Luz: Atendimentos e Despachos Internos.
DESCRIPTION:
URL:https://www.goiasfomento.com/agenda/vinicius-luz-atendimentos-e-despachos-internos-66/
CATEGORIES:Diretoria de Operações
END:VEVENT
BEGIN:VEVENT
DTSTART;TZID=America/Sao_Paulo:20250829T080000
DTEND;TZID=America/Sao_Paulo:20250829T120000
DTSTAMP:20260425T203722
CREATED:20250826T120555Z
LAST-MODIFIED:20250826T120555Z
UID:45692-1756454400-1756468800@www.goiasfomento.com
SUMMARY:Rivael Aguiar Pereira: Lançamento do Programa - CAPACITA IA
DESCRIPTION:
URL:https://www.goiasfomento.com/agenda/rivael-aguiar-pereira-lancamento-do-programa-capacita-ia-2/
LOCATION:Secretaria de Estado da Educação – SEDUC –  Av. Quinta Avenida\, quadra 71\, número 212\, Setor Leste Vila Nova\, Goiânia.
CATEGORIES:Presidência
END:VEVENT
BEGIN:VEVENT
DTSTART;TZID=America/Sao_Paulo:20250829T080000
DTEND;TZID=America/Sao_Paulo:20250829T120000
DTSTAMP:20260425T203722
CREATED:20250826T122801Z
LAST-MODIFIED:20250826T122801Z
UID:45714-1756454400-1756468800@www.goiasfomento.com
SUMMARY:Rufino Veríssimo: Atendimentos e Despachos Internos
DESCRIPTION:
URL:https://www.goiasfomento.com/agenda/rufino-verissimo-atendimentos-e-despachos-internos-66/
CATEGORIES:Chefia de Gabinete
END:VEVENT
BEGIN:VEVENT
DTSTART;TZID=America/Sao_Paulo:20250829T090000
DTEND;TZID=America/Sao_Paulo:20250829T103000
DTSTAMP:20260425T203722
CREATED:20250828T183622Z
LAST-MODIFIED:20250829T195003Z
UID:45746-1756458000-1756463400@www.goiasfomento.com
SUMMARY:Vinícius Luz: Reunião GF e  SEDS.
DESCRIPTION:
URL:https://www.goiasfomento.com/agenda/vinicius-luz-reuniao-com-silvana-seds/
LOCATION:Gabinete da Diretoria de Operações da GoiásFomento – Agência de Fomento de Goiás.
CATEGORIES:Diretoria de Operações
END:VEVENT
BEGIN:VEVENT
DTSTART;TZID=America/Sao_Paulo:20250829T100000
DTEND;TZID=America/Sao_Paulo:20250829T120000
DTSTAMP:20260425T203722
CREATED:20250828T191433Z
LAST-MODIFIED:20250828T191433Z
UID:45750-1756461600-1756468800@www.goiasfomento.com
SUMMARY:Vinícius Luz:  Reunião com Adriano Abreu - CGE.
DESCRIPTION:
URL:https://www.goiasfomento.com/agenda/vinicius-luz-reuniao-com-adriano-abreu-cge/
LOCATION:CGE – Palácio Pedro Ludovico Teixeira\, Rua 82\, nº 400\, 3º Andar – Setor Central – GOIÂNIA/GO
CATEGORIES:Diretoria de Operações
END:VEVENT
BEGIN:VEVENT
DTSTART;TZID=America/Sao_Paulo:20250829T140000
DTEND;TZID=America/Sao_Paulo:20250829T180000
DTSTAMP:20260425T203722
CREATED:20250826T120920Z
LAST-MODIFIED:20250826T120920Z
UID:45696-1756476000-1756490400@www.goiasfomento.com
SUMMARY:Rivael Aguiar Pereira: Atendimentos e Despachos Internos
DESCRIPTION:
URL:https://www.goiasfomento.com/agenda/rivael-aguiar-pereira-atendimentos-e-despachos-internos-70/
CATEGORIES:Presidência
END:VEVENT
BEGIN:VEVENT
DTSTART;TZID=America/Sao_Paulo:20250829T140000
DTEND;TZID=America/Sao_Paulo:20250829T180000
DTSTAMP:20260425T203722
CREATED:20250826T122912Z
LAST-MODIFIED:20250826T122912Z
UID:45716-1756476000-1756490400@www.goiasfomento.com
SUMMARY:Rufino Veríssimo: Atendimentos e Despachos Internos
DESCRIPTION:
URL:https://www.goiasfomento.com/agenda/rufino-verissimo-atendimentos-e-despachos-internos-67/
CATEGORIES:Chefia de Gabinete
END:VEVENT
BEGIN:VEVENT
DTSTART;TZID=America/Sao_Paulo:20250829T140000
DTEND;TZID=America/Sao_Paulo:20250829T180000
DTSTAMP:20260425T203722
CREATED:20250828T181059Z
LAST-MODIFIED:20250828T213042Z
UID:45738-1756476000-1756490400@www.goiasfomento.com
SUMMARY:Lara Garcia: Atendimentos e Despachos Internos.
DESCRIPTION:
URL:https://www.goiasfomento.com/agenda/lara-garcia-atendimentos-e-despachos-internos-66/
LOCATION:Gabinete da Diretoria Administrativa e Financeira – Agência de Fomento de Goiás.
CATEGORIES:Diretoria Administrativa e Financeira
END:VEVENT
BEGIN:VEVENT
DTSTART;TZID=America/Sao_Paulo:20250829T140000
DTEND;TZID=America/Sao_Paulo:20250829T180000
DTSTAMP:20260425T203722
CREATED:20250828T212954Z
LAST-MODIFIED:20250828T213027Z
UID:45754-1756476000-1756490400@www.goiasfomento.com
SUMMARY:Lara Garcia: Atendimentos e Despachos Internos.
DESCRIPTION:
URL:https://www.goiasfomento.com/agenda/lara-garcia-atendimentos-e-despachos-internos-68/
LOCATION:Gabinete da Diretoria Administrativa e Financeira – Agência de Fomento de Goiás.
CATEGORIES:Diretoria Administrativa e Financeira
END:VEVENT
BEGIN:VEVENT
DTSTART;TZID=America/Sao_Paulo:20250829T140000
DTEND;TZID=America/Sao_Paulo:20250829T180000
DTSTAMP:20260425T203722
CREATED:20250829T194857Z
LAST-MODIFIED:20250829T194857Z
UID:45757-1756476000-1756490400@www.goiasfomento.com
SUMMARY:Vinícius Luz: Atendimentos e Despachos Internos.
DESCRIPTION:
URL:https://www.goiasfomento.com/agenda/vinicius-luz-atendimentos-e-despachos-internos-67/
LOCATION:Gabinete da Diretoria de Operações da GoiásFomento – Agência de Fomento de Goiás.
CATEGORIES:Diretoria de Operações
END:VEVENT
BEGIN:VEVENT
DTSTART;TZID=America/Sao_Paulo:20250901T080000
DTEND;TZID=America/Sao_Paulo:20250901T120000
DTSTAMP:20260425T203722
CREATED:20250901T175815Z
LAST-MODIFIED:20250901T175815Z
UID:45761-1756713600-1756728000@www.goiasfomento.com
SUMMARY:Rivael Aguiar Pereira: Atendimentos e Despachos Internos
DESCRIPTION:
URL:https://www.goiasfomento.com/agenda/rivael-aguiar-pereira-atendimentos-e-despachos-internos-71/
CATEGORIES:Presidência
END:VEVENT
BEGIN:VEVENT
DTSTART;TZID=America/Sao_Paulo:20250901T080000
DTEND;TZID=America/Sao_Paulo:20250901T120000
DTSTAMP:20260425T203723
CREATED:20250901T175947Z
LAST-MODIFIED:20250901T175947Z
UID:45765-1756713600-1756728000@www.goiasfomento.com
SUMMARY:Rufino Veríssimo: Atendimentos e Despachos Internos.
DESCRIPTION:
URL:https://www.goiasfomento.com/agenda/rufino-verissimo-atendimentos-e-despachos-internos-68/
CATEGORIES:Chefia de Gabinete
END:VEVENT
END:VCALENDAR