BEGIN:VCALENDAR
VERSION:2.0
PRODID:-//GoiásFomento - Agência de Fomento - ECPv6.15.20//NONSGML v1.0//EN
CALSCALE:GREGORIAN
METHOD:PUBLISH
X-WR-CALNAME:GoiásFomento - Agência de Fomento
X-ORIGINAL-URL:https://www.goiasfomento.com
X-WR-CALDESC:Eventos para GoiásFomento - Agência de Fomento
REFRESH-INTERVAL;VALUE=DURATION:PT1H
X-Robots-Tag:noindex
X-PUBLISHED-TTL:PT1H
BEGIN:VTIMEZONE
TZID:America/Sao_Paulo
BEGIN:STANDARD
TZOFFSETFROM:-0300
TZOFFSETTO:-0300
TZNAME:-03
DTSTART:20240101T000000
END:STANDARD
END:VTIMEZONE
BEGIN:VEVENT
DTSTART;TZID=America/Sao_Paulo:20250821T080000
DTEND;TZID=America/Sao_Paulo:20250821T120000
DTSTAMP:20260425T203721
CREATED:20250818T131714Z
LAST-MODIFIED:20250818T131714Z
UID:45574-1755763200-1755777600@www.goiasfomento.com
SUMMARY:Rufino Veríssimo: Atendimentos e Despachos Internos
DESCRIPTION:
URL:https://www.goiasfomento.com/agenda/rufino-verissimo-atendimentos-e-despachos-internos-53/
CATEGORIES:Chefia de Gabinete
END:VEVENT
BEGIN:VEVENT
DTSTART;TZID=America/Sao_Paulo:20250821T080000
DTEND;TZID=America/Sao_Paulo:20250821T120000
DTSTAMP:20260425T203721
CREATED:20250821T120000Z
LAST-MODIFIED:20250822T194108Z
UID:45620-1755763200-1755777600@www.goiasfomento.com
SUMMARY:Vinícius Luz: Atendimentos e Despachos Internos.
DESCRIPTION:
URL:https://www.goiasfomento.com/agenda/vinicius-de-cecilio-luz-despachos-internos-204/
LOCATION:Gabinete da Diretoria Administrativa e Financeira – Agência de Fomento de Goiás.
CATEGORIES:Diretoria de Operações
END:VEVENT
BEGIN:VEVENT
DTSTART;TZID=America/Sao_Paulo:20250821T080000
DTEND;TZID=America/Sao_Paulo:20250821T120000
DTSTAMP:20260425T203721
CREATED:20250821T120052Z
LAST-MODIFIED:20250821T120052Z
UID:45622-1755763200-1755777600@www.goiasfomento.com
SUMMARY:Lara Garcia: Atendimentos e Despachos Internos.
DESCRIPTION:
URL:https://www.goiasfomento.com/agenda/lara-garcia-atendimentos-e-despachos-internos-57/
LOCATION:Gabinete da Diretoria Administrativa e Financeira – Agência de Fomento de Goiás.
CATEGORIES:Diretoria Administrativa e Financeira
END:VEVENT
BEGIN:VEVENT
DTSTART;TZID=America/Sao_Paulo:20250821T080000
DTEND;TZID=America/Sao_Paulo:20250821T120000
DTSTAMP:20260425T203721
CREATED:20250822T194908Z
LAST-MODIFIED:20250822T194908Z
UID:45648-1755763200-1755777600@www.goiasfomento.com
SUMMARY:Rivael Aguiar Pereira: Atendimentos e Despachos Internos
DESCRIPTION:
URL:https://www.goiasfomento.com/agenda/rivael-aguiar-pereira-atendimentos-e-despachos-internos-61/
CATEGORIES:Presidência
END:VEVENT
BEGIN:VEVENT
DTSTART;TZID=America/Sao_Paulo:20250821T140000
DTEND;TZID=America/Sao_Paulo:20250821T180000
DTSTAMP:20260425T203721
CREATED:20250818T131738Z
LAST-MODIFIED:20250818T131738Z
UID:45577-1755784800-1755799200@www.goiasfomento.com
SUMMARY:Rufino Veríssimo: Atendimentos e Despachos Internos
DESCRIPTION:
URL:https://www.goiasfomento.com/agenda/rufino-verissimo-atendimentos-e-despachos-internos-54/
CATEGORIES:Chefia de Gabinete
END:VEVENT
BEGIN:VEVENT
DTSTART;TZID=America/Sao_Paulo:20250821T140000
DTEND;TZID=America/Sao_Paulo:20250821T180000
DTSTAMP:20260425T203721
CREATED:20250821T135839Z
LAST-MODIFIED:20250821T135839Z
UID:45624-1755784800-1755799200@www.goiasfomento.com
SUMMARY:Lara Garcia: Atendimentos e Despachos Internos.
DESCRIPTION:
URL:https://www.goiasfomento.com/agenda/lara-garcia-atendimentos-e-despachos-internos-58/
LOCATION:Gabinete da Diretoria Administrativa e Financeira – Agência de Fomento de Goiás.
CATEGORIES:Diretoria Administrativa e Financeira
END:VEVENT
BEGIN:VEVENT
DTSTART;TZID=America/Sao_Paulo:20250821T140000
DTEND;TZID=America/Sao_Paulo:20250821T180000
DTSTAMP:20260425T203721
CREATED:20250821T143459Z
LAST-MODIFIED:20250822T194049Z
UID:45626-1755784800-1755799200@www.goiasfomento.com
SUMMARY:Vinícius Luz: Atendimentos e Despachos Internos.
DESCRIPTION:
URL:https://www.goiasfomento.com/agenda/vinicius-de-cecilio-luz-despachos-internos-205/
LOCATION:Gabinete da Diretoria de Operações da GoiásFomento – Agência de Fomento de Goiás.
CATEGORIES:Diretoria de Operações
END:VEVENT
BEGIN:VEVENT
DTSTART;TZID=America/Sao_Paulo:20250821T140000
DTEND;TZID=America/Sao_Paulo:20250821T180000
DTSTAMP:20260425T203721
CREATED:20250822T194938Z
LAST-MODIFIED:20250822T194938Z
UID:45650-1755784800-1755799200@www.goiasfomento.com
SUMMARY:Rivael Aguiar Pereira: Atendimentos e Despachos Internos
DESCRIPTION:
URL:https://www.goiasfomento.com/agenda/rivael-aguiar-pereira-atendimentos-e-despachos-internos-62/
CATEGORIES:Presidência
END:VEVENT
BEGIN:VEVENT
DTSTART;TZID=America/Sao_Paulo:20250822T080000
DTEND;TZID=America/Sao_Paulo:20250822T100000
DTSTAMP:20260425T203721
CREATED:20250822T190757Z
LAST-MODIFIED:20250822T190757Z
UID:45632-1755849600-1755856800@www.goiasfomento.com
SUMMARY:Lara Garcia: Abertura do Curso - Inteligência Artificial e uso do Chat GPT.
DESCRIPTION:
URL:https://www.goiasfomento.com/agenda/lara-garcia-abertura-do-curso-inteligencia-artificial-e-uso-do-chat-gpt/
LOCATION:Escola de Governo – Rua C-135 Qd 291 Lt 3\, Jardim América – Goiânia-GO.
CATEGORIES:Diretoria Administrativa e Financeira
END:VEVENT
BEGIN:VEVENT
DTSTART;TZID=America/Sao_Paulo:20250822T080000
DTEND;TZID=America/Sao_Paulo:20250822T120000
DTSTAMP:20260425T203721
CREATED:20250818T131822Z
LAST-MODIFIED:20250818T131822Z
UID:45579-1755849600-1755864000@www.goiasfomento.com
SUMMARY:Rufino Veríssimo: Atendimentos e Despachos Internos
DESCRIPTION:
URL:https://www.goiasfomento.com/agenda/rufino-verissimo-atendimentos-e-despachos-internos-55/
CATEGORIES:Chefia de Gabinete
END:VEVENT
BEGIN:VEVENT
DTSTART;TZID=America/Sao_Paulo:20250822T080000
DTEND;TZID=America/Sao_Paulo:20250822T120000
DTSTAMP:20260425T203721
CREATED:20250822T193847Z
LAST-MODIFIED:20250822T193942Z
UID:45635-1755849600-1755864000@www.goiasfomento.com
SUMMARY:Vinícius Luz: Atendimentos e Despachos Internos.
DESCRIPTION:
URL:https://www.goiasfomento.com/agenda/vinicius-de-cecilio-luz/
LOCATION:Gabinete da Diretoria de Operações da GoiásFomento – Agência de Fomento de Goiás.
CATEGORIES:Diretoria de Operações
END:VEVENT
BEGIN:VEVENT
DTSTART;TZID=America/Sao_Paulo:20250822T080000
DTEND;TZID=America/Sao_Paulo:20250822T120000
DTSTAMP:20260425T203721
CREATED:20250822T195018Z
LAST-MODIFIED:20250822T195018Z
UID:45652-1755849600-1755864000@www.goiasfomento.com
SUMMARY:Rivael Aguiar Pereira: Atendimentos e Despachos Internos
DESCRIPTION:
URL:https://www.goiasfomento.com/agenda/rivael-aguiar-pereira-atendimentos-e-despachos-internos-63/
CATEGORIES:Presidência
END:VEVENT
BEGIN:VEVENT
DTSTART;TZID=America/Sao_Paulo:20250822T100000
DTEND;TZID=America/Sao_Paulo:20250822T120000
DTSTAMP:20260425T203721
CREATED:20250822T190310Z
LAST-MODIFIED:20250822T190816Z
UID:45628-1755856800-1755864000@www.goiasfomento.com
SUMMARY:Lara Garcia: Atendimentos e Despachos Internos.
DESCRIPTION:
URL:https://www.goiasfomento.com/agenda/lara-garcia-atendimentos-e-despachos-internos-59/
LOCATION:Gabinete da Diretoria Administrativa e Financeira – Agência de Fomento de Goiás.
CATEGORIES:Diretoria Administrativa e Financeira
END:VEVENT
BEGIN:VEVENT
DTSTART;TZID=America/Sao_Paulo:20250822T140000
DTEND;TZID=America/Sao_Paulo:20250822T180000
DTSTAMP:20260425T203721
CREATED:20250818T131845Z
LAST-MODIFIED:20250818T131845Z
UID:45581-1755871200-1755885600@www.goiasfomento.com
SUMMARY:Rufino Veríssimo: Atendimentos e Despachos Internos
DESCRIPTION:
URL:https://www.goiasfomento.com/agenda/rufino-verissimo-atendimentos-e-despachos-internos-56/
CATEGORIES:Chefia de Gabinete
END:VEVENT
BEGIN:VEVENT
DTSTART;TZID=America/Sao_Paulo:20250822T140000
DTEND;TZID=America/Sao_Paulo:20250822T180000
DTSTAMP:20260425T203721
CREATED:20250822T190333Z
LAST-MODIFIED:20250822T190333Z
UID:45630-1755871200-1755885600@www.goiasfomento.com
SUMMARY:Lara Garcia: Atendimentos e Despachos Internos.
DESCRIPTION:
URL:https://www.goiasfomento.com/agenda/lara-garcia-atendimentos-e-despachos-internos-60/
LOCATION:Gabinete da Diretoria Administrativa e Financeira – Agência de Fomento de Goiás.
CATEGORIES:Diretoria Administrativa e Financeira
END:VEVENT
BEGIN:VEVENT
DTSTART;TZID=America/Sao_Paulo:20250822T140000
DTEND;TZID=America/Sao_Paulo:20250822T180000
DTSTAMP:20260425T203721
CREATED:20250822T193959Z
LAST-MODIFIED:20250822T193959Z
UID:45638-1755871200-1755885600@www.goiasfomento.com
SUMMARY:Vinícius Luz: Atendimentos e Despachos Internos.
DESCRIPTION:
URL:https://www.goiasfomento.com/agenda/vinicius-luz-atendimentos-e-despachos-internos-55/
LOCATION:Gabinete da Diretoria de Operações da GoiásFomento – Agência de Fomento de Goiás.
CATEGORIES:Diretoria de Operações
END:VEVENT
BEGIN:VEVENT
DTSTART;TZID=America/Sao_Paulo:20250822T140000
DTEND;TZID=America/Sao_Paulo:20250822T180000
DTSTAMP:20260425T203721
CREATED:20250822T195050Z
LAST-MODIFIED:20250822T195050Z
UID:45654-1755871200-1755885600@www.goiasfomento.com
SUMMARY:Rivael Aguiar Pereira: Atendimentos e Despachos Internos
DESCRIPTION:
URL:https://www.goiasfomento.com/agenda/rivael-aguiar-pereira-atendimentos-e-despachos-internos-64/
CATEGORIES:Presidência
END:VEVENT
BEGIN:VEVENT
DTSTART;TZID=America/Sao_Paulo:20250825T080000
DTEND;TZID=America/Sao_Paulo:20250825T120000
DTSTAMP:20260425T203721
CREATED:20250825T171314Z
LAST-MODIFIED:20250825T171314Z
UID:45657-1756108800-1756123200@www.goiasfomento.com
SUMMARY:Lara Garcia: Atendimentos e Despachos Internos.
DESCRIPTION:
URL:https://www.goiasfomento.com/agenda/lara-garcia-atendimentos-e-despachos-internos-61/
LOCATION:Gabinete da Diretoria Administrativa e Financeira – Agência de Fomento de Goiás.
CATEGORIES:Diretoria Administrativa e Financeira
END:VEVENT
BEGIN:VEVENT
DTSTART;TZID=America/Sao_Paulo:20250825T080000
DTEND;TZID=America/Sao_Paulo:20250825T120000
DTSTAMP:20260425T203721
CREATED:20250825T171612Z
LAST-MODIFIED:20250825T171612Z
UID:45659-1756108800-1756123200@www.goiasfomento.com
SUMMARY:Vinícius Luz: Atendimentos e Despachos Internos.
DESCRIPTION:
URL:https://www.goiasfomento.com/agenda/vinicius-luz-atendimentos-e-despachos-internos-56/
LOCATION:Gabinete da Diretoria de Operações da GoiásFomento – Agência de Fomento de Goiás.
CATEGORIES:Diretoria de Operações
END:VEVENT
BEGIN:VEVENT
DTSTART;TZID=America/Sao_Paulo:20250825T080000
DTEND;TZID=America/Sao_Paulo:20250825T120000
DTSTAMP:20260425T203721
CREATED:20250826T114841Z
LAST-MODIFIED:20250826T114841Z
UID:45676-1756108800-1756123200@www.goiasfomento.com
SUMMARY:Rivael Aguiar Pereira: Atendimentos e Despachos Internos
DESCRIPTION:
URL:https://www.goiasfomento.com/agenda/rivael-aguiar-pereira-atendimentos-e-despachos-internos-65/
CATEGORIES:Presidência
END:VEVENT
BEGIN:VEVENT
DTSTART;TZID=America/Sao_Paulo:20250825T080000
DTEND;TZID=America/Sao_Paulo:20250825T120000
DTSTAMP:20260425T203721
CREATED:20250826T122244Z
LAST-MODIFIED:20250826T122244Z
UID:45698-1756108800-1756123200@www.goiasfomento.com
SUMMARY:Rufino Veríssimo: Atendimentos e Despachos Internos
DESCRIPTION:
URL:https://www.goiasfomento.com/agenda/rufino-verissimo-atendimentos-e-despachos-internos-58/
CATEGORIES:Chefia de Gabinete
END:VEVENT
BEGIN:VEVENT
DTSTART;TZID=America/Sao_Paulo:20250825T140000
DTEND;TZID=America/Sao_Paulo:20250825T150000
DTSTAMP:20260425T203721
CREATED:20250825T174435Z
LAST-MODIFIED:20250825T174435Z
UID:45669-1756130400-1756134000@www.goiasfomento.com
SUMMARY:Vinícius Luz: Atendimentos e Despachos Internos.
DESCRIPTION:
URL:https://www.goiasfomento.com/agenda/vinicius-luz-atendimentos-e-despachos-internos-57/
LOCATION:Gabinete da Diretoria de Operações da GoiásFomento – Agência de Fomento de Goiás.
CATEGORIES:Diretoria de Operações
END:VEVENT
BEGIN:VEVENT
DTSTART;TZID=America/Sao_Paulo:20250825T140000
DTEND;TZID=America/Sao_Paulo:20250825T180000
DTSTAMP:20260425T203721
CREATED:20250825T172508Z
LAST-MODIFIED:20250825T180714Z
UID:45665-1756130400-1756144800@www.goiasfomento.com
SUMMARY:Lara Garcia: Atendimentos e Despachos Internos.
DESCRIPTION:
URL:https://www.goiasfomento.com/agenda/lara-garcia-atendimentos-e-despachos-internos-62/
LOCATION:Gabinete da Diretoria Administrativa e Financeira – Agência de Fomento de Goiás.
CATEGORIES:Diretoria Administrativa e Financeira
END:VEVENT
BEGIN:VEVENT
DTSTART;TZID=America/Sao_Paulo:20250825T140000
DTEND;TZID=America/Sao_Paulo:20250825T180000
DTSTAMP:20260425T203721
CREATED:20250826T114936Z
LAST-MODIFIED:20250826T114936Z
UID:45678-1756130400-1756144800@www.goiasfomento.com
SUMMARY:Rivael Aguiar Pereira: Atendimentos e Despachos Internos
DESCRIPTION:
URL:https://www.goiasfomento.com/agenda/rivael-aguiar-pereira-atendimentos-e-despachos-internos-66/
CATEGORIES:Presidência
END:VEVENT
BEGIN:VEVENT
DTSTART;TZID=America/Sao_Paulo:20250825T140000
DTEND;TZID=America/Sao_Paulo:20250825T180000
DTSTAMP:20260425T203721
CREATED:20250826T122332Z
LAST-MODIFIED:20250826T122332Z
UID:45700-1756130400-1756144800@www.goiasfomento.com
SUMMARY:Rufino Veríssimo: Atendimentos e Despachos Internos
DESCRIPTION:
URL:https://www.goiasfomento.com/agenda/rufino-verissimo-atendimentos-e-despachos-internos-59/
CATEGORIES:Chefia de Gabinete
END:VEVENT
BEGIN:VEVENT
DTSTART;TZID=America/Sao_Paulo:20250825T150000
DTEND;TZID=America/Sao_Paulo:20250825T160000
DTSTAMP:20260425T203721
CREATED:20250825T172119Z
LAST-MODIFIED:20250825T172119Z
UID:45661-1756134000-1756137600@www.goiasfomento.com
SUMMARY:Vinícius Luz: Reunião sobre Programas Sociais – GoiásFomento e Fomento Paraná - on-line.
DESCRIPTION:
URL:https://www.goiasfomento.com/agenda/vinicius-luz-reuniao-sobre-programas-sociais-goiasfomento-e-fomento-parana-on-line/
LOCATION:Gabinete da Diretoria de Operações da GoiásFomento – Agência de Fomento de Goiás.
CATEGORIES:Diretoria de Operações
END:VEVENT
BEGIN:VEVENT
DTSTART;TZID=America/Sao_Paulo:20250825T160000
DTEND;TZID=America/Sao_Paulo:20250825T180000
DTSTAMP:20260425T203721
CREATED:20250825T174459Z
LAST-MODIFIED:20250825T174459Z
UID:45671-1756137600-1756144800@www.goiasfomento.com
SUMMARY:Vinícius Luz: Atendimentos e Despachos Internos.
DESCRIPTION:
URL:https://www.goiasfomento.com/agenda/vinicius-luz-atendimentos-e-despachos-internos-58/
LOCATION:Gabinete da Diretoria de Operações da GoiásFomento – Agência de Fomento de Goiás.
CATEGORIES:Diretoria de Operações
END:VEVENT
BEGIN:VEVENT
DTSTART;TZID=America/Sao_Paulo:20250826T080000
DTEND;TZID=America/Sao_Paulo:20250826T120000
DTSTAMP:20260425T203721
CREATED:20250826T115117Z
LAST-MODIFIED:20250826T115117Z
UID:45680-1756195200-1756209600@www.goiasfomento.com
SUMMARY:Rivael Aguiar Pereira: Atendimentos e Despachos Internos
DESCRIPTION:
URL:https://www.goiasfomento.com/agenda/rivael-aguiar-pereira-atendimentos-e-despachos-internos-67/
CATEGORIES:Presidência
END:VEVENT
BEGIN:VEVENT
DTSTART;TZID=America/Sao_Paulo:20250826T080000
DTEND;TZID=America/Sao_Paulo:20250826T120000
DTSTAMP:20260425T203721
CREATED:20250826T122503Z
LAST-MODIFIED:20250826T122503Z
UID:45702-1756195200-1756209600@www.goiasfomento.com
SUMMARY:Rufino Veríssimo: Atendimentos e Despachos Internos
DESCRIPTION:
URL:https://www.goiasfomento.com/agenda/rufino-verissimo-atendimentos-e-despachos-internos-60/
CATEGORIES:Chefia de Gabinete
END:VEVENT
BEGIN:VEVENT
DTSTART;TZID=America/Sao_Paulo:20250826T080000
DTEND;TZID=America/Sao_Paulo:20250826T120000
DTSTAMP:20260425T203721
CREATED:20250826T130609Z
LAST-MODIFIED:20250826T130609Z
UID:45719-1756195200-1756209600@www.goiasfomento.com
SUMMARY:Vinícius Luz: Atendimentos e Despachos Internos.
DESCRIPTION:
URL:https://www.goiasfomento.com/agenda/vinicius-luz-atendimentos-e-despachos-internos-59/
LOCATION:Gabinete da Diretoria de Operações da GoiásFomento – Agência de Fomento de Goiás.
CATEGORIES:Diretoria de Operações
END:VEVENT
END:VCALENDAR