BEGIN:VCALENDAR
VERSION:2.0
PRODID:-//GoiásFomento - Agência de Fomento - ECPv6.15.20//NONSGML v1.0//EN
CALSCALE:GREGORIAN
METHOD:PUBLISH
X-WR-CALNAME:GoiásFomento - Agência de Fomento
X-ORIGINAL-URL:https://www.goiasfomento.com
X-WR-CALDESC:Eventos para GoiásFomento - Agência de Fomento
REFRESH-INTERVAL;VALUE=DURATION:PT1H
X-Robots-Tag:noindex
X-PUBLISHED-TTL:PT1H
BEGIN:VTIMEZONE
TZID:America/Sao_Paulo
BEGIN:STANDARD
TZOFFSETFROM:-0300
TZOFFSETTO:-0300
TZNAME:-03
DTSTART:20240101T000000
END:STANDARD
END:VTIMEZONE
BEGIN:VEVENT
DTSTART;TZID=America/Sao_Paulo:20250814T080000
DTEND;TZID=America/Sao_Paulo:20250814T120000
DTSTAMP:20260425T203722
CREATED:20250811T160044Z
LAST-MODIFIED:20250811T160044Z
UID:45466-1755158400-1755172800@www.goiasfomento.com
SUMMARY:Rufino Veríssimo: Atendimentos e Despachos Internos
DESCRIPTION:
URL:https://www.goiasfomento.com/agenda/rufino-verissimo-atendimentos-e-despachos-internos-42/
CATEGORIES:Chefia de Gabinete
END:VEVENT
BEGIN:VEVENT
DTSTART;TZID=America/Sao_Paulo:20250814T080000
DTEND;TZID=America/Sao_Paulo:20250814T120000
DTSTAMP:20260425T203722
CREATED:20250811T160912Z
LAST-MODIFIED:20250811T160912Z
UID:45478-1755158400-1755172800@www.goiasfomento.com
SUMMARY:Rivael Aguiar Pereira: Atendimentos e Despachos Internos
DESCRIPTION:
URL:https://www.goiasfomento.com/agenda/rivael-aguiar-pereira-atendimentos-e-despachos-internos-51/
CATEGORIES:Presidência
END:VEVENT
BEGIN:VEVENT
DTSTART;TZID=America/Sao_Paulo:20250814T080000
DTEND;TZID=America/Sao_Paulo:20250814T120000
DTSTAMP:20260425T203722
CREATED:20250814T105205Z
LAST-MODIFIED:20250814T105205Z
UID:45514-1755158400-1755172800@www.goiasfomento.com
SUMMARY:Vinícius Luz: Atendimentos e Despachos Internos.
DESCRIPTION:
URL:https://www.goiasfomento.com/agenda/vinicius-luz-atendimentos-e-despachos-internos-47/
LOCATION:Gabinete da Diretoria de Operações da GoiásFomento – Agência de Fomento de Goiás.
CATEGORIES:Diretoria de Operações
END:VEVENT
BEGIN:VEVENT
DTSTART;TZID=America/Sao_Paulo:20250814T080000
DTEND;TZID=America/Sao_Paulo:20250814T120000
DTSTAMP:20260425T203722
CREATED:20250814T112213Z
LAST-MODIFIED:20250814T112213Z
UID:45520-1755158400-1755172800@www.goiasfomento.com
SUMMARY:Lara Garcia: Atendimentos e Despachos Internos.
DESCRIPTION:
URL:https://www.goiasfomento.com/agenda/lara-garcia-atendimentos-e-despachos-internos-47/
LOCATION:Gabinete da Diretoria Administrativa e Financeira – Agência de Fomento de Goiás.
CATEGORIES:Diretoria Administrativa e Financeira
END:VEVENT
BEGIN:VEVENT
DTSTART;TZID=America/Sao_Paulo:20250814T140000
DTEND;TZID=America/Sao_Paulo:20250814T153000
DTSTAMP:20260425T203722
CREATED:20250814T110545Z
LAST-MODIFIED:20250814T110545Z
UID:45516-1755180000-1755185400@www.goiasfomento.com
SUMMARY:Vinícius Luz: Reunião com Subsecretaria de Energia\, Telecomunicações e Cidades Inteligentes.
DESCRIPTION:
URL:https://www.goiasfomento.com/agenda/vinicius-luz-reuniao-com-subsecretaria-de-energia-telecomunicacoes-e-cidades-inteligentes/
LOCATION:Sala de Reuniões da Diretoria – Agência de Fomento de Goiás.
CATEGORIES:Diretoria de Operações
END:VEVENT
BEGIN:VEVENT
DTSTART;TZID=America/Sao_Paulo:20250814T140000
DTEND;TZID=America/Sao_Paulo:20250814T153000
DTSTAMP:20260425T203722
CREATED:20250814T112042Z
LAST-MODIFIED:20250814T112042Z
UID:45518-1755180000-1755185400@www.goiasfomento.com
SUMMARY:Lara Garcia: Reunião com Subsecretaria de Energia\, Telecomunicações e Cidades Inteligentes.
DESCRIPTION:
URL:https://www.goiasfomento.com/agenda/lara-garcia-reuniao-com-subsecretaria-de-energia-telecomunicacoes-e-cidades-inteligentes/
LOCATION:Sala de Reuniões da Diretoria – Agência de Fomento de Goiás.
CATEGORIES:Diretoria Administrativa e Financeira
END:VEVENT
BEGIN:VEVENT
DTSTART;TZID=America/Sao_Paulo:20250814T140000
DTEND;TZID=America/Sao_Paulo:20250814T180000
DTSTAMP:20260425T203722
CREATED:20250811T160130Z
LAST-MODIFIED:20250811T160130Z
UID:45468-1755180000-1755194400@www.goiasfomento.com
SUMMARY:Rufino Veríssimo: Atendimentos e Despachos Internos
DESCRIPTION:
URL:https://www.goiasfomento.com/agenda/rufino-verissimo-atendimentos-e-despachos-internos-43/
CATEGORIES:Chefia de Gabinete
END:VEVENT
BEGIN:VEVENT
DTSTART;TZID=America/Sao_Paulo:20250814T140000
DTEND;TZID=America/Sao_Paulo:20250814T180000
DTSTAMP:20260425T203722
CREATED:20250811T160954Z
LAST-MODIFIED:20250811T160954Z
UID:45480-1755180000-1755194400@www.goiasfomento.com
SUMMARY:Rivael Aguiar Pereira: Atendimentos e Despachos Internos
DESCRIPTION:
URL:https://www.goiasfomento.com/agenda/rivael-aguiar-pereira-atendimentos-e-despachos-internos-52/
CATEGORIES:Presidência
END:VEVENT
BEGIN:VEVENT
DTSTART;TZID=America/Sao_Paulo:20250814T153000
DTEND;TZID=America/Sao_Paulo:20250814T180000
DTSTAMP:20260425T203722
CREATED:20250814T112447Z
LAST-MODIFIED:20250814T112447Z
UID:45522-1755185400-1755194400@www.goiasfomento.com
SUMMARY:Lara Garcia: Atendimentos e Despachos Internos.
DESCRIPTION:
URL:https://www.goiasfomento.com/agenda/lara-garcia-atendimentos-e-despachos-internos-48/
LOCATION:Gabinete da Diretoria Administrativa e Financeira – Agência de Fomento de Goiás.
CATEGORIES:Diretoria Administrativa e Financeira
END:VEVENT
BEGIN:VEVENT
DTSTART;TZID=America/Sao_Paulo:20250814T153000
DTEND;TZID=America/Sao_Paulo:20250814T180000
DTSTAMP:20260425T203722
CREATED:20250814T114625Z
LAST-MODIFIED:20250814T114625Z
UID:45524-1755185400-1755194400@www.goiasfomento.com
SUMMARY:Vinícius Luz: Atendimentos e Despachos Internos.
DESCRIPTION:
URL:https://www.goiasfomento.com/agenda/vinicius-luz-atendimentos-e-despachos-internos-48/
LOCATION:Gabinete da Diretoria de Operações da GoiásFomento – Agência de Fomento de Goiás.
CATEGORIES:Diretoria de Operações
END:VEVENT
BEGIN:VEVENT
DTSTART;TZID=America/Sao_Paulo:20250815T080000
DTEND;TZID=America/Sao_Paulo:20250815T120000
DTSTAMP:20260425T203722
CREATED:20250811T160227Z
LAST-MODIFIED:20250811T160227Z
UID:45470-1755244800-1755259200@www.goiasfomento.com
SUMMARY:Rufino Veríssimo: Atendimentos e Despachos Internos
DESCRIPTION:
URL:https://www.goiasfomento.com/agenda/rufino-verissimo-atendimentos-e-despachos-internos-44/
CATEGORIES:Chefia de Gabinete
END:VEVENT
BEGIN:VEVENT
DTSTART;TZID=America/Sao_Paulo:20250815T080000
DTEND;TZID=America/Sao_Paulo:20250815T120000
DTSTAMP:20260425T203722
CREATED:20250811T161112Z
LAST-MODIFIED:20250811T161112Z
UID:45482-1755244800-1755259200@www.goiasfomento.com
SUMMARY:Rivael Aguiar Pereira: Atendimentos e Despachos Internos
DESCRIPTION:
URL:https://www.goiasfomento.com/agenda/rivael-aguiar-pereira-atendimentos-e-despachos-internos-53/
CATEGORIES:Presidência
END:VEVENT
BEGIN:VEVENT
DTSTART;TZID=America/Sao_Paulo:20250815T080000
DTEND;TZID=America/Sao_Paulo:20250815T120000
DTSTAMP:20260425T203722
CREATED:20250815T183341Z
LAST-MODIFIED:20250815T183341Z
UID:45538-1755244800-1755259200@www.goiasfomento.com
SUMMARY:Vinícius Luz: Atendimentos e Despachos Internos.
DESCRIPTION:
URL:https://www.goiasfomento.com/agenda/vinicius-luz-atendimentos-e-despachos-internos-49/
LOCATION:Gabinete da Diretoria de Operações da GoiásFomento – Agência de Fomento de Goiás.
CATEGORIES:Diretoria de Operações
END:VEVENT
BEGIN:VEVENT
DTSTART;TZID=America/Sao_Paulo:20250815T080000
DTEND;TZID=America/Sao_Paulo:20250815T120000
DTSTAMP:20260425T203722
CREATED:20250815T184234Z
LAST-MODIFIED:20250815T184234Z
UID:45542-1755244800-1755259200@www.goiasfomento.com
SUMMARY:Lara Garcia: Atendimentos e Despachos Internos.
DESCRIPTION:
URL:https://www.goiasfomento.com/agenda/lara-garcia-atendimentos-e-despachos-internos-49/
LOCATION:Gabinete da Diretoria Administrativa e Financeira – Agência de Fomento de Goiás.
CATEGORIES:Diretoria Administrativa e Financeira
END:VEVENT
BEGIN:VEVENT
DTSTART;TZID=America/Sao_Paulo:20250815T140000
DTEND;TZID=America/Sao_Paulo:20250815T180000
DTSTAMP:20260425T203722
CREATED:20250811T160251Z
LAST-MODIFIED:20250811T160251Z
UID:45472-1755266400-1755280800@www.goiasfomento.com
SUMMARY:Rufino Veríssimo: Atendimentos e Despachos Internos
DESCRIPTION:
URL:https://www.goiasfomento.com/agenda/rufino-verissimo-atendimentos-e-despachos-internos-45/
CATEGORIES:Chefia de Gabinete
END:VEVENT
BEGIN:VEVENT
DTSTART;TZID=America/Sao_Paulo:20250815T140000
DTEND;TZID=America/Sao_Paulo:20250815T180000
DTSTAMP:20260425T203722
CREATED:20250811T161134Z
LAST-MODIFIED:20250811T161134Z
UID:45484-1755266400-1755280800@www.goiasfomento.com
SUMMARY:Rivael Aguiar Pereira: Atendimentos e Despachos Internos
DESCRIPTION:
URL:https://www.goiasfomento.com/agenda/rivael-aguiar-pereira-atendimentos-e-despachos-internos-54/
CATEGORIES:Presidência
END:VEVENT
BEGIN:VEVENT
DTSTART;TZID=America/Sao_Paulo:20250815T140000
DTEND;TZID=America/Sao_Paulo:20250815T180000
DTSTAMP:20260425T203722
CREATED:20250815T183419Z
LAST-MODIFIED:20250815T183419Z
UID:45540-1755266400-1755280800@www.goiasfomento.com
SUMMARY:Vinícius Luz: Atendimentos e Despachos Internos.
DESCRIPTION:
URL:https://www.goiasfomento.com/agenda/vinicius-luz-atendimentos-e-despachos-internos-50/
LOCATION:Gabinete da Diretoria de Operações da GoiásFomento – Agência de Fomento de Goiás.
CATEGORIES:Diretoria de Operações
END:VEVENT
BEGIN:VEVENT
DTSTART;TZID=America/Sao_Paulo:20250815T140000
DTEND;TZID=America/Sao_Paulo:20250815T180000
DTSTAMP:20260425T203722
CREATED:20250815T184258Z
LAST-MODIFIED:20250815T184258Z
UID:45544-1755266400-1755280800@www.goiasfomento.com
SUMMARY:Lara Garcia: Atendimentos e Despachos Internos.
DESCRIPTION:
URL:https://www.goiasfomento.com/agenda/lara-garcia-atendimentos-e-despachos-internos-50/
LOCATION:Gabinete da Diretoria Administrativa e Financeira – Agência de Fomento de Goiás.
CATEGORIES:Diretoria Administrativa e Financeira
END:VEVENT
BEGIN:VEVENT
DTSTART;TZID=America/Sao_Paulo:20250818T080000
DTEND;TZID=America/Sao_Paulo:20250818T120000
DTSTAMP:20260425T203722
CREATED:20250818T130347Z
LAST-MODIFIED:20250818T130347Z
UID:45546-1755504000-1755518400@www.goiasfomento.com
SUMMARY:Rivael Aguiar Pereira: Atendimentos e Despachos Internos
DESCRIPTION:
URL:https://www.goiasfomento.com/agenda/rivael-aguiar-pereira-atendimentos-e-despachos-internos-55/
CATEGORIES:Presidência
END:VEVENT
BEGIN:VEVENT
DTSTART;TZID=America/Sao_Paulo:20250818T080000
DTEND;TZID=America/Sao_Paulo:20250818T120000
DTSTAMP:20260425T203722
CREATED:20250818T131034Z
LAST-MODIFIED:20250818T131034Z
UID:45558-1755504000-1755518400@www.goiasfomento.com
SUMMARY:Rufino Veríssimo: Atendimentos e Despachos Internos
DESCRIPTION:
URL:https://www.goiasfomento.com/agenda/rufino-verissimo-atendimentos-e-despachos-internos-46/
CATEGORIES:Chefia de Gabinete
END:VEVENT
BEGIN:VEVENT
DTSTART;TZID=America/Sao_Paulo:20250818T080000
DTEND;TZID=America/Sao_Paulo:20250818T120000
DTSTAMP:20260425T203722
CREATED:20250818T185548Z
LAST-MODIFIED:20250818T185548Z
UID:45584-1755504000-1755518400@www.goiasfomento.com
SUMMARY:Lara Garcia: Atendimentos e Despachos Internos.
DESCRIPTION:
URL:https://www.goiasfomento.com/agenda/lara-garcia-atendimentos-e-despachos-internos-51/
LOCATION:Gabinete da Diretoria Administrativa e Financeira – Agência de Fomento de Goiás.
CATEGORIES:Diretoria Administrativa e Financeira
END:VEVENT
BEGIN:VEVENT
DTSTART;TZID=America/Sao_Paulo:20250818T080000
DTEND;TZID=America/Sao_Paulo:20250818T120000
DTSTAMP:20260425T203722
CREATED:20250818T185736Z
LAST-MODIFIED:20250818T185736Z
UID:45588-1755504000-1755518400@www.goiasfomento.com
SUMMARY:Vinícius Luz: Atendimentos e Despachos Internos.
DESCRIPTION:
URL:https://www.goiasfomento.com/agenda/vinicius-luz-atendimentos-e-despachos-internos-51/
LOCATION:Gabinete da Diretoria de Operações da GoiásFomento – Agência de Fomento de Goiás.
CATEGORIES:Diretoria de Operações
END:VEVENT
BEGIN:VEVENT
DTSTART;TZID=America/Sao_Paulo:20250818T140000
DTEND;TZID=America/Sao_Paulo:20250818T180000
DTSTAMP:20260425T203722
CREATED:20250818T130418Z
LAST-MODIFIED:20250818T130418Z
UID:45548-1755525600-1755540000@www.goiasfomento.com
SUMMARY:Rivael Aguiar Pereira: Atendimentos e Despachos Internos
DESCRIPTION:
URL:https://www.goiasfomento.com/agenda/rivael-aguiar-pereira-atendimentos-e-despachos-internos-56/
CATEGORIES:Presidência
END:VEVENT
BEGIN:VEVENT
DTSTART;TZID=America/Sao_Paulo:20250818T140000
DTEND;TZID=America/Sao_Paulo:20250818T180000
DTSTAMP:20260425T203722
CREATED:20250818T131128Z
LAST-MODIFIED:20250818T131128Z
UID:45560-1755525600-1755540000@www.goiasfomento.com
SUMMARY:Rufino Veríssimo: Atendimentos e Despachos Internos
DESCRIPTION:
URL:https://www.goiasfomento.com/agenda/rufino-verissimo-atendimentos-e-despachos-internos-47/
CATEGORIES:Chefia de Gabinete
END:VEVENT
BEGIN:VEVENT
DTSTART;TZID=America/Sao_Paulo:20250818T140000
DTEND;TZID=America/Sao_Paulo:20250818T180000
DTSTAMP:20260425T203722
CREATED:20250818T185627Z
LAST-MODIFIED:20250818T185627Z
UID:45586-1755525600-1755540000@www.goiasfomento.com
SUMMARY:Lara Garcia: Atendimentos e Despachos Internos.
DESCRIPTION:
URL:https://www.goiasfomento.com/agenda/lara-garcia-atendimentos-e-despachos-internos-52/
LOCATION:Gabinete da Diretoria Administrativa e Financeira – Agência de Fomento de Goiás.
CATEGORIES:Diretoria Administrativa e Financeira
END:VEVENT
BEGIN:VEVENT
DTSTART;TZID=America/Sao_Paulo:20250818T140000
DTEND;TZID=America/Sao_Paulo:20250818T180000
DTSTAMP:20260425T203722
CREATED:20250818T185823Z
LAST-MODIFIED:20250818T185823Z
UID:45590-1755525600-1755540000@www.goiasfomento.com
SUMMARY:Vinícius Luz: Atendimentos e Despachos Internos.
DESCRIPTION:
URL:https://www.goiasfomento.com/agenda/vinicius-luz-atendimentos-e-despachos-internos-52/
CATEGORIES:Diretoria de Operações
END:VEVENT
BEGIN:VEVENT
DTSTART;TZID=America/Sao_Paulo:20250819T080000
DTEND;TZID=America/Sao_Paulo:20250819T090000
DTSTAMP:20260425T203722
CREATED:20250818T130456Z
LAST-MODIFIED:20250818T130456Z
UID:45550-1755590400-1755594000@www.goiasfomento.com
SUMMARY:Rivael Aguiar Pereira: Atendimentos e Despachos Internos
DESCRIPTION:
URL:https://www.goiasfomento.com/agenda/rivael-aguiar-pereira-atendimentos-e-despachos-internos-57/
CATEGORIES:Presidência
END:VEVENT
BEGIN:VEVENT
DTSTART;TZID=America/Sao_Paulo:20250819T080000
DTEND;TZID=America/Sao_Paulo:20250819T090000
DTSTAMP:20260425T203722
CREATED:20250818T131232Z
LAST-MODIFIED:20250818T131232Z
UID:45562-1755590400-1755594000@www.goiasfomento.com
SUMMARY:Rufino Veríssimo: Atendimentos e Despachos Internos
DESCRIPTION:
URL:https://www.goiasfomento.com/agenda/rufino-verissimo-atendimentos-e-despachos-internos-48/
CATEGORIES:Chefia de Gabinete
END:VEVENT
BEGIN:VEVENT
DTSTART;TZID=America/Sao_Paulo:20250819T080000
DTEND;TZID=America/Sao_Paulo:20250819T100000
DTSTAMP:20260425T203722
CREATED:20250819T171529Z
LAST-MODIFIED:20250819T171529Z
UID:45597-1755590400-1755597600@www.goiasfomento.com
SUMMARY:Vinícius Luz: Atendimentos e Despachos Internos.
DESCRIPTION:
URL:https://www.goiasfomento.com/agenda/vinicius-luz-atendimentos-e-despachos-internos-53/
LOCATION:Gabinete da Diretoria de Operações da GoiásFomento – Agência de Fomento de Goiás.
CATEGORIES:Diretoria de Operações
END:VEVENT
BEGIN:VEVENT
DTSTART;TZID=America/Sao_Paulo:20250819T080000
DTEND;TZID=America/Sao_Paulo:20250819T120000
DTSTAMP:20260425T203722
CREATED:20250819T174955Z
LAST-MODIFIED:20250819T174955Z
UID:45605-1755590400-1755604800@www.goiasfomento.com
SUMMARY:Lara Garcia: Atendimentos e Despachos Internos.
DESCRIPTION:
URL:https://www.goiasfomento.com/agenda/lara-garcia-atendimentos-e-despachos-internos-53/
LOCATION:Gabinete da Diretoria de Operações da GoiásFomento – Agência de Fomento de Goiás.
CATEGORIES:Diretoria Administrativa e Financeira
END:VEVENT
END:VCALENDAR