BEGIN:VCALENDAR
VERSION:2.0
PRODID:-//GoiásFomento - Agência de Fomento - ECPv6.15.20//NONSGML v1.0//EN
CALSCALE:GREGORIAN
METHOD:PUBLISH
X-WR-CALNAME:GoiásFomento - Agência de Fomento
X-ORIGINAL-URL:https://www.goiasfomento.com
X-WR-CALDESC:Eventos para GoiásFomento - Agência de Fomento
REFRESH-INTERVAL;VALUE=DURATION:PT1H
X-Robots-Tag:noindex
X-PUBLISHED-TTL:PT1H
BEGIN:VTIMEZONE
TZID:America/Sao_Paulo
BEGIN:STANDARD
TZOFFSETFROM:-0300
TZOFFSETTO:-0300
TZNAME:-03
DTSTART:20240101T000000
END:STANDARD
END:VTIMEZONE
BEGIN:VEVENT
DTSTART;TZID=America/Sao_Paulo:20250807T080000
DTEND;TZID=America/Sao_Paulo:20250807T093000
DTSTAMP:20260425T203706
CREATED:20250807T141010Z
LAST-MODIFIED:20250807T141010Z
UID:45376-1754553600-1754559000@www.goiasfomento.com
SUMMARY:Lara Garcia: Atendimentos e Despachos Internos.
DESCRIPTION:
URL:https://www.goiasfomento.com/agenda/lara-garcia-atendimentos-e-despachos-internos-36/
LOCATION:Gabinete da Diretoria Administrativa e Financeira – Agência de Fomento de Goiás.
CATEGORIES:Diretoria Administrativa e Financeira
END:VEVENT
BEGIN:VEVENT
DTSTART;TZID=America/Sao_Paulo:20250807T080000
DTEND;TZID=America/Sao_Paulo:20250807T093000
DTSTAMP:20260425T203706
CREATED:20250807T141104Z
LAST-MODIFIED:20250807T141104Z
UID:45378-1754553600-1754559000@www.goiasfomento.com
SUMMARY:Vinícius Luz: Atendimentos e Despachos Internos.
DESCRIPTION:
URL:https://www.goiasfomento.com/agenda/vinicius-luz-atendimentos-e-despachos-internos-35/
LOCATION:Gabinete da Diretoria de Operações da GoiásFomento – Agência de Fomento de Goiás.
CATEGORIES:Diretoria de Operações
END:VEVENT
BEGIN:VEVENT
DTSTART;TZID=America/Sao_Paulo:20250807T080000
DTEND;TZID=America/Sao_Paulo:20250807T120000
DTSTAMP:20260425T203706
CREATED:20250806T141430Z
LAST-MODIFIED:20250806T141430Z
UID:45351-1754553600-1754568000@www.goiasfomento.com
SUMMARY:Rufino Veríssimo: Atendimentos e Despachos Internos
DESCRIPTION:
URL:https://www.goiasfomento.com/agenda/rufino-verissimo-atendimentos-e-despachos-internos-32/
CATEGORIES:Chefia de Gabinete
END:VEVENT
BEGIN:VEVENT
DTSTART;TZID=America/Sao_Paulo:20250807T080000
DTEND;TZID=America/Sao_Paulo:20250807T120000
DTSTAMP:20260425T203706
CREATED:20250811T145835Z
LAST-MODIFIED:20250811T145835Z
UID:45432-1754553600-1754568000@www.goiasfomento.com
SUMMARY:Rivael Aguiar Pereira: Atendimentos e Despachos Internos
DESCRIPTION:
URL:https://www.goiasfomento.com/agenda/rivael-aguiar-pereira-atendimentos-e-despachos-internos-41/
CATEGORIES:Presidência
END:VEVENT
BEGIN:VEVENT
DTSTART;TZID=America/Sao_Paulo:20250807T093000
DTEND;TZID=America/Sao_Paulo:20250807T110000
DTSTAMP:20260425T203706
CREATED:20250807T141954Z
LAST-MODIFIED:20250807T141954Z
UID:45380-1754559000-1754564400@www.goiasfomento.com
SUMMARY:Vinícius Luz: Reunião da Diretoria GF com Wellington - SEDS.
DESCRIPTION:
URL:https://www.goiasfomento.com/agenda/vinicius-luz-reuniao-da-diretoria-gf-com-wellington-seds/
LOCATION:Sala de Reuniões da Diretoria – Agência de Fomento de Goiás.
CATEGORIES:Diretoria de Operações
END:VEVENT
BEGIN:VEVENT
DTSTART;TZID=America/Sao_Paulo:20250807T093000
DTEND;TZID=America/Sao_Paulo:20250807T110000
DTSTAMP:20260425T203706
CREATED:20250807T144340Z
LAST-MODIFIED:20250807T144340Z
UID:45382-1754559000-1754564400@www.goiasfomento.com
SUMMARY:Lara Garcia: Reunião da Diretoria GF com Wellington - SEDS.
DESCRIPTION:
URL:https://www.goiasfomento.com/agenda/lara-garcia-reuniao-da-diretoria-gf-com-wellington-seds/
LOCATION:Sala de Reuniões da Diretoria – Agência de Fomento de Goiás.
CATEGORIES:Diretoria Administrativa e Financeira
END:VEVENT
BEGIN:VEVENT
DTSTART;TZID=America/Sao_Paulo:20250807T110000
DTEND;TZID=America/Sao_Paulo:20250807T120000
DTSTAMP:20260425T203706
CREATED:20250807T145428Z
LAST-MODIFIED:20250807T145525Z
UID:45384-1754564400-1754568000@www.goiasfomento.com
SUMMARY:Lara Garcia: Atendimentos e Despachos Internos.
DESCRIPTION:
URL:https://www.goiasfomento.com/agenda/lara-garcia-atendimentos-e-despachos-internos-37/
LOCATION:Gabinete da Diretoria Administrativa e Financeira – Agência de Fomento de Goiás.
CATEGORIES:Diretoria Administrativa e Financeira
END:VEVENT
BEGIN:VEVENT
DTSTART;TZID=America/Sao_Paulo:20250807T110000
DTEND;TZID=America/Sao_Paulo:20250807T120000
DTSTAMP:20260425T203706
CREATED:20250807T150531Z
LAST-MODIFIED:20250807T150531Z
UID:45386-1754564400-1754568000@www.goiasfomento.com
SUMMARY:Vinícius Luz: Atendimentos e Despachos Internos.
DESCRIPTION:
URL:https://www.goiasfomento.com/agenda/vinicius-luz-atendimentos-e-despachos-internos-36/
LOCATION:Gabinete da Diretoria de Operações da GoiásFomento – Agência de Fomento de Goiás.
CATEGORIES:Diretoria de Operações
END:VEVENT
BEGIN:VEVENT
DTSTART;TZID=America/Sao_Paulo:20250807T140000
DTEND;TZID=America/Sao_Paulo:20250807T150000
DTSTAMP:20260425T203706
CREATED:20250808T115239Z
LAST-MODIFIED:20250808T115239Z
UID:45397-1754575200-1754578800@www.goiasfomento.com
SUMMARY:Vinícius Luz: Atendimentos e Despachos Internos.
DESCRIPTION:
URL:https://www.goiasfomento.com/agenda/vinicius-luz-atendimentos-e-despachos-internos-37/
LOCATION:Gabinete da Diretoria de Operações da GoiásFomento – Agência de Fomento de Goiás.
CATEGORIES:Diretoria de Operações
END:VEVENT
BEGIN:VEVENT
DTSTART;TZID=America/Sao_Paulo:20250807T140000
DTEND;TZID=America/Sao_Paulo:20250807T150000
DTSTAMP:20260425T203706
CREATED:20250808T120345Z
LAST-MODIFIED:20250808T120438Z
UID:45404-1754575200-1754578800@www.goiasfomento.com
SUMMARY:Lara Garcia: Atendimentos e Despachos Internos.
DESCRIPTION:
URL:https://www.goiasfomento.com/agenda/lara-garcia-atendimentos-e-despachos-internos-38/
LOCATION:Gabinete da Diretoria Administrativa e Financeira – Agência de Fomento de Goiás.
CATEGORIES:Diretoria Administrativa e Financeira
END:VEVENT
BEGIN:VEVENT
DTSTART;TZID=America/Sao_Paulo:20250807T140000
DTEND;TZID=America/Sao_Paulo:20250807T180000
DTSTAMP:20260425T203706
CREATED:20250806T141616Z
LAST-MODIFIED:20250806T141616Z
UID:45353-1754575200-1754589600@www.goiasfomento.com
SUMMARY:Rufino Veríssimo: Atendimentos e Despachos Internos
DESCRIPTION:
URL:https://www.goiasfomento.com/agenda/rufino-verissimo-atendimentos-e-despachos-internos-33/
CATEGORIES:Chefia de Gabinete
END:VEVENT
BEGIN:VEVENT
DTSTART;TZID=America/Sao_Paulo:20250807T140000
DTEND;TZID=America/Sao_Paulo:20250807T180000
DTSTAMP:20260425T203706
CREATED:20250811T150051Z
LAST-MODIFIED:20250811T150051Z
UID:45434-1754575200-1754589600@www.goiasfomento.com
SUMMARY:Rivael Aguiar Pereira: Atendimentos e Despachos Internos
DESCRIPTION:
URL:https://www.goiasfomento.com/agenda/rivael-aguiar-pereira-atendimentos-e-despachos-internos-42/
CATEGORIES:Presidência
END:VEVENT
BEGIN:VEVENT
DTSTART;TZID=America/Sao_Paulo:20250807T150000
DTEND;TZID=America/Sao_Paulo:20250807T160000
DTSTAMP:20260425T203706
CREATED:20250808T115100Z
LAST-MODIFIED:20250808T115113Z
UID:45392-1754578800-1754582400@www.goiasfomento.com
SUMMARY:Lara Garcia: Palestra On-Line - Pauta: Código de Ética do Servidor
DESCRIPTION:
URL:https://www.goiasfomento.com/agenda/lara-garcia-palestra-on-line-pauta-codigo-de-etica-do-servidor/
LOCATION:Gabinete da Diretoria Administrativa e Financeira – Agência de Fomento de Goiás.
CATEGORIES:Diretoria Administrativa e Financeira
END:VEVENT
BEGIN:VEVENT
DTSTART;TZID=America/Sao_Paulo:20250807T150000
DTEND;TZID=America/Sao_Paulo:20250807T160000
DTSTAMP:20260425T203706
CREATED:20250808T115208Z
LAST-MODIFIED:20250808T115208Z
UID:45395-1754578800-1754582400@www.goiasfomento.com
SUMMARY:Vinícius Luz: Palestra On-Line - Pauta: Código de Ética do Servidor
DESCRIPTION:
URL:https://www.goiasfomento.com/agenda/vinicius-luz-palestra-on-line-pauta-codigo-de-etica-do-servidor/
LOCATION:Gabinete da Diretoria de Operações da GoiásFomento – Agência de Fomento de Goiás.
CATEGORIES:Diretoria de Operações
END:VEVENT
BEGIN:VEVENT
DTSTART;TZID=America/Sao_Paulo:20250807T160000
DTEND;TZID=America/Sao_Paulo:20250807T190000
DTSTAMP:20260425T203706
CREATED:20250808T114848Z
LAST-MODIFIED:20250808T115339Z
UID:45388-1754582400-1754593200@www.goiasfomento.com
SUMMARY:Vinícius Luz: Reunião da Diretoria Executiva e os Gerentes da Agência de Fomento de Goiás.
DESCRIPTION:
URL:https://www.goiasfomento.com/agenda/vinicius-luz-reuniao-da-diretoria-executiva-e-os-gerentes-da-agencia-de-fomento-de-goias-3/
LOCATION:Sala de Reuniões da Diretoria – Agência de Fomento de Goiás.
CATEGORIES:Diretoria de Operações
END:VEVENT
BEGIN:VEVENT
DTSTART;TZID=America/Sao_Paulo:20250807T160000
DTEND;TZID=America/Sao_Paulo:20250807T190000
DTSTAMP:20260425T203706
CREATED:20250808T114943Z
LAST-MODIFIED:20250808T115005Z
UID:45390-1754582400-1754593200@www.goiasfomento.com
SUMMARY:Lara Garcia: Reunião da Diretoria Executiva e os Gerentes da Agência de Fomento de Goiás.
DESCRIPTION:
URL:https://www.goiasfomento.com/agenda/lara-garcia-reuniao-da-diretoria-executiva-e-os-gerentes-da-agencia-de-fomento-de-goias/
LOCATION:Sala de Reuniões da Diretoria – Agência de Fomento de Goiás.
CATEGORIES:Diretoria Administrativa e Financeira
END:VEVENT
BEGIN:VEVENT
DTSTART;TZID=America/Sao_Paulo:20250808T080000
DTEND;TZID=America/Sao_Paulo:20250808T120000
DTSTAMP:20260425T203706
CREATED:20250806T141743Z
LAST-MODIFIED:20250806T141743Z
UID:45355-1754640000-1754654400@www.goiasfomento.com
SUMMARY:Rufino Veríssimo: Atendimentos e Despachos Internos
DESCRIPTION:
URL:https://www.goiasfomento.com/agenda/rufino-verissimo-atendimentos-e-despachos-internos-34/
CATEGORIES:Chefia de Gabinete
END:VEVENT
BEGIN:VEVENT
DTSTART;TZID=America/Sao_Paulo:20250808T080000
DTEND;TZID=America/Sao_Paulo:20250808T120000
DTSTAMP:20260425T203706
CREATED:20250808T115615Z
LAST-MODIFIED:20250808T115615Z
UID:45402-1754640000-1754654400@www.goiasfomento.com
SUMMARY:Vinícius Luz: Atendimentos e Despachos Internos.
DESCRIPTION:
URL:https://www.goiasfomento.com/agenda/vinicius-luz-atendimentos-e-despachos-internos-39/
LOCATION:Gabinete da Diretoria de Operações da GoiásFomento – Agência de Fomento de Goiás.
CATEGORIES:Diretoria de Operações
END:VEVENT
BEGIN:VEVENT
DTSTART;TZID=America/Sao_Paulo:20250808T080000
DTEND;TZID=America/Sao_Paulo:20250808T120000
DTSTAMP:20260425T203706
CREATED:20250808T120406Z
LAST-MODIFIED:20250808T120406Z
UID:45406-1754640000-1754654400@www.goiasfomento.com
SUMMARY:Lara Garcia: Atendimentos e Despachos Internos.
DESCRIPTION:
URL:https://www.goiasfomento.com/agenda/lara-garcia-atendimentos-e-despachos-internos-39/
LOCATION:Gabinete da Diretoria Administrativa e Financeira – Agência de Fomento de Goiás.
CATEGORIES:Diretoria Administrativa e Financeira
END:VEVENT
BEGIN:VEVENT
DTSTART;TZID=America/Sao_Paulo:20250808T080000
DTEND;TZID=America/Sao_Paulo:20250808T120000
DTSTAMP:20260425T203706
CREATED:20250811T150239Z
LAST-MODIFIED:20250811T150239Z
UID:45437-1754640000-1754654400@www.goiasfomento.com
SUMMARY:Rivael Aguiar Pereira: Atendimentos e Despachos Internos
DESCRIPTION:
URL:https://www.goiasfomento.com/agenda/rivael-aguiar-pereira-atendimentos-e-despachos-internos-43/
CATEGORIES:Presidência
END:VEVENT
BEGIN:VEVENT
DTSTART;TZID=America/Sao_Paulo:20250808T140000
DTEND;TZID=America/Sao_Paulo:20250808T180000
DTSTAMP:20260425T203706
CREATED:20250806T141946Z
LAST-MODIFIED:20250806T141946Z
UID:45359-1754661600-1754676000@www.goiasfomento.com
SUMMARY:Rufino Veríssimo: Atendimentos e Despachos Internos
DESCRIPTION:
URL:https://www.goiasfomento.com/agenda/rufino-verissimo-atendimentos-e-despachos-internos-35/
CATEGORIES:Chefia de Gabinete
END:VEVENT
BEGIN:VEVENT
DTSTART;TZID=America/Sao_Paulo:20250808T140000
DTEND;TZID=America/Sao_Paulo:20250808T180000
DTSTAMP:20260425T203706
CREATED:20250808T183127Z
LAST-MODIFIED:20250808T183127Z
UID:45424-1754661600-1754676000@www.goiasfomento.com
SUMMARY:Vinícius Luz: Atendimentos e Despachos Internos.
DESCRIPTION:
URL:https://www.goiasfomento.com/agenda/vinicius-luz-atendimentos-e-despachos-internos-38/
LOCATION:Gabinete da Diretoria de Operações da GoiásFomento – Agência de Fomento de Goiás.
CATEGORIES:Diretoria de Operações
END:VEVENT
BEGIN:VEVENT
DTSTART;TZID=America/Sao_Paulo:20250808T140000
DTEND;TZID=America/Sao_Paulo:20250808T180000
DTSTAMP:20260425T203706
CREATED:20250808T183428Z
LAST-MODIFIED:20250808T183428Z
UID:45426-1754661600-1754676000@www.goiasfomento.com
SUMMARY:Lara Garcia: Atendimentos e Despachos Internos.
DESCRIPTION:
URL:https://www.goiasfomento.com/agenda/lara-garcia-atendimentos-e-despachos-internos-40/
LOCATION:Gabinete da Diretoria Administrativa e Financeira – Agência de Fomento de Goiás.
CATEGORIES:Diretoria Administrativa e Financeira
END:VEVENT
BEGIN:VEVENT
DTSTART;TZID=America/Sao_Paulo:20250808T140000
DTEND;TZID=America/Sao_Paulo:20250808T180000
DTSTAMP:20260425T203706
CREATED:20250811T150349Z
LAST-MODIFIED:20250811T150349Z
UID:45440-1754661600-1754676000@www.goiasfomento.com
SUMMARY:Rivael Aguiar Pereira: Atendimentos e Despachos Internos
DESCRIPTION:
URL:https://www.goiasfomento.com/agenda/rivael-aguiar-pereira-atendimentos-e-despachos-internos-44/
CATEGORIES:Presidência
END:VEVENT
BEGIN:VEVENT
DTSTART;TZID=America/Sao_Paulo:20250811T080000
DTEND;TZID=America/Sao_Paulo:20250811T100000
DTSTAMP:20260425T203706
CREATED:20250811T150450Z
LAST-MODIFIED:20250811T150450Z
UID:45442-1754899200-1754906400@www.goiasfomento.com
SUMMARY:Rivael Aguiar Pereira: Atendimentos e Despachos Internos
DESCRIPTION:
URL:https://www.goiasfomento.com/agenda/rivael-aguiar-pereira-atendimentos-e-despachos-internos-45/
CATEGORIES:Presidência
END:VEVENT
BEGIN:VEVENT
DTSTART;TZID=America/Sao_Paulo:20250811T080000
DTEND;TZID=America/Sao_Paulo:20250811T120000
DTSTAMP:20260425T203706
CREATED:20250811T112643Z
LAST-MODIFIED:20250811T112643Z
UID:45428-1754899200-1754913600@www.goiasfomento.com
SUMMARY:Lara Garcia: Atendimentos e Despachos Internos.
DESCRIPTION:
URL:https://www.goiasfomento.com/agenda/lara-garcia-atendimentos-e-despachos-internos-41/
LOCATION:Gabinete da Diretoria Administrativa e Financeira – Agência de Fomento de Goiás.
CATEGORIES:Diretoria Administrativa e Financeira
END:VEVENT
BEGIN:VEVENT
DTSTART;TZID=America/Sao_Paulo:20250811T080000
DTEND;TZID=America/Sao_Paulo:20250811T120000
DTSTAMP:20260425T203706
CREATED:20250811T112738Z
LAST-MODIFIED:20250811T112738Z
UID:45430-1754899200-1754913600@www.goiasfomento.com
SUMMARY:Vinícius Luz: Atendimentos e Despachos Internos.
DESCRIPTION:
URL:https://www.goiasfomento.com/agenda/vinicius-luz-atendimentos-e-despachos-internos-40/
LOCATION:Gabinete da Diretoria Administrativa e Financeira – Agência de Fomento de Goiás.
CATEGORIES:Diretoria de Operações
END:VEVENT
BEGIN:VEVENT
DTSTART;TZID=America/Sao_Paulo:20250811T080000
DTEND;TZID=America/Sao_Paulo:20250811T120000
DTSTAMP:20260425T203706
CREATED:20250811T155739Z
LAST-MODIFIED:20250811T155739Z
UID:45454-1754899200-1754913600@www.goiasfomento.com
SUMMARY:Rufino Veríssimo: Atendimentos e Despachos Internos
DESCRIPTION:
URL:https://www.goiasfomento.com/agenda/rufino-verissimo-atendimentos-e-despachos-internos-36/
CATEGORIES:Chefia de Gabinete
END:VEVENT
BEGIN:VEVENT
DTSTART;TZID=America/Sao_Paulo:20250811T100000
DTEND;TZID=America/Sao_Paulo:20250811T120000
DTSTAMP:20260425T203706
CREATED:20250811T150720Z
LAST-MODIFIED:20250811T150720Z
UID:45444-1754906400-1754913600@www.goiasfomento.com
SUMMARY:Rivael Aguiar Pereira:  Lançamento do Programa "Equipa Social CRAS e CREAS":
DESCRIPTION:
URL:https://www.goiasfomento.com/agenda/rivael-aguiar-pereira-lancamento-do-programa-equipa-social-cras-e-creas/
CATEGORIES:Presidência
END:VEVENT
BEGIN:VEVENT
DTSTART;TZID=America/Sao_Paulo:20250811T140000
DTEND;TZID=America/Sao_Paulo:20250811T170000
DTSTAMP:20260425T203706
CREATED:20250811T155151Z
LAST-MODIFIED:20250811T155151Z
UID:45446-1754920800-1754931600@www.goiasfomento.com
SUMMARY:Rivael Aguiar Pereira: Atendimentos e Despachos Internos
DESCRIPTION:
URL:https://www.goiasfomento.com/agenda/rivael-aguiar-pereira-atendimentos-e-despachos-internos-46/
CATEGORIES:Presidência
END:VEVENT
END:VCALENDAR