BEGIN:VCALENDAR
VERSION:2.0
PRODID:-//GoiásFomento - Agência de Fomento - ECPv6.15.20//NONSGML v1.0//EN
CALSCALE:GREGORIAN
METHOD:PUBLISH
X-WR-CALNAME:GoiásFomento - Agência de Fomento
X-ORIGINAL-URL:https://www.goiasfomento.com
X-WR-CALDESC:Eventos para GoiásFomento - Agência de Fomento
REFRESH-INTERVAL;VALUE=DURATION:PT1H
X-Robots-Tag:noindex
X-PUBLISHED-TTL:PT1H
BEGIN:VTIMEZONE
TZID:America/Sao_Paulo
BEGIN:STANDARD
TZOFFSETFROM:-0300
TZOFFSETTO:-0300
TZNAME:-03
DTSTART:20240101T000000
END:STANDARD
END:VTIMEZONE
BEGIN:VEVENT
DTSTART;TZID=America/Sao_Paulo:20250711T080000
DTEND;TZID=America/Sao_Paulo:20250711T120000
DTSTAMP:20260425T173330
CREATED:20250709T183150Z
LAST-MODIFIED:20250709T183150Z
UID:44714-1752220800-1752235200@www.goiasfomento.com
SUMMARY:Rivael Aguiar Pereira: Atendimentos e Despachos Internos
DESCRIPTION:
URL:https://www.goiasfomento.com/agenda/rivael-aguiar-pereira-atendimentos-e-despachos-internos-10/
CATEGORIES:Presidência
END:VEVENT
BEGIN:VEVENT
DTSTART;TZID=America/Sao_Paulo:20250711T080000
DTEND;TZID=America/Sao_Paulo:20250711T120000
DTSTAMP:20260425T173330
CREATED:20250714T133416Z
LAST-MODIFIED:20250714T194933Z
UID:44776-1752220800-1752235200@www.goiasfomento.com
SUMMARY:Rufino Veríssimo: Atendimentos e Despachos Internos.
DESCRIPTION:
URL:https://www.goiasfomento.com/agenda/rufino-verissimo-atendimentos-e-despachos-interno-100/
LOCATION:Chefia de Gabinete – Agência de Fomento de Goiás
CATEGORIES:Chefia de Gabinete
END:VEVENT
BEGIN:VEVENT
DTSTART;TZID=America/Sao_Paulo:20250711T080000
DTEND;TZID=America/Sao_Paulo:20250711T120000
DTSTAMP:20260425T173330
CREATED:20250714T133635Z
LAST-MODIFIED:20250714T194950Z
UID:44782-1752220800-1752235200@www.goiasfomento.com
SUMMARY:Lara Garcia: Atendimentos e Despachos Internos.
DESCRIPTION:
URL:https://www.goiasfomento.com/agenda/lara-garcia-atendimentos-e-despachos-interno-64/
LOCATION:Gabinete da Diretoria Administrativa e Financeira – Agência de Fomento de Goiás.
CATEGORIES:Diretoria Administrativa e Financeira
END:VEVENT
BEGIN:VEVENT
DTSTART;TZID=America/Sao_Paulo:20250711T080000
DTEND;TZID=America/Sao_Paulo:20250711T120000
DTSTAMP:20260425T173330
CREATED:20250714T141526Z
LAST-MODIFIED:20250714T194921Z
UID:44794-1752220800-1752235200@www.goiasfomento.com
SUMMARY:Vinícius Luz: Atendimentos e Despachos Internos.
DESCRIPTION:
URL:https://www.goiasfomento.com/agenda/vinicius-luz-atendimentos-e-despachos-interno-57/
LOCATION:Gabinete da Diretoria de Operações da GoiásFomento – Agência de Fomento de Goiás.
CATEGORIES:Diretoria de Operações
END:VEVENT
BEGIN:VEVENT
DTSTART;TZID=America/Sao_Paulo:20250711T140000
DTEND;TZID=America/Sao_Paulo:20250711T160000
DTSTAMP:20260425T173330
CREATED:20250714T141345Z
LAST-MODIFIED:20250714T141345Z
UID:44790-1752242400-1752249600@www.goiasfomento.com
SUMMARY:Vinícius Luz: Reunião com a ReDeCa rede  instituída pelo Escritório de Avaliação e Supervisão do Banco Interamericano de Desenvolvimento (BID)\, online.
DESCRIPTION:
URL:https://www.goiasfomento.com/agenda/vinicius-luz-reuniao-com-a-redeca-rede-instituida-pelo-escritorio-de-avaliacao-e-supervisao-do-banco-interamericano-de-desenvolvimento-bid-online/
LOCATION:Sala de Reuniões da Diretoria – Agência de Fomento de Goiás.
CATEGORIES:Diretoria de Operações
END:VEVENT
BEGIN:VEVENT
DTSTART;TZID=America/Sao_Paulo:20250711T140000
DTEND;TZID=America/Sao_Paulo:20250711T160000
DTSTAMP:20260425T173330
CREATED:20250714T141958Z
LAST-MODIFIED:20250714T142029Z
UID:44798-1752242400-1752249600@www.goiasfomento.com
SUMMARY:Lara Garcia: Reunião com a ReDeCa rede instituída pelo Escritório de Avaliação e Supervisão do Banco Interamericano de Desenvolvimento (BID)\, online.
DESCRIPTION:
URL:https://www.goiasfomento.com/agenda/lara-garcia-reuniao-com-a-redeca-rede-instituida-pelo-escritorio-de-avaliacao-e-supervisao-do-banco-interamericano-de-desenvolvimento-bid-online/
LOCATION:Sala de Reuniões da Diretoria – Agência de Fomento de Goiás.
CATEGORIES:Diretoria Administrativa e Financeira
END:VEVENT
BEGIN:VEVENT
DTSTART;TZID=America/Sao_Paulo:20250711T140000
DTEND;TZID=America/Sao_Paulo:20250711T180000
DTSTAMP:20260425T173330
CREATED:20250709T183213Z
LAST-MODIFIED:20250709T183213Z
UID:44716-1752242400-1752256800@www.goiasfomento.com
SUMMARY:Rivael Aguiar Pereira: Atendimentos e Despachos Internos
DESCRIPTION:
URL:https://www.goiasfomento.com/agenda/rivael-aguiar-pereira-atendimentos-e-despachos-internos-11/
CATEGORIES:Presidência
END:VEVENT
BEGIN:VEVENT
DTSTART;TZID=America/Sao_Paulo:20250711T140000
DTEND;TZID=America/Sao_Paulo:20250711T180000
DTSTAMP:20260425T173330
CREATED:20250714T133119Z
LAST-MODIFIED:20250714T194858Z
UID:44771-1752242400-1752256800@www.goiasfomento.com
SUMMARY:Rufino Veríssimo: Atendimentos e Despachos Internos.
DESCRIPTION:
URL:https://www.goiasfomento.com/agenda/rufino-verissimo-atendimentos-e-despachos-interno-98/
LOCATION:Chefia de Gabinete – Agência de Fomento de Goiás
CATEGORIES:Chefia de Gabinete
END:VEVENT
BEGIN:VEVENT
DTSTART;TZID=America/Sao_Paulo:20250711T160000
DTEND;TZID=America/Sao_Paulo:20250711T180000
DTSTAMP:20260425T173330
CREATED:20250714T133657Z
LAST-MODIFIED:20250714T194531Z
UID:44784-1752249600-1752256800@www.goiasfomento.com
SUMMARY:Lara Garcia: Atendimentos e Despachos Internos.
DESCRIPTION:
URL:https://www.goiasfomento.com/agenda/lara-garcia-atendimentos-e-despachos-interno-65/
LOCATION:Gabinete da Diretoria Administrativa e Financeira – Agência de Fomento de Goiás.
CATEGORIES:Diretoria Administrativa e Financeira
END:VEVENT
BEGIN:VEVENT
DTSTART;TZID=America/Sao_Paulo:20250711T160000
DTEND;TZID=America/Sao_Paulo:20250711T180000
DTSTAMP:20260425T173330
CREATED:20250714T141505Z
LAST-MODIFIED:20250714T194827Z
UID:44792-1752249600-1752256800@www.goiasfomento.com
SUMMARY:Vinícius Luz: Atendimentos e Despachos Internos.
DESCRIPTION:
URL:https://www.goiasfomento.com/agenda/vinicius-luz-atendimentos-e-despachos-interno-56/
LOCATION:Gabinete da Diretoria de Operações da GoiásFomento – Agência de Fomento de Goiás.
CATEGORIES:Diretoria de Operações
END:VEVENT
BEGIN:VEVENT
DTSTART;TZID=America/Sao_Paulo:20250714T080000
DTEND;TZID=America/Sao_Paulo:20250714T090000
DTSTAMP:20260425T173330
CREATED:20250714T142611Z
LAST-MODIFIED:20250714T194515Z
UID:44804-1752480000-1752483600@www.goiasfomento.com
SUMMARY:Vinícius Luz: Atendimentos e Despachos Internos.
DESCRIPTION:
URL:https://www.goiasfomento.com/agenda/vinicius-luz-atendimentos-e-despachos-interno-59/
LOCATION:Gabinete da Diretoria de Operações da GoiásFomento – Agência de Fomento de Goiás.
CATEGORIES:Diretoria de Operações
END:VEVENT
BEGIN:VEVENT
DTSTART;TZID=America/Sao_Paulo:20250714T080000
DTEND;TZID=America/Sao_Paulo:20250714T100000
DTSTAMP:20260425T173330
CREATED:20250714T133753Z
LAST-MODIFIED:20250714T194454Z
UID:44786-1752480000-1752487200@www.goiasfomento.com
SUMMARY:Lara Garcia: Atendimentos e Despachos Internos.
DESCRIPTION:
URL:https://www.goiasfomento.com/agenda/lara-garcia-atendimentos-e-despachos-interno-66/
LOCATION:Gabinete da Diretoria Administrativa e Financeira – Agência de Fomento de Goiás.
CATEGORIES:Diretoria Administrativa e Financeira
END:VEVENT
BEGIN:VEVENT
DTSTART;TZID=America/Sao_Paulo:20250714T080000
DTEND;TZID=America/Sao_Paulo:20250714T120000
DTSTAMP:20260425T173330
CREATED:20250714T133513Z
LAST-MODIFIED:20250714T194427Z
UID:44778-1752480000-1752494400@www.goiasfomento.com
SUMMARY:Rufino Veríssimo: Atendimentos e Despachos Internos.
DESCRIPTION:
URL:https://www.goiasfomento.com/agenda/rufino-verissimo-atendimentos-e-despachos-interno-101/
LOCATION:Chefia de Gabinete – Agência de Fomento de Goiás
CATEGORIES:Chefia de Gabinete
END:VEVENT
BEGIN:VEVENT
DTSTART;TZID=America/Sao_Paulo:20250714T080000
DTEND;TZID=America/Sao_Paulo:20250714T120000
DTSTAMP:20260425T173330
CREATED:20250714T171019Z
LAST-MODIFIED:20250714T171019Z
UID:44809-1752480000-1752494400@www.goiasfomento.com
SUMMARY:Rivael Aguiar Pereira: Atendimentos e Despachos Internos
DESCRIPTION:
URL:https://www.goiasfomento.com/agenda/rivael-aguiar-pereira-atendimentos-e-despachos-internos-12/
CATEGORIES:Presidência
END:VEVENT
BEGIN:VEVENT
DTSTART;TZID=America/Sao_Paulo:20250714T090000
DTEND;TZID=America/Sao_Paulo:20250714T100000
DTSTAMP:20260425T173330
CREATED:20250714T143022Z
LAST-MODIFIED:20250714T143022Z
UID:44806-1752483600-1752487200@www.goiasfomento.com
SUMMARY:Vinícius Luz: Reunião com os Gerentes da Agência de Fomento de Goiás.
DESCRIPTION:
URL:https://www.goiasfomento.com/agenda/vinicius-luz-reuniao-com-os-gerentes-da-agencia-de-fomento-de-goias-2/
LOCATION:Gabinete da Diretoria de Operações da GoiásFomento – Agência de Fomento de Goiás.
CATEGORIES:Diretoria de Operações
END:VEVENT
BEGIN:VEVENT
DTSTART;TZID=America/Sao_Paulo:20250714T100000
DTEND;TZID=America/Sao_Paulo:20250714T120000
DTSTAMP:20260425T173330
CREATED:20250714T133939Z
LAST-MODIFIED:20250714T142422Z
UID:44788-1752487200-1752494400@www.goiasfomento.com
SUMMARY:Lara Garcia: Reunião da Diretoria Executiva e os Gerentes da Agência de Fomento de Goiás.
DESCRIPTION:
URL:https://www.goiasfomento.com/agenda/lara-garcia-reuniao-com-os-gerentes-da-diretoria-adm-e-financeira/
LOCATION:Gabinete da Diretoria Administrativa e Financeira – Agência de Fomento de Goiás.
CATEGORIES:Diretoria Administrativa e Financeira
END:VEVENT
BEGIN:VEVENT
DTSTART;TZID=America/Sao_Paulo:20250714T100000
DTEND;TZID=America/Sao_Paulo:20250714T120000
DTSTAMP:20260425T173330
CREATED:20250714T142526Z
LAST-MODIFIED:20250714T142526Z
UID:44802-1752487200-1752494400@www.goiasfomento.com
SUMMARY:Vinícius Luz: Reunião da Diretoria Executiva e os Gerentes da Agência de Fomento de Goiás.
DESCRIPTION:
URL:https://www.goiasfomento.com/agenda/vinicius-luz-reuniao-da-diretoria-executiva-e-os-gerentes-da-agencia-de-fomento-de-goias-2/
LOCATION:Sala de Reuniões da Diretoria – Agência de Fomento de Goiás.
CATEGORIES:Diretoria de Operações
END:VEVENT
BEGIN:VEVENT
DTSTART;TZID=America/Sao_Paulo:20250714T140000
DTEND;TZID=America/Sao_Paulo:20250714T143000
DTSTAMP:20260425T173330
CREATED:20250715T120707Z
LAST-MODIFIED:20250715T120707Z
UID:44898-1752501600-1752503400@www.goiasfomento.com
SUMMARY:Lara Garcia: Atendimentos e Despachos Internos.
DESCRIPTION:
URL:https://www.goiasfomento.com/agenda/lara-garcia-atendimentos-e-despachos-internos/
LOCATION:Gabinete da Diretoria Administrativa e Financeira – Agência de Fomento de Goiás.
CATEGORIES:Diretoria Administrativa e Financeira
END:VEVENT
BEGIN:VEVENT
DTSTART;TZID=America/Sao_Paulo:20250714T140000
DTEND;TZID=America/Sao_Paulo:20250714T153000
DTSTAMP:20260425T173330
CREATED:20250714T192901Z
LAST-MODIFIED:20250714T194403Z
UID:44827-1752501600-1752507000@www.goiasfomento.com
SUMMARY:Vinícius Luz: Atendimentos e Despachos Internos.
DESCRIPTION:
URL:https://www.goiasfomento.com/agenda/vinicius-luz-atendimentos-e-despachos-interno-60/
LOCATION:Gabinete da Diretoria de Operações da GoiásFomento – Agência de Fomento de Goiás.
CATEGORIES:Diretoria de Operações
END:VEVENT
BEGIN:VEVENT
DTSTART;TZID=America/Sao_Paulo:20250714T140000
DTEND;TZID=America/Sao_Paulo:20250714T180000
DTSTAMP:20260425T173330
CREATED:20250714T171720Z
LAST-MODIFIED:20250714T171720Z
UID:44811-1752501600-1752516000@www.goiasfomento.com
SUMMARY:Rivael Aguiar Pereira: Atendimentos e Despachos Internos
DESCRIPTION:
URL:https://www.goiasfomento.com/agenda/rivael-aguiar-pereira-atendimentos-e-despachos-internos-13/
CATEGORIES:Presidência
END:VEVENT
BEGIN:VEVENT
DTSTART;TZID=America/Sao_Paulo:20250714T140000
DTEND;TZID=America/Sao_Paulo:20250714T180000
DTSTAMP:20260425T173330
CREATED:20250715T121016Z
LAST-MODIFIED:20250715T121031Z
UID:44903-1752501600-1752516000@www.goiasfomento.com
SUMMARY:Rufino Veríssimo: Atendimentos e Despachos Internos.
DESCRIPTION:
URL:https://www.goiasfomento.com/agenda/rufino-verissimo-atendimentos-e-despachos-internos/
LOCATION:Chefia de Gabinete – Agência de Fomento de Goiás
CATEGORIES:Chefia de Gabinete
END:VEVENT
BEGIN:VEVENT
DTSTART;TZID=America/Sao_Paulo:20250714T143000
DTEND;TZID=America/Sao_Paulo:20250714T150000
DTSTAMP:20260425T173330
CREATED:20250715T120531Z
LAST-MODIFIED:20250715T120602Z
UID:44896-1752503400-1752505200@www.goiasfomento.com
SUMMARY:Lara Garcia: Reunião com Gerentes da Agência de Fomento de Goiás.
DESCRIPTION:
URL:https://www.goiasfomento.com/agenda/lara-garcia-reuniao-com-gerentes-da-agencia-de-fomento-de-goias/
LOCATION:Gabinete da Diretoria Administrativa e Financeira – Agência de Fomento de Goiás.
CATEGORIES:Diretoria Administrativa e Financeira
END:VEVENT
BEGIN:VEVENT
DTSTART;TZID=America/Sao_Paulo:20250714T150000
DTEND;TZID=America/Sao_Paulo:20250714T180000
DTSTAMP:20260425T173330
CREATED:20250715T120736Z
LAST-MODIFIED:20250715T120736Z
UID:44900-1752505200-1752516000@www.goiasfomento.com
SUMMARY:Lara Garcia: Atendimentos e Despachos Internos.
DESCRIPTION:
URL:https://www.goiasfomento.com/agenda/lara-garcia-atendimentos-e-despachos-internos-2/
LOCATION:Gabinete da Diretoria Administrativa e Financeira – Agência de Fomento de Goiás.
CATEGORIES:Diretoria Administrativa e Financeira
END:VEVENT
BEGIN:VEVENT
DTSTART;TZID=America/Sao_Paulo:20250714T153000
DTEND;TZID=America/Sao_Paulo:20250714T163000
DTSTAMP:20260425T173330
CREATED:20250714T193042Z
LAST-MODIFIED:20250714T193042Z
UID:44829-1752507000-1752510600@www.goiasfomento.com
SUMMARY:Vinícius Luz: Reunião com a Sucena - Presidente CRC-GO.
DESCRIPTION:
URL:https://www.goiasfomento.com/agenda/vinicius-luz-reuniao-com-a-sucena-presidente-crc-go/
LOCATION:Conselho Regional de Contabilidade de Goiás – CRC GO
CATEGORIES:Diretoria de Operações
END:VEVENT
BEGIN:VEVENT
DTSTART;TZID=America/Sao_Paulo:20250714T163000
DTEND;TZID=America/Sao_Paulo:20250714T180000
DTSTAMP:20260425T173330
CREATED:20250715T120115Z
LAST-MODIFIED:20250715T120316Z
UID:44894-1752510600-1752516000@www.goiasfomento.com
SUMMARY:Vinícius Luz: Atendimentos e Despachos Internos.
DESCRIPTION:
URL:https://www.goiasfomento.com/agenda/vinicius-luz-atendimentos-e-despachos-internos/
LOCATION:Gabinete da Diretoria de Operações da GoiásFomento – Agência de Fomento de Goiás.
CATEGORIES:Diretoria de Operações
END:VEVENT
BEGIN:VEVENT
DTSTART;TZID=America/Sao_Paulo:20250715T073000
DTEND;TZID=America/Sao_Paulo:20250715T090000
DTSTAMP:20260425T173330
CREATED:20250715T135406Z
LAST-MODIFIED:20250715T135406Z
UID:44924-1752564600-1752570000@www.goiasfomento.com
SUMMARY:Rufino Veríssimo: Atendimentos e Despachos Internos.
DESCRIPTION:
URL:https://www.goiasfomento.com/agenda/rufino-verissimo-atendimentos-e-despachos-internos-2/
LOCATION:Chefia de Gabinete – Agência de Fomento de Goiás
CATEGORIES:Chefia de Gabinete
END:VEVENT
BEGIN:VEVENT
DTSTART;TZID=America/Sao_Paulo:20250715T080000
DTEND;TZID=America/Sao_Paulo:20250715T090000
DTSTAMP:20260425T173330
CREATED:20250715T132238Z
LAST-MODIFIED:20250715T132238Z
UID:44911-1752566400-1752570000@www.goiasfomento.com
SUMMARY:Lara Garcia: Atendimentos e Despachos Internos.
DESCRIPTION:
URL:https://www.goiasfomento.com/agenda/lara-garcia-atendimentos-e-despachos-internos-3/
LOCATION:Gabinete da Diretoria Administrativa e Financeira – Agência de Fomento de Goiás.
CATEGORIES:Diretoria Administrativa e Financeira
END:VEVENT
BEGIN:VEVENT
DTSTART;TZID=America/Sao_Paulo:20250715T080000
DTEND;TZID=America/Sao_Paulo:20250715T090000
DTSTAMP:20260425T173330
CREATED:20250715T135656Z
LAST-MODIFIED:20250715T135656Z
UID:44928-1752566400-1752570000@www.goiasfomento.com
SUMMARY:Vinícius Luz: Atendimentos e Despachos Internos.
DESCRIPTION:
URL:https://www.goiasfomento.com/agenda/vinicius-luz-atendimentos-e-despachos-internos-2/
LOCATION:Gabinete da Diretoria de Operações da GoiásFomento – Agência de Fomento de Goiás.
CATEGORIES:Diretoria de Operações
END:VEVENT
BEGIN:VEVENT
DTSTART;TZID=America/Sao_Paulo:20250715T080000
DTEND;TZID=America/Sao_Paulo:20250715T110000
DTSTAMP:20260425T173330
CREATED:20250714T173028Z
LAST-MODIFIED:20250714T173028Z
UID:44813-1752566400-1752577200@www.goiasfomento.com
SUMMARY:Rivael Aguiar Pereira: Atendimentos e Despachos Internos
DESCRIPTION:
URL:https://www.goiasfomento.com/agenda/rivael-aguiar-pereira-atendimentos-e-despachos-internos-14/
CATEGORIES:Presidência
END:VEVENT
BEGIN:VEVENT
DTSTART;TZID=America/Sao_Paulo:20250715T090000
DTEND;TZID=America/Sao_Paulo:20250715T100000
DTSTAMP:20260425T173330
CREATED:20250715T121327Z
LAST-MODIFIED:20250715T121327Z
UID:44905-1752570000-1752573600@www.goiasfomento.com
SUMMARY:Vinícius Luz: Reunião com os gerentes da GoiásFomento. Pauta – Contrato da BK.
DESCRIPTION:
URL:https://www.goiasfomento.com/agenda/vinicius-luz-reuniao-com-os-gerentes-da-goiasfomento-pauta-contrato-da-bk-2/
LOCATION:Gabinete da Diretoria de Operações da GoiásFomento – Agência de Fomento de Goiás.
CATEGORIES:Diretoria de Operações
END:VEVENT
END:VCALENDAR