BEGIN:VCALENDAR
VERSION:2.0
PRODID:-//GoiásFomento - Agência de Fomento - ECPv6.15.20//NONSGML v1.0//EN
CALSCALE:GREGORIAN
METHOD:PUBLISH
X-WR-CALNAME:GoiásFomento - Agência de Fomento
X-ORIGINAL-URL:https://www.goiasfomento.com
X-WR-CALDESC:Eventos para GoiásFomento - Agência de Fomento
REFRESH-INTERVAL;VALUE=DURATION:PT1H
X-Robots-Tag:noindex
X-PUBLISHED-TTL:PT1H
BEGIN:VTIMEZONE
TZID:America/Sao_Paulo
BEGIN:STANDARD
TZOFFSETFROM:-0300
TZOFFSETTO:-0300
TZNAME:-03
DTSTART:20240101T000000
END:STANDARD
END:VTIMEZONE
BEGIN:VEVENT
DTSTART;TZID=America/Sao_Paulo:20250702T070000
DTEND;TZID=America/Sao_Paulo:20250702T100000
DTSTAMP:20260425T155243
CREATED:20250702T115205Z
LAST-MODIFIED:20250715T114923Z
UID:44495-1751439600-1751450400@www.goiasfomento.com
SUMMARY:Rufino Veríssimo: Atendimentos e Despachos Internos.
DESCRIPTION:
URL:https://www.goiasfomento.com/agenda/rufino-verissimo-atendimentos-e-despachos-interno-84/
LOCATION:Gabinete da Diretoria de Operações da GoiásFomento – Agência de Fomento de Goiás.
CATEGORIES:Diretoria de Operações
END:VEVENT
BEGIN:VEVENT
DTSTART;TZID=America/Sao_Paulo:20250702T080000
DTEND;TZID=America/Sao_Paulo:20250702T100000
DTSTAMP:20260425T155243
CREATED:20250702T130835Z
LAST-MODIFIED:20250702T130835Z
UID:44511-1751443200-1751450400@www.goiasfomento.com
SUMMARY:Rivael Aguiar Pereira: Atendimentos e Despachos Interno.
DESCRIPTION:
URL:https://www.goiasfomento.com/agenda/rivael-aguiar-pereira-atendimentos-e-despachos-interno-61/
LOCATION:Gabinete da Presidência.
CATEGORIES:Presidência
END:VEVENT
BEGIN:VEVENT
DTSTART;TZID=America/Sao_Paulo:20250702T080000
DTEND;TZID=America/Sao_Paulo:20250702T120000
DTSTAMP:20260425T155243
CREATED:20250701T140040Z
LAST-MODIFIED:20250715T114755Z
UID:44480-1751443200-1751457600@www.goiasfomento.com
SUMMARY:Vinícius Luz: Atendimentos e Despachos Internos.
DESCRIPTION:
URL:https://www.goiasfomento.com/agenda/vinicius-luz-atendimentos-e-despachos-interno-42/
LOCATION:Chefia de Gabinete – Agência de Fomento de Goiás
CATEGORIES:Chefia de Gabinete
END:VEVENT
BEGIN:VEVENT
DTSTART;TZID=America/Sao_Paulo:20250702T080000
DTEND;TZID=America/Sao_Paulo:20250702T120000
DTSTAMP:20260425T155243
CREATED:20250702T133747Z
LAST-MODIFIED:20250702T133747Z
UID:44521-1751443200-1751457600@www.goiasfomento.com
SUMMARY:Lara Garcia : Atendimentos e Despachos Interno.
DESCRIPTION:
URL:https://www.goiasfomento.com/agenda/lara-garcia-atendimentos-e-despachos-interno-48/
LOCATION:Gabinete da Diretoria Administrativa e Financeira – Agência de Fomento de Goiás.
CATEGORIES:Diretoria Administrativa e Financeira
END:VEVENT
BEGIN:VEVENT
DTSTART;TZID=America/Sao_Paulo:20250702T100000
DTEND;TZID=America/Sao_Paulo:20250702T113000
DTSTAMP:20260425T155243
CREATED:20250702T131410Z
LAST-MODIFIED:20250702T131410Z
UID:44514-1751450400-1751455800@www.goiasfomento.com
SUMMARY:Rivael Aguiar Pereira: Reunião com a Comissão do Plano de Cargos.
DESCRIPTION:
URL:https://www.goiasfomento.com/agenda/rivael-aguiar-pereira-reuniao-com-a-comissao-do-plano-de-cargos/
LOCATION:Sala de reunião
CATEGORIES:Presidência
END:VEVENT
BEGIN:VEVENT
DTSTART;TZID=America/Sao_Paulo:20250702T100000
DTEND;TZID=America/Sao_Paulo:20250702T120000
DTSTAMP:20260425T155243
CREATED:20250702T115638Z
LAST-MODIFIED:20250702T120123Z
UID:44497-1751450400-1751457600@www.goiasfomento.com
SUMMARY:Rufino Veríssimo: Reunião GoiasFomento e Seds.
DESCRIPTION:
URL:https://www.goiasfomento.com/agenda/rufino-verissimo-reuniao-goiasfomento-e-seds-2/
LOCATION:Secretaria de Desenvolvimento Social – SEDS.
CATEGORIES:Diretoria de Operações
END:VEVENT
BEGIN:VEVENT
DTSTART;TZID=America/Sao_Paulo:20250702T113000
DTEND;TZID=America/Sao_Paulo:20250702T120000
DTSTAMP:20260425T155243
CREATED:20250702T131942Z
LAST-MODIFIED:20250702T131942Z
UID:44517-1751455800-1751457600@www.goiasfomento.com
SUMMARY:Rivael Aguiar Pereira: Atendimentos e Despachos Interno.
DESCRIPTION:
URL:https://www.goiasfomento.com/agenda/rivael-aguiar-pereira-atendimentos-e-despachos-interno-62/
LOCATION:Gabinete da Presidência.
CATEGORIES:Presidência
END:VEVENT
BEGIN:VEVENT
DTSTART;TZID=America/Sao_Paulo:20250702T140000
DTEND;TZID=America/Sao_Paulo:20250702T143000
DTSTAMP:20260425T155243
CREATED:20250702T124055Z
LAST-MODIFIED:20250715T114853Z
UID:44506-1751464800-1751466600@www.goiasfomento.com
SUMMARY:Rufino Veríssimo: Atendimentos e Despachos Internos.
DESCRIPTION:
URL:https://www.goiasfomento.com/agenda/rufino-verissimo-atendimentos-e-despachos-interno-85/
LOCATION:Gabinete da Diretoria de Operações da GoiásFomento – Agência de Fomento de Goiás.
CATEGORIES:Diretoria de Operações
END:VEVENT
BEGIN:VEVENT
DTSTART;TZID=America/Sao_Paulo:20250702T140000
DTEND;TZID=America/Sao_Paulo:20250702T180000
DTSTAMP:20260425T155243
CREATED:20250701T140101Z
LAST-MODIFIED:20250715T114614Z
UID:44482-1751464800-1751479200@www.goiasfomento.com
SUMMARY:Vinícius Luz: Atendimentos e Despachos Internos.
DESCRIPTION:
URL:https://www.goiasfomento.com/agenda/vinicius-luz-atendimentos-e-despachos-interno-43/
LOCATION:Chefia de Gabinete – Agência de Fomento de Goiás
CATEGORIES:Chefia de Gabinete
END:VEVENT
BEGIN:VEVENT
DTSTART;TZID=America/Sao_Paulo:20250702T140000
DTEND;TZID=America/Sao_Paulo:20250702T180000
DTSTAMP:20260425T155243
CREATED:20250702T132016Z
LAST-MODIFIED:20250702T132016Z
UID:44519-1751464800-1751479200@www.goiasfomento.com
SUMMARY:Rivael Aguiar Pereira: Atendimentos e Despachos Interno.
DESCRIPTION:
URL:https://www.goiasfomento.com/agenda/rivael-aguiar-pereira-atendimentos-e-despachos-interno-63/
LOCATION:Gabinete da Presidência.
CATEGORIES:Presidência
END:VEVENT
BEGIN:VEVENT
DTSTART;TZID=America/Sao_Paulo:20250702T140000
DTEND;TZID=America/Sao_Paulo:20250702T180000
DTSTAMP:20260425T155243
CREATED:20250702T133814Z
LAST-MODIFIED:20250702T133814Z
UID:44523-1751464800-1751479200@www.goiasfomento.com
SUMMARY:Lara Garcia : Atendimentos e Despachos Interno.
DESCRIPTION:
URL:https://www.goiasfomento.com/agenda/lara-garcia-atendimentos-e-despachos-interno-51/
LOCATION:Gabinete da Diretoria Administrativa e Financeira – Agência de Fomento de Goiás.
CATEGORIES:Diretoria Administrativa e Financeira
END:VEVENT
BEGIN:VEVENT
DTSTART;TZID=America/Sao_Paulo:20250702T143000
DTEND;TZID=America/Sao_Paulo:20250702T170000
DTSTAMP:20260425T155243
CREATED:20250702T124027Z
LAST-MODIFIED:20250702T190043Z
UID:44504-1751466600-1751475600@www.goiasfomento.com
SUMMARY:Rufino Veríssimo: Reunião com a Diretoria da GoiásFomento\, Secretaria da Econômica e a Empresa Inttegra.
DESCRIPTION:
URL:https://www.goiasfomento.com/agenda/rufino-verissimo-reuniao-com-a-diretoria-da-goiasfomento-secretaria-da-economica-e-a-empresa-inttegra/
LOCATION:Sala de Reuniões da Diretoria – Agência de Fomento de Goiás.
CATEGORIES:Diretoria de Operações
END:VEVENT
BEGIN:VEVENT
DTSTART;TZID=America/Sao_Paulo:20250702T170000
DTEND;TZID=America/Sao_Paulo:20250702T183000
DTSTAMP:20260425T155243
CREATED:20250702T124146Z
LAST-MODIFIED:20250715T113859Z
UID:44508-1751475600-1751481000@www.goiasfomento.com
SUMMARY:Rufino Veríssimo: Atendimentos e Despachos Internos.
DESCRIPTION:
URL:https://www.goiasfomento.com/agenda/rufino-verissimo-atendimentos-e-despachos-interno-86/
LOCATION:Gabinete da Diretoria de Operações da GoiásFomento – Agência de Fomento de Goiás.
CATEGORIES:Diretoria de Operações
END:VEVENT
BEGIN:VEVENT
DTSTART;TZID=America/Sao_Paulo:20250703T073000
DTEND;TZID=America/Sao_Paulo:20250703T120000
DTSTAMP:20260425T155243
CREATED:20250703T172012Z
LAST-MODIFIED:20250715T113916Z
UID:44561-1751527800-1751544000@www.goiasfomento.com
SUMMARY:Rufino Veríssimo: Atendimentos e Despachos Internos.
DESCRIPTION:
URL:https://www.goiasfomento.com/agenda/rufino-verissimo-atendimentos-e-despachos-interno-87/
LOCATION:Gabinete da Diretoria de Operações da GoiásFomento – Agência de Fomento de Goiás.
CATEGORIES:Diretoria de Operações
END:VEVENT
BEGIN:VEVENT
DTSTART;TZID=America/Sao_Paulo:20250703T080000
DTEND;TZID=America/Sao_Paulo:20250703T120000
DTSTAMP:20260425T155243
CREATED:20250701T143152Z
LAST-MODIFIED:20250715T113935Z
UID:44484-1751529600-1751544000@www.goiasfomento.com
SUMMARY:Vinícius Luz: Atendimentos e Despachos Internos.
DESCRIPTION:
URL:https://www.goiasfomento.com/agenda/vinicius-luz-atendimentos-e-despachos-interno-44/
LOCATION:Chefia de Gabinete – Agência de Fomento de Goiás
CATEGORIES:Chefia de Gabinete
END:VEVENT
BEGIN:VEVENT
DTSTART;TZID=America/Sao_Paulo:20250703T080000
DTEND;TZID=America/Sao_Paulo:20250703T120000
DTSTAMP:20260425T155243
CREATED:20250703T123333Z
LAST-MODIFIED:20250703T123333Z
UID:44544-1751529600-1751544000@www.goiasfomento.com
SUMMARY:Rivael Aguiar Pereira: Atendimentos e Despachos Interno.
DESCRIPTION:
URL:https://www.goiasfomento.com/agenda/rivael-aguiar-pereira-atendimentos-e-despachos-interno-64/
LOCATION:Gabinete da Presidência.
CATEGORIES:Presidência
END:VEVENT
BEGIN:VEVENT
DTSTART;TZID=America/Sao_Paulo:20250703T080000
DTEND;TZID=America/Sao_Paulo:20250703T120000
DTSTAMP:20260425T155243
CREATED:20250703T123512Z
LAST-MODIFIED:20250703T123512Z
UID:44548-1751529600-1751544000@www.goiasfomento.com
SUMMARY:Lara Garcia : Atendimentos e Despachos Interno.
DESCRIPTION:
URL:https://www.goiasfomento.com/agenda/lara-garcia-atendimentos-e-despachos-interno-52/
LOCATION:Gabinete da Diretoria Administrativa e Financeira – Agência de Fomento de Goiás.
CATEGORIES:Diretoria Administrativa e Financeira
END:VEVENT
BEGIN:VEVENT
DTSTART;TZID=America/Sao_Paulo:20250703T133000
DTEND;TZID=America/Sao_Paulo:20250703T183000
DTSTAMP:20260425T155243
CREATED:20250703T172038Z
LAST-MODIFIED:20250715T114001Z
UID:44563-1751549400-1751567400@www.goiasfomento.com
SUMMARY:Rufino Veríssimo: Atendimentos e Despachos Internos.
DESCRIPTION:
URL:https://www.goiasfomento.com/agenda/rufino-verissimo-atendimentos-e-despachos-interno-88/
LOCATION:Gabinete da Diretoria de Operações da GoiásFomento – Agência de Fomento de Goiás.
CATEGORIES:Diretoria de Operações
END:VEVENT
BEGIN:VEVENT
DTSTART;TZID=America/Sao_Paulo:20250703T140000
DTEND;TZID=America/Sao_Paulo:20250703T160000
DTSTAMP:20260425T155243
CREATED:20250703T123824Z
LAST-MODIFIED:20250703T123824Z
UID:44550-1751551200-1751558400@www.goiasfomento.com
SUMMARY:Lara Garcia : Reunião com os Gerentes da GF. Pauta: Canvas do projeto FINTECH.
DESCRIPTION:
URL:https://www.goiasfomento.com/agenda/lara-garcia-reuniao-com-os-gerentes-da-gf-pauta-canvas-do-projeto-fintech/
LOCATION:Sala de reuniões da Diretoria.
CATEGORIES:Diretoria Administrativa e Financeira
END:VEVENT
BEGIN:VEVENT
DTSTART;TZID=America/Sao_Paulo:20250703T140000
DTEND;TZID=America/Sao_Paulo:20250703T180000
DTSTAMP:20260425T155243
CREATED:20250701T143228Z
LAST-MODIFIED:20250715T114154Z
UID:44486-1751551200-1751565600@www.goiasfomento.com
SUMMARY:Vinícius Luz: Atendimentos e Despachos Internos.
DESCRIPTION:
URL:https://www.goiasfomento.com/agenda/vinicius-luz-atendimentos-e-despachos-interno-45/
LOCATION:Chefia de Gabinete – Agência de Fomento de Goiás
CATEGORIES:Chefia de Gabinete
END:VEVENT
BEGIN:VEVENT
DTSTART;TZID=America/Sao_Paulo:20250703T140000
DTEND;TZID=America/Sao_Paulo:20250703T180000
DTSTAMP:20260425T155243
CREATED:20250703T123410Z
LAST-MODIFIED:20250703T123410Z
UID:44546-1751551200-1751565600@www.goiasfomento.com
SUMMARY:Rivael Aguiar Pereira: Atendimentos e Despachos Interno.
DESCRIPTION:
URL:https://www.goiasfomento.com/agenda/rivael-aguiar-pereira-atendimentos-e-despachos-interno-65/
LOCATION:Gabinete da Presidência.
CATEGORIES:Presidência
END:VEVENT
BEGIN:VEVENT
DTSTART;TZID=America/Sao_Paulo:20250703T160000
DTEND;TZID=America/Sao_Paulo:20250703T180000
DTSTAMP:20260425T155243
CREATED:20250703T123916Z
LAST-MODIFIED:20250703T123916Z
UID:44552-1751558400-1751565600@www.goiasfomento.com
SUMMARY:Lara Garcia : Atendimentos e Despachos Interno.
DESCRIPTION:
URL:https://www.goiasfomento.com/agenda/lara-garcia-atendimentos-e-despachos-interno-53/
LOCATION:Gabinete da Diretoria Administrativa e Financeira – Agência de Fomento de Goiás.
CATEGORIES:Diretoria Administrativa e Financeira
END:VEVENT
BEGIN:VEVENT
DTSTART;TZID=America/Sao_Paulo:20250704T073000
DTEND;TZID=America/Sao_Paulo:20250704T120000
DTSTAMP:20260425T155243
CREATED:20250703T200822Z
LAST-MODIFIED:20250715T114308Z
UID:44576-1751614200-1751630400@www.goiasfomento.com
SUMMARY:Rufino Veríssimo: Atendimentos e Despachos Internos.
DESCRIPTION:
URL:https://www.goiasfomento.com/agenda/rufino-verissimo-atendimentos-e-despachos-interno-89/
LOCATION:Gabinete da Diretoria de Operações da GoiásFomento – Agência de Fomento de Goiás.
CATEGORIES:Diretoria de Operações
END:VEVENT
BEGIN:VEVENT
DTSTART;TZID=America/Sao_Paulo:20250704T080000
DTEND;TZID=America/Sao_Paulo:20250704T120000
DTSTAMP:20260425T155243
CREATED:20250701T143555Z
LAST-MODIFIED:20250715T114220Z
UID:44488-1751616000-1751630400@www.goiasfomento.com
SUMMARY:Vinícius Luz: Atendimentos e Despachos Internos.
DESCRIPTION:
URL:https://www.goiasfomento.com/agenda/vinicius-luz-atendimentos-e-despachos-interno-46/
LOCATION:Chefia de Gabinete – Agência de Fomento de Goiás
CATEGORIES:Chefia de Gabinete
END:VEVENT
BEGIN:VEVENT
DTSTART;TZID=America/Sao_Paulo:20250704T080000
DTEND;TZID=America/Sao_Paulo:20250704T120000
DTSTAMP:20260425T155243
CREATED:20250704T173735Z
LAST-MODIFIED:20250704T173735Z
UID:44582-1751616000-1751630400@www.goiasfomento.com
SUMMARY:Rivael Aguiar Pereira: Atendimentos e Despachos Interno.
DESCRIPTION:
URL:https://www.goiasfomento.com/agenda/rivael-aguiar-pereira-atendimentos-e-despachos-interno-66/
LOCATION:Gabinete da Presidência.
CATEGORIES:Presidência
END:VEVENT
BEGIN:VEVENT
DTSTART;TZID=America/Sao_Paulo:20250704T080000
DTEND;TZID=America/Sao_Paulo:20250704T120000
DTSTAMP:20260425T155243
CREATED:20250704T173956Z
LAST-MODIFIED:20250704T173956Z
UID:44586-1751616000-1751630400@www.goiasfomento.com
SUMMARY:Lara Garcia : Atendimentos e Despachos Interno.
DESCRIPTION:
URL:https://www.goiasfomento.com/agenda/lara-garcia-atendimentos-e-despachos-interno-54/
LOCATION:Gabinete da Diretoria Administrativa e Financeira – Agência de Fomento de Goiás.
CATEGORIES:Diretoria Administrativa e Financeira
END:VEVENT
BEGIN:VEVENT
DTSTART;TZID=America/Sao_Paulo:20250704T140000
DTEND;TZID=America/Sao_Paulo:20250704T180000
DTSTAMP:20260425T155243
CREATED:20250701T143622Z
LAST-MODIFIED:20250715T114131Z
UID:44490-1751637600-1751652000@www.goiasfomento.com
SUMMARY:Vinícius Luz: Atendimentos e Despachos Internos.
DESCRIPTION:
URL:https://www.goiasfomento.com/agenda/vinicius-luz-atendimentos-e-despachos-interno-47/
LOCATION:Chefia de Gabinete – Agência de Fomento de Goiás
CATEGORIES:Chefia de Gabinete
END:VEVENT
BEGIN:VEVENT
DTSTART;TZID=America/Sao_Paulo:20250704T140000
DTEND;TZID=America/Sao_Paulo:20250704T180000
DTSTAMP:20260425T155243
CREATED:20250704T173812Z
LAST-MODIFIED:20250704T173812Z
UID:44584-1751637600-1751652000@www.goiasfomento.com
SUMMARY:Rivael Aguiar Pereira: Atendimentos e Despachos Interno.
DESCRIPTION:
URL:https://www.goiasfomento.com/agenda/rivael-aguiar-pereira-atendimentos-e-despachos-interno-67/
LOCATION:Gabinete da Presidência.
CATEGORIES:Presidência
END:VEVENT
BEGIN:VEVENT
DTSTART;TZID=America/Sao_Paulo:20250704T140000
DTEND;TZID=America/Sao_Paulo:20250704T180000
DTSTAMP:20260425T155243
CREATED:20250704T174037Z
LAST-MODIFIED:20250704T174037Z
UID:44588-1751637600-1751652000@www.goiasfomento.com
SUMMARY:Lara Garcia : Atendimentos e Despachos Interno.
DESCRIPTION:
URL:https://www.goiasfomento.com/agenda/lara-garcia-atendimentos-e-despachos-interno-55/
LOCATION:Gabinete da Diretoria Administrativa e Financeira – Agência de Fomento de Goiás.
CATEGORIES:Diretoria Administrativa e Financeira
END:VEVENT
BEGIN:VEVENT
DTSTART;TZID=America/Sao_Paulo:20250704T140000
DTEND;TZID=America/Sao_Paulo:20250704T183000
DTSTAMP:20260425T155243
CREATED:20250703T200849Z
LAST-MODIFIED:20250715T114052Z
UID:44578-1751637600-1751653800@www.goiasfomento.com
SUMMARY:Rufino Veríssimo: Atendimentos e Despachos Internos.
DESCRIPTION:
URL:https://www.goiasfomento.com/agenda/rufino-verissimo-atendimentos-e-despachos-interno-90/
LOCATION:Gabinete da Diretoria de Operações da GoiásFomento – Agência de Fomento de Goiás.
CATEGORIES:Diretoria de Operações
END:VEVENT
END:VCALENDAR