BEGIN:VCALENDAR
VERSION:2.0
PRODID:-//GoiásFomento - Agência de Fomento - ECPv6.15.20//NONSGML v1.0//EN
CALSCALE:GREGORIAN
METHOD:PUBLISH
X-WR-CALNAME:GoiásFomento - Agência de Fomento
X-ORIGINAL-URL:https://www.goiasfomento.com
X-WR-CALDESC:Eventos para GoiásFomento - Agência de Fomento
REFRESH-INTERVAL;VALUE=DURATION:PT1H
X-Robots-Tag:noindex
X-PUBLISHED-TTL:PT1H
BEGIN:VTIMEZONE
TZID:America/Sao_Paulo
BEGIN:STANDARD
TZOFFSETFROM:-0300
TZOFFSETTO:-0300
TZNAME:-03
DTSTART:20240101T000000
END:STANDARD
END:VTIMEZONE
BEGIN:VEVENT
DTSTART;TZID=America/Sao_Paulo:20250623T070000
DTEND;TZID=America/Sao_Paulo:20250623T120000
DTSTAMP:20260425T155245
CREATED:20250623T124539Z
LAST-MODIFIED:20250623T124539Z
UID:44267-1750662000-1750680000@www.goiasfomento.com
SUMMARY:Rufino Veríssimo: Atendimentos e Despachos Interno.
DESCRIPTION:
URL:https://www.goiasfomento.com/agenda/rufino-verissimo-atendimentos-e-despachos-interno-65/
LOCATION:Gabinete da Diretoria de Operações da GoiásFomento – Agência de Fomento de Goiás.
CATEGORIES:Diretoria de Operações
END:VEVENT
BEGIN:VEVENT
DTSTART;TZID=America/Sao_Paulo:20250623T080000
DTEND;TZID=America/Sao_Paulo:20250623T090000
DTSTAMP:20260425T155245
CREATED:20250623T121937Z
LAST-MODIFIED:20250623T121937Z
UID:44251-1750665600-1750669200@www.goiasfomento.com
SUMMARY:Rivael Aguiar Pereira: Atendimentos e Despachos Interno.
DESCRIPTION:
URL:https://www.goiasfomento.com/agenda/rivael-aguiar-pereira-atendimentos-e-despachos-interno-44/
LOCATION:Gabinete da Presidência.
CATEGORIES:Presidência
END:VEVENT
BEGIN:VEVENT
DTSTART;TZID=America/Sao_Paulo:20250623T080000
DTEND;TZID=America/Sao_Paulo:20250623T120000
DTSTAMP:20260425T155245
CREATED:20250623T123343Z
LAST-MODIFIED:20250623T123447Z
UID:44259-1750665600-1750680000@www.goiasfomento.com
SUMMARY:Lara Garcia : Atendimentos e Despachos Interno.
DESCRIPTION:
URL:https://www.goiasfomento.com/agenda/lara-garcia-atendimentos-e-despachos-interno-38/
LOCATION:Gabinete da Diretoria Administrativa e Financeira – Agência de Fomento de Goiás.
CATEGORIES:Diretoria Administrativa e Financeira
END:VEVENT
BEGIN:VEVENT
DTSTART;TZID=America/Sao_Paulo:20250623T080000
DTEND;TZID=America/Sao_Paulo:20250623T120000
DTSTAMP:20260425T155245
CREATED:20250623T125321Z
LAST-MODIFIED:20250623T125321Z
UID:44269-1750665600-1750680000@www.goiasfomento.com
SUMMARY:Vinícius Luz: Atendimentos e Despachos Interno.
DESCRIPTION:
URL:https://www.goiasfomento.com/agenda/vinicius-luz-atendimentos-e-despachos-interno-29/
LOCATION:Chefia de Gabinete – Agência de Fomento de Goiás
CATEGORIES:Chefia de Gabinete
END:VEVENT
BEGIN:VEVENT
DTSTART;TZID=America/Sao_Paulo:20250623T090000
DTEND;TZID=America/Sao_Paulo:20250623T100000
DTSTAMP:20260425T155245
CREATED:20250623T122345Z
LAST-MODIFIED:20250623T122345Z
UID:44253-1750669200-1750672800@www.goiasfomento.com
SUMMARY:Rivael Aguiar Pereira: : Recepção a Imagem Peregrina de Nossa Senhora das Graças e Momento de Oração.
DESCRIPTION:
URL:https://www.goiasfomento.com/agenda/rivael-aguiar-pereira-recepcao-a-imagem-peregrina-de-nossa-senhora-das-gracas-e-momento-de-oracao/
LOCATION:Palácio da Esmeraldas.
CATEGORIES:Presidência
END:VEVENT
BEGIN:VEVENT
DTSTART;TZID=America/Sao_Paulo:20250623T100000
DTEND;TZID=America/Sao_Paulo:20250623T120000
DTSTAMP:20260425T155245
CREATED:20250623T122430Z
LAST-MODIFIED:20250623T122430Z
UID:44255-1750672800-1750680000@www.goiasfomento.com
SUMMARY:Rivael Aguiar Pereira: Atendimentos e Despachos Interno.
DESCRIPTION:
URL:https://www.goiasfomento.com/agenda/rivael-aguiar-pereira-atendimentos-e-despachos-interno-45/
LOCATION:Gabinete da Presidência.
CATEGORIES:Presidência
END:VEVENT
BEGIN:VEVENT
DTSTART;TZID=America/Sao_Paulo:20250623T140000
DTEND;TZID=America/Sao_Paulo:20250623T153000
DTSTAMP:20260425T155245
CREATED:20250623T122515Z
LAST-MODIFIED:20250624T173932Z
UID:44257-1750687200-1750692600@www.goiasfomento.com
SUMMARY:Rivael Aguiar Pereira: Atendimentos e Despachos Interno.
DESCRIPTION:
URL:https://www.goiasfomento.com/agenda/rivael-aguiar-pereira-atendimentos-e-despachos-interno-46/
LOCATION:Gabinete da Presidência.
CATEGORIES:Presidência
END:VEVENT
BEGIN:VEVENT
DTSTART;TZID=America/Sao_Paulo:20250623T140000
DTEND;TZID=America/Sao_Paulo:20250623T180000
DTSTAMP:20260425T155245
CREATED:20250623T123411Z
LAST-MODIFIED:20250623T123411Z
UID:44261-1750687200-1750701600@www.goiasfomento.com
SUMMARY:Lara Garcia : Atendimentos e Despachos Interno.
DESCRIPTION:
URL:https://www.goiasfomento.com/agenda/lara-garcia-atendimentos-e-despachos-interno-39/
LOCATION:Gabinete da Diretoria Administrativa e Financeira – Agência de Fomento de Goiás.
CATEGORIES:Diretoria Administrativa e Financeira
END:VEVENT
BEGIN:VEVENT
DTSTART;TZID=America/Sao_Paulo:20250623T140000
DTEND;TZID=America/Sao_Paulo:20250623T180000
DTSTAMP:20260425T155245
CREATED:20250623T184823Z
LAST-MODIFIED:20250623T184823Z
UID:44321-1750687200-1750701600@www.goiasfomento.com
SUMMARY:Vinícius Luz: Atendimentos e Despachos Interno.
DESCRIPTION:
URL:https://www.goiasfomento.com/agenda/vinicius-luz-atendimentos-e-despachos-interno-33/
LOCATION:Chefia de Gabinete – Agência de Fomento de Goiás
CATEGORIES:Chefia de Gabinete
END:VEVENT
BEGIN:VEVENT
DTSTART;TZID=America/Sao_Paulo:20250623T140000
DTEND;TZID=America/Sao_Paulo:20250623T183000
DTSTAMP:20260425T155245
CREATED:20250623T185341Z
LAST-MODIFIED:20250623T185341Z
UID:44323-1750687200-1750703400@www.goiasfomento.com
SUMMARY:Rufino Veríssimo: Atendimentos e Despachos Interno.
DESCRIPTION:
URL:https://www.goiasfomento.com/agenda/rufino-verissimo-atendimentos-e-despachos-interno-70/
LOCATION:Gabinete da Diretoria de Operações da GoiásFomento – Agência de Fomento de Goiás.
CATEGORIES:Diretoria de Operações
END:VEVENT
BEGIN:VEVENT
DTSTART;TZID=America/Sao_Paulo:20250623T153000
DTEND;TZID=America/Sao_Paulo:20250623T180000
DTSTAMP:20260425T155245
CREATED:20250624T174355Z
LAST-MODIFIED:20250624T183556Z
UID:44338-1750692600-1750701600@www.goiasfomento.com
SUMMARY:Rivael Aguiar Pereira: Reunião com o Secretário de Estado de Indústria\, Comércio e Serviços de Goiás é Joel de Sant'Anna Braga Filho.
DESCRIPTION:
URL:https://www.goiasfomento.com/agenda/rivael-aguiar-pereira-reuniao-com-o-secretario-de-estado-de-industria-comercio-e-servicos-de-goias-e-joel-de-santanna-braga-filho/
LOCATION:Palácio das Esmeraldas.
CATEGORIES:Presidência
END:VEVENT
BEGIN:VEVENT
DTSTART;TZID=America/Sao_Paulo:20250624T070000
DTEND;TZID=America/Sao_Paulo:20250624T090000
DTSTAMP:20260425T155245
CREATED:20250623T140540Z
LAST-MODIFIED:20250623T140540Z
UID:44296-1750748400-1750755600@www.goiasfomento.com
SUMMARY:Rufino Veríssimo: Atendimentos e Despachos Interno.
DESCRIPTION:
URL:https://www.goiasfomento.com/agenda/rufino-verissimo-atendimentos-e-despachos-interno-67/
LOCATION:Gabinete da Diretoria de Operações da GoiásFomento – Agência de Fomento de Goiás.
CATEGORIES:Diretoria de Operações
END:VEVENT
BEGIN:VEVENT
DTSTART;TZID=America/Sao_Paulo:20250624T080000
DTEND;TZID=America/Sao_Paulo:20250624T090000
DTSTAMP:20260425T155245
CREATED:20250623T131011Z
LAST-MODIFIED:20250623T145104Z
UID:44282-1750752000-1750755600@www.goiasfomento.com
SUMMARY:Rivael Aguiar Pereira: Atendimentos e Despachos Interno.
DESCRIPTION:
URL:https://www.goiasfomento.com/agenda/rivael-aguiar-pereira-atendimentos-e-despachos-interno-48/
LOCATION:Gabinete da Presidência.
CATEGORIES:Presidência
END:VEVENT
BEGIN:VEVENT
DTSTART;TZID=America/Sao_Paulo:20250624T080000
DTEND;TZID=America/Sao_Paulo:20250624T090000
DTSTAMP:20260425T155245
CREATED:20250623T142329Z
LAST-MODIFIED:20250623T142329Z
UID:44311-1750752000-1750755600@www.goiasfomento.com
SUMMARY:Vinícius Luz: Atendimentos e Despachos Interno.
DESCRIPTION:
URL:https://www.goiasfomento.com/agenda/vinicius-luz-atendimentos-e-despachos-interno-30/
LOCATION:Chefia de Gabinete – Agência de Fomento de Goiás
CATEGORIES:Chefia de Gabinete
END:VEVENT
BEGIN:VEVENT
DTSTART;TZID=America/Sao_Paulo:20250624T080000
DTEND;TZID=America/Sao_Paulo:20250624T120000
DTSTAMP:20260425T155245
CREATED:20250623T124214Z
LAST-MODIFIED:20250623T124214Z
UID:44263-1750752000-1750766400@www.goiasfomento.com
SUMMARY:Lara Garcia: ABERTURA GOIÁS SOCIAL- GOIANÉSIA.
DESCRIPTION:
URL:https://www.goiasfomento.com/agenda/lara-garcia-abertura-goias-social-goianesia/
LOCATION:GOIANÉSIA
CATEGORIES:Diretoria Administrativa e Financeira
END:VEVENT
BEGIN:VEVENT
DTSTART;TZID=America/Sao_Paulo:20250624T090000
DTEND;TZID=America/Sao_Paulo:20250624T100000
DTSTAMP:20260425T155245
CREATED:20250623T134204Z
LAST-MODIFIED:20250623T140916Z
UID:44286-1750755600-1750759200@www.goiasfomento.com
SUMMARY:Rufino Veríssimo: Reunião -  Pauta: Contrato da BK.
DESCRIPTION:
URL:https://www.goiasfomento.com/agenda/rufino-verissimo-reuniao-pauta-contrato-da-bk-3/
LOCATION:Gabinete da Diretoria de Operações da GoiásFomento – Agência de Fomento de Goiás.
CATEGORIES:Diretoria de Operações
END:VEVENT
BEGIN:VEVENT
DTSTART;TZID=America/Sao_Paulo:20250624T090000
DTEND;TZID=America/Sao_Paulo:20250624T100000
DTSTAMP:20260425T155245
CREATED:20250623T142237Z
LAST-MODIFIED:20250623T142237Z
UID:44309-1750755600-1750759200@www.goiasfomento.com
SUMMARY:Vinícius Luz: Reunião -  Pauta: Contrato da BK.
DESCRIPTION:
URL:https://www.goiasfomento.com/agenda/vinicius-luz-reuniao-pauta-contrato-da-bk-2/
LOCATION:Gabinete da Diretoria de Operações da GoiásFomento – Agência de Fomento de Goiás.
CATEGORIES:Chefia de Gabinete
END:VEVENT
BEGIN:VEVENT
DTSTART;TZID=America/Sao_Paulo:20250624T090000
DTEND;TZID=America/Sao_Paulo:20250624T120000
DTSTAMP:20260425T155245
CREATED:20250623T145345Z
LAST-MODIFIED:20250623T145842Z
UID:44317-1750755600-1750766400@www.goiasfomento.com
SUMMARY:Rivael Aguiar: REUNIÃO EXTRAORDINÁRIA DA COMISSÃO EXECUTIVA DO CONSELHO DELIBERATIVO DO PRODUZIR /JUNHO.
DESCRIPTION:
URL:https://www.goiasfomento.com/agenda/rivael-aguiar-reuniao-da-secretaria-de-estado-de-industria-comercio-e-servicos/
LOCATION:Palácio das Esmeraldas.
CATEGORIES:Presidência
END:VEVENT
BEGIN:VEVENT
DTSTART;TZID=America/Sao_Paulo:20250624T100000
DTEND;TZID=America/Sao_Paulo:20250624T123000
DTSTAMP:20260425T155245
CREATED:20250623T140634Z
LAST-MODIFIED:20250623T140634Z
UID:44298-1750759200-1750768200@www.goiasfomento.com
SUMMARY:Rufino Veríssimo: Atendimentos e Despachos Interno.
DESCRIPTION:
URL:https://www.goiasfomento.com/agenda/rufino-verissimo-atendimentos-e-despachos-interno-68/
LOCATION:Gabinete da Diretoria de Operações da GoiásFomento – Agência de Fomento de Goiás.
CATEGORIES:Diretoria de Operações
END:VEVENT
BEGIN:VEVENT
DTSTART;TZID=America/Sao_Paulo:20250624T100000
DTEND;TZID=America/Sao_Paulo:20250624T123000
DTSTAMP:20260425T155245
CREATED:20250623T142358Z
LAST-MODIFIED:20250623T142358Z
UID:44313-1750759200-1750768200@www.goiasfomento.com
SUMMARY:Vinícius Luz: Atendimentos e Despachos Interno.
DESCRIPTION:
URL:https://www.goiasfomento.com/agenda/vinicius-luz-atendimentos-e-despachos-interno-31/
LOCATION:Chefia de Gabinete – Agência de Fomento de Goiás
CATEGORIES:Chefia de Gabinete
END:VEVENT
BEGIN:VEVENT
DTSTART;TZID=America/Sao_Paulo:20250624T140000
DTEND;TZID=America/Sao_Paulo:20250624T143000
DTSTAMP:20260425T155245
CREATED:20250623T140024Z
LAST-MODIFIED:20250623T141317Z
UID:44288-1750773600-1750775400@www.goiasfomento.com
SUMMARY:Rufino Veríssimo: Reunião com a Diretoria da GoiásFomento e Gestores da Cedro Capital\, com os Srs Bruno Brito e Alessandro Machado. Pauta: Sobre os Desinvestimentos do FIP Venture Brasil Central e os Investimentos do Fundo GOVTECH.
DESCRIPTION:
URL:https://www.goiasfomento.com/agenda/rufino-verissimo-reuniao-com-a-diretoria-e-gestores-da-cedro-capital-bruno-brito-e-alessandro-machado-pauta-sobre-os-desinvestimentos-do-fip-venture-brasil-central-e-os-investimentos-do-fundo-govt/
LOCATION:Sala de Reuniões da Diretoria – Agência de Fomento de Goiás.
CATEGORIES:Diretoria de Operações
END:VEVENT
BEGIN:VEVENT
DTSTART;TZID=America/Sao_Paulo:20250624T140000
DTEND;TZID=America/Sao_Paulo:20250624T143000
DTSTAMP:20260425T155245
CREATED:20250623T140238Z
LAST-MODIFIED:20250623T141845Z
UID:44292-1750773600-1750775400@www.goiasfomento.com
SUMMARY:Vinícius Luz: Reunião com a Diretoria da GoiásFomento e Gestores da Cedro Capital\, com os Srs Bruno Brito e Alessandro Machado. Pauta: Sobre os Desinvestimentos do FIP Venture Brasil Central e os Investimentos do Fundo GOVTECH.
DESCRIPTION:
URL:https://www.goiasfomento.com/agenda/vinicius-luz-reuniao-com-a-diretoria-da-goiasfomento-e-gestores-da-cedro-capital-bruno-brito-e-alessandro-machado-pauta-sobre-os-desinvestimentos-do-fip-venture-brasil-central-e-os-investimentos-d/
LOCATION:Sala de Reuniões da Diretoria – Agência de Fomento de Goiás.
CATEGORIES:Chefia de Gabinete
END:VEVENT
BEGIN:VEVENT
DTSTART;TZID=America/Sao_Paulo:20250624T140000
DTEND;TZID=America/Sao_Paulo:20250624T150000
DTSTAMP:20260425T155245
CREATED:20250623T125612Z
LAST-MODIFIED:20250623T125612Z
UID:44266-1750773600-1750777200@www.goiasfomento.com
SUMMARY:Rivael Aguiar Pereira: Reunião com a Diretoria e Gestores da Cedro Capital: Bruno Brito e Alessandro Machado. Pauta: Sobre os Desinvertimentos do FIP Venture Brasil Central e os Investimento do Fundo GOVTECH.
DESCRIPTION:
URL:https://www.goiasfomento.com/agenda/rivael-aguiar-pereira-reuniao-com-a-diretoria-e-gestores-da-cedro-capital-bruno-brito-e-alessandro-machado-pauta-sobre-os-desinvertimentos-do-fip-venture-brasil-central-e-os-investimento-do-fundo/
LOCATION:Sala de reuniões da Diretoria.
CATEGORIES:Presidência
END:VEVENT
BEGIN:VEVENT
DTSTART;TZID=America/Sao_Paulo:20250624T140000
DTEND;TZID=America/Sao_Paulo:20250624T150000
DTSTAMP:20260425T155245
CREATED:20250623T125759Z
LAST-MODIFIED:20250623T125759Z
UID:44272-1750773600-1750777200@www.goiasfomento.com
SUMMARY:Lara Garcia: Reunião com a Diretoria e Gestores da Cedro Capital: Bruno Brito e Alessandro Machado. Pauta: Sobre os Desinvertimentos do FIP Venture Brasil Central e os Investimento do Fundo GOVTECH.
DESCRIPTION:
URL:https://www.goiasfomento.com/agenda/lara-garcia-reuniao-com-a-diretoria-e-gestores-da-cedro-capital-bruno-brito-e-alessandro-machado-pauta-sobre-os-desinvertimentos-do-fip-venture-brasil-central-e-os-investimento-do-fundo-govtech/
LOCATION:Sala de reuniões da Diretoria.
CATEGORIES:Diretoria Administrativa e Financeira
END:VEVENT
BEGIN:VEVENT
DTSTART;TZID=America/Sao_Paulo:20250624T140000
DTEND;TZID=America/Sao_Paulo:20250624T180000
DTSTAMP:20260425T155245
CREATED:20250623T142705Z
LAST-MODIFIED:20250623T142705Z
UID:44315-1750773600-1750788000@www.goiasfomento.com
SUMMARY:Vinícius Luz: Atendimentos e Despachos Interno.
DESCRIPTION:
URL:https://www.goiasfomento.com/agenda/vinicius-luz-atendimentos-e-despachos-interno-32/
LOCATION:Chefia de Gabinete – Agência de Fomento de Goiás
CATEGORIES:Chefia de Gabinete
END:VEVENT
BEGIN:VEVENT
DTSTART;TZID=America/Sao_Paulo:20250624T143000
DTEND;TZID=America/Sao_Paulo:20250624T150000
DTSTAMP:20260425T155245
CREATED:20250623T140341Z
LAST-MODIFIED:20250623T140341Z
UID:44294-1750775400-1750777200@www.goiasfomento.com
SUMMARY:Rufino Veríssimo: Atendimentos e Despachos Interno.
DESCRIPTION:
URL:https://www.goiasfomento.com/agenda/rufino-verissimo-atendimentos-e-despachos-interno-66/
LOCATION:Gabinete da Diretoria de Operações da GoiásFomento – Agência de Fomento de Goiás.
CATEGORIES:Diretoria de Operações
END:VEVENT
BEGIN:VEVENT
DTSTART;TZID=America/Sao_Paulo:20250624T150000
DTEND;TZID=America/Sao_Paulo:20250624T153000
DTSTAMP:20260425T155245
CREATED:20250623T130121Z
LAST-MODIFIED:20250623T130121Z
UID:44274-1750777200-1750779000@www.goiasfomento.com
SUMMARY:Rivael Aguiar: Reunião Virtual com Subsecretário Tesouro Estadual\, Sr: Wederson Xavier e a Superintendente Financeira\, Sra. Juliana Manzi.
DESCRIPTION:
URL:https://www.goiasfomento.com/agenda/rivael-aguiar-reuniao-virtual-com-subsecretario-tesouro-estadual-sr-wederson-xavier-e-a-superintendente-financeira-sra-juliana-manzi/
LOCATION:Gabinete da Presidência.
CATEGORIES:Presidência
END:VEVENT
BEGIN:VEVENT
DTSTART;TZID=America/Sao_Paulo:20250624T150000
DTEND;TZID=America/Sao_Paulo:20250624T153000
DTSTAMP:20260425T155245
CREATED:20250623T130230Z
LAST-MODIFIED:20250623T130230Z
UID:44276-1750777200-1750779000@www.goiasfomento.com
SUMMARY:Lara Garcia: Reunião Virtual com Subsecretário Tesouro Estadual\, Sr: Wederson Xavier e a Superintendente Financeira\, Sra. Juliana Manzi.
DESCRIPTION:
URL:https://www.goiasfomento.com/agenda/lara-garcia-reuniao-virtual-com-subsecretario-tesouro-estadual-sr-wederson-xavier-e-a-superintendente-financeira-sra-juliana-manzi/
LOCATION:Gabinete da Diretoria Administrativa e Financeira – Agência de Fomento de Goiás.
CATEGORIES:Diretoria Administrativa e Financeira
END:VEVENT
BEGIN:VEVENT
DTSTART;TZID=America/Sao_Paulo:20250624T150000
DTEND;TZID=America/Sao_Paulo:20250624T160000
DTSTAMP:20260425T155245
CREATED:20250623T133950Z
LAST-MODIFIED:20250623T133950Z
UID:44284-1750777200-1750780800@www.goiasfomento.com
SUMMARY:Rufino Veríssimo: Reunião Virtual com Subsecretário Tesouro Estadual\, Sr: Wederson Xavier e a Superintendente Financeira\, Sra. Juliana Manzi.
DESCRIPTION:
URL:https://www.goiasfomento.com/agenda/rufino-verissimo-reuniao-virtual-com-subsecretario-tesouro-estadual-sr-wederson-xavier-e-a-superintendente-financeira-sra-juliana-manzi/
LOCATION:Gabinete da Diretoria de Operações da GoiásFomento – Agência de Fomento de Goiás.
CATEGORIES:Diretoria de Operações
END:VEVENT
BEGIN:VEVENT
DTSTART;TZID=America/Sao_Paulo:20250624T153000
DTEND;TZID=America/Sao_Paulo:20250624T180000
DTSTAMP:20260425T155245
CREATED:20250623T130427Z
LAST-MODIFIED:20250623T130427Z
UID:44278-1750779000-1750788000@www.goiasfomento.com
SUMMARY:Lara Garcia : Atendimentos e Despachos Interno.
DESCRIPTION:
URL:https://www.goiasfomento.com/agenda/lara-garcia-atendimentos-e-despachos-interno-40/
LOCATION:Gabinete da Diretoria Administrativa e Financeira – Agência de Fomento de Goiás.
CATEGORIES:Diretoria Administrativa e Financeira
END:VEVENT
END:VCALENDAR