BEGIN:VCALENDAR
VERSION:2.0
PRODID:-//GoiásFomento - Agência de Fomento - ECPv6.15.20//NONSGML v1.0//EN
CALSCALE:GREGORIAN
METHOD:PUBLISH
X-WR-CALNAME:GoiásFomento - Agência de Fomento
X-ORIGINAL-URL:https://www.goiasfomento.com
X-WR-CALDESC:Eventos para GoiásFomento - Agência de Fomento
REFRESH-INTERVAL;VALUE=DURATION:PT1H
X-Robots-Tag:noindex
X-PUBLISHED-TTL:PT1H
BEGIN:VTIMEZONE
TZID:America/Sao_Paulo
BEGIN:STANDARD
TZOFFSETFROM:-0300
TZOFFSETTO:-0300
TZNAME:-03
DTSTART:20240101T000000
END:STANDARD
END:VTIMEZONE
BEGIN:VEVENT
DTSTART;TZID=America/Sao_Paulo:20250605T070000
DTEND;TZID=America/Sao_Paulo:20250605T080000
DTSTAMP:20260425T155137
CREATED:20250605T140132Z
LAST-MODIFIED:20250605T140132Z
UID:43930-1749106800-1749110400@www.goiasfomento.com
SUMMARY:Rufino Veríssimo: Atendimentos e Despachos Interno.
DESCRIPTION:
URL:https://www.goiasfomento.com/agenda/rufino-verissimo-atendimentos-e-despachos-interno-40/
LOCATION:Gabinete da Diretoria de Operações da GoiásFomento – Agência de Fomento de Goiás.
CATEGORIES:Diretoria de Operações
END:VEVENT
BEGIN:VEVENT
DTSTART;TZID=America/Sao_Paulo:20250605T080000
DTEND;TZID=America/Sao_Paulo:20250605T090000
DTSTAMP:20260425T155137
CREATED:20250605T140428Z
LAST-MODIFIED:20250605T140428Z
UID:43932-1749110400-1749114000@www.goiasfomento.com
SUMMARY:Vinícius Luz: Reunião com o Gerentes e Colaboradores da Diretoria de Operações da GoiásFomento.
DESCRIPTION:
URL:https://www.goiasfomento.com/agenda/vinicius-luz-reuniao-com-o-gerentes-e-colaboradores-da-diretoria-de-operacoes-da-goiasfomento/
LOCATION:Auditório da Agência de Fomento de Goiás.
CATEGORIES:Chefia de Gabinete
END:VEVENT
BEGIN:VEVENT
DTSTART;TZID=America/Sao_Paulo:20250605T080000
DTEND;TZID=America/Sao_Paulo:20250605T090000
DTSTAMP:20260425T155137
CREATED:20250605T140507Z
LAST-MODIFIED:20250605T140507Z
UID:43934-1749110400-1749114000@www.goiasfomento.com
SUMMARY:Rufino Veríssimo: Reunião com o Gerentes e Colaboradores da Diretoria de Operações da GoiásFomento.
DESCRIPTION:
URL:https://www.goiasfomento.com/agenda/rufino-verissimo-reuniao-com-o-gerentes-e-colaboradores-da-diretoria-de-operacoes-da-goiasfomento/
LOCATION:Auditório da Agência de Fomento de Goiás.
CATEGORIES:Diretoria de Operações
END:VEVENT
BEGIN:VEVENT
DTSTART;TZID=America/Sao_Paulo:20250605T080000
DTEND;TZID=America/Sao_Paulo:20250605T100000
DTSTAMP:20260425T155137
CREATED:20250605T112744Z
LAST-MODIFIED:20250605T112744Z
UID:43923-1749110400-1749117600@www.goiasfomento.com
SUMMARY:Lara Garcia : Atendimentos e Despachos Interno.
DESCRIPTION:
URL:https://www.goiasfomento.com/agenda/lara-garcia-atendimentos-e-despachos-interno-20/
LOCATION:Gabinete da Diretoria Administrativa e Financeira – Agência de Fomento de Goiás.
CATEGORIES:Diretoria Administrativa e Financeira
END:VEVENT
BEGIN:VEVENT
DTSTART;TZID=America/Sao_Paulo:20250605T080000
DTEND;TZID=America/Sao_Paulo:20250605T120000
DTSTAMP:20260425T155137
CREATED:20250605T112550Z
LAST-MODIFIED:20250605T112550Z
UID:43919-1749110400-1749124800@www.goiasfomento.com
SUMMARY:Rivael Aguiar Pereira: Atendimentos e Despachos Interno.
DESCRIPTION:
URL:https://www.goiasfomento.com/agenda/rivael-aguiar-pereira-atendimentos-e-despachos-interno-30/
LOCATION:Gabinete da Presidência.
CATEGORIES:Presidência
END:VEVENT
BEGIN:VEVENT
DTSTART;TZID=America/Sao_Paulo:20250605T090000
DTEND;TZID=America/Sao_Paulo:20250605T100000
DTSTAMP:20260425T155137
CREATED:20250605T140656Z
LAST-MODIFIED:20250605T140656Z
UID:43936-1749114000-1749117600@www.goiasfomento.com
SUMMARY:Rufino Veríssimo: Reunião da GoiásFomento e a Empresa Inttegra.
DESCRIPTION:
URL:https://www.goiasfomento.com/agenda/rufino-verissimo-reuniao-da-goiasfomento-e-a-empresa-inttegra/
LOCATION:Gabinete da Diretoria de Operações da GoiásFomento – Agência de Fomento de Goiás.
CATEGORIES:Diretoria de Operações
END:VEVENT
BEGIN:VEVENT
DTSTART;TZID=America/Sao_Paulo:20250605T090000
DTEND;TZID=America/Sao_Paulo:20250605T120000
DTSTAMP:20260425T155137
CREATED:20250605T191000Z
LAST-MODIFIED:20250605T191000Z
UID:43953-1749114000-1749124800@www.goiasfomento.com
SUMMARY:Vinícius Luz: Atendimentos e Despachos Interno.
DESCRIPTION:
URL:https://www.goiasfomento.com/agenda/vinicius-luz-atendimentos-e-despachos-interno-10/
LOCATION:Chefia de Gabinete – Agência de Fomento de Goiás
CATEGORIES:Chefia de Gabinete
END:VEVENT
BEGIN:VEVENT
DTSTART;TZID=America/Sao_Paulo:20250605T100000
DTEND;TZID=America/Sao_Paulo:20250605T120000
DTSTAMP:20260425T155137
CREATED:20250605T113021Z
LAST-MODIFIED:20250605T113021Z
UID:43925-1749117600-1749124800@www.goiasfomento.com
SUMMARY:Lara Garcia : Reunião com os Gerentes da GF. Pauta: Discutir a Extensão de Prazo de Carência das Operações do Programa de Fruticultura.
DESCRIPTION:
URL:https://www.goiasfomento.com/agenda/lara-garcia-reuniao-com-os-gerentes-da-gf-pauta-discutir-a-extensao-de-prazo-de-carencia-das-operacoes-do-programa-de-fruticultura-2/
LOCATION:Sala de reuniões da Diretoria.
CATEGORIES:Diretoria Administrativa e Financeira
END:VEVENT
BEGIN:VEVENT
DTSTART;TZID=America/Sao_Paulo:20250605T100000
DTEND;TZID=America/Sao_Paulo:20250605T120000
DTSTAMP:20260425T155137
CREATED:20250605T140729Z
LAST-MODIFIED:20250605T140729Z
UID:43938-1749117600-1749124800@www.goiasfomento.com
SUMMARY:Rufino Veríssimo: Atendimentos e Despachos Interno.
DESCRIPTION:
URL:https://www.goiasfomento.com/agenda/rufino-verissimo-atendimentos-e-despachos-interno-41/
LOCATION:Gabinete da Diretoria de Operações da GoiásFomento – Agência de Fomento de Goiás.
CATEGORIES:Diretoria de Operações
END:VEVENT
BEGIN:VEVENT
DTSTART;TZID=America/Sao_Paulo:20250605T140000
DTEND;TZID=America/Sao_Paulo:20250605T180000
DTSTAMP:20260425T155137
CREATED:20250605T112627Z
LAST-MODIFIED:20250605T112627Z
UID:43921-1749132000-1749146400@www.goiasfomento.com
SUMMARY:Rivael Aguiar Pereira: Atendimentos e Despachos Interno.
DESCRIPTION:
URL:https://www.goiasfomento.com/agenda/rivael-aguiar-pereira-atendimentos-e-despachos-interno-31/
LOCATION:Gabinete da Presidência.
CATEGORIES:Presidência
END:VEVENT
BEGIN:VEVENT
DTSTART;TZID=America/Sao_Paulo:20250605T140000
DTEND;TZID=America/Sao_Paulo:20250605T180000
DTSTAMP:20260425T155137
CREATED:20250605T113224Z
LAST-MODIFIED:20250605T113224Z
UID:43927-1749132000-1749146400@www.goiasfomento.com
SUMMARY:Lara Garcia : Atendimentos e Despachos Interno.
DESCRIPTION:
URL:https://www.goiasfomento.com/agenda/lara-garcia-atendimentos-e-despachos-interno-21/
LOCATION:Gabinete da Diretoria Administrativa e Financeira – Agência de Fomento de Goiás.
CATEGORIES:Diretoria Administrativa e Financeira
END:VEVENT
BEGIN:VEVENT
DTSTART;TZID=America/Sao_Paulo:20250605T140000
DTEND;TZID=America/Sao_Paulo:20250605T180000
DTSTAMP:20260425T155137
CREATED:20250605T190752Z
LAST-MODIFIED:20250605T190752Z
UID:43951-1749132000-1749146400@www.goiasfomento.com
SUMMARY:Vinícius Luz: Atendimentos e Despachos Interno.
DESCRIPTION:
URL:https://www.goiasfomento.com/agenda/vinicius-luz-atendimentos-e-despachos-interno-9/
LOCATION:Chefia de Gabinete – Agência de Fomento de Goiás
CATEGORIES:Chefia de Gabinete
END:VEVENT
BEGIN:VEVENT
DTSTART;TZID=America/Sao_Paulo:20250605T140000
DTEND;TZID=America/Sao_Paulo:20250605T183000
DTSTAMP:20260425T155137
CREATED:20250605T190700Z
LAST-MODIFIED:20250605T190700Z
UID:43949-1749132000-1749148200@www.goiasfomento.com
SUMMARY:Rufino Veríssimo: Atendimentos e Despachos Interno.
DESCRIPTION:
URL:https://www.goiasfomento.com/agenda/rufino-verissimo-atendimentos-e-despachos-interno-42/
LOCATION:Gabinete da Diretoria de Operações da GoiásFomento – Agência de Fomento de Goiás.
CATEGORIES:Diretoria de Operações
END:VEVENT
BEGIN:VEVENT
DTSTART;TZID=America/Sao_Paulo:20250606T080000
DTEND;TZID=America/Sao_Paulo:20250606T083000
DTSTAMP:20260425T155137
CREATED:20250604T200218Z
LAST-MODIFIED:20250604T201434Z
UID:43908-1749196800-1749198600@www.goiasfomento.com
SUMMARY:Rufino Veríssimo: Atendimentos e Despachos Interno.
DESCRIPTION:
URL:https://www.goiasfomento.com/agenda/rufino-verissimo-atendimentos-e-despachos-interno-38/
LOCATION:Gabinete da Diretoria de Operações da GoiásFomento – Agência de Fomento de Goiás.
CATEGORIES:Diretoria de Operações
END:VEVENT
BEGIN:VEVENT
DTSTART;TZID=America/Sao_Paulo:20250606T080000
DTEND;TZID=America/Sao_Paulo:20250606T083000
DTSTAMP:20260425T155137
CREATED:20250604T202528Z
LAST-MODIFIED:20250604T202528Z
UID:43915-1749196800-1749198600@www.goiasfomento.com
SUMMARY:Vinícius Luz: Atendimentos e Despachos Interno.
DESCRIPTION:
URL:https://www.goiasfomento.com/agenda/vinicius-luz-atendimentos-e-despachos-interno-7/
LOCATION:Chefia de Gabinete – Agência de Fomento de Goiás
CATEGORIES:Chefia de Gabinete
END:VEVENT
BEGIN:VEVENT
DTSTART;TZID=America/Sao_Paulo:20250606T080000
DTEND;TZID=America/Sao_Paulo:20250606T120000
DTSTAMP:20260425T155137
CREATED:20250605T185146Z
LAST-MODIFIED:20250605T185309Z
UID:43940-1749196800-1749211200@www.goiasfomento.com
SUMMARY:Rivael Aguiar Pereira: Inalguração da Galeria dos Presidentes da GoiásFomento.
DESCRIPTION:
URL:https://www.goiasfomento.com/agenda/rivael-aguiar-pereira-inalguracao-da-galeria-dos-presidentes-da-goiasfomento/
LOCATION:Sala de reuniões da Diretoria.
CATEGORIES:Presidência
END:VEVENT
BEGIN:VEVENT
DTSTART;TZID=America/Sao_Paulo:20250606T080000
DTEND;TZID=America/Sao_Paulo:20250606T120000
DTSTAMP:20260425T155137
CREATED:20250605T185428Z
LAST-MODIFIED:20250605T185428Z
UID:43943-1749196800-1749211200@www.goiasfomento.com
SUMMARY:Lara Garcia: Inalguração da Galeria dos Presidentes da GoiásFomento.
DESCRIPTION:
URL:https://www.goiasfomento.com/agenda/lara-garcia-inalguracao-da-galeria-dos-presidentes-da-goiasfomento/
LOCATION:Sala de reuniões da Diretoria.
CATEGORIES:Diretoria Administrativa e Financeira
END:VEVENT
BEGIN:VEVENT
DTSTART;TZID=America/Sao_Paulo:20250606T083000
DTEND;TZID=America/Sao_Paulo:20250606T110000
DTSTAMP:20260425T155137
CREATED:20250604T195955Z
LAST-MODIFIED:20250604T201451Z
UID:43904-1749198600-1749207600@www.goiasfomento.com
SUMMARY:Rufino Veríssimo: Inauguração da Galeria dos Presidentes da GoiásFomento.
DESCRIPTION:
URL:https://www.goiasfomento.com/agenda/rufino-verissimo-inauguracao-da-galeria-dos-presidentes-da-goiasfomento/
LOCATION:Agência de Fomento de Goiás
CATEGORIES:Diretoria de Operações
END:VEVENT
BEGIN:VEVENT
DTSTART;TZID=America/Sao_Paulo:20250606T083000
DTEND;TZID=America/Sao_Paulo:20250606T110000
DTSTAMP:20260425T155137
CREATED:20250604T202441Z
LAST-MODIFIED:20250604T202441Z
UID:43913-1749198600-1749207600@www.goiasfomento.com
SUMMARY:Vinícius Luz: Inauguração da Galeria dos Presidentes da GoiásFomento.
DESCRIPTION:
URL:https://www.goiasfomento.com/agenda/vinicius-luz-inauguracao-da-galeria-dos-presidentes-da-goiasfomento/
LOCATION:Agência de Fomento de Goiás
CATEGORIES:Chefia de Gabinete
END:VEVENT
BEGIN:VEVENT
DTSTART;TZID=America/Sao_Paulo:20250606T110000
DTEND;TZID=America/Sao_Paulo:20250606T120000
DTSTAMP:20260425T155137
CREATED:20250604T200248Z
LAST-MODIFIED:20250604T200319Z
UID:43910-1749207600-1749211200@www.goiasfomento.com
SUMMARY:Rufino Veríssimo: Atendimentos e Despachos Interno.
DESCRIPTION:
URL:https://www.goiasfomento.com/agenda/rufino-verissimo-atendimentos-e-despachos-interno-39/
LOCATION:Gabinete da Diretoria de Operações da GoiásFomento – Agência de Fomento de Goiás.
CATEGORIES:Diretoria de Operações
END:VEVENT
BEGIN:VEVENT
DTSTART;TZID=America/Sao_Paulo:20250606T110000
DTEND;TZID=America/Sao_Paulo:20250606T120000
DTSTAMP:20260425T155137
CREATED:20250604T202622Z
LAST-MODIFIED:20250604T202622Z
UID:43917-1749207600-1749211200@www.goiasfomento.com
SUMMARY:Vinícius Luz: Atendimentos e Despachos Interno.
DESCRIPTION:
URL:https://www.goiasfomento.com/agenda/vinicius-luz-atendimentos-e-despachos-interno-8/
LOCATION:Chefia de Gabinete – Agência de Fomento de Goiás
CATEGORIES:Chefia de Gabinete
END:VEVENT
BEGIN:VEVENT
DTSTART;TZID=America/Sao_Paulo:20250606T140000
DTEND;TZID=America/Sao_Paulo:20250606T180000
DTSTAMP:20260425T155137
CREATED:20250605T185524Z
LAST-MODIFIED:20250605T185524Z
UID:43945-1749218400-1749232800@www.goiasfomento.com
SUMMARY:Rivael Aguiar Pereira: Atendimentos e Despachos Interno.
DESCRIPTION:
URL:https://www.goiasfomento.com/agenda/rivael-aguiar-pereira-atendimentos-e-despachos-interno-32/
LOCATION:Gabinete da Presidência.
CATEGORIES:Presidência
END:VEVENT
BEGIN:VEVENT
DTSTART;TZID=America/Sao_Paulo:20250606T140000
DTEND;TZID=America/Sao_Paulo:20250606T180000
DTSTAMP:20260425T155137
CREATED:20250605T185713Z
LAST-MODIFIED:20250605T185713Z
UID:43947-1749218400-1749232800@www.goiasfomento.com
SUMMARY:Lara Garcia : Atendimentos e Despachos Interno.
DESCRIPTION:
URL:https://www.goiasfomento.com/agenda/lara-garcia-atendimentos-e-despachos-interno-22/
LOCATION:Gabinete da Diretoria Administrativa e Financeira – Agência de Fomento de Goiás.
CATEGORIES:Diretoria Administrativa e Financeira
END:VEVENT
BEGIN:VEVENT
DTSTART;TZID=America/Sao_Paulo:20250606T140000
DTEND;TZID=America/Sao_Paulo:20250606T180000
DTSTAMP:20260425T155137
CREATED:20250606T171710Z
LAST-MODIFIED:20250606T171825Z
UID:43970-1749218400-1749232800@www.goiasfomento.com
SUMMARY:Vinícius Luz: Atendimentos e Despachos Interno.
DESCRIPTION:
URL:https://www.goiasfomento.com/agenda/vinicius-luz-atendimentos-e-despachos-interno-11/
LOCATION:Chefia de Gabinete – Agência de Fomento de Goiás
CATEGORIES:Chefia de Gabinete
END:VEVENT
BEGIN:VEVENT
DTSTART;TZID=America/Sao_Paulo:20250606T140000
DTEND;TZID=America/Sao_Paulo:20250606T183000
DTSTAMP:20260425T155137
CREATED:20250606T173116Z
LAST-MODIFIED:20250606T173301Z
UID:43972-1749218400-1749234600@www.goiasfomento.com
SUMMARY:Rufino Veríssimo: Atendimentos e Despachos Interno.
DESCRIPTION:
URL:https://www.goiasfomento.com/agenda/rufino-verissimo-atendimentos-e-despachos-interno-43/
LOCATION:Gabinete da Diretoria de Operações da GoiásFomento – Agência de Fomento de Goiás.
CATEGORIES:Diretoria de Operações
END:VEVENT
BEGIN:VEVENT
DTSTART;TZID=America/Sao_Paulo:20250609T070000
DTEND;TZID=America/Sao_Paulo:20250609T120000
DTSTAMP:20260425T155137
CREATED:20250609T191806Z
LAST-MODIFIED:20250609T191806Z
UID:43988-1749452400-1749470400@www.goiasfomento.com
SUMMARY:Rufino Veríssimo: Atendimentos e Despachos Interno.
DESCRIPTION:
URL:https://www.goiasfomento.com/agenda/rufino-verissimo-atendimentos-e-despachos-interno-44/
LOCATION:Gabinete da Diretoria de Operações da GoiásFomento – Agência de Fomento de Goiás.
CATEGORIES:Diretoria de Operações
END:VEVENT
BEGIN:VEVENT
DTSTART;TZID=America/Sao_Paulo:20250609T080000
DTEND;TZID=America/Sao_Paulo:20250609T101500
DTSTAMP:20260425T155137
CREATED:20250609T121254Z
LAST-MODIFIED:20250609T122947Z
UID:43978-1749456000-1749464100@www.goiasfomento.com
SUMMARY:Lara Garcia : Atendimentos e Despachos Interno.
DESCRIPTION:
URL:https://www.goiasfomento.com/agenda/lara-garcia-atendimentos-e-despachos-interno-23/
LOCATION:Gabinete da Diretoria Administrativa e Financeira – Agência de Fomento de Goiás.
CATEGORIES:Diretoria Administrativa e Financeira
END:VEVENT
BEGIN:VEVENT
DTSTART;TZID=America/Sao_Paulo:20250609T080000
DTEND;TZID=America/Sao_Paulo:20250609T120000
DTSTAMP:20260425T155137
CREATED:20250609T120741Z
LAST-MODIFIED:20250609T120741Z
UID:43974-1749456000-1749470400@www.goiasfomento.com
SUMMARY:Rivael Aguiar Pereira: Atendimentos e Despachos Interno.
DESCRIPTION:
URL:https://www.goiasfomento.com/agenda/rivael-aguiar-pereira-atendimentos-e-despachos-interno-33/
LOCATION:Gabinete da Presidência.
CATEGORIES:Presidência
END:VEVENT
BEGIN:VEVENT
DTSTART;TZID=America/Sao_Paulo:20250609T080000
DTEND;TZID=America/Sao_Paulo:20250609T120000
DTSTAMP:20260425T155137
CREATED:20250609T192125Z
LAST-MODIFIED:20250609T192125Z
UID:43996-1749456000-1749470400@www.goiasfomento.com
SUMMARY:Vinícius Luz: Atendimentos e Despachos Interno.
DESCRIPTION:
URL:https://www.goiasfomento.com/agenda/vinicius-luz-atendimentos-e-despachos-interno-12/
LOCATION:Chefia de Gabinete – Agência de Fomento de Goiás
CATEGORIES:Chefia de Gabinete
END:VEVENT
BEGIN:VEVENT
DTSTART;TZID=America/Sao_Paulo:20250609T101500
DTEND;TZID=America/Sao_Paulo:20250609T120000
DTSTAMP:20260425T155137
CREATED:20250609T122441Z
LAST-MODIFIED:20250609T122441Z
UID:43980-1749464100-1749470400@www.goiasfomento.com
SUMMARY:Lara Garcia: Abertura da PALESTRAS: SIPAT - Introdução à Saúde Ocupacional.
DESCRIPTION:
URL:https://www.goiasfomento.com/agenda/lara-garcia-abertura-da-palestras-sipat-introducao-a-saude-ocupacional/
LOCATION:Auditorio da Goiásfomento
CATEGORIES:Diretoria Administrativa e Financeira
END:VEVENT
END:VCALENDAR