BEGIN:VCALENDAR
VERSION:2.0
PRODID:-//GoiásFomento - Agência de Fomento - ECPv6.15.20//NONSGML v1.0//EN
CALSCALE:GREGORIAN
METHOD:PUBLISH
X-WR-CALNAME:GoiásFomento - Agência de Fomento
X-ORIGINAL-URL:https://www.goiasfomento.com
X-WR-CALDESC:Eventos para GoiásFomento - Agência de Fomento
REFRESH-INTERVAL;VALUE=DURATION:PT1H
X-Robots-Tag:noindex
X-PUBLISHED-TTL:PT1H
BEGIN:VTIMEZONE
TZID:America/Sao_Paulo
BEGIN:STANDARD
TZOFFSETFROM:-0300
TZOFFSETTO:-0300
TZNAME:-03
DTSTART:20240101T000000
END:STANDARD
END:VTIMEZONE
BEGIN:VEVENT
DTSTART;TZID=America/Sao_Paulo:20250401T080000
DTEND;TZID=America/Sao_Paulo:20250415T170000
DTSTAMP:20260425T123936
CREATED:20250409T141726Z
LAST-MODIFIED:20250409T141726Z
UID:41939-1743494400-1744736400@www.goiasfomento.com
SUMMARY:Cargo Vago desde 19/03/2025.
DESCRIPTION:
URL:https://www.goiasfomento.com/agenda/cargo-vago-desde-19-03-2025-2/
CATEGORIES:Diretoria Administrativa e Financeira
END:VEVENT
BEGIN:VEVENT
DTSTART;TZID=America/Sao_Paulo:20250410T070000
DTEND;TZID=America/Sao_Paulo:20250410T080000
DTSTAMP:20260425T123936
CREATED:20250410T122547Z
LAST-MODIFIED:20250410T122547Z
UID:41990-1744268400-1744272000@www.goiasfomento.com
SUMMARY:Rufino Veríssimo – Diretor Presidente (Em substituição): Despachos Internos.
DESCRIPTION:
URL:https://www.goiasfomento.com/agenda/rufino-verissimo-diretor-presidente-em-substituicao-despachos-internos-33/
LOCATION:Gabinete da Diretoria de Operações da GoiásFomento – Agência de Fomento de Goiás.
CATEGORIES:Presidência
END:VEVENT
BEGIN:VEVENT
DTSTART;TZID=America/Sao_Paulo:20250410T070000
DTEND;TZID=America/Sao_Paulo:20250410T080000
DTSTAMP:20260425T123936
CREATED:20250410T122621Z
LAST-MODIFIED:20250410T122621Z
UID:41992-1744268400-1744272000@www.goiasfomento.com
SUMMARY:Rufino Veríssimo: Despachos Internos.
DESCRIPTION:
URL:https://www.goiasfomento.com/agenda/rufino-verissimo-despachos-internos-249/
LOCATION:Gabinete da Diretoria de Operações da GoiásFomento – Agência de Fomento de Goiás.
CATEGORIES:Diretoria de Operações
END:VEVENT
BEGIN:VEVENT
DTSTART;TZID=America/Sao_Paulo:20250410T080000
DTEND;TZID=America/Sao_Paulo:20250410T083000
DTSTAMP:20260425T123936
CREATED:20250410T134640Z
LAST-MODIFIED:20250410T134640Z
UID:41994-1744272000-1744273800@www.goiasfomento.com
SUMMARY:Rufino Veríssimo – Diretor Presidente (Em substituição): Reunião com a Gálbia do Amor Divino Rosa - Gerente Jurídica e Suhelen - Gerência de Controle de Negócios.
DESCRIPTION:
URL:https://www.goiasfomento.com/agenda/rufino-verissimo-diretor-presidente-em-substituicao-reuniao-com-a-galbia-do-amor-divino-rosa-gerente-juridica-e-suhelen-gerencia-de-controle-de-negocios/
LOCATION:Gabinete da Diretoria de Operações da GoiásFomento – Agência de Fomento de Goiás.
CATEGORIES:Presidência
END:VEVENT
BEGIN:VEVENT
DTSTART;TZID=America/Sao_Paulo:20250410T080000
DTEND;TZID=America/Sao_Paulo:20250410T083000
DTSTAMP:20260425T123936
CREATED:20250410T134715Z
LAST-MODIFIED:20250410T134715Z
UID:41996-1744272000-1744273800@www.goiasfomento.com
SUMMARY:Rufino Veríssimo: Reunião com a Gálbia do Amor Divino Rosa - Gerente Jurídica e Suhelen - Gerência de Controle de Negócios.
DESCRIPTION:
URL:https://www.goiasfomento.com/agenda/rufino-verissimo-reuniao-com-a-galbia-do-amor-divino-rosa-gerente-juridica-e-suhelen-gerencia-de-controle-de-negocios/
LOCATION:Gabinete da Diretoria de Operações da GoiásFomento – Agência de Fomento de Goiás.
CATEGORIES:Diretoria de Operações
END:VEVENT
BEGIN:VEVENT
DTSTART;TZID=America/Sao_Paulo:20250410T080000
DTEND;TZID=America/Sao_Paulo:20250410T083000
DTSTAMP:20260425T123936
CREATED:20250410T141001Z
LAST-MODIFIED:20250410T141001Z
UID:41998-1744272000-1744273800@www.goiasfomento.com
SUMMARY:Rufino Veríssimo: Reunião com a Gálbia do Amor Divino Rosa – Gerente Jurídica e Suhelen – Gerência de Controle de Negócios.
DESCRIPTION:
URL:https://www.goiasfomento.com/agenda/rufino-verissimo-reuniao-com-a-galbia-do-amor-divino-rosa-gerente-juridica-e-suhelen-gerencia-de-controle-de-negocios-2/
LOCATION:Gabinete da Diretoria de Operações da GoiásFomento – Agência de Fomento de Goiás.
CATEGORIES:Diretoria de Operações
END:VEVENT
BEGIN:VEVENT
DTSTART;TZID=America/Sao_Paulo:20250410T080000
DTEND;TZID=America/Sao_Paulo:20250410T120000
DTSTAMP:20260425T123936
CREATED:20250410T195755Z
LAST-MODIFIED:20250410T195755Z
UID:42030-1744272000-1744286400@www.goiasfomento.com
SUMMARY:Deivison Costa: Despachos Internos.
DESCRIPTION:
URL:https://www.goiasfomento.com/agenda/deivison-costa-despachos-internos-45/
LOCATION:Chefia de Gabinete – Agência de Fomento de Goiás
CATEGORIES:Chefia de Gabinete
END:VEVENT
BEGIN:VEVENT
DTSTART;TZID=America/Sao_Paulo:20250410T083000
DTEND;TZID=America/Sao_Paulo:20250410T090000
DTSTAMP:20260425T123936
CREATED:20250410T141254Z
LAST-MODIFIED:20250410T141254Z
UID:42000-1744273800-1744275600@www.goiasfomento.com
SUMMARY:Rufino Veríssimo – Diretor Presidente (Em substituição): Reunião com a Maria Terezinha da Mota Batista – Assessora Técnica de Contabilidade e Márcio Jacinto de Deus – Auditor Interno.
DESCRIPTION:
URL:https://www.goiasfomento.com/agenda/rufino-verissimo-diretor-presidente-em-substituicao-reuniao-com-a-maria-terezinha-da-mota-batista-assessora-tecnica-de-contabilidade-e-marcio-jacinto-de-deus-auditor-i/
LOCATION:Gabinete da Diretoria de Operações da GoiásFomento – Agência de Fomento de Goiás.
CATEGORIES:Presidência
END:VEVENT
BEGIN:VEVENT
DTSTART;TZID=America/Sao_Paulo:20250410T083000
DTEND;TZID=America/Sao_Paulo:20250410T090000
DTSTAMP:20260425T123936
CREATED:20250410T142253Z
LAST-MODIFIED:20250410T142253Z
UID:42003-1744273800-1744275600@www.goiasfomento.com
SUMMARY:Rufino Veríssimo: Reunião com a Maria Terezinha da Mota Batista – Assessora Técnica de Contabilidade e Márcio Jacinto de Deus – Auditor Interno.
DESCRIPTION:
URL:https://www.goiasfomento.com/agenda/rufino-verissimo-reuniao-com-a-maria-terezinha-da-mota-batista-assessora-tecnica-de-contabilidade-e-marcio-jacinto-de-deus-auditor-interno/
LOCATION:Gabinete da Diretoria de Operações da GoiásFomento – Agência de Fomento de Goiás.
CATEGORIES:Diretoria de Operações
END:VEVENT
BEGIN:VEVENT
DTSTART;TZID=America/Sao_Paulo:20250410T090000
DTEND;TZID=America/Sao_Paulo:20250410T093000
DTSTAMP:20260425T123936
CREATED:20250410T142426Z
LAST-MODIFIED:20250410T142426Z
UID:42005-1744275600-1744277400@www.goiasfomento.com
SUMMARY:Rufino Veríssimo – Diretor Presidente (Em substituição): Reunião com  Vânia Aparecida da Silveira - Gerente de Análise de Crédito.
DESCRIPTION:
URL:https://www.goiasfomento.com/agenda/rufino-verissimo-diretor-presidente-em-substituicao-reuniao-com-vania-aparecida-da-silveira-gerente-de-analise-de-credito-3/
LOCATION:Gabinete da Diretoria de Operações da GoiásFomento – Agência de Fomento de Goiás.
CATEGORIES:Presidência
END:VEVENT
BEGIN:VEVENT
DTSTART;TZID=America/Sao_Paulo:20250410T090000
DTEND;TZID=America/Sao_Paulo:20250410T093000
DTSTAMP:20260425T123936
CREATED:20250410T142457Z
LAST-MODIFIED:20250410T142457Z
UID:42007-1744275600-1744277400@www.goiasfomento.com
SUMMARY:Rufino Veríssimo: Reunião com  Vânia Aparecida da Silveira - Gerente de Análise de Crédito.
DESCRIPTION:
URL:https://www.goiasfomento.com/agenda/rufino-verissimo-reuniao-com-vania-aparecida-da-silveira-gerente-de-analise-de-credito-5/
LOCATION:Gabinete da Diretoria de Operações da GoiásFomento – Agência de Fomento de Goiás.
CATEGORIES:Diretoria de Operações
END:VEVENT
BEGIN:VEVENT
DTSTART;TZID=America/Sao_Paulo:20250410T103000
DTEND;TZID=America/Sao_Paulo:20250410T123000
DTSTAMP:20260425T123936
CREATED:20250410T143321Z
LAST-MODIFIED:20250410T164145Z
UID:42009-1744281000-1744288200@www.goiasfomento.com
SUMMARY:Rufino Veríssimo – Diretor Presidente (Em substituição): Reunião de Governança.
DESCRIPTION:
URL:https://www.goiasfomento.com/agenda/rufino-verissimo-diretor-presidente-em-substituicao-reuniao-de-governanca/
LOCATION:Sala de Reuniões da Diretoria – Agência de Fomento de Goiás.
CATEGORIES:Presidência
END:VEVENT
BEGIN:VEVENT
DTSTART;TZID=America/Sao_Paulo:20250410T103000
DTEND;TZID=America/Sao_Paulo:20250410T123000
DTSTAMP:20260425T123936
CREATED:20250410T144002Z
LAST-MODIFIED:20250410T164128Z
UID:42011-1744281000-1744288200@www.goiasfomento.com
SUMMARY:Rufino Veríssimo: Reunião de Governança.
DESCRIPTION:
URL:https://www.goiasfomento.com/agenda/rufino-verissimo-reuniao-de-governanca/
LOCATION:Gabinete da Diretoria de Operações da GoiásFomento – Agência de Fomento de Goiás.
CATEGORIES:Diretoria de Operações
END:VEVENT
BEGIN:VEVENT
DTSTART;TZID=America/Sao_Paulo:20250410T140000
DTEND;TZID=America/Sao_Paulo:20250410T143000
DTSTAMP:20260425T123936
CREATED:20250410T193507Z
LAST-MODIFIED:20250410T193507Z
UID:42013-1744293600-1744295400@www.goiasfomento.com
SUMMARY:Rufino Veríssimo – Diretor Presidente (Em substituição): Reunião com Rafael Soffa Rézio - Gerente de Programas e Políticas Sociais.
DESCRIPTION:
URL:https://www.goiasfomento.com/agenda/rufino-verissimo-diretor-presidente-em-substituicao-reuniao-com-rafael-soffa-rezio-gerente-de-programas-e-politicas-sociais-19/
LOCATION:Gabinete da Diretoria de Operações da GoiásFomento – Agência de Fomento de Goiás.
CATEGORIES:Presidência
END:VEVENT
BEGIN:VEVENT
DTSTART;TZID=America/Sao_Paulo:20250410T140000
DTEND;TZID=America/Sao_Paulo:20250410T143000
DTSTAMP:20260425T123936
CREATED:20250410T193544Z
LAST-MODIFIED:20250410T193544Z
UID:42015-1744293600-1744295400@www.goiasfomento.com
SUMMARY:Rufino Veríssimo: Reunião com Rafael Soffa Rézio - Gerente de Programas e Políticas Sociais.
DESCRIPTION:
URL:https://www.goiasfomento.com/agenda/rufino-verissimo-reuniao-com-rafael-soffa-rezio-gerente-de-programas-e-politicas-sociais-31/
LOCATION:Gabinete da Diretoria de Operações da GoiásFomento – Agência de Fomento de Goiás.
CATEGORIES:Diretoria de Operações
END:VEVENT
BEGIN:VEVENT
DTSTART;TZID=America/Sao_Paulo:20250410T140000
DTEND;TZID=America/Sao_Paulo:20250410T180000
DTSTAMP:20260425T123936
CREATED:20250410T195822Z
LAST-MODIFIED:20250410T195822Z
UID:42033-1744293600-1744308000@www.goiasfomento.com
SUMMARY:Deivison Costa: Despachos Internos.
DESCRIPTION:
URL:https://www.goiasfomento.com/agenda/deivison-costa-despachos-internos-46/
LOCATION:Chefia de Gabinete – Agência de Fomento de Goiás
CATEGORIES:Chefia de Gabinete
END:VEVENT
BEGIN:VEVENT
DTSTART;TZID=America/Sao_Paulo:20250410T143000
DTEND;TZID=America/Sao_Paulo:20250410T150000
DTSTAMP:20260425T123936
CREATED:20250410T193701Z
LAST-MODIFIED:20250410T193701Z
UID:42017-1744295400-1744297200@www.goiasfomento.com
SUMMARY:Rufino Veríssimo – Diretor Presidente (Em substituição): Reunião com Luiz Alberto de Sousa Filho - Gerente da Rede Credenciada.
DESCRIPTION:
URL:https://www.goiasfomento.com/agenda/rufino-verissimo-diretor-presidente-em-substituicao-reuniao-com-luiz-alberto-de-sousa-filho-gerente-da-rede-credenciada/
LOCATION:Gabinete da Diretoria de Operações da GoiásFomento – Agência de Fomento de Goiás.
CATEGORIES:Presidência
END:VEVENT
BEGIN:VEVENT
DTSTART;TZID=America/Sao_Paulo:20250410T143000
DTEND;TZID=America/Sao_Paulo:20250410T150000
DTSTAMP:20260425T123936
CREATED:20250410T193732Z
LAST-MODIFIED:20250410T193732Z
UID:42019-1744295400-1744297200@www.goiasfomento.com
SUMMARY:Rufino Veríssimo: Reunião com Luiz Alberto de Sousa Filho - Gerente da Rede Credenciada.
DESCRIPTION:
URL:https://www.goiasfomento.com/agenda/rufino-verissimo-reuniao-com-luiz-alberto-de-sousa-filho-gerente-da-rede-credenciada-7/
LOCATION:Gabinete da Diretoria de Operações da GoiásFomento – Agência de Fomento de Goiás.
CATEGORIES:Diretoria de Operações
END:VEVENT
BEGIN:VEVENT
DTSTART;TZID=America/Sao_Paulo:20250410T150000
DTEND;TZID=America/Sao_Paulo:20250410T160000
DTSTAMP:20260425T123936
CREATED:20250410T194416Z
LAST-MODIFIED:20250410T194416Z
UID:42021-1744297200-1744300800@www.goiasfomento.com
SUMMARY:Rufino Veríssimo – Diretor Presidente (Em substituição): Reunião com Alexsander de Oliveira Linhares - Gerente de Parcerias e Operações Estruturadas\, Luiz Arthur Medeiros Miguel - Gerente de Licitação e Contratos e Porthos R. de Albuquerque Motta - Assessor de Gerenciamento de Riscos e Escritório de Projetos.
DESCRIPTION:
URL:https://www.goiasfomento.com/agenda/rufino-verissimo-diretor-presidente-em-substituicao-reuniao-com-alexsander-de-oliveira-linhares-gerente-de-parcerias-e-operacoes-estruturadas-luiz-arthur-medeiros-miguel-gerente-de-l/
LOCATION:Gabinete da Diretoria de Operações da GoiásFomento – Agência de Fomento de Goiás.
CATEGORIES:Presidência
END:VEVENT
BEGIN:VEVENT
DTSTART;TZID=America/Sao_Paulo:20250410T150000
DTEND;TZID=America/Sao_Paulo:20250410T160000
DTSTAMP:20260425T123936
CREATED:20250410T194458Z
LAST-MODIFIED:20250410T194458Z
UID:42023-1744297200-1744300800@www.goiasfomento.com
SUMMARY:Rufino Veríssimo: Reunião com Alexsander de Oliveira Linhares - Gerente de Parcerias e Operações Estruturadas\, Luiz Arthur Medeiros Miguel - Gerente de Licitação e Contratos e Porthos R. de Albuquerque Motta - Assessor de Gerenciamento de Riscos e Escritório de Projetos.
DESCRIPTION:
URL:https://www.goiasfomento.com/agenda/rufino-verissimo-reuniao-com-alexsander-de-oliveira-linhares-gerente-de-parcerias-e-operacoes-estruturadas-luiz-arthur-medeiros-miguel-gerente-de-licitacao-e-contratos-e-porthos-r-de-albuquerqu/
LOCATION:Gabinete da Diretoria de Operações da GoiásFomento – Agência de Fomento de Goiás.
CATEGORIES:Diretoria de Operações
END:VEVENT
BEGIN:VEVENT
DTSTART;TZID=America/Sao_Paulo:20250410T160000
DTEND;TZID=America/Sao_Paulo:20250410T163000
DTSTAMP:20260425T123936
CREATED:20250410T194706Z
LAST-MODIFIED:20250410T194706Z
UID:42025-1744300800-1744302600@www.goiasfomento.com
SUMMARY:Rufino Veríssimo – Diretor Presidente (Em substituição): Reunião com Phillipe e Empresários de Catalão.
DESCRIPTION:
URL:https://www.goiasfomento.com/agenda/rufino-verissimo-diretor-presidente-em-substituicao-reuniao-com-phillipe-e-empresarios-de-catalao/
LOCATION:Gabinete da Diretoria de Operações da GoiásFomento – Agência de Fomento de Goiás.
CATEGORIES:Presidência
END:VEVENT
BEGIN:VEVENT
DTSTART;TZID=America/Sao_Paulo:20250410T160000
DTEND;TZID=America/Sao_Paulo:20250410T163000
DTSTAMP:20260425T123936
CREATED:20250410T194738Z
LAST-MODIFIED:20250410T194738Z
UID:42027-1744300800-1744302600@www.goiasfomento.com
SUMMARY:Rufino Veríssimo: Reunião com Phillipe e Empresários de Catalão.
DESCRIPTION:
URL:https://www.goiasfomento.com/agenda/rufino-verissimo-reuniao-com-phillipe-e-empresarios-de-catalao/
LOCATION:Gabinete da Diretoria de Operações da GoiásFomento – Agência de Fomento de Goiás.
CATEGORIES:Diretoria de Operações
END:VEVENT
BEGIN:VEVENT
DTSTART;TZID=America/Sao_Paulo:20250410T163000
DTEND;TZID=America/Sao_Paulo:20250410T170000
DTSTAMP:20260425T123936
CREATED:20250410T195947Z
LAST-MODIFIED:20250410T195947Z
UID:42035-1744302600-1744304400@www.goiasfomento.com
SUMMARY:Rufino Veríssimo – Diretor Presidente (Em substituição):  Reunião com Paulo Cesar Paiva - Assessor de Estratégia e Planejamento.
DESCRIPTION:
URL:https://www.goiasfomento.com/agenda/rufino-verissimo-diretor-presidente-em-substituicao-reuniao-com-paulo-cesar-paiva-assessor-de-estrategia-e-planejamento-11/
LOCATION:Gabinete da Diretoria de Operações da GoiásFomento – Agência de Fomento de Goiás.
CATEGORIES:Presidência
END:VEVENT
BEGIN:VEVENT
DTSTART;TZID=America/Sao_Paulo:20250410T163000
DTEND;TZID=America/Sao_Paulo:20250410T170000
DTSTAMP:20260425T123936
CREATED:20250410T200049Z
LAST-MODIFIED:20250410T200049Z
UID:42037-1744302600-1744304400@www.goiasfomento.com
SUMMARY:Rufino Veríssimo:  Reunião com Paulo Cesar Paiva - Assessor de Estratégia e Planejamento.
DESCRIPTION:
URL:https://www.goiasfomento.com/agenda/rufino-verissimo-reuniao-com-paulo-cesar-paiva-assessor-de-estrategia-e-planejamento-20/
LOCATION:Gabinete da Diretoria de Operações da GoiásFomento – Agência de Fomento de Goiás.
CATEGORIES:Diretoria de Operações
END:VEVENT
BEGIN:VEVENT
DTSTART;TZID=America/Sao_Paulo:20250410T170000
DTEND;TZID=America/Sao_Paulo:20250410T190000
DTSTAMP:20260425T123936
CREATED:20250410T200924Z
LAST-MODIFIED:20250410T201030Z
UID:42039-1744304400-1744311600@www.goiasfomento.com
SUMMARY:Rufino Veríssimo – Diretor Presidente (Em substituição): Despachos Internos.
DESCRIPTION:
URL:https://www.goiasfomento.com/agenda/rufino-verissimo-diretor-presidente-em-substituicao-despachos-internos-34/
LOCATION:Gabinete da Diretoria de Operações da GoiásFomento – Agência de Fomento de Goiás.
CATEGORIES:Presidência
END:VEVENT
BEGIN:VEVENT
DTSTART;TZID=America/Sao_Paulo:20250410T170000
DTEND;TZID=America/Sao_Paulo:20250410T190000
DTSTAMP:20260425T123936
CREATED:20250410T201010Z
LAST-MODIFIED:20250410T201010Z
UID:42041-1744304400-1744311600@www.goiasfomento.com
SUMMARY:Rufino Veríssimo: Despachos Internos.
DESCRIPTION:
URL:https://www.goiasfomento.com/agenda/rufino-verissimo-despachos-internos-250/
LOCATION:Gabinete da Diretoria de Operações da GoiásFomento – Agência de Fomento de Goiás.
CATEGORIES:Diretoria de Operações
END:VEVENT
BEGIN:VEVENT
DTSTART;VALUE=DATE:20250411
DTEND;VALUE=DATE:20250412
DTSTAMP:20260425T123936
CREATED:20250411T123044Z
LAST-MODIFIED:20250411T123044Z
UID:42043-1744329600-1744415999@www.goiasfomento.com
SUMMARY:Deivison Costa: Abertura do Goiás Social em Niquelândia-Goiás.
DESCRIPTION:
URL:https://www.goiasfomento.com/agenda/deivison-costa-abertura-do-goias-social-em-niquelandia-goias/
LOCATION:Niquelândia-Goiás.
CATEGORIES:Chefia de Gabinete
END:VEVENT
BEGIN:VEVENT
DTSTART;TZID=America/Sao_Paulo:20250411T070000
DTEND;TZID=America/Sao_Paulo:20250411T080000
DTSTAMP:20260425T123936
CREATED:20250411T123232Z
LAST-MODIFIED:20250411T123232Z
UID:42046-1744354800-1744358400@www.goiasfomento.com
SUMMARY:Rufino Veríssimo – Diretor Presidente (Em substituição): Despachos Internos.
DESCRIPTION:
URL:https://www.goiasfomento.com/agenda/rufino-verissimo-diretor-presidente-em-substituicao-despachos-internos-35/
LOCATION:Gabinete da Diretoria de Operações da GoiásFomento – Agência de Fomento de Goiás.
CATEGORIES:Presidência
END:VEVENT
BEGIN:VEVENT
DTSTART;TZID=America/Sao_Paulo:20250411T070000
DTEND;TZID=America/Sao_Paulo:20250411T080000
DTSTAMP:20260425T123936
CREATED:20250411T123526Z
LAST-MODIFIED:20250411T123526Z
UID:42048-1744354800-1744358400@www.goiasfomento.com
SUMMARY:Rufino Veríssimo: Despachos Internos.
DESCRIPTION:
URL:https://www.goiasfomento.com/agenda/rufino-verissimo-despachos-internos-251/
LOCATION:Gabinete da Diretoria de Operações da GoiásFomento – Agência de Fomento de Goiás.
CATEGORIES:Diretoria de Operações
END:VEVENT
BEGIN:VEVENT
DTSTART;TZID=America/Sao_Paulo:20250411T080000
DTEND;TZID=America/Sao_Paulo:20250411T083000
DTSTAMP:20260425T123936
CREATED:20250411T124722Z
LAST-MODIFIED:20250411T124722Z
UID:42050-1744358400-1744360200@www.goiasfomento.com
SUMMARY:Rufino Veríssimo – Diretor Presidente (Em substituição): Reunião com Gálbia do Amor Divino Rosa - Gerente Jurídica.
DESCRIPTION:
URL:https://www.goiasfomento.com/agenda/rufino-verissimo-diretor-presidente-em-substituicao-reuniao-com-galbia-do-amor-divino-rosa-gerente-juridica/
LOCATION:Gabinete da Diretoria de Operações da GoiásFomento – Agência de Fomento de Goiás.
CATEGORIES:Presidência
END:VEVENT
END:VCALENDAR