BEGIN:VCALENDAR
VERSION:2.0
PRODID:-//GoiásFomento - Agência de Fomento - ECPv6.15.20//NONSGML v1.0//EN
CALSCALE:GREGORIAN
METHOD:PUBLISH
X-WR-CALNAME:GoiásFomento - Agência de Fomento
X-ORIGINAL-URL:https://www.goiasfomento.com
X-WR-CALDESC:Eventos para GoiásFomento - Agência de Fomento
REFRESH-INTERVAL;VALUE=DURATION:PT1H
X-Robots-Tag:noindex
X-PUBLISHED-TTL:PT1H
BEGIN:VTIMEZONE
TZID:America/Sao_Paulo
BEGIN:STANDARD
TZOFFSETFROM:-0300
TZOFFSETTO:-0300
TZNAME:-03
DTSTART:20240101T000000
END:STANDARD
END:VTIMEZONE
BEGIN:VEVENT
DTSTART;TZID=America/Sao_Paulo:20250401T080000
DTEND;TZID=America/Sao_Paulo:20250415T170000
DTSTAMP:20260425T124747
CREATED:20250409T141726Z
LAST-MODIFIED:20250409T141726Z
UID:41939-1743494400-1744736400@www.goiasfomento.com
SUMMARY:Cargo Vago desde 19/03/2025.
DESCRIPTION:
URL:https://www.goiasfomento.com/agenda/cargo-vago-desde-19-03-2025-2/
CATEGORIES:Diretoria Administrativa e Financeira
END:VEVENT
BEGIN:VEVENT
DTSTART;TZID=America/Sao_Paulo:20250409T070000
DTEND;TZID=America/Sao_Paulo:20250409T090000
DTSTAMP:20260425T124747
CREATED:20250409T135458Z
LAST-MODIFIED:20250409T135608Z
UID:41926-1744182000-1744189200@www.goiasfomento.com
SUMMARY:Rufino Veríssimo – Diretor Presidente (Em substituição): Despachos Internos.
DESCRIPTION:
URL:https://www.goiasfomento.com/agenda/rufino-verissimo-diretor-presidente-em-substituicao-despachos-internos-31/
LOCATION:Gabinete da Diretoria de Operações da GoiásFomento – Agência de Fomento de Goiás.
CATEGORIES:Presidência
END:VEVENT
BEGIN:VEVENT
DTSTART;TZID=America/Sao_Paulo:20250409T070000
DTEND;TZID=America/Sao_Paulo:20250409T090000
DTSTAMP:20260425T124747
CREATED:20250409T135538Z
LAST-MODIFIED:20250409T135551Z
UID:41928-1744182000-1744189200@www.goiasfomento.com
SUMMARY:Rufino Veríssimo: Despachos Internos.
DESCRIPTION:
URL:https://www.goiasfomento.com/agenda/rufino-verissimo-despachos-internos-247/
LOCATION:Gabinete da Diretoria de Operações da GoiásFomento – Agência de Fomento de Goiás.
CATEGORIES:Diretoria de Operações
END:VEVENT
BEGIN:VEVENT
DTSTART;TZID=America/Sao_Paulo:20250409T080000
DTEND;TZID=America/Sao_Paulo:20250409T120000
DTSTAMP:20260425T124747
CREATED:20250409T151819Z
LAST-MODIFIED:20250409T151819Z
UID:41969-1744185600-1744200000@www.goiasfomento.com
SUMMARY:Deivison Costa: Despachos Internos.
DESCRIPTION:
URL:https://www.goiasfomento.com/agenda/deivison-costa-despachos-internos-43/
LOCATION:Chefia de Gabinete – Agência de Fomento de Goiás
CATEGORIES:Chefia de Gabinete
END:VEVENT
BEGIN:VEVENT
DTSTART;TZID=America/Sao_Paulo:20250409T090000
DTEND;TZID=America/Sao_Paulo:20250409T093000
DTSTAMP:20260425T124747
CREATED:20250409T135756Z
LAST-MODIFIED:20250409T135756Z
UID:41930-1744189200-1744191000@www.goiasfomento.com
SUMMARY:Rufino Veríssimo – Diretor Presidente (Em substituição): Reunião com os Gerentes da Diretoria de Operações.
DESCRIPTION:
URL:https://www.goiasfomento.com/agenda/rufino-verissimo-diretor-presidente-em-substituicao-reuniao-com-os-gerentes-da-diretoria-de-operacoes-2/
LOCATION:Gabinete da Diretoria de Operações da GoiásFomento – Agência de Fomento de Goiás.
CATEGORIES:Presidência
END:VEVENT
BEGIN:VEVENT
DTSTART;TZID=America/Sao_Paulo:20250409T090000
DTEND;TZID=America/Sao_Paulo:20250409T093000
DTSTAMP:20260425T124747
CREATED:20250409T135825Z
LAST-MODIFIED:20250409T135825Z
UID:41932-1744189200-1744191000@www.goiasfomento.com
SUMMARY:Rufino Veríssimo: Reunião com os Gerentes da Diretoria de Operações.
DESCRIPTION:
URL:https://www.goiasfomento.com/agenda/rufino-verissimo-reuniao-com-os-gerentes-da-diretoria-de-operacoes-11/
LOCATION:Gabinete da Diretoria de Operações da GoiásFomento – Agência de Fomento de Goiás.
CATEGORIES:Diretoria de Operações
END:VEVENT
BEGIN:VEVENT
DTSTART;TZID=America/Sao_Paulo:20250409T093000
DTEND;TZID=America/Sao_Paulo:20250409T100000
DTSTAMP:20260425T124747
CREATED:20250409T141451Z
LAST-MODIFIED:20250409T195934Z
UID:41934-1744191000-1744192800@www.goiasfomento.com
SUMMARY:Rufino Veríssimo – Diretor Presidente (Em substituição): Reunião com os Gerentes da Diretoria Administrativa e Financeira.
DESCRIPTION:
URL:https://www.goiasfomento.com/agenda/rufino-verissimo-diretor-presidente-em-substituicao-reuniao-com-os-gerentes-da-diretoria-administrativa-e-financeira/
LOCATION:Gabinete da Diretoria de Operações da GoiásFomento – Agência de Fomento de Goiás.
CATEGORIES:Presidência
END:VEVENT
BEGIN:VEVENT
DTSTART;TZID=America/Sao_Paulo:20250409T093000
DTEND;TZID=America/Sao_Paulo:20250409T100000
DTSTAMP:20260425T124747
CREATED:20250409T142723Z
LAST-MODIFIED:20250409T142723Z
UID:41937-1744191000-1744192800@www.goiasfomento.com
SUMMARY:Rufino Veríssimo: Reunião com os Gerentes da Diretoria Administrativa e Financeira.
DESCRIPTION:
URL:https://www.goiasfomento.com/agenda/rufino-verissimo-reuniao-com-os-gerentes-da-diretoria-administrativa-e-financeira/
LOCATION:Gabinete da Diretoria de Operações da GoiásFomento – Agência de Fomento de Goiás.
CATEGORIES:Diretoria de Operações
END:VEVENT
BEGIN:VEVENT
DTSTART;TZID=America/Sao_Paulo:20250409T100000
DTEND;TZID=America/Sao_Paulo:20250409T103000
DTSTAMP:20260425T124747
CREATED:20250409T145813Z
LAST-MODIFIED:20250409T145813Z
UID:41942-1744192800-1744194600@www.goiasfomento.com
SUMMARY:Rufino Veríssimo – Diretor Presidente (Em substituição): Reunião com os Gerentes e Assessores da Presidência.
DESCRIPTION:
URL:https://www.goiasfomento.com/agenda/rufino-verissimo-diretor-presidente-em-substituicao-reuniao-com-os-gerentes-e-assessores-da-presidencia/
LOCATION:Gabinete da Diretoria de Operações da GoiásFomento – Agência de Fomento de Goiás.
CATEGORIES:Presidência
END:VEVENT
BEGIN:VEVENT
DTSTART;TZID=America/Sao_Paulo:20250409T100000
DTEND;TZID=America/Sao_Paulo:20250409T103000
DTSTAMP:20260425T124747
CREATED:20250409T145917Z
LAST-MODIFIED:20250409T145917Z
UID:41949-1744192800-1744194600@www.goiasfomento.com
SUMMARY:Rufino Veríssimo: Reunião com os Gerentes e Assessores da Presidência.
DESCRIPTION:
URL:https://www.goiasfomento.com/agenda/rufino-verissimo-reuniao-com-os-gerentes-e-assessores-da-presidencia/
LOCATION:Gabinete da Diretoria de Operações da GoiásFomento – Agência de Fomento de Goiás.
CATEGORIES:Diretoria de Operações
END:VEVENT
BEGIN:VEVENT
DTSTART;TZID=America/Sao_Paulo:20250409T103000
DTEND;TZID=America/Sao_Paulo:20250409T110000
DTSTAMP:20260425T124747
CREATED:20250409T150048Z
LAST-MODIFIED:20250409T150048Z
UID:41951-1744194600-1744196400@www.goiasfomento.com
SUMMARY:Rufino Veríssimo – Diretor Presidente (Em substituição): Reunião com Karyna Moral Dall'Agnol e Fernando Reis - Gerência de Pessoas.
DESCRIPTION:
URL:https://www.goiasfomento.com/agenda/rufino-verissimo-diretor-presidente-em-substituicao-reuniao-com-karyna-moral-dallagnol-e-fernando-reis-gerencia-de-pessoas-2/
LOCATION:Gabinete da Diretoria de Operações da GoiásFomento – Agência de Fomento de Goiás.
CATEGORIES:Presidência
END:VEVENT
BEGIN:VEVENT
DTSTART;TZID=America/Sao_Paulo:20250409T103000
DTEND;TZID=America/Sao_Paulo:20250409T110000
DTSTAMP:20260425T124747
CREATED:20250409T150120Z
LAST-MODIFIED:20250409T150120Z
UID:41953-1744194600-1744196400@www.goiasfomento.com
SUMMARY:Rufino Veríssimo: Reunião com Karyna Moral Dall'Agnol e Fernando Reis - Gerência de Pessoas.
DESCRIPTION:
URL:https://www.goiasfomento.com/agenda/rufino-verissimo-reuniao-com-karyna-moral-dallagnol-e-fernando-reis-gerencia-de-pessoas-2/
LOCATION:Gabinete da Diretoria de Operações da GoiásFomento – Agência de Fomento de Goiás.
CATEGORIES:Diretoria de Operações
END:VEVENT
BEGIN:VEVENT
DTSTART;TZID=America/Sao_Paulo:20250409T110000
DTEND;TZID=America/Sao_Paulo:20250409T113000
DTSTAMP:20260425T124747
CREATED:20250409T150238Z
LAST-MODIFIED:20250409T150238Z
UID:41955-1744196400-1744198200@www.goiasfomento.com
SUMMARY:Rufino Veríssimo – Diretor Presidente (Em substituição): Reunião com Gibran Carvalho Abrão - Gerente de Serviços Gerais e Patrimônio.
DESCRIPTION:
URL:https://www.goiasfomento.com/agenda/rufino-verissimo-diretor-presidente-em-substituicao-reuniao-com-gibran-carvalho-abrao-gerente-de-servicos-gerais-e-patrimonio/
LOCATION:Gabinete da Diretoria de Operações da GoiásFomento – Agência de Fomento de Goiás.
CATEGORIES:Presidência
END:VEVENT
BEGIN:VEVENT
DTSTART;TZID=America/Sao_Paulo:20250409T110000
DTEND;TZID=America/Sao_Paulo:20250409T113000
DTSTAMP:20260425T124747
CREATED:20250409T150646Z
LAST-MODIFIED:20250409T150646Z
UID:41959-1744196400-1744198200@www.goiasfomento.com
SUMMARY:Rufino Veríssimo: Reunião com Gibran Carvalho Abrão - Gerente de Serviços Gerais e Patrimônio.
DESCRIPTION:
URL:https://www.goiasfomento.com/agenda/rufino-verissimo-reuniao-com-gibran-carvalho-abrao-gerente-de-servicos-gerais-e-patrimonio-2/
LOCATION:Gabinete da Diretoria de Operações da GoiásFomento – Agência de Fomento de Goiás.
CATEGORIES:Diretoria de Operações
END:VEVENT
BEGIN:VEVENT
DTSTART;TZID=America/Sao_Paulo:20250409T113000
DTEND;TZID=America/Sao_Paulo:20250409T120000
DTSTAMP:20260425T124747
CREATED:20250409T150840Z
LAST-MODIFIED:20250409T150840Z
UID:41961-1744198200-1744200000@www.goiasfomento.com
SUMMARY:Rufino Veríssimo – Diretor Presidente (Em substituição): Reunião com Darmélia Barbosa - Gerente de Comunicação.
DESCRIPTION:
URL:https://www.goiasfomento.com/agenda/rufino-verissimo-diretor-presidente-em-substituicao-reuniao-com-darmelia-barbosa-gerente-de-comunicacao-4/
LOCATION:Gabinete da Diretoria de Operações da GoiásFomento – Agência de Fomento de Goiás.
CATEGORIES:Presidência
END:VEVENT
BEGIN:VEVENT
DTSTART;TZID=America/Sao_Paulo:20250409T113000
DTEND;TZID=America/Sao_Paulo:20250409T120000
DTSTAMP:20260425T124747
CREATED:20250409T150910Z
LAST-MODIFIED:20250409T150910Z
UID:41963-1744198200-1744200000@www.goiasfomento.com
SUMMARY:Rufino Veríssimo: Reunião com Darmélia Barbosa - Gerente de Comunicação.
DESCRIPTION:
URL:https://www.goiasfomento.com/agenda/rufino-verissimo-reuniao-com-darmelia-barbosa-gerente-de-comunicacao-7/
LOCATION:Gabinete da Diretoria de Operações da GoiásFomento – Agência de Fomento de Goiás.
CATEGORIES:Diretoria de Operações
END:VEVENT
BEGIN:VEVENT
DTSTART;TZID=America/Sao_Paulo:20250409T120000
DTEND;TZID=America/Sao_Paulo:20250409T123000
DTSTAMP:20260425T124747
CREATED:20250409T150949Z
LAST-MODIFIED:20250409T150949Z
UID:41965-1744200000-1744201800@www.goiasfomento.com
SUMMARY:Rufino Veríssimo: Despachos Internos.
DESCRIPTION:
URL:https://www.goiasfomento.com/agenda/rufino-verissimo-despachos-internos-248/
LOCATION:Gabinete da Diretoria de Operações da GoiásFomento – Agência de Fomento de Goiás.
CATEGORIES:Diretoria de Operações
END:VEVENT
BEGIN:VEVENT
DTSTART;TZID=America/Sao_Paulo:20250409T120000
DTEND;TZID=America/Sao_Paulo:20250409T123000
DTSTAMP:20260425T124747
CREATED:20250409T151512Z
LAST-MODIFIED:20250409T151512Z
UID:41967-1744200000-1744201800@www.goiasfomento.com
SUMMARY:Rufino Veríssimo – Diretor Presidente (Em substituição): Despachos Internos.
DESCRIPTION:
URL:https://www.goiasfomento.com/agenda/rufino-verissimo-diretor-presidente-em-substituicao-despachos-internos-32/
LOCATION:Gabinete da Diretoria de Operações da GoiásFomento – Agência de Fomento de Goiás.
CATEGORIES:Presidência
END:VEVENT
BEGIN:VEVENT
DTSTART;TZID=America/Sao_Paulo:20250409T140000
DTEND;TZID=America/Sao_Paulo:20250409T150000
DTSTAMP:20260425T124747
CREATED:20250409T195248Z
LAST-MODIFIED:20250409T195259Z
UID:41973-1744207200-1744210800@www.goiasfomento.com
SUMMARY:Rufino Veríssimo – Diretor Presidente (Em substituição): Reunião com Rafael Soffa Rézio – Gerente de Programas e Políticas Sociais.
DESCRIPTION:
URL:https://www.goiasfomento.com/agenda/8-abril-0830-0900-rufino-verissimo-diretor-presidente-em-substituicao-reuniao-com-rafael-soffa-rezio-gerente-de-programas-e-politicas-sociais/
LOCATION:Gabinete da Diretoria de Operações da GoiásFomento – Agência de Fomento de Goiás.
CATEGORIES:Presidência
END:VEVENT
BEGIN:VEVENT
DTSTART;TZID=America/Sao_Paulo:20250409T140000
DTEND;TZID=America/Sao_Paulo:20250409T150000
DTSTAMP:20260425T124747
CREATED:20250409T195334Z
LAST-MODIFIED:20250409T195334Z
UID:41976-1744207200-1744210800@www.goiasfomento.com
SUMMARY:Rufino Veríssimo: Reunião com Rafael Soffa Rézio – Gerente de Programas e Políticas Sociais.
DESCRIPTION:
URL:https://www.goiasfomento.com/agenda/rufino-verissimo-reuniao-com-rafael-soffa-rezio-gerente-de-programas-e-politicas-sociais-30/
LOCATION:Gabinete da Diretoria de Operações da GoiásFomento – Agência de Fomento de Goiás.
CATEGORIES:Diretoria de Operações
END:VEVENT
BEGIN:VEVENT
DTSTART;TZID=America/Sao_Paulo:20250409T140000
DTEND;TZID=America/Sao_Paulo:20250409T180000
DTSTAMP:20260425T124747
CREATED:20250409T151855Z
LAST-MODIFIED:20250409T151855Z
UID:41971-1744207200-1744221600@www.goiasfomento.com
SUMMARY:Deivison Costa: Despachos Internos.
DESCRIPTION:
URL:https://www.goiasfomento.com/agenda/deivison-costa-despachos-internos-44/
LOCATION:Chefia de Gabinete – Agência de Fomento de Goiás
CATEGORIES:Chefia de Gabinete
END:VEVENT
BEGIN:VEVENT
DTSTART;TZID=America/Sao_Paulo:20250409T150000
DTEND;TZID=America/Sao_Paulo:20250409T160000
DTSTAMP:20260425T124747
CREATED:20250409T195713Z
LAST-MODIFIED:20250409T195713Z
UID:41986-1744210800-1744214400@www.goiasfomento.com
SUMMARY:Rufino Veríssimo – Diretor Presidente (Em substituição): Reunião na SEDS.
DESCRIPTION:
URL:https://www.goiasfomento.com/agenda/rufino-verissimo-diretor-presidente-em-substituicao-reuniao-na-seds/
LOCATION:Secretaria de Desenvolvimento Social do Estado de Goiás – SEDS.
CATEGORIES:Presidência
END:VEVENT
BEGIN:VEVENT
DTSTART;TZID=America/Sao_Paulo:20250409T150000
DTEND;TZID=America/Sao_Paulo:20250409T160000
DTSTAMP:20260425T124747
CREATED:20250409T195802Z
LAST-MODIFIED:20250409T195802Z
UID:41988-1744210800-1744214400@www.goiasfomento.com
SUMMARY:Rufino Veríssimo: Reunião na SEDS.
DESCRIPTION:
URL:https://www.goiasfomento.com/agenda/rufino-verissimo-reuniao-na-seds/
LOCATION:Secretaria de Desenvolvimento Social do Estado de Goiás – SEDS.
CATEGORIES:Diretoria de Operações
END:VEVENT
BEGIN:VEVENT
DTSTART;TZID=America/Sao_Paulo:20250409T160000
DTEND;TZID=America/Sao_Paulo:20250409T170000
DTSTAMP:20260425T124747
CREATED:20250409T195419Z
LAST-MODIFIED:20250409T195419Z
UID:41978-1744214400-1744218000@www.goiasfomento.com
SUMMARY:Rufino Veríssimo – Diretor Presidente (Em substituição): Reunião com Luiz Arthur Medeiros Miguel - Gerente de Licitação e Contratos.
DESCRIPTION:
URL:https://www.goiasfomento.com/agenda/rufino-verissimo-diretor-presidente-em-substituicao-reuniao-com-luiz-arthur-medeiros-miguel-gerente-de-licitacao-e-contratos-4/
LOCATION:Gabinete da Diretoria de Operações da GoiásFomento – Agência de Fomento de Goiás.
CATEGORIES:Presidência
END:VEVENT
BEGIN:VEVENT
DTSTART;TZID=America/Sao_Paulo:20250409T160000
DTEND;TZID=America/Sao_Paulo:20250409T170000
DTSTAMP:20260425T124747
CREATED:20250409T195446Z
LAST-MODIFIED:20250409T195446Z
UID:41980-1744214400-1744218000@www.goiasfomento.com
SUMMARY:Rufino Veríssimo: Reunião com Luiz Arthur Medeiros Miguel - Gerente de Licitação e Contratos.
DESCRIPTION:
URL:https://www.goiasfomento.com/agenda/rufino-verissimo-reuniao-com-luiz-arthur-medeiros-miguel-gerente-de-licitacao-e-contratos-7/
LOCATION:Gabinete da Diretoria de Operações da GoiásFomento – Agência de Fomento de Goiás.
CATEGORIES:Diretoria de Operações
END:VEVENT
BEGIN:VEVENT
DTSTART;TZID=America/Sao_Paulo:20250409T170000
DTEND;TZID=America/Sao_Paulo:20250409T180000
DTSTAMP:20260425T124747
CREATED:20250409T195529Z
LAST-MODIFIED:20250409T195529Z
UID:41982-1744218000-1744221600@www.goiasfomento.com
SUMMARY:Rufino Veríssimo – Diretor Presidente (Em substituição): Reunião com Maria Terezinha da Mota Batista - Assessora Técnica de Contabilidade.
DESCRIPTION:
URL:https://www.goiasfomento.com/agenda/rufino-verissimo-diretor-presidente-em-substituicao-reuniao-com-maria-terezinha-da-mota-batista-assessora-tecnica-de-contabilidade-9/
LOCATION:Gabinete da Diretoria de Operações da GoiásFomento – Agência de Fomento de Goiás.
CATEGORIES:Presidência
END:VEVENT
BEGIN:VEVENT
DTSTART;TZID=America/Sao_Paulo:20250409T170000
DTEND;TZID=America/Sao_Paulo:20250409T180000
DTSTAMP:20260425T124747
CREATED:20250409T195558Z
LAST-MODIFIED:20250409T195558Z
UID:41984-1744218000-1744221600@www.goiasfomento.com
SUMMARY:Rufino Veríssimo: Reunião com Maria Terezinha da Mota Batista - Assessora Técnica de Contabilidade.
DESCRIPTION:
URL:https://www.goiasfomento.com/agenda/rufino-verissimo-reuniao-com-maria-terezinha-da-mota-batista-assessora-tecnica-de-contabilidade-8/
LOCATION:Gabinete da Diretoria de Operações da GoiásFomento – Agência de Fomento de Goiás.
CATEGORIES:Diretoria de Operações
END:VEVENT
BEGIN:VEVENT
DTSTART;TZID=America/Sao_Paulo:20250410T070000
DTEND;TZID=America/Sao_Paulo:20250410T080000
DTSTAMP:20260425T124747
CREATED:20250410T122547Z
LAST-MODIFIED:20250410T122547Z
UID:41990-1744268400-1744272000@www.goiasfomento.com
SUMMARY:Rufino Veríssimo – Diretor Presidente (Em substituição): Despachos Internos.
DESCRIPTION:
URL:https://www.goiasfomento.com/agenda/rufino-verissimo-diretor-presidente-em-substituicao-despachos-internos-33/
LOCATION:Gabinete da Diretoria de Operações da GoiásFomento – Agência de Fomento de Goiás.
CATEGORIES:Presidência
END:VEVENT
BEGIN:VEVENT
DTSTART;TZID=America/Sao_Paulo:20250410T070000
DTEND;TZID=America/Sao_Paulo:20250410T080000
DTSTAMP:20260425T124747
CREATED:20250410T122621Z
LAST-MODIFIED:20250410T122621Z
UID:41992-1744268400-1744272000@www.goiasfomento.com
SUMMARY:Rufino Veríssimo: Despachos Internos.
DESCRIPTION:
URL:https://www.goiasfomento.com/agenda/rufino-verissimo-despachos-internos-249/
LOCATION:Gabinete da Diretoria de Operações da GoiásFomento – Agência de Fomento de Goiás.
CATEGORIES:Diretoria de Operações
END:VEVENT
BEGIN:VEVENT
DTSTART;TZID=America/Sao_Paulo:20250410T080000
DTEND;TZID=America/Sao_Paulo:20250410T083000
DTSTAMP:20260425T124747
CREATED:20250410T134640Z
LAST-MODIFIED:20250410T134640Z
UID:41994-1744272000-1744273800@www.goiasfomento.com
SUMMARY:Rufino Veríssimo – Diretor Presidente (Em substituição): Reunião com a Gálbia do Amor Divino Rosa - Gerente Jurídica e Suhelen - Gerência de Controle de Negócios.
DESCRIPTION:
URL:https://www.goiasfomento.com/agenda/rufino-verissimo-diretor-presidente-em-substituicao-reuniao-com-a-galbia-do-amor-divino-rosa-gerente-juridica-e-suhelen-gerencia-de-controle-de-negocios/
LOCATION:Gabinete da Diretoria de Operações da GoiásFomento – Agência de Fomento de Goiás.
CATEGORIES:Presidência
END:VEVENT
END:VCALENDAR