BEGIN:VCALENDAR
VERSION:2.0
PRODID:-//GoiásFomento - Agência de Fomento - ECPv6.15.20//NONSGML v1.0//EN
CALSCALE:GREGORIAN
METHOD:PUBLISH
X-WR-CALNAME:GoiásFomento - Agência de Fomento
X-ORIGINAL-URL:https://www.goiasfomento.com
X-WR-CALDESC:Eventos para GoiásFomento - Agência de Fomento
REFRESH-INTERVAL;VALUE=DURATION:PT1H
X-Robots-Tag:noindex
X-PUBLISHED-TTL:PT1H
BEGIN:VTIMEZONE
TZID:America/Sao_Paulo
BEGIN:STANDARD
TZOFFSETFROM:-0300
TZOFFSETTO:-0300
TZNAME:-03
DTSTART:20240101T000000
END:STANDARD
END:VTIMEZONE
BEGIN:VEVENT
DTSTART;TZID=America/Sao_Paulo:20250401T080000
DTEND;TZID=America/Sao_Paulo:20250415T170000
DTSTAMP:20260425T111747
CREATED:20250409T141726Z
LAST-MODIFIED:20250409T141726Z
UID:41939-1743494400-1744736400@www.goiasfomento.com
SUMMARY:Cargo Vago desde 19/03/2025.
DESCRIPTION:
URL:https://www.goiasfomento.com/agenda/cargo-vago-desde-19-03-2025-2/
CATEGORIES:Diretoria Administrativa e Financeira
END:VEVENT
BEGIN:VEVENT
DTSTART;TZID=America/Sao_Paulo:20250403T070000
DTEND;TZID=America/Sao_Paulo:20250403T083000
DTSTAMP:20260425T111747
CREATED:20250403T122819Z
LAST-MODIFIED:20250408T111356Z
UID:41724-1743663600-1743669000@www.goiasfomento.com
SUMMARY:Rufino Veríssimo – Diretor Presidente (Em substituição): Reunião com Kamilla da Silva Vilarinho - Gerente de Cobrança Extrajudicial.
DESCRIPTION:
URL:https://www.goiasfomento.com/agenda/rufino-verissimo-diretor-presidente-em-substituicao-reuniao-com-kamilla-da-silva-vilarinho-gerente-de-cobranca-extrajudicial/
LOCATION:Gabinete da Diretoria de Operações da GoiásFomento – Agência de Fomento de Goiás.
CATEGORIES:Presidência
END:VEVENT
BEGIN:VEVENT
DTSTART;TZID=America/Sao_Paulo:20250403T070000
DTEND;TZID=America/Sao_Paulo:20250403T083000
DTSTAMP:20260425T111747
CREATED:20250403T122849Z
LAST-MODIFIED:20250408T111505Z
UID:41726-1743663600-1743669000@www.goiasfomento.com
SUMMARY:Rufino Veríssimo: Reunião com Kamilla da Silva Vilarinho - Gerente de Cobrança Extrajudicial.
DESCRIPTION:
URL:https://www.goiasfomento.com/agenda/rufino-verissimo-reuniao-com-kamilla-da-silva-vilarinho-gerente-de-cobranca-extrajudicial-4/
LOCATION:Gabinete da Diretoria de Operações da GoiásFomento – Agência de Fomento de Goiás.
CATEGORIES:Diretoria de Operações
END:VEVENT
BEGIN:VEVENT
DTSTART;TZID=America/Sao_Paulo:20250403T080000
DTEND;TZID=America/Sao_Paulo:20250403T090000
DTSTAMP:20260425T111747
CREATED:20250403T124259Z
LAST-MODIFIED:20250403T124259Z
UID:41732-1743667200-1743670800@www.goiasfomento.com
SUMMARY:Deivison Costa: Reunião com  Alexandre - GERAT e Empresário.
DESCRIPTION:
URL:https://www.goiasfomento.com/agenda/deivison-costa-reuniao-com-alexandre-gerat-e-empresario/
LOCATION:Chefia de Gabinete – Agência de Fomento de Goiás
CATEGORIES:Chefia de Gabinete
END:VEVENT
BEGIN:VEVENT
DTSTART;TZID=America/Sao_Paulo:20250403T083000
DTEND;TZID=America/Sao_Paulo:20250403T100000
DTSTAMP:20260425T111747
CREATED:20250403T123601Z
LAST-MODIFIED:20250403T131737Z
UID:41728-1743669000-1743674400@www.goiasfomento.com
SUMMARY:Rufino Veríssimo – Diretor Presidente (Em substituição): Reunião Ariana da Costa Pires Barbosa - Secretaria-Geral.
DESCRIPTION:
URL:https://www.goiasfomento.com/agenda/rufino-verissimo-diretor-presidente-em-substituicao-reuniao-ariana-da-costa-pires-barbosa-secretaria-geral/
LOCATION:Gabinete da Diretoria de Operações da GoiásFomento – Agência de Fomento de Goiás.
CATEGORIES:Presidência
END:VEVENT
BEGIN:VEVENT
DTSTART;TZID=America/Sao_Paulo:20250403T083000
DTEND;TZID=America/Sao_Paulo:20250403T100000
DTSTAMP:20260425T111747
CREATED:20250403T123634Z
LAST-MODIFIED:20250403T131754Z
UID:41730-1743669000-1743674400@www.goiasfomento.com
SUMMARY:Rufino Veríssimo: Reunião Ariana da Costa Pires Barbosa - Secretaria-Geral.
DESCRIPTION:
URL:https://www.goiasfomento.com/agenda/rufino-verissimo-reuniao-ariana-da-costa-pires-barbosa-secretaria-geral/
LOCATION:Gabinete da Diretoria de Operações da GoiásFomento – Agência de Fomento de Goiás.
CATEGORIES:Diretoria de Operações
END:VEVENT
BEGIN:VEVENT
DTSTART;TZID=America/Sao_Paulo:20250403T090000
DTEND;TZID=America/Sao_Paulo:20250403T103000
DTSTAMP:20260425T111747
CREATED:20250403T125808Z
LAST-MODIFIED:20250403T133721Z
UID:41734-1743670800-1743676200@www.goiasfomento.com
SUMMARY:Deivison Costa: Reunião com Fernando - GEPAT.
DESCRIPTION:
URL:https://www.goiasfomento.com/agenda/deivison-costa-reuniao-comfernando-gepat/
LOCATION:Chefia de Gabinete – Agência de Fomento de Goiás
CATEGORIES:Chefia de Gabinete
END:VEVENT
BEGIN:VEVENT
DTSTART;TZID=America/Sao_Paulo:20250403T100000
DTEND;TZID=America/Sao_Paulo:20250403T103000
DTSTAMP:20260425T111747
CREATED:20250403T133944Z
LAST-MODIFIED:20250403T134302Z
UID:41743-1743674400-1743676200@www.goiasfomento.com
SUMMARY:Rufino Veríssimo – Diretor Presidente (Em substituição): Reunião com a Karyna Moral Dall'Agnol - Gerente de Pessoas.
DESCRIPTION:
URL:https://www.goiasfomento.com/agenda/rufino-verissimo-diretor-presidente-em-substituicao-karyna-moral-dallagnol-gerente-de-pessoas/
LOCATION:Gabinete da Diretoria de Operações da GoiásFomento – Agência de Fomento de Goiás.
CATEGORIES:Presidência
END:VEVENT
BEGIN:VEVENT
DTSTART;TZID=America/Sao_Paulo:20250403T100000
DTEND;TZID=America/Sao_Paulo:20250403T103000
DTSTAMP:20260425T111747
CREATED:20250403T134020Z
LAST-MODIFIED:20250403T134243Z
UID:41745-1743674400-1743676200@www.goiasfomento.com
SUMMARY:Rufino Veríssimo: Reunião com a Karyna Moral Dall'Agnol - Gerente de Pessoas.
DESCRIPTION:
URL:https://www.goiasfomento.com/agenda/rufino-verissimo-karyna-moral-dallagnol-gerente-de-pessoas/
LOCATION:Gabinete da Diretoria de Operações da GoiásFomento – Agência de Fomento de Goiás.
CATEGORIES:Diretoria de Operações
END:VEVENT
BEGIN:VEVENT
DTSTART;TZID=America/Sao_Paulo:20250403T103000
DTEND;TZID=America/Sao_Paulo:20250403T110000
DTSTAMP:20260425T111747
CREATED:20250403T145907Z
LAST-MODIFIED:20250403T145907Z
UID:41754-1743676200-1743678000@www.goiasfomento.com
SUMMARY:Rufino Veríssimo – Diretor Presidente (Em substituição):  Reunião com Wagner Viana - Gerente de Agronegócio  Em substituição.
DESCRIPTION:
URL:https://www.goiasfomento.com/agenda/rufino-verissimo-diretor-presidente-em-substituicao-reuniao-com-wagner-viana-gerente-de-agronegocio-em-substituicao/
LOCATION:Gabinete da Diretoria de Operações da GoiásFomento – Agência de Fomento de Goiás.
CATEGORIES:Presidência
END:VEVENT
BEGIN:VEVENT
DTSTART;TZID=America/Sao_Paulo:20250403T103000
DTEND;TZID=America/Sao_Paulo:20250403T110000
DTSTAMP:20260425T111747
CREATED:20250403T145937Z
LAST-MODIFIED:20250403T145937Z
UID:41756-1743676200-1743678000@www.goiasfomento.com
SUMMARY:Rufino Veríssimo:  Reunião com Wagner Viana - Gerente de Agronegócio  Em substituição.
DESCRIPTION:
URL:https://www.goiasfomento.com/agenda/rufino-verissimo-reuniao-com-wagner-viana-gerente-de-agronegocio-em-substituicao/
LOCATION:Gabinete da Diretoria de Operações da GoiásFomento – Agência de Fomento de Goiás.
CATEGORIES:Diretoria de Operações
END:VEVENT
BEGIN:VEVENT
DTSTART;TZID=America/Sao_Paulo:20250403T103000
DTEND;TZID=America/Sao_Paulo:20250403T120000
DTSTAMP:20260425T111747
CREATED:20250403T130222Z
LAST-MODIFIED:20250403T130222Z
UID:41737-1743676200-1743681600@www.goiasfomento.com
SUMMARY:Deivison Costa: Despachos Internos.
DESCRIPTION:
URL:https://www.goiasfomento.com/agenda/deivison-costa-despachos-internos-34/
LOCATION:Chefia de Gabinete – Agência de Fomento de Goiás
CATEGORIES:Chefia de Gabinete
END:VEVENT
BEGIN:VEVENT
DTSTART;TZID=America/Sao_Paulo:20250403T110000
DTEND;TZID=America/Sao_Paulo:20250403T120000
DTSTAMP:20260425T111747
CREATED:20250403T150114Z
LAST-MODIFIED:20250403T150114Z
UID:41758-1743678000-1743681600@www.goiasfomento.com
SUMMARY:Rufino Veríssimo – Diretor Presidente (Em substituição): Reunião com Rafael Soffa Rézio – Gerente de Programas e Políticas Sociais.
DESCRIPTION:
URL:https://www.goiasfomento.com/agenda/rufino-verissimo-diretor-presidente-em-substituicao-reuniao-com-rafael-soffa-rezio-gerente-de-programas-e-politicas-sociais-13/
LOCATION:Gabinete da Diretoria de Operações da GoiásFomento – Agência de Fomento de Goiás.
CATEGORIES:Presidência
END:VEVENT
BEGIN:VEVENT
DTSTART;TZID=America/Sao_Paulo:20250403T110000
DTEND;TZID=America/Sao_Paulo:20250403T120000
DTSTAMP:20260425T111747
CREATED:20250403T150146Z
LAST-MODIFIED:20250403T150146Z
UID:41760-1743678000-1743681600@www.goiasfomento.com
SUMMARY:Rufino Veríssimo: Reunião com Rafael Soffa Rézio – Gerente de Programas e Políticas Sociais.
DESCRIPTION:
URL:https://www.goiasfomento.com/agenda/rufino-verissimo-reuniao-com-rafael-soffa-rezio-gerente-de-programas-e-politicas-sociais-24/
LOCATION:Gabinete da Diretoria de Operações da GoiásFomento – Agência de Fomento de Goiás.
CATEGORIES:Diretoria de Operações
END:VEVENT
BEGIN:VEVENT
DTSTART;TZID=America/Sao_Paulo:20250403T120000
DTEND;TZID=America/Sao_Paulo:20250403T123000
DTSTAMP:20260425T111747
CREATED:20250403T150239Z
LAST-MODIFIED:20250403T150239Z
UID:41762-1743681600-1743683400@www.goiasfomento.com
SUMMARY:Rufino Veríssimo – Diretor Presidente (Em substituição): Reunião com José Marco Ferreira de Barri - Gerente Financeiro.
DESCRIPTION:
URL:https://www.goiasfomento.com/agenda/rufino-verissimo-diretor-presidente-em-substituicao-reuniao-com-jose-marco-ferreira-de-barri-gerente-financeiro/
LOCATION:Gabinete da Diretoria de Operações da GoiásFomento – Agência de Fomento de Goiás.
CATEGORIES:Presidência
END:VEVENT
BEGIN:VEVENT
DTSTART;TZID=America/Sao_Paulo:20250403T120000
DTEND;TZID=America/Sao_Paulo:20250403T123000
DTSTAMP:20260425T111747
CREATED:20250403T150315Z
LAST-MODIFIED:20250403T150315Z
UID:41764-1743681600-1743683400@www.goiasfomento.com
SUMMARY:Rufino Veríssimo: Reunião com José Marco Ferreira de Barri - Gerente Financeiro.
DESCRIPTION:
URL:https://www.goiasfomento.com/agenda/rufino-verissimo-reuniao-com-jose-marco-ferreira-de-barri-gerente-financeiro-4/
LOCATION:Gabinete da Diretoria de Operações da GoiásFomento – Agência de Fomento de Goiás.
CATEGORIES:Diretoria de Operações
END:VEVENT
BEGIN:VEVENT
DTSTART;TZID=America/Sao_Paulo:20250403T140000
DTEND;TZID=America/Sao_Paulo:20250403T143000
DTSTAMP:20260425T111747
CREATED:20250403T173441Z
LAST-MODIFIED:20250403T173441Z
UID:41766-1743688800-1743690600@www.goiasfomento.com
SUMMARY:Rufino Veríssimo – Diretor Presidente (Em substituição): Reunião com Maria Terezinha da Mota Batista - Assessora Técnica de Contabilidade.
DESCRIPTION:
URL:https://www.goiasfomento.com/agenda/rufino-verissimo-diretor-presidente-em-substituicao-reuniao-com-maria-terezinha-da-mota-batista-assessora-tecnica-de-contabilidade-7/
LOCATION:Gabinete da Diretoria de Operações da GoiásFomento – Agência de Fomento de Goiás.
CATEGORIES:Presidência
END:VEVENT
BEGIN:VEVENT
DTSTART;TZID=America/Sao_Paulo:20250403T140000
DTEND;TZID=America/Sao_Paulo:20250403T143000
DTSTAMP:20260425T111747
CREATED:20250403T173546Z
LAST-MODIFIED:20250403T173546Z
UID:41769-1743688800-1743690600@www.goiasfomento.com
SUMMARY:Rufino Veríssimo: Reunião com Maria Terezinha da Mota Batista - Assessora Técnica de Contabilidade.
DESCRIPTION:
URL:https://www.goiasfomento.com/agenda/rufino-verissimo-reuniao-com-maria-terezinha-da-mota-batista-assessora-tecnica-de-contabilidade-6/
LOCATION:Gabinete da Diretoria de Operações da GoiásFomento – Agência de Fomento de Goiás.
CATEGORIES:Diretoria de Operações
END:VEVENT
BEGIN:VEVENT
DTSTART;TZID=America/Sao_Paulo:20250403T140000
DTEND;TZID=America/Sao_Paulo:20250403T180000
DTSTAMP:20260425T111747
CREATED:20250403T130257Z
LAST-MODIFIED:20250403T130257Z
UID:41739-1743688800-1743703200@www.goiasfomento.com
SUMMARY:Deivison Costa: Despachos Internos.
DESCRIPTION:
URL:https://www.goiasfomento.com/agenda/deivison-costa-despachos-internos-35/
LOCATION:Chefia de Gabinete – Agência de Fomento de Goiás
CATEGORIES:Chefia de Gabinete
END:VEVENT
BEGIN:VEVENT
DTSTART;TZID=America/Sao_Paulo:20250403T143000
DTEND;TZID=America/Sao_Paulo:20250403T153000
DTSTAMP:20260425T111747
CREATED:20250403T173618Z
LAST-MODIFIED:20250403T173618Z
UID:41771-1743690600-1743694200@www.goiasfomento.com
SUMMARY:Rufino Veríssimo – Diretor Presidente (Em substituição): Reunião com Rafael Soffa Rézio – Gerente de Programas e Políticas Sociais.
DESCRIPTION:
URL:https://www.goiasfomento.com/agenda/rufino-verissimo-diretor-presidente-em-substituicao-reuniao-com-rafael-soffa-rezio-gerente-de-programas-e-politicas-sociais-14/
LOCATION:Gabinete da Diretoria de Operações da GoiásFomento – Agência de Fomento de Goiás.
CATEGORIES:Presidência
END:VEVENT
BEGIN:VEVENT
DTSTART;TZID=America/Sao_Paulo:20250403T143000
DTEND;TZID=America/Sao_Paulo:20250403T153000
DTSTAMP:20260425T111747
CREATED:20250403T173646Z
LAST-MODIFIED:20250403T173646Z
UID:41773-1743690600-1743694200@www.goiasfomento.com
SUMMARY:Rufino Veríssimo: Reunião com Rafael Soffa Rézio – Gerente de Programas e Políticas Sociais.
DESCRIPTION:
URL:https://www.goiasfomento.com/agenda/rufino-verissimo-reuniao-com-rafael-soffa-rezio-gerente-de-programas-e-politicas-sociais-25/
LOCATION:Gabinete da Diretoria de Operações da GoiásFomento – Agência de Fomento de Goiás.
CATEGORIES:Diretoria de Operações
END:VEVENT
BEGIN:VEVENT
DTSTART;TZID=America/Sao_Paulo:20250403T153000
DTEND;TZID=America/Sao_Paulo:20250403T180000
DTSTAMP:20260425T111747
CREATED:20250403T175122Z
LAST-MODIFIED:20250403T175122Z
UID:41775-1743694200-1743703200@www.goiasfomento.com
SUMMARY:Rufino Veríssimo – Diretor Presidente (Em substituição): Despachos Internos.
DESCRIPTION:
URL:https://www.goiasfomento.com/agenda/rufino-verissimo-diretor-presidente-em-substituicao-despachos-internos-25/
LOCATION:Gabinete da Diretoria de Operações da GoiásFomento – Agência de Fomento de Goiás.
CATEGORIES:Presidência
END:VEVENT
BEGIN:VEVENT
DTSTART;TZID=America/Sao_Paulo:20250403T153000
DTEND;TZID=America/Sao_Paulo:20250403T180000
DTSTAMP:20260425T111747
CREATED:20250403T175203Z
LAST-MODIFIED:20250403T175203Z
UID:41777-1743694200-1743703200@www.goiasfomento.com
SUMMARY:Rufino Veríssimo: Despachos Internos.
DESCRIPTION:
URL:https://www.goiasfomento.com/agenda/rufino-verissimo-despachos-internos-241/
LOCATION:Gabinete da Diretoria de Operações da GoiásFomento – Agência de Fomento de Goiás.
CATEGORIES:Diretoria de Operações
END:VEVENT
BEGIN:VEVENT
DTSTART;TZID=America/Sao_Paulo:20250404T080000
DTEND;TZID=America/Sao_Paulo:20250404T120000
DTSTAMP:20260425T111747
CREATED:20250404T123515Z
LAST-MODIFIED:20250404T123515Z
UID:41779-1743753600-1743768000@www.goiasfomento.com
SUMMARY:Deivison Costa: Despachos Internos.
DESCRIPTION:
URL:https://www.goiasfomento.com/agenda/deivison-costa-despachos-internos-36/
LOCATION:Chefia de Gabinete – Agência de Fomento de Goiás
CATEGORIES:Chefia de Gabinete
END:VEVENT
BEGIN:VEVENT
DTSTART;TZID=America/Sao_Paulo:20250404T140000
DTEND;TZID=America/Sao_Paulo:20250404T180000
DTSTAMP:20260425T111747
CREATED:20250404T123602Z
LAST-MODIFIED:20250404T123602Z
UID:41781-1743775200-1743789600@www.goiasfomento.com
SUMMARY:Deivison Costa: Despachos Internos.
DESCRIPTION:
URL:https://www.goiasfomento.com/agenda/deivison-costa-despachos-internos-37/
LOCATION:Chefia de Gabinete – Agência de Fomento de Goiás
CATEGORIES:Chefia de Gabinete
END:VEVENT
BEGIN:VEVENT
DTSTART;TZID=America/Sao_Paulo:20250407T070000
DTEND;TZID=America/Sao_Paulo:20250407T090000
DTSTAMP:20260425T111747
CREATED:20250403T110301Z
LAST-MODIFIED:20250408T110910Z
UID:41714-1744009200-1744016400@www.goiasfomento.com
SUMMARY:Rufino Veríssimo – Diretor Presidente (Em substituição): Despachos Internos.
DESCRIPTION:
URL:https://www.goiasfomento.com/agenda/rufino-verissimo-diretor-presidente-em-substituicao-abertura-oficial-da-tecnoshow-comigo-feira-de-tecnologia-em-agronegocio/
LOCATION:Gabinete da Diretoria de Operações da GoiásFomento – Agência de Fomento de Goiás.
CATEGORIES:Presidência
END:VEVENT
BEGIN:VEVENT
DTSTART;TZID=America/Sao_Paulo:20250407T070000
DTEND;TZID=America/Sao_Paulo:20250407T090000
DTSTAMP:20260425T111747
CREATED:20250403T110336Z
LAST-MODIFIED:20250408T110945Z
UID:41716-1744009200-1744016400@www.goiasfomento.com
SUMMARY:Rufino Veríssimo: Despachos Internos.
DESCRIPTION:
URL:https://www.goiasfomento.com/agenda/rufino-verissimo-abertura-oficial-da-tecnoshow-comigo-feira-de-tecnologia-em-agronegocio/
LOCATION:Gabinete da Diretoria de Operações da GoiásFomento – Agência de Fomento de Goiás.
CATEGORIES:Diretoria de Operações
END:VEVENT
BEGIN:VEVENT
DTSTART;TZID=America/Sao_Paulo:20250407T080000
DTEND;TZID=America/Sao_Paulo:20250407T100000
DTSTAMP:20260425T111747
CREATED:20250407T130445Z
LAST-MODIFIED:20250407T130445Z
UID:41809-1744012800-1744020000@www.goiasfomento.com
SUMMARY:Deivison Costa: Despachos Internos.
DESCRIPTION:
URL:https://www.goiasfomento.com/agenda/deivison-costa-despachos-internos-38/
LOCATION:Chefia de Gabinete – Agência de Fomento de Goiás
CATEGORIES:Chefia de Gabinete
END:VEVENT
BEGIN:VEVENT
DTSTART;TZID=America/Sao_Paulo:20250407T090000
DTEND;TZID=America/Sao_Paulo:20250407T093000
DTSTAMP:20260425T111747
CREATED:20250407T124925Z
LAST-MODIFIED:20250407T125246Z
UID:41792-1744016400-1744018200@www.goiasfomento.com
SUMMARY:Rufino Veríssimo – Diretor Presidente (Em substituição): Reunião com Ariana da Costa Pires Barbosa - Secretaria-Geral.
DESCRIPTION:
URL:https://www.goiasfomento.com/agenda/rufino-verissimo-diretor-presidente-em-substituicao-ariana-da-costa-pires-barbosa-secretaria-geral/
LOCATION:Gabinete da Diretoria de Operações da GoiásFomento – Agência de Fomento de Goiás.
CATEGORIES:Presidência
END:VEVENT
BEGIN:VEVENT
DTSTART;TZID=America/Sao_Paulo:20250407T090000
DTEND;TZID=America/Sao_Paulo:20250407T093000
DTSTAMP:20260425T111747
CREATED:20250407T124958Z
LAST-MODIFIED:20250407T125410Z
UID:41794-1744016400-1744018200@www.goiasfomento.com
SUMMARY:Rufino Veríssimo: Reunião com Ariana da Costa Pires Barbosa - Secretaria-Geral.
DESCRIPTION:
URL:https://www.goiasfomento.com/agenda/rufino-verissimo-ariana-da-costa-pires-barbosa-secretaria-geral/
LOCATION:Gabinete da Diretoria de Operações da GoiásFomento – Agência de Fomento de Goiás.
CATEGORIES:Diretoria de Operações
END:VEVENT
END:VCALENDAR