BEGIN:VCALENDAR
VERSION:2.0
PRODID:-//GoiásFomento - Agência de Fomento - ECPv6.15.20//NONSGML v1.0//EN
CALSCALE:GREGORIAN
METHOD:PUBLISH
X-WR-CALNAME:GoiásFomento - Agência de Fomento
X-ORIGINAL-URL:https://www.goiasfomento.com
X-WR-CALDESC:Eventos para GoiásFomento - Agência de Fomento
REFRESH-INTERVAL;VALUE=DURATION:PT1H
X-Robots-Tag:noindex
X-PUBLISHED-TTL:PT1H
BEGIN:VTIMEZONE
TZID:America/Sao_Paulo
BEGIN:STANDARD
TZOFFSETFROM:-0300
TZOFFSETTO:-0300
TZNAME:-03
DTSTART:20240101T000000
END:STANDARD
END:VTIMEZONE
BEGIN:VEVENT
DTSTART;VALUE=DATE:20250319
DTEND;VALUE=DATE:20250401
DTSTAMP:20260425T111746
CREATED:20250409T141630Z
LAST-MODIFIED:20250409T141630Z
UID:41935-1742342400-1743465599@www.goiasfomento.com
SUMMARY:Cargo Vago desde 19/03/2025.
DESCRIPTION:
URL:https://www.goiasfomento.com/agenda/cargo-vago-desde-19-03-2025/
CATEGORIES:Diretoria Administrativa e Financeira
END:VEVENT
BEGIN:VEVENT
DTSTART;TZID=America/Sao_Paulo:20250328T070000
DTEND;TZID=America/Sao_Paulo:20250328T083000
DTSTAMP:20260425T111746
CREATED:20250328T153521Z
LAST-MODIFIED:20250408T113520Z
UID:41502-1743145200-1743150600@www.goiasfomento.com
SUMMARY:Rufino Veríssimo – Diretor Presidente (Em substituição): Despachos Internos.
DESCRIPTION:
URL:https://www.goiasfomento.com/agenda/rufino-verissimo-diretor-presidente-em-substituicao-despachos-internos-12/
LOCATION:Gabinete da Diretoria de Operações da GoiásFomento – Agência de Fomento de Goiás.
CATEGORIES:Presidência
END:VEVENT
BEGIN:VEVENT
DTSTART;TZID=America/Sao_Paulo:20250328T070000
DTEND;TZID=America/Sao_Paulo:20250328T083000
DTSTAMP:20260425T111746
CREATED:20250328T153556Z
LAST-MODIFIED:20250408T113551Z
UID:41504-1743145200-1743150600@www.goiasfomento.com
SUMMARY:Rufino Veríssimo: Despachos Internos.
DESCRIPTION:
URL:https://www.goiasfomento.com/agenda/rufino-verissimo-despachos-internos-228/
LOCATION:Gabinete da Diretoria de Operações da GoiásFomento – Agência de Fomento de Goiás.
CATEGORIES:Diretoria de Operações
END:VEVENT
BEGIN:VEVENT
DTSTART;TZID=America/Sao_Paulo:20250328T080000
DTEND;TZID=America/Sao_Paulo:20250328T120000
DTSTAMP:20260425T111746
CREATED:20250328T152721Z
LAST-MODIFIED:20250328T152721Z
UID:41497-1743148800-1743163200@www.goiasfomento.com
SUMMARY:Deivison Costa:  Premiação do 1º Prêmio de Ouvidoria Pública do Poder Excutivo do Estado de Goiás.
DESCRIPTION:
URL:https://www.goiasfomento.com/agenda/deivison-costa-premiacao-do-1o-premio-de-ouvidoria-publica-do-poder-excutivo-do-estado-de-goias/
LOCATION:Conselho Regional de Contabilidade de Goiás – CRC GO
CATEGORIES:Chefia de Gabinete
END:VEVENT
BEGIN:VEVENT
DTSTART;TZID=America/Sao_Paulo:20250328T083000
DTEND;TZID=America/Sao_Paulo:20250328T110000
DTSTAMP:20260425T111746
CREATED:20250328T154109Z
LAST-MODIFIED:20250328T154148Z
UID:41506-1743150600-1743159600@www.goiasfomento.com
SUMMARY:Rufino Veríssimo – Diretor Presidente (Em substituição): Externa: Café da Manhã com Governador Ronaldo Caiado e a Primeira Dama Gracinha Caiado.
DESCRIPTION:
URL:https://www.goiasfomento.com/agenda/rufino-verissimo-diretor-presidente-em-substituicao-externa-cafe-da-manha-com-governador-ronaldo-caiado-primeira-dama-gracinha-caiado/
LOCATION:Gabinete da Diretoria de Operações da GoiásFomento – Agência de Fomento de Goiás.
CATEGORIES:Presidência
END:VEVENT
BEGIN:VEVENT
DTSTART;TZID=America/Sao_Paulo:20250328T083000
DTEND;TZID=America/Sao_Paulo:20250328T110000
DTSTAMP:20260425T111746
CREATED:20250328T154234Z
LAST-MODIFIED:20250328T154234Z
UID:41509-1743150600-1743159600@www.goiasfomento.com
SUMMARY:Rufino Veríssimo: Externa - Café da Manhã com Governador Ronaldo Caiado e a Primeira Dama Gracinha Caiado.
DESCRIPTION:
URL:https://www.goiasfomento.com/agenda/rufino-verissimo-externa-cafe-da-manha-com-governador-ronaldo-caiado-e-a-primeira-dama-gracinha-caiado/
LOCATION:Gabinete da Diretoria de Operações da GoiásFomento – Agência de Fomento de Goiás.
CATEGORIES:Diretoria de Operações
END:VEVENT
BEGIN:VEVENT
DTSTART;TZID=America/Sao_Paulo:20250328T110000
DTEND;TZID=America/Sao_Paulo:20250328T120000
DTSTAMP:20260425T111746
CREATED:20250328T171357Z
LAST-MODIFIED:20250328T171357Z
UID:41514-1743159600-1743163200@www.goiasfomento.com
SUMMARY:Rufino Veríssimo – Diretor Presidente (Em substituição): Despachos Internos.
DESCRIPTION:
URL:https://www.goiasfomento.com/agenda/rufino-verissimo-diretor-presidente-em-substituicao-despachos-internos-13/
LOCATION:Gabinete da Diretoria de Operações da GoiásFomento – Agência de Fomento de Goiás.
CATEGORIES:Presidência
END:VEVENT
BEGIN:VEVENT
DTSTART;TZID=America/Sao_Paulo:20250328T110000
DTEND;TZID=America/Sao_Paulo:20250328T120000
DTSTAMP:20260425T111746
CREATED:20250328T171432Z
LAST-MODIFIED:20250328T171432Z
UID:41516-1743159600-1743163200@www.goiasfomento.com
SUMMARY:Rufino Veríssimo: Despachos Internos.
DESCRIPTION:
URL:https://www.goiasfomento.com/agenda/rufino-verissimo-despachos-internos-229/
LOCATION:Gabinete da Diretoria de Operações da GoiásFomento – Agência de Fomento de Goiás.
CATEGORIES:Diretoria de Operações
END:VEVENT
BEGIN:VEVENT
DTSTART;TZID=America/Sao_Paulo:20250328T140000
DTEND;TZID=America/Sao_Paulo:20250328T170000
DTSTAMP:20260425T111746
CREATED:20250328T170826Z
LAST-MODIFIED:20250328T170826Z
UID:41512-1743170400-1743181200@www.goiasfomento.com
SUMMARY:Deivison Costa: DELAS 2025 - MULHER DE NEGÓCIOS
DESCRIPTION:
URL:https://www.goiasfomento.com/agenda/deivison-costa-delas-2025-mulher-de-negocios/
LOCATION:SHOPPING CERRADO\, Brasil
CATEGORIES:Chefia de Gabinete
END:VEVENT
BEGIN:VEVENT
DTSTART;TZID=America/Sao_Paulo:20250328T140000
DTEND;TZID=America/Sao_Paulo:20250328T180000
DTSTAMP:20260425T111746
CREATED:20250328T173032Z
LAST-MODIFIED:20250328T173032Z
UID:41518-1743170400-1743184800@www.goiasfomento.com
SUMMARY:Rufino Veríssimo – Diretor Presidente (Em substituição): Despachos Internos.
DESCRIPTION:
URL:https://www.goiasfomento.com/agenda/rufino-verissimo-diretor-presidente-em-substituicao-despachos-internos-14/
LOCATION:Gabinete da Diretoria de Operações da GoiásFomento – Agência de Fomento de Goiás.
CATEGORIES:Presidência
END:VEVENT
BEGIN:VEVENT
DTSTART;TZID=America/Sao_Paulo:20250328T140000
DTEND;TZID=America/Sao_Paulo:20250328T180000
DTSTAMP:20260425T111746
CREATED:20250328T173104Z
LAST-MODIFIED:20250328T173104Z
UID:41520-1743170400-1743184800@www.goiasfomento.com
SUMMARY:Rufino Veríssimo: Despachos Internos.
DESCRIPTION:
URL:https://www.goiasfomento.com/agenda/rufino-verissimo-despachos-internos-230/
LOCATION:Gabinete da Diretoria de Operações da GoiásFomento – Agência de Fomento de Goiás.
CATEGORIES:Diretoria de Operações
END:VEVENT
BEGIN:VEVENT
DTSTART;TZID=America/Sao_Paulo:20250328T170000
DTEND;TZID=America/Sao_Paulo:20250328T180000
DTSTAMP:20260425T111746
CREATED:20250328T152753Z
LAST-MODIFIED:20250328T170844Z
UID:41500-1743181200-1743184800@www.goiasfomento.com
SUMMARY:Deivison Costa: Despachos Internos.
DESCRIPTION:
URL:https://www.goiasfomento.com/agenda/deivison-costa-despachos-internos-25/
LOCATION:Chefia de Gabinete – Agência de Fomento de Goiás
CATEGORIES:Chefia de Gabinete
END:VEVENT
BEGIN:VEVENT
DTSTART;TZID=America/Sao_Paulo:20250331T070000
DTEND;TZID=America/Sao_Paulo:20250331T093000
DTSTAMP:20260425T111746
CREATED:20250331T131203Z
LAST-MODIFIED:20250408T112002Z
UID:41535-1743404400-1743413400@www.goiasfomento.com
SUMMARY:Rufino Veríssimo – Diretor Presidente (Em substituição): Despachos Internos.
DESCRIPTION:
URL:https://www.goiasfomento.com/agenda/rufino-verissimo-diretor-presidente-em-substituicao-despachos-internos-15/
LOCATION:Gabinete da Diretoria de Operações da GoiásFomento – Agência de Fomento de Goiás.
CATEGORIES:Presidência
END:VEVENT
BEGIN:VEVENT
DTSTART;TZID=America/Sao_Paulo:20250331T070000
DTEND;TZID=America/Sao_Paulo:20250331T093000
DTSTAMP:20260425T111746
CREATED:20250331T131229Z
LAST-MODIFIED:20250408T112042Z
UID:41537-1743404400-1743413400@www.goiasfomento.com
SUMMARY:Rufino Veríssimo: Despachos Internos.
DESCRIPTION:
URL:https://www.goiasfomento.com/agenda/rufino-verissimo-despachos-internos-231/
LOCATION:Gabinete da Diretoria de Operações da GoiásFomento – Agência de Fomento de Goiás.
CATEGORIES:Diretoria de Operações
END:VEVENT
BEGIN:VEVENT
DTSTART;TZID=America/Sao_Paulo:20250331T080000
DTEND;TZID=America/Sao_Paulo:20250331T120000
DTSTAMP:20260425T111746
CREATED:20250331T130955Z
LAST-MODIFIED:20250331T130955Z
UID:41531-1743408000-1743422400@www.goiasfomento.com
SUMMARY:Deivison Costa: Despachos Internos.
DESCRIPTION:
URL:https://www.goiasfomento.com/agenda/deivison-costa-despachos-internos-26/
LOCATION:Chefia de Gabinete – Agência de Fomento de Goiás
CATEGORIES:Chefia de Gabinete
END:VEVENT
BEGIN:VEVENT
DTSTART;TZID=America/Sao_Paulo:20250331T093000
DTEND;TZID=America/Sao_Paulo:20250331T102000
DTSTAMP:20260425T111746
CREATED:20250331T131550Z
LAST-MODIFIED:20250331T131550Z
UID:41539-1743413400-1743416400@www.goiasfomento.com
SUMMARY:Rufino Veríssimo – Diretor Presidente (Em substituição): Reunião com o Pedro Leonardo - Secretário - SEAPA.
DESCRIPTION:
URL:https://www.goiasfomento.com/agenda/rufino-verissimo-diretor-presidente-em-substituicao-reuniao-com-o-pedro-leonardo-secretario-seapa/
LOCATION:Secretaria de Estado de Agricultura\, Pecuária e Abastecimento de Goiás – SEAPA
CATEGORIES:Presidência
END:VEVENT
BEGIN:VEVENT
DTSTART;TZID=America/Sao_Paulo:20250331T093000
DTEND;TZID=America/Sao_Paulo:20250331T102000
DTSTAMP:20260425T111746
CREATED:20250331T131627Z
LAST-MODIFIED:20250331T131627Z
UID:41541-1743413400-1743416400@www.goiasfomento.com
SUMMARY:Rufino Veríssimo: Reunião com o Pedro Leonardo - Secretário - SEAPA.
DESCRIPTION:
URL:https://www.goiasfomento.com/agenda/rufino-verissimo-reuniao-com-o-pedro-leonardo-secretario-seapa/
LOCATION:Secretaria de Estado de Agricultura\, Pecuária e Abastecimento de Goiás – SEAPA
CATEGORIES:Diretoria de Operações
END:VEVENT
BEGIN:VEVENT
DTSTART;TZID=America/Sao_Paulo:20250331T102000
DTEND;TZID=America/Sao_Paulo:20250331T113000
DTSTAMP:20260425T111746
CREATED:20250331T144959Z
LAST-MODIFIED:20250331T193439Z
UID:41543-1743416400-1743420600@www.goiasfomento.com
SUMMARY:Rufino Veríssimo – Diretor Presidente (Em substituição): Despachos Internos.
DESCRIPTION:
URL:https://www.goiasfomento.com/agenda/rufino-verissimo-diretor-presidente-em-substituicao-despachos-internos-16/
LOCATION:Gabinete da Diretoria de Operações da GoiásFomento – Agência de Fomento de Goiás.
CATEGORIES:Presidência
END:VEVENT
BEGIN:VEVENT
DTSTART;TZID=America/Sao_Paulo:20250331T102000
DTEND;TZID=America/Sao_Paulo:20250331T113000
DTSTAMP:20260425T111746
CREATED:20250331T145053Z
LAST-MODIFIED:20250331T184840Z
UID:41545-1743416400-1743420600@www.goiasfomento.com
SUMMARY:Rufino Veríssimo: Despachos Internos.
DESCRIPTION:
URL:https://www.goiasfomento.com/agenda/rufino-verissimo-despachos-internos-232/
LOCATION:Gabinete da Diretoria de Operações da GoiásFomento – Agência de Fomento de Goiás.
CATEGORIES:Diretoria de Operações
END:VEVENT
BEGIN:VEVENT
DTSTART;TZID=America/Sao_Paulo:20250331T113000
DTEND;TZID=America/Sao_Paulo:20250331T120000
DTSTAMP:20260425T111746
CREATED:20250331T145129Z
LAST-MODIFIED:20250331T145129Z
UID:41547-1743420600-1743422400@www.goiasfomento.com
SUMMARY:Rufino Veríssimo – Diretor Presidente (Em substituição): Reunião com Rafael Soffa Rézio – Gerente de Programas e Políticas Sociais.
DESCRIPTION:
URL:https://www.goiasfomento.com/agenda/rufino-verissimo-diretor-presidente-em-substituicao-reuniao-com-rafael-soffa-rezio-gerente-de-programas-e-politicas-sociais-10/
LOCATION:Gabinete da Diretoria de Operações da GoiásFomento – Agência de Fomento de Goiás.
CATEGORIES:Presidência
END:VEVENT
BEGIN:VEVENT
DTSTART;TZID=America/Sao_Paulo:20250331T113000
DTEND;TZID=America/Sao_Paulo:20250331T120000
DTSTAMP:20260425T111746
CREATED:20250331T145157Z
LAST-MODIFIED:20250331T145157Z
UID:41549-1743420600-1743422400@www.goiasfomento.com
SUMMARY:Rufino Veríssimo: Reunião com Rafael Soffa Rézio – Gerente de Programas e Políticas Sociais.
DESCRIPTION:
URL:https://www.goiasfomento.com/agenda/rufino-verissimo-reuniao-com-rafael-soffa-rezio-gerente-de-programas-e-politicas-sociais-21/
LOCATION:Gabinete da Diretoria de Operações da GoiásFomento – Agência de Fomento de Goiás.
CATEGORIES:Diretoria de Operações
END:VEVENT
BEGIN:VEVENT
DTSTART;TZID=America/Sao_Paulo:20250331T120000
DTEND;TZID=America/Sao_Paulo:20250331T123000
DTSTAMP:20260425T111746
CREATED:20250331T145745Z
LAST-MODIFIED:20250331T145754Z
UID:41551-1743422400-1743424200@www.goiasfomento.com
SUMMARY:Rufino Veríssimo: Reunião com Rafael Soffa Rézio – Gerente de Programas e Políticas Sociais e José Marco Ferreira de Barri - Gerente Financeiro.
DESCRIPTION:
URL:https://www.goiasfomento.com/agenda/rufino-verissimo-reuniao-com-rafael-soffa-rezio-gerente-de-programas-e-politicas-sociais-e-jose-marco-ferreira-de-barri-gerente-financeiro-2/
LOCATION:Gabinete da Diretoria de Operações da GoiásFomento – Agência de Fomento de Goiás.
CATEGORIES:Diretoria de Operações
END:VEVENT
BEGIN:VEVENT
DTSTART;TZID=America/Sao_Paulo:20250331T120000
DTEND;TZID=America/Sao_Paulo:20250331T123000
DTSTAMP:20260425T111746
CREATED:20250331T145902Z
LAST-MODIFIED:20250331T145902Z
UID:41553-1743422400-1743424200@www.goiasfomento.com
SUMMARY:Rufino Veríssimo – Diretor Presidente (Em substituição): Reunião com Rafael Soffa Rézio – Gerente de Programas e Políticas Sociais e José Marco Ferreira de Barri - Gerente Financeiro.
DESCRIPTION:
URL:https://www.goiasfomento.com/agenda/rufino-verissimo-diretor-presidente-em-substituicao-reuniao-com-rafael-soffa-rezio-gerente-de-programas-e-politicas-sociais-e-jose-marco-ferreira-de-barri-gerente-financeiro-2/
LOCATION:Gabinete da Diretoria de Operações da GoiásFomento – Agência de Fomento de Goiás.
CATEGORIES:Presidência
END:VEVENT
BEGIN:VEVENT
DTSTART;TZID=America/Sao_Paulo:20250331T140000
DTEND;TZID=America/Sao_Paulo:20250331T143000
DTSTAMP:20260425T111746
CREATED:20250331T184543Z
LAST-MODIFIED:20250331T184543Z
UID:41561-1743429600-1743431400@www.goiasfomento.com
SUMMARY:Rufino Veríssimo – Diretor Presidente (Em substituição): Despachos Internos.
DESCRIPTION:
URL:https://www.goiasfomento.com/agenda/rufino-verissimo-diretor-presidente-em-substituicao-despachos-internos-17/
LOCATION:Gabinete da Diretoria de Operações da GoiásFomento – Agência de Fomento de Goiás.
CATEGORIES:Presidência
END:VEVENT
BEGIN:VEVENT
DTSTART;TZID=America/Sao_Paulo:20250331T140000
DTEND;TZID=America/Sao_Paulo:20250331T143000
DTSTAMP:20260425T111746
CREATED:20250331T184615Z
LAST-MODIFIED:20250331T184615Z
UID:41563-1743429600-1743431400@www.goiasfomento.com
SUMMARY:Rufino Veríssimo: Despachos Internos.
DESCRIPTION:
URL:https://www.goiasfomento.com/agenda/rufino-verissimo-despachos-internos-233/
LOCATION:Gabinete da Diretoria de Operações da GoiásFomento – Agência de Fomento de Goiás.
CATEGORIES:Diretoria de Operações
END:VEVENT
BEGIN:VEVENT
DTSTART;TZID=America/Sao_Paulo:20250331T140000
DTEND;TZID=America/Sao_Paulo:20250331T180000
DTSTAMP:20260425T111746
CREATED:20250331T131033Z
LAST-MODIFIED:20250331T131033Z
UID:41533-1743429600-1743444000@www.goiasfomento.com
SUMMARY:Deivison Costa: Despachos Internos.
DESCRIPTION:
URL:https://www.goiasfomento.com/agenda/deivison-costa-despachos-internos-27/
LOCATION:Chefia de Gabinete – Agência de Fomento de Goiás
CATEGORIES:Chefia de Gabinete
END:VEVENT
BEGIN:VEVENT
DTSTART;TZID=America/Sao_Paulo:20250331T143000
DTEND;TZID=America/Sao_Paulo:20250331T153000
DTSTAMP:20260425T111746
CREATED:20250331T184424Z
LAST-MODIFIED:20250331T184424Z
UID:41557-1743431400-1743435000@www.goiasfomento.com
SUMMARY:Rufino Veríssimo – Diretor Presidente (Em substituição): Reunião com Maria Terezinha - ASTEC\, Álvaro Augusto - ASCIC e Márcio Jacinto - AUDIN.
DESCRIPTION:
URL:https://www.goiasfomento.com/agenda/rufino-verissimo-diretor-presidente-em-substituicao-reuniao-com-maria-terezinha-astec-alvaro-augusto-ascic-e-marcio-jacinto-audin/
LOCATION:Gabinete da Diretoria de Operações da GoiásFomento – Agência de Fomento de Goiás.
CATEGORIES:Presidência
END:VEVENT
BEGIN:VEVENT
DTSTART;TZID=America/Sao_Paulo:20250331T143000
DTEND;TZID=America/Sao_Paulo:20250331T153000
DTSTAMP:20260425T111746
CREATED:20250331T184457Z
LAST-MODIFIED:20250331T184457Z
UID:41559-1743431400-1743435000@www.goiasfomento.com
SUMMARY:Rufino Veríssimo: Reunião com Maria Terezinha - ASTEC\, Álvaro Augusto - ASCIC e Márcio Jacinto - AUDIN.
DESCRIPTION:
URL:https://www.goiasfomento.com/agenda/rufino-verissimo-reuniao-com-maria-terezinha-astec-alvaro-augusto-ascic-e-marcio-jacinto-audin/
LOCATION:Gabinete da Diretoria de Operações da GoiásFomento – Agência de Fomento de Goiás.
CATEGORIES:Diretoria de Operações
END:VEVENT
BEGIN:VEVENT
DTSTART;TZID=America/Sao_Paulo:20250331T153000
DTEND;TZID=America/Sao_Paulo:20250331T163000
DTSTAMP:20260425T111746
CREATED:20250331T193027Z
LAST-MODIFIED:20250331T193128Z
UID:41566-1743435000-1743438600@www.goiasfomento.com
SUMMARY:Rufino Veríssimo – Diretor Presidente (Em substituição): Reunião com Luiz  Sardinha - GETEC\, Bruno  Martins - GEATE  e Luiz Alberto - Gerente da Rede Credenciada.
DESCRIPTION:
URL:https://www.goiasfomento.com/agenda/rufino-verissimo-diretor-presidente-em-substituicao-reuniao-com-luiz-sardinha-getec-bruno-martins-geate-e-luiz-alberto-gerente-da-rede-credenciada/
LOCATION:Gabinete da Diretoria de Operações da GoiásFomento – Agência de Fomento de Goiás.
CATEGORIES:Presidência
END:VEVENT
BEGIN:VEVENT
DTSTART;TZID=America/Sao_Paulo:20250331T153000
DTEND;TZID=America/Sao_Paulo:20250331T163000
DTSTAMP:20260425T111746
CREATED:20250331T193202Z
LAST-MODIFIED:20250331T193202Z
UID:41568-1743435000-1743438600@www.goiasfomento.com
SUMMARY:Rufino Veríssimo): Reunião com Luiz  Sardinha - GETEC\, Bruno  Martins - GEATE  e Luiz Alberto - Gerente da Rede Credenciada.
DESCRIPTION:
URL:https://www.goiasfomento.com/agenda/rufino-verissimo-reuniao-com-luiz-sardinha-getec-bruno-martins-geate-e-luiz-alberto-gerente-da-rede-credenciada/
LOCATION:Gabinete da Diretoria de Operações da GoiásFomento – Agência de Fomento de Goiás.
CATEGORIES:Diretoria de Operações
END:VEVENT
END:VCALENDAR