BEGIN:VCALENDAR
VERSION:2.0
PRODID:-//GoiásFomento - Agência de Fomento - ECPv6.15.20//NONSGML v1.0//EN
CALSCALE:GREGORIAN
METHOD:PUBLISH
X-WR-CALNAME:GoiásFomento - Agência de Fomento
X-ORIGINAL-URL:https://www.goiasfomento.com
X-WR-CALDESC:Eventos para GoiásFomento - Agência de Fomento
REFRESH-INTERVAL;VALUE=DURATION:PT1H
X-Robots-Tag:noindex
X-PUBLISHED-TTL:PT1H
BEGIN:VTIMEZONE
TZID:America/Sao_Paulo
BEGIN:STANDARD
TZOFFSETFROM:-0300
TZOFFSETTO:-0300
TZNAME:-03
DTSTART:20240101T000000
END:STANDARD
END:VTIMEZONE
BEGIN:VEVENT
DTSTART;VALUE=DATE:20250306
DTEND;VALUE=DATE:20250307
DTSTAMP:20260425T111749
CREATED:20250306T190731Z
LAST-MODIFIED:20250306T190731Z
UID:40706-1741219200-1741305599@www.goiasfomento.com
SUMMARY:Rufino Veríssimo: Reunião com Paulinho do Barreirão - Prefeito de Anicuns-GO e com Junior - Prefeito de São Luís de Montes Belos-GO.
DESCRIPTION:
URL:https://www.goiasfomento.com/agenda/rufino-verissimo-reuniao-com-paulinho-do-barreirao-prefeito-de-anicuns-go-e-com-junior-prefeito-de-sao-luis-de-montes-belos-go/
LOCATION:Anicuns-GO\, ANICUNS\, GO
CATEGORIES:Diretoria de Operações
END:VEVENT
BEGIN:VEVENT
DTSTART;TZID=America/Sao_Paulo:20250306T080000
DTEND;TZID=America/Sao_Paulo:20250306T083000
DTSTAMP:20260425T111749
CREATED:20250306T181345Z
LAST-MODIFIED:20250306T181345Z
UID:40673-1741248000-1741249800@www.goiasfomento.com
SUMMARY:Lucas Fernandes – Diretor Presidente (Interino): Despachos Internos.
DESCRIPTION:
URL:https://www.goiasfomento.com/agenda/lucas-fernandes-diretor-presidente-interino-despachos-internos-298/
LOCATION:Gabinete da Presidência da GoiásFomento – Agência de Fomento de Goiás.
CATEGORIES:Presidência
END:VEVENT
BEGIN:VEVENT
DTSTART;TZID=America/Sao_Paulo:20250306T080000
DTEND;TZID=America/Sao_Paulo:20250306T083000
DTSTAMP:20260425T111749
CREATED:20250306T181517Z
LAST-MODIFIED:20250306T181517Z
UID:40675-1741248000-1741249800@www.goiasfomento.com
SUMMARY:Lucas Fernandes: Despachos Internos.
DESCRIPTION:
URL:https://www.goiasfomento.com/agenda/lucas-fernandes-despachos-internos-742/
LOCATION:Gabinete da Presidência da GoiásFomento – Agência de Fomento de Goiás.
CATEGORIES:Diretoria Administrativa e Financeira
END:VEVENT
BEGIN:VEVENT
DTSTART;TZID=America/Sao_Paulo:20250306T080000
DTEND;TZID=America/Sao_Paulo:20250306T120000
DTSTAMP:20260425T111749
CREATED:20250306T180700Z
LAST-MODIFIED:20250306T180700Z
UID:40665-1741248000-1741262400@www.goiasfomento.com
SUMMARY:Fernando Dias: Despachos Internos.
DESCRIPTION:
URL:https://www.goiasfomento.com/agenda/fernando-dias-despachos-internos-87/
LOCATION:Chefia de Gabinete – Agência de Fomento de Goiás
CATEGORIES:Chefia de Gabinete
END:VEVENT
BEGIN:VEVENT
DTSTART;TZID=America/Sao_Paulo:20250306T083000
DTEND;TZID=America/Sao_Paulo:20250306T090000
DTSTAMP:20260425T111749
CREATED:20250306T180909Z
LAST-MODIFIED:20250306T180909Z
UID:40669-1741249800-1741251600@www.goiasfomento.com
SUMMARY:Lucas Fernandes – Diretor Presidente (Interino): Reunião com Kamilla da Silva Vilarinho – Gerente de Cobrança Extrajudicial.
DESCRIPTION:
URL:https://www.goiasfomento.com/agenda/lucas-fernandes-diretor-presidente-interino-reuniao-com-kamilla-da-silva-vilarinho-gerente-de-cobranca-extrajudicial-2/
LOCATION:Gabinete da Presidência da GoiásFomento – Agência de Fomento de Goiás.
CATEGORIES:Presidência
END:VEVENT
BEGIN:VEVENT
DTSTART;TZID=America/Sao_Paulo:20250306T083000
DTEND;TZID=America/Sao_Paulo:20250306T090000
DTSTAMP:20260425T111749
CREATED:20250306T180941Z
LAST-MODIFIED:20250306T181252Z
UID:40671-1741249800-1741251600@www.goiasfomento.com
SUMMARY:Lucas Fernandes: Reunião com Kamilla da Silva Vilarinho – Gerente de Cobrança Extrajudicial.
DESCRIPTION:
URL:https://www.goiasfomento.com/agenda/lucas-fernandes-reuniao-com-kamilla-da-silva-vilarinho-gerente-de-cobranca-extrajudicial-2/
LOCATION:Gabinete da Diretoria Administrativa e Financeira – Agência de Fomento de Goiás.
CATEGORIES:Diretoria Administrativa e Financeira
END:VEVENT
BEGIN:VEVENT
DTSTART;TZID=America/Sao_Paulo:20250306T090000
DTEND;TZID=America/Sao_Paulo:20250306T093000
DTSTAMP:20260425T111749
CREATED:20250306T181727Z
LAST-MODIFIED:20250306T181727Z
UID:40677-1741251600-1741253400@www.goiasfomento.com
SUMMARY:Lucas Fernandes – Diretor Presidente (Interino): Reunião com Luiz Alberto de Sousa Filho - Gerente da Rede Credenciada.
DESCRIPTION:
URL:https://www.goiasfomento.com/agenda/lucas-fernandes-diretor-presidente-interino-reuniao-com-luiz-alberto-de-sousa-filho-gerente-da-rede-credenciada/
LOCATION:Gabinete da Presidência da GoiásFomento – Agência de Fomento de Goiás.
CATEGORIES:Presidência
END:VEVENT
BEGIN:VEVENT
DTSTART;TZID=America/Sao_Paulo:20250306T090000
DTEND;TZID=America/Sao_Paulo:20250306T093000
DTSTAMP:20260425T111749
CREATED:20250306T182044Z
LAST-MODIFIED:20250306T182044Z
UID:40679-1741251600-1741253400@www.goiasfomento.com
SUMMARY:Lucas Fernandes: Reunião com Luiz Alberto de Sousa Filho - Gerente da Rede Credenciada.
DESCRIPTION:
URL:https://www.goiasfomento.com/agenda/lucas-fernandes-reuniao-com-luiz-alberto-de-sousa-filho-gerente-da-rede-credenciada/
LOCATION:Gabinete da Presidência da GoiásFomento – Agência de Fomento de Goiás.
CATEGORIES:Diretoria Administrativa e Financeira
END:VEVENT
BEGIN:VEVENT
DTSTART;TZID=America/Sao_Paulo:20250306T093000
DTEND;TZID=America/Sao_Paulo:20250306T100000
DTSTAMP:20260425T111749
CREATED:20250306T182346Z
LAST-MODIFIED:20250306T182400Z
UID:40681-1741253400-1741255200@www.goiasfomento.com
SUMMARY:Lucas Fernandes – Diretor Presidente (Interino): Reunião com Luiz Carlos dos Santos Sardinha - Gerente de Tecnologia da Informação.
DESCRIPTION:
URL:https://www.goiasfomento.com/agenda/lucas-fernandes-diretor-presidente-interino-reuniao-com-luiz-carlos-dos-santos-sardinha-gerente-de-tecnologia-da-informacao-2/
LOCATION:Gabinete da Presidência da GoiásFomento – Agência de Fomento de Goiás.
CATEGORIES:Presidência
END:VEVENT
BEGIN:VEVENT
DTSTART;TZID=America/Sao_Paulo:20250306T093000
DTEND;TZID=America/Sao_Paulo:20250306T100000
DTSTAMP:20260425T111749
CREATED:20250306T182519Z
LAST-MODIFIED:20250306T182519Z
UID:40684-1741253400-1741255200@www.goiasfomento.com
SUMMARY:Lucas Fernandes: Reunião com Luiz Carlos dos Santos Sardinha - Gerente de Tecnologia da Informação.
DESCRIPTION:
URL:https://www.goiasfomento.com/agenda/lucas-fernandes-reuniao-com-luiz-carlos-dos-santos-sardinha-gerente-de-tecnologia-da-informacao-2/
LOCATION:Gabinete da Presidência da GoiásFomento – Agência de Fomento de Goiás.
CATEGORIES:Diretoria Administrativa e Financeira
END:VEVENT
BEGIN:VEVENT
DTSTART;TZID=America/Sao_Paulo:20250306T100000
DTEND;TZID=America/Sao_Paulo:20250306T103000
DTSTAMP:20260425T111749
CREATED:20250306T182623Z
LAST-MODIFIED:20250306T182802Z
UID:40686-1741255200-1741257000@www.goiasfomento.com
SUMMARY:Lucas Fernandes – Diretor Presidente (Interino): Reunião com Porthos R. de Albuquerque Motta - Assessor de Gerenciamento de Riscos e Escritório de Projetos.
DESCRIPTION:
URL:https://www.goiasfomento.com/agenda/lucas-fernandes-diretor-presidente-interino-reuniao-com-porthos-r-de-albuquerque-motta-gassessor-de-gerenciamento-de-riscos-e-escritorio-de-projetos/
LOCATION:Gabinete da Presidência da GoiásFomento – Agência de Fomento de Goiás.
CATEGORIES:Presidência
END:VEVENT
BEGIN:VEVENT
DTSTART;TZID=America/Sao_Paulo:20250306T100000
DTEND;TZID=America/Sao_Paulo:20250306T103000
DTSTAMP:20260425T111749
CREATED:20250306T182656Z
LAST-MODIFIED:20250306T185840Z
UID:40688-1741255200-1741257000@www.goiasfomento.com
SUMMARY:Lucas Fernandes: Reunião com Porthos R. de Albuquerque Motta - Assessor de Gerenciamento de Riscos e Escritório de Projetos.
DESCRIPTION:
URL:https://www.goiasfomento.com/agenda/lucas-fernandes-reuniao-com-porthos-r-de-albuquerque-motta-gassessor-de-gerenciamento-de-riscos-e-escritorio-de-projetos/
LOCATION:Gabinete da Presidência da GoiásFomento – Agência de Fomento de Goiás.
CATEGORIES:Diretoria Administrativa e Financeira
END:VEVENT
BEGIN:VEVENT
DTSTART;TZID=America/Sao_Paulo:20250306T103000
DTEND;TZID=America/Sao_Paulo:20250306T120000
DTSTAMP:20260425T111749
CREATED:20250306T183127Z
LAST-MODIFIED:20250306T183127Z
UID:40692-1741257000-1741262400@www.goiasfomento.com
SUMMARY:Lucas Fernandes – Diretor Presidente (Interino): Despachos Internos.
DESCRIPTION:
URL:https://www.goiasfomento.com/agenda/lucas-fernandes-diretor-presidente-interino-despachos-internos-300/
LOCATION:Gabinete da Presidência da GoiásFomento – Agência de Fomento de Goiás.
CATEGORIES:Presidência
END:VEVENT
BEGIN:VEVENT
DTSTART;TZID=America/Sao_Paulo:20250306T103000
DTEND;TZID=America/Sao_Paulo:20250306T120000
DTSTAMP:20260425T111749
CREATED:20250306T184527Z
LAST-MODIFIED:20250306T184527Z
UID:40694-1741257000-1741262400@www.goiasfomento.com
SUMMARY:Lucas Fernandes: Despachos Internos.
DESCRIPTION:
URL:https://www.goiasfomento.com/agenda/lucas-fernandes-despachos-internos-743/
LOCATION:Gabinete da Presidência da GoiásFomento – Agência de Fomento de Goiás.
CATEGORIES:Diretoria Administrativa e Financeira
END:VEVENT
BEGIN:VEVENT
DTSTART;TZID=America/Sao_Paulo:20250306T140000
DTEND;TZID=America/Sao_Paulo:20250306T150000
DTSTAMP:20260425T111749
CREATED:20250306T184807Z
LAST-MODIFIED:20250306T185112Z
UID:40696-1741269600-1741273200@www.goiasfomento.com
SUMMARY:Lucas Fernandes – Diretor Presidente (Interino): Reunião com Gálbia do Amor Divino Rosa - Gerente Jurídica e com  Luiz Arthur Medeiros Miguel- Gerente de Licitação e Contratos.
DESCRIPTION:
URL:https://www.goiasfomento.com/agenda/lucas-fernandes-reuniao-com-galbia-do-amor-divino-rosa-gerente-juridica-e-com-luiz-arthur-medeiros-miguel-gerente-de-licitacao-e-contratos/
LOCATION:Gabinete da Presidência da GoiásFomento – Agência de Fomento de Goiás.
CATEGORIES:Presidência
END:VEVENT
BEGIN:VEVENT
DTSTART;TZID=America/Sao_Paulo:20250306T140000
DTEND;TZID=America/Sao_Paulo:20250306T150000
DTSTAMP:20260425T111749
CREATED:20250306T185021Z
LAST-MODIFIED:20250306T185021Z
UID:40698-1741269600-1741273200@www.goiasfomento.com
SUMMARY:Lucas Fernandes: Reunião com Gálbia do Amor Divino Rosa - Gerente Jurídica e com  Luiz Arthur Medeiros Miguel- Gerente de Licitação e Contratos.
DESCRIPTION:
URL:https://www.goiasfomento.com/agenda/lucas-fernandes-reuniao-com-galbia-do-amor-divino-rosa-gerente-juridica-e-com-luiz-arthur-medeiros-miguel-gerente-de-licitacao-e-contratos-2/
LOCATION:Gabinete da Presidência da GoiásFomento – Agência de Fomento de Goiás.
CATEGORIES:Diretoria Administrativa e Financeira
END:VEVENT
BEGIN:VEVENT
DTSTART;TZID=America/Sao_Paulo:20250306T140000
DTEND;TZID=America/Sao_Paulo:20250306T180000
DTSTAMP:20260425T111749
CREATED:20250306T180724Z
LAST-MODIFIED:20250306T180724Z
UID:40667-1741269600-1741284000@www.goiasfomento.com
SUMMARY:Fernando Dias: Despachos Internos.
DESCRIPTION:
URL:https://www.goiasfomento.com/agenda/fernando-dias-despachos-internos-88/
LOCATION:Chefia de Gabinete – Agência de Fomento de Goiás
CATEGORIES:Chefia de Gabinete
END:VEVENT
BEGIN:VEVENT
DTSTART;TZID=America/Sao_Paulo:20250306T150000
DTEND;TZID=America/Sao_Paulo:20250306T180000
DTSTAMP:20260425T111749
CREATED:20250306T185228Z
LAST-MODIFIED:20250306T185228Z
UID:40701-1741273200-1741284000@www.goiasfomento.com
SUMMARY:Lucas Fernandes – Diretor Presidente (Interino): Despachos Internos.
DESCRIPTION:
URL:https://www.goiasfomento.com/agenda/lucas-fernandes-diretor-presidente-interino-despachos-internos-301/
LOCATION:Gabinete da Presidência da GoiásFomento – Agência de Fomento de Goiás.
CATEGORIES:Presidência
END:VEVENT
BEGIN:VEVENT
DTSTART;TZID=America/Sao_Paulo:20250306T150000
DTEND;TZID=America/Sao_Paulo:20250306T180000
DTSTAMP:20260425T111749
CREATED:20250306T185322Z
LAST-MODIFIED:20250306T185322Z
UID:40703-1741273200-1741284000@www.goiasfomento.com
SUMMARY:Lucas Fernandes: Despachos Internos.
DESCRIPTION:
URL:https://www.goiasfomento.com/agenda/lucas-fernandes-despachos-internos-744/
LOCATION:Gabinete da Presidência da GoiásFomento – Agência de Fomento de Goiás.
CATEGORIES:Diretoria Administrativa e Financeira
END:VEVENT
BEGIN:VEVENT
DTSTART;TZID=America/Sao_Paulo:20250307T080000
DTEND;TZID=America/Sao_Paulo:20250307T083000
DTSTAMP:20260425T111749
CREATED:20250307T141113Z
LAST-MODIFIED:20250307T141113Z
UID:40721-1741334400-1741336200@www.goiasfomento.com
SUMMARY:Lucas Fernandes – Diretor Presidente (Interino): Despachos Internos.
DESCRIPTION:
URL:https://www.goiasfomento.com/agenda/lucas-fernandes-diretor-presidente-interino-despachos-internos-302/
LOCATION:Gabinete da Presidência da GoiásFomento – Agência de Fomento de Goiás.
CATEGORIES:Presidência
END:VEVENT
BEGIN:VEVENT
DTSTART;TZID=America/Sao_Paulo:20250307T080000
DTEND;TZID=America/Sao_Paulo:20250307T083000
DTSTAMP:20260425T111749
CREATED:20250307T141140Z
LAST-MODIFIED:20250307T141140Z
UID:40723-1741334400-1741336200@www.goiasfomento.com
SUMMARY:Lucas Fernandes: Despachos Internos.
DESCRIPTION:
URL:https://www.goiasfomento.com/agenda/lucas-fernandes-despachos-internos-745/
LOCATION:Gabinete da Presidência da GoiásFomento – Agência de Fomento de Goiás.
CATEGORIES:Diretoria Administrativa e Financeira
END:VEVENT
BEGIN:VEVENT
DTSTART;TZID=America/Sao_Paulo:20250307T080000
DTEND;TZID=America/Sao_Paulo:20250307T083000
DTSTAMP:20260425T111749
CREATED:20250307T143100Z
LAST-MODIFIED:20250307T143100Z
UID:40737-1741334400-1741336200@www.goiasfomento.com
SUMMARY:Deivison Costa: Início das Atividades como Chefe de Gabinete da GoiásFomento.
DESCRIPTION:
URL:https://www.goiasfomento.com/agenda/deivison-costa-inicio-das-atividades-como-chefe-de-gabinete-da-goiasfomento/
LOCATION:Chefia de Gabinete – Agência de Fomento de Goiás
CATEGORIES:Chefia de Gabinete
END:VEVENT
BEGIN:VEVENT
DTSTART;TZID=America/Sao_Paulo:20250307T080000
DTEND;TZID=America/Sao_Paulo:20250307T120000
DTSTAMP:20260425T111749
CREATED:20250307T195359Z
LAST-MODIFIED:20250307T195359Z
UID:40782-1741334400-1741348800@www.goiasfomento.com
SUMMARY:Rufino Veríssimo: Despachos Internos.
DESCRIPTION:
URL:https://www.goiasfomento.com/agenda/rufino-verissimo-despachos-internos-197/
LOCATION:Gabinete da Diretoria de Operações da GoiásFomento – Agência de Fomento de Goiás.
CATEGORIES:Diretoria de Operações
END:VEVENT
BEGIN:VEVENT
DTSTART;TZID=America/Sao_Paulo:20250307T083000
DTEND;TZID=America/Sao_Paulo:20250307T090000
DTSTAMP:20260425T111749
CREATED:20250307T141312Z
LAST-MODIFIED:20250307T141312Z
UID:40725-1741336200-1741338000@www.goiasfomento.com
SUMMARY:Lucas Fernandes – Diretor Presidente (Interino): Reunião com Darmélia Barbosa - Gerente de Comunicação.
DESCRIPTION:
URL:https://www.goiasfomento.com/agenda/lucas-fernandes-diretor-presidente-interino-reuniao-com-darmelia-barbosa-gerente-de-comunicacao-2/
LOCATION:Gabinete da Presidência da GoiásFomento – Agência de Fomento de Goiás.
CATEGORIES:Presidência
END:VEVENT
BEGIN:VEVENT
DTSTART;TZID=America/Sao_Paulo:20250307T083000
DTEND;TZID=America/Sao_Paulo:20250307T090000
DTSTAMP:20260425T111749
CREATED:20250307T141349Z
LAST-MODIFIED:20250307T141349Z
UID:40727-1741336200-1741338000@www.goiasfomento.com
SUMMARY:Lucas Fernandes: Reunião com Darmélia Barbosa - Gerente de Comunicação.
DESCRIPTION:
URL:https://www.goiasfomento.com/agenda/lucas-fernandes-reuniao-com-darmelia-barbosa-gerente-de-comunicacao-2/
LOCATION:Gabinete da Presidência da GoiásFomento – Agência de Fomento de Goiás.
CATEGORIES:Diretoria Administrativa e Financeira
END:VEVENT
BEGIN:VEVENT
DTSTART;TZID=America/Sao_Paulo:20250307T083000
DTEND;TZID=America/Sao_Paulo:20250307T090000
DTSTAMP:20260425T111749
CREATED:20250307T143235Z
LAST-MODIFIED:20250307T143235Z
UID:40739-1741336200-1741338000@www.goiasfomento.com
SUMMARY:Deivison Costa: Despachos Internos.
DESCRIPTION:
URL:https://www.goiasfomento.com/agenda/deivison-costa-despachos-internos/
LOCATION:Chefia de Gabinete – Agência de Fomento de Goiás
CATEGORIES:Chefia de Gabinete
END:VEVENT
BEGIN:VEVENT
DTSTART;TZID=America/Sao_Paulo:20250307T090000
DTEND;TZID=America/Sao_Paulo:20250307T093000
DTSTAMP:20260425T111749
CREATED:20250307T143400Z
LAST-MODIFIED:20250307T143400Z
UID:40741-1741338000-1741339800@www.goiasfomento.com
SUMMARY:Deivison Costa: Reunião com Darmélia Barbosa – Gerente de Comunicação.
DESCRIPTION:
URL:https://www.goiasfomento.com/agenda/deivison-costa-reuniao-com-darmelia-barbosa-gerente-de-comunicacao/
LOCATION:Chefia de Gabinete – Agência de Fomento de Goiás
CATEGORIES:Chefia de Gabinete
END:VEVENT
BEGIN:VEVENT
DTSTART;TZID=America/Sao_Paulo:20250307T090000
DTEND;TZID=America/Sao_Paulo:20250307T100000
DTSTAMP:20260425T111749
CREATED:20250307T141447Z
LAST-MODIFIED:20250307T141447Z
UID:40729-1741338000-1741341600@www.goiasfomento.com
SUMMARY:Lucas Fernandes – Diretor Presidente (Interino): Reunião com Gibran Carvalho Abrão - Gerente de Serviços Gerais e Patrimônio.
DESCRIPTION:
URL:https://www.goiasfomento.com/agenda/lucas-fernandes-diretor-presidente-interino-reuniao-com-gibran-carvalho-abrao-gerente-de-servicos-gerais-e-patrimonio/
LOCATION:Gabinete da Presidência da GoiásFomento – Agência de Fomento de Goiás.
CATEGORIES:Presidência
END:VEVENT
BEGIN:VEVENT
DTSTART;TZID=America/Sao_Paulo:20250307T090000
DTEND;TZID=America/Sao_Paulo:20250307T100000
DTSTAMP:20260425T111749
CREATED:20250307T141523Z
LAST-MODIFIED:20250307T141523Z
UID:40731-1741338000-1741341600@www.goiasfomento.com
SUMMARY:Lucas Fernandes: Reunião com Gibran Carvalho Abrão - Gerente de Serviços Gerais e Patrimônio.
DESCRIPTION:
URL:https://www.goiasfomento.com/agenda/lucas-fernandes-reuniao-com-gibran-carvalho-abrao-gerente-de-servicos-gerais-e-patrimonio/
LOCATION:Gabinete da Presidência da GoiásFomento – Agência de Fomento de Goiás.
CATEGORIES:Diretoria Administrativa e Financeira
END:VEVENT
BEGIN:VEVENT
DTSTART;TZID=America/Sao_Paulo:20250307T093000
DTEND;TZID=America/Sao_Paulo:20250307T100000
DTSTAMP:20260425T111749
CREATED:20250307T144408Z
LAST-MODIFIED:20250307T144408Z
UID:40750-1741339800-1741341600@www.goiasfomento.com
SUMMARY:Deivison Costa: Despachos Internos.
DESCRIPTION:
URL:https://www.goiasfomento.com/agenda/deivison-costa-despachos-internos-2/
LOCATION:Chefia de Gabinete – Agência de Fomento de Goiás
CATEGORIES:Chefia de Gabinete
END:VEVENT
END:VCALENDAR