BEGIN:VCALENDAR
VERSION:2.0
PRODID:-//GoiásFomento - Agência de Fomento - ECPv6.15.20//NONSGML v1.0//EN
CALSCALE:GREGORIAN
METHOD:PUBLISH
X-WR-CALNAME:GoiásFomento - Agência de Fomento
X-ORIGINAL-URL:https://www.goiasfomento.com
X-WR-CALDESC:Eventos para GoiásFomento - Agência de Fomento
REFRESH-INTERVAL;VALUE=DURATION:PT1H
X-Robots-Tag:noindex
X-PUBLISHED-TTL:PT1H
BEGIN:VTIMEZONE
TZID:America/Sao_Paulo
BEGIN:STANDARD
TZOFFSETFROM:-0300
TZOFFSETTO:-0300
TZNAME:-03
DTSTART:20240101T000000
END:STANDARD
END:VTIMEZONE
BEGIN:VEVENT
DTSTART;TZID=America/Sao_Paulo:20250305T080000
DTEND;TZID=America/Sao_Paulo:20250305T140000
DTSTAMP:20260425T111744
CREATED:20250217T193247Z
LAST-MODIFIED:20250217T193247Z
UID:40218-1741161600-1741183200@www.goiasfomento.com
SUMMARY:Rufino Veríssimo: Ponto Facultativo\, segundo Decreto Estadual nº 10.644 de 7 de fevereiro de 2025.
DESCRIPTION:
URL:https://www.goiasfomento.com/agenda/rufino-verissimo-ponto-facultativo-segundo-decreto-estadual-no-10-644-de-7-de-fevereiro-de-2025/
LOCATION:Gabinete da Diretoria de Operações da GoiásFomento – Agência de Fomento de Goiás.
CATEGORIES:Diretoria de Operações
END:VEVENT
BEGIN:VEVENT
DTSTART;TZID=America/Sao_Paulo:20250305T080000
DTEND;TZID=America/Sao_Paulo:20250305T140000
DTSTAMP:20260425T111744
CREATED:20250217T194123Z
LAST-MODIFIED:20250217T194123Z
UID:40222-1741161600-1741183200@www.goiasfomento.com
SUMMARY:Lucas Fernandes – Diretor Presidente (Interino): Ponto Facultativo\, segundo Decreto Estadual nº 10.644 de 7 de fevereiro de 2025.
DESCRIPTION:
URL:https://www.goiasfomento.com/agenda/lucas-fernandes-diretor-presidente-interino-ponto-facultativo-segundo-decreto-estadual-no-10-644-de-7-de-fevereiro-de-2025-2/
LOCATION:Gabinete da Presidência da GoiásFomento – Agência de Fomento de Goiás.
CATEGORIES:Presidência
END:VEVENT
BEGIN:VEVENT
DTSTART;TZID=America/Sao_Paulo:20250305T080000
DTEND;TZID=America/Sao_Paulo:20250305T140000
DTSTAMP:20260425T111744
CREATED:20250217T194224Z
LAST-MODIFIED:20250217T194224Z
UID:40226-1741161600-1741183200@www.goiasfomento.com
SUMMARY:Lucas Fernandes: Ponto Facultativo\, segundo Decreto Estadual nº 10.644 de 7 de fevereiro de 2025.
DESCRIPTION:
URL:https://www.goiasfomento.com/agenda/lucas-fernandes-ponto-facultativo-segundo-decreto-estadual-no-10-644-de-7-de-fevereiro-de-2025-2/
LOCATION:Gabinete da Diretoria Administrativa e Financeira – Agência de Fomento de Goiás.
CATEGORIES:Diretoria Administrativa e Financeira
END:VEVENT
BEGIN:VEVENT
DTSTART;TZID=America/Sao_Paulo:20250305T080000
DTEND;TZID=America/Sao_Paulo:20250305T140000
DTSTAMP:20260425T111744
CREATED:20250217T194456Z
LAST-MODIFIED:20250217T194456Z
UID:40231-1741161600-1741183200@www.goiasfomento.com
SUMMARY:Fernando Dias: Ponto Facultativo\, segundo Decreto Estadual nº 10.644 de 7 de fevereiro de 2025.
DESCRIPTION:
URL:https://www.goiasfomento.com/agenda/fernando-dias-ponto-facultativo-segundo-decreto-estadual-no-10-644-de-7-de-fevereiro-de-2025-2/
LOCATION:Chefia de Gabinete – Agência de Fomento de Goiás
CATEGORIES:Chefia de Gabinete
END:VEVENT
BEGIN:VEVENT
DTSTART;TZID=America/Sao_Paulo:20250305T080000
DTEND;TZID=America/Sao_Paulo:20250305T170000
DTSTAMP:20260425T111744
CREATED:20250305T192624Z
LAST-MODIFIED:20250305T192624Z
UID:40634-1741161600-1741194000@www.goiasfomento.com
SUMMARY:Lucas Fernandes: Reunião da Direx\, Rafael Soffa Rézio – Gerente de Programas e Políticas Sociais e Empresa Inttegra - online.
DESCRIPTION:
URL:https://www.goiasfomento.com/agenda/lucas-fernandes-reuniao-da-direx-rafael-soffa-rezio-gerente-de-programas-e-politicas-sociais-e-empresa-inttegra-online/
END:VEVENT
BEGIN:VEVENT
DTSTART;TZID=America/Sao_Paulo:20250305T140000
DTEND;TZID=America/Sao_Paulo:20250305T143000
DTSTAMP:20260425T111744
CREATED:20250305T184615Z
LAST-MODIFIED:20250305T184615Z
UID:40619-1741183200-1741185000@www.goiasfomento.com
SUMMARY:Lucas Fernandes – Diretor Presidente (Interino): Reunião com Rafael Soffa Rézio – Gerente de Programas e Políticas Sociais.
DESCRIPTION:
URL:https://www.goiasfomento.com/agenda/lucas-fernandes-diretor-presidente-interino-reuniao-com-rafael-soffa-rezio-gerente-de-programas-e-politicas-sociais/
LOCATION:Gabinete da Presidência da GoiásFomento – Agência de Fomento de Goiás.
CATEGORIES:Presidência
END:VEVENT
BEGIN:VEVENT
DTSTART;TZID=America/Sao_Paulo:20250305T140000
DTEND;TZID=America/Sao_Paulo:20250305T143000
DTSTAMP:20260425T111744
CREATED:20250305T184656Z
LAST-MODIFIED:20250305T184712Z
UID:40621-1741183200-1741185000@www.goiasfomento.com
SUMMARY:Lucas Fernandes: Reunião com Rafael Soffa Rézio – Gerente de Programas e Políticas Sociais.
DESCRIPTION:
URL:https://www.goiasfomento.com/agenda/lucas-fernandes-reuniao-com-rafael-soffa-rezio-gerente-de-programas-e-politicas-sociais/
LOCATION:Gabinete da Presidência da GoiásFomento – Agência de Fomento de Goiás.
CATEGORIES:Diretoria Administrativa e Financeira
END:VEVENT
BEGIN:VEVENT
DTSTART;TZID=America/Sao_Paulo:20250305T140000
DTEND;TZID=America/Sao_Paulo:20250305T143000
DTSTAMP:20260425T111744
CREATED:20250305T195043Z
LAST-MODIFIED:20250305T195043Z
UID:40653-1741183200-1741185000@www.goiasfomento.com
SUMMARY:Rufino Veríssimo: Reunião com os Gerentes da Diretoria de Operações.
DESCRIPTION:
URL:https://www.goiasfomento.com/agenda/rufino-verissimo-reuniao-com-os-gerentes-da-diretoria-de-operacoes-7/
LOCATION:Gabinete da Diretoria de Operações da GoiásFomento – Agência de Fomento de Goiás.
CATEGORIES:Diretoria de Operações
END:VEVENT
BEGIN:VEVENT
DTSTART;TZID=America/Sao_Paulo:20250305T140000
DTEND;TZID=America/Sao_Paulo:20250305T180000
DTSTAMP:20260425T111744
CREATED:20250305T194916Z
LAST-MODIFIED:20250305T194934Z
UID:40651-1741183200-1741197600@www.goiasfomento.com
SUMMARY:Fernando Dias: Despachos Internos.
DESCRIPTION:
URL:https://www.goiasfomento.com/agenda/fernando-dias-despachos-internos-86/
LOCATION:Chefia de Gabinete – Agência de Fomento de Goiás
CATEGORIES:Chefia de Gabinete
END:VEVENT
BEGIN:VEVENT
DTSTART;TZID=America/Sao_Paulo:20250305T143000
DTEND;TZID=America/Sao_Paulo:20250305T150000
DTSTAMP:20260425T111744
CREATED:20250305T184814Z
LAST-MODIFIED:20250305T184814Z
UID:40623-1741185000-1741186800@www.goiasfomento.com
SUMMARY:Lucas Fernandes – Diretor Presidente (Interino): Reunião da Diretoria Executiva da Agência de Fomento de Goiás.
DESCRIPTION:
URL:https://www.goiasfomento.com/agenda/lucas-fernandes-diretor-presidente-interino-reuniao-da-diretoria-executiva-da-agencia-de-fomento-de-goias-13/
LOCATION:Gabinete da Presidência da GoiásFomento – Agência de Fomento de Goiás.
CATEGORIES:Presidência
END:VEVENT
BEGIN:VEVENT
DTSTART;TZID=America/Sao_Paulo:20250305T143000
DTEND;TZID=America/Sao_Paulo:20250305T150000
DTSTAMP:20260425T111744
CREATED:20250305T191417Z
LAST-MODIFIED:20250305T191417Z
UID:40625-1741185000-1741186800@www.goiasfomento.com
SUMMARY:Lucas Fernandes: Reunião da Diretoria Executiva da Agência de Fomento de Goiás.
DESCRIPTION:
URL:https://www.goiasfomento.com/agenda/lucas-fernandes-reuniao-da-diretoria-executiva-da-agencia-de-fomento-de-goias-13/
LOCATION:Gabinete da Presidência da GoiásFomento – Agência de Fomento de Goiás.
CATEGORIES:Diretoria Administrativa e Financeira
END:VEVENT
BEGIN:VEVENT
DTSTART;TZID=America/Sao_Paulo:20250305T143000
DTEND;TZID=America/Sao_Paulo:20250305T150000
DTSTAMP:20260425T111744
CREATED:20250305T194115Z
LAST-MODIFIED:20250305T194115Z
UID:40642-1741185000-1741186800@www.goiasfomento.com
SUMMARY:Rufino Veríssimo: Reunião da Diretoria Executiva da Agência de Fomento de Goiás.
DESCRIPTION:
URL:https://www.goiasfomento.com/agenda/rufino-verissimo-reuniao-da-diretoria-executiva-da-agencia-de-fomento-de-goias-7/
LOCATION:Gabinete da Presidência da GoiásFomento – Agência de Fomento de Goiás.
CATEGORIES:Diretoria de Operações
END:VEVENT
BEGIN:VEVENT
DTSTART;TZID=America/Sao_Paulo:20250305T150000
DTEND;TZID=America/Sao_Paulo:20250305T153000
DTSTAMP:20260425T111744
CREATED:20250305T192421Z
LAST-MODIFIED:20250305T192421Z
UID:40631-1741186800-1741188600@www.goiasfomento.com
SUMMARY:Lucas Fernandes – Diretor Presidente (Interino): Reunião da Direx\, Rafael Soffa Rézio – Gerente de Programas e Políticas Sociais e Empresa Inttegra - online.
DESCRIPTION:
URL:https://www.goiasfomento.com/agenda/lucas-fernandes-diretor-presidente-interino-reuniao-da-direx-rafael-soffa-rezio-gerente-de-programas-e-politicas-sociais-e-empresa-inttegra-online/
LOCATION:Gabinete da Presidência da GoiásFomento – Agência de Fomento de Goiás.
CATEGORIES:Presidência
END:VEVENT
BEGIN:VEVENT
DTSTART;TZID=America/Sao_Paulo:20250305T150000
DTEND;TZID=America/Sao_Paulo:20250305T153000
DTSTAMP:20260425T111744
CREATED:20250305T192750Z
LAST-MODIFIED:20250305T194729Z
UID:40636-1741186800-1741188600@www.goiasfomento.com
SUMMARY:Lucas Fernandes: Reunião da Direx\, Rafael Soffa Rézio – Gerente de Programas e Políticas Sociais e Empresa Inttegra - online.
DESCRIPTION:
URL:https://www.goiasfomento.com/agenda/lucas-fernandes-reuniao-da-direx-rafael-soffa-rezio-gerente-de-programas-e-politicas-sociais-e-empresa-inttegra-online-2/
LOCATION:Gabinete da Presidência da GoiásFomento – Agência de Fomento de Goiás.
CATEGORIES:Diretoria Administrativa e Financeira
END:VEVENT
BEGIN:VEVENT
DTSTART;TZID=America/Sao_Paulo:20250305T150000
DTEND;TZID=America/Sao_Paulo:20250305T153000
DTSTAMP:20260425T111744
CREATED:20250305T193450Z
LAST-MODIFIED:20250305T193450Z
UID:40638-1741186800-1741188600@www.goiasfomento.com
SUMMARY:Rufino Veríssimo: Reunião da Direx\, Rafael Soffa Rézio – Gerente de Programas e Políticas Sociais e Empresa Inttegra - online.
DESCRIPTION:
URL:https://www.goiasfomento.com/agenda/rufino-verissimo-reuniao-da-direx-rafael-soffa-rezio-gerente-de-programas-e-politicas-sociais-e-empresa-inttegra-online/
LOCATION:Gabinete da Presidência da GoiásFomento – Agência de Fomento de Goiás.
CATEGORIES:Diretoria de Operações
END:VEVENT
BEGIN:VEVENT
DTSTART;TZID=America/Sao_Paulo:20250305T153000
DTEND;TZID=America/Sao_Paulo:20250305T160000
DTSTAMP:20260425T111744
CREATED:20250305T191828Z
LAST-MODIFIED:20250305T191828Z
UID:40627-1741188600-1741190400@www.goiasfomento.com
SUMMARY:Lucas Fernandes – Diretor Presidente (Interino): Reunião da Direx com Rafael Soffa Rézio – Gerente de Programas e Políticas Sociais.
DESCRIPTION:
URL:https://www.goiasfomento.com/agenda/lucas-fernandes-diretor-presidente-interino-reuniao-da-direx-com-rafael-soffa-rezio-gerente-de-programas-e-politicas-sociais-6/
LOCATION:Gabinete da Presidência da GoiásFomento – Agência de Fomento de Goiás.
CATEGORIES:Presidência
END:VEVENT
BEGIN:VEVENT
DTSTART;TZID=America/Sao_Paulo:20250305T153000
DTEND;TZID=America/Sao_Paulo:20250305T160000
DTSTAMP:20260425T111744
CREATED:20250305T191903Z
LAST-MODIFIED:20250305T191903Z
UID:40629-1741188600-1741190400@www.goiasfomento.com
SUMMARY:Lucas Fernandes: Reunião da Direx com Rafael Soffa Rézio – Gerente de Programas e Políticas Sociais.
DESCRIPTION:
URL:https://www.goiasfomento.com/agenda/lucas-fernandes-reuniao-da-direx-com-rafael-soffa-rezio-gerente-de-programas-e-politicas-sociais-5/
LOCATION:Gabinete da Presidência da GoiásFomento – Agência de Fomento de Goiás.
CATEGORIES:Diretoria Administrativa e Financeira
END:VEVENT
BEGIN:VEVENT
DTSTART;TZID=America/Sao_Paulo:20250305T153000
DTEND;TZID=America/Sao_Paulo:20250305T160000
DTSTAMP:20260425T111744
CREATED:20250305T193923Z
LAST-MODIFIED:20250305T193923Z
UID:40640-1741188600-1741190400@www.goiasfomento.com
SUMMARY:Rufino Veríssimo:  Reunião da Direx com Rafael Soffa Rézio – Gerente de Programas e Políticas Sociais.
DESCRIPTION:
URL:https://www.goiasfomento.com/agenda/rufino-verissimo-reuniao-da-direx-com-rafael-soffa-rezio-gerente-de-programas-e-politicas-sociais-9/
LOCATION:Gabinete da Presidência da GoiásFomento – Agência de Fomento de Goiás.
CATEGORIES:Diretoria de Operações
END:VEVENT
BEGIN:VEVENT
DTSTART;TZID=America/Sao_Paulo:20250305T160000
DTEND;TZID=America/Sao_Paulo:20250305T170000
DTSTAMP:20260425T111744
CREATED:20250305T195131Z
LAST-MODIFIED:20250305T195131Z
UID:40655-1741190400-1741194000@www.goiasfomento.com
SUMMARY:Rufino Veríssimo: Reunião com os Gerentes da Diretoria de Operações.
DESCRIPTION:
URL:https://www.goiasfomento.com/agenda/rufino-verissimo-reuniao-com-os-gerentes-da-diretoria-de-operacoes-8/
LOCATION:Gabinete da Presidência da GoiásFomento – Agência de Fomento de Goiás.
CATEGORIES:Diretoria de Operações
END:VEVENT
BEGIN:VEVENT
DTSTART;TZID=America/Sao_Paulo:20250305T160000
DTEND;TZID=America/Sao_Paulo:20250305T180000
DTSTAMP:20260425T111744
CREATED:20250305T194519Z
LAST-MODIFIED:20250305T194519Z
UID:40647-1741190400-1741197600@www.goiasfomento.com
SUMMARY:Lucas Fernandes – Diretor Presidente (Interino): Despachos Internos.
DESCRIPTION:
URL:https://www.goiasfomento.com/agenda/lucas-fernandes-diretor-presidente-interino-despachos-internos-299/
LOCATION:Gabinete da Presidência da GoiásFomento – Agência de Fomento de Goiás.
CATEGORIES:Presidência
END:VEVENT
BEGIN:VEVENT
DTSTART;TZID=America/Sao_Paulo:20250305T160000
DTEND;TZID=America/Sao_Paulo:20250305T180000
DTSTAMP:20260425T111744
CREATED:20250305T194549Z
LAST-MODIFIED:20250305T194549Z
UID:40649-1741190400-1741197600@www.goiasfomento.com
SUMMARY:Lucas Fernandes: Despachos Internos.
DESCRIPTION:
URL:https://www.goiasfomento.com/agenda/lucas-fernandes-despachos-internos-741/
LOCATION:Gabinete da Presidência da GoiásFomento – Agência de Fomento de Goiás.
CATEGORIES:Diretoria Administrativa e Financeira
END:VEVENT
BEGIN:VEVENT
DTSTART;TZID=America/Sao_Paulo:20250305T170000
DTEND;TZID=America/Sao_Paulo:20250305T180000
DTSTAMP:20260425T111744
CREATED:20250305T195238Z
LAST-MODIFIED:20250305T195238Z
UID:40657-1741194000-1741197600@www.goiasfomento.com
SUMMARY:Rufino Veríssimo: Despachos Internos.
DESCRIPTION:
URL:https://www.goiasfomento.com/agenda/rufino-verissimo-despachos-internos-195/
LOCATION:Gabinete da Diretoria de Operações da GoiásFomento – Agência de Fomento de Goiás.
CATEGORIES:Diretoria de Operações
END:VEVENT
BEGIN:VEVENT
DTSTART;VALUE=DATE:20250306
DTEND;VALUE=DATE:20250307
DTSTAMP:20260425T111744
CREATED:20250306T190731Z
LAST-MODIFIED:20250306T190731Z
UID:40706-1741219200-1741305599@www.goiasfomento.com
SUMMARY:Rufino Veríssimo: Reunião com Paulinho do Barreirão - Prefeito de Anicuns-GO e com Junior - Prefeito de São Luís de Montes Belos-GO.
DESCRIPTION:
URL:https://www.goiasfomento.com/agenda/rufino-verissimo-reuniao-com-paulinho-do-barreirao-prefeito-de-anicuns-go-e-com-junior-prefeito-de-sao-luis-de-montes-belos-go/
LOCATION:Anicuns-GO\, ANICUNS\, GO
CATEGORIES:Diretoria de Operações
END:VEVENT
BEGIN:VEVENT
DTSTART;TZID=America/Sao_Paulo:20250306T080000
DTEND;TZID=America/Sao_Paulo:20250306T083000
DTSTAMP:20260425T111744
CREATED:20250306T181345Z
LAST-MODIFIED:20250306T181345Z
UID:40673-1741248000-1741249800@www.goiasfomento.com
SUMMARY:Lucas Fernandes – Diretor Presidente (Interino): Despachos Internos.
DESCRIPTION:
URL:https://www.goiasfomento.com/agenda/lucas-fernandes-diretor-presidente-interino-despachos-internos-298/
LOCATION:Gabinete da Presidência da GoiásFomento – Agência de Fomento de Goiás.
CATEGORIES:Presidência
END:VEVENT
BEGIN:VEVENT
DTSTART;TZID=America/Sao_Paulo:20250306T080000
DTEND;TZID=America/Sao_Paulo:20250306T083000
DTSTAMP:20260425T111744
CREATED:20250306T181517Z
LAST-MODIFIED:20250306T181517Z
UID:40675-1741248000-1741249800@www.goiasfomento.com
SUMMARY:Lucas Fernandes: Despachos Internos.
DESCRIPTION:
URL:https://www.goiasfomento.com/agenda/lucas-fernandes-despachos-internos-742/
LOCATION:Gabinete da Presidência da GoiásFomento – Agência de Fomento de Goiás.
CATEGORIES:Diretoria Administrativa e Financeira
END:VEVENT
BEGIN:VEVENT
DTSTART;TZID=America/Sao_Paulo:20250306T080000
DTEND;TZID=America/Sao_Paulo:20250306T120000
DTSTAMP:20260425T111744
CREATED:20250306T180700Z
LAST-MODIFIED:20250306T180700Z
UID:40665-1741248000-1741262400@www.goiasfomento.com
SUMMARY:Fernando Dias: Despachos Internos.
DESCRIPTION:
URL:https://www.goiasfomento.com/agenda/fernando-dias-despachos-internos-87/
LOCATION:Chefia de Gabinete – Agência de Fomento de Goiás
CATEGORIES:Chefia de Gabinete
END:VEVENT
BEGIN:VEVENT
DTSTART;TZID=America/Sao_Paulo:20250306T083000
DTEND;TZID=America/Sao_Paulo:20250306T090000
DTSTAMP:20260425T111744
CREATED:20250306T180909Z
LAST-MODIFIED:20250306T180909Z
UID:40669-1741249800-1741251600@www.goiasfomento.com
SUMMARY:Lucas Fernandes – Diretor Presidente (Interino): Reunião com Kamilla da Silva Vilarinho – Gerente de Cobrança Extrajudicial.
DESCRIPTION:
URL:https://www.goiasfomento.com/agenda/lucas-fernandes-diretor-presidente-interino-reuniao-com-kamilla-da-silva-vilarinho-gerente-de-cobranca-extrajudicial-2/
LOCATION:Gabinete da Presidência da GoiásFomento – Agência de Fomento de Goiás.
CATEGORIES:Presidência
END:VEVENT
BEGIN:VEVENT
DTSTART;TZID=America/Sao_Paulo:20250306T083000
DTEND;TZID=America/Sao_Paulo:20250306T090000
DTSTAMP:20260425T111744
CREATED:20250306T180941Z
LAST-MODIFIED:20250306T181252Z
UID:40671-1741249800-1741251600@www.goiasfomento.com
SUMMARY:Lucas Fernandes: Reunião com Kamilla da Silva Vilarinho – Gerente de Cobrança Extrajudicial.
DESCRIPTION:
URL:https://www.goiasfomento.com/agenda/lucas-fernandes-reuniao-com-kamilla-da-silva-vilarinho-gerente-de-cobranca-extrajudicial-2/
LOCATION:Gabinete da Diretoria Administrativa e Financeira – Agência de Fomento de Goiás.
CATEGORIES:Diretoria Administrativa e Financeira
END:VEVENT
BEGIN:VEVENT
DTSTART;TZID=America/Sao_Paulo:20250306T090000
DTEND;TZID=America/Sao_Paulo:20250306T093000
DTSTAMP:20260425T111744
CREATED:20250306T181727Z
LAST-MODIFIED:20250306T181727Z
UID:40677-1741251600-1741253400@www.goiasfomento.com
SUMMARY:Lucas Fernandes – Diretor Presidente (Interino): Reunião com Luiz Alberto de Sousa Filho - Gerente da Rede Credenciada.
DESCRIPTION:
URL:https://www.goiasfomento.com/agenda/lucas-fernandes-diretor-presidente-interino-reuniao-com-luiz-alberto-de-sousa-filho-gerente-da-rede-credenciada/
LOCATION:Gabinete da Presidência da GoiásFomento – Agência de Fomento de Goiás.
CATEGORIES:Presidência
END:VEVENT
BEGIN:VEVENT
DTSTART;TZID=America/Sao_Paulo:20250306T090000
DTEND;TZID=America/Sao_Paulo:20250306T093000
DTSTAMP:20260425T111744
CREATED:20250306T182044Z
LAST-MODIFIED:20250306T182044Z
UID:40679-1741251600-1741253400@www.goiasfomento.com
SUMMARY:Lucas Fernandes: Reunião com Luiz Alberto de Sousa Filho - Gerente da Rede Credenciada.
DESCRIPTION:
URL:https://www.goiasfomento.com/agenda/lucas-fernandes-reuniao-com-luiz-alberto-de-sousa-filho-gerente-da-rede-credenciada/
LOCATION:Gabinete da Presidência da GoiásFomento – Agência de Fomento de Goiás.
CATEGORIES:Diretoria Administrativa e Financeira
END:VEVENT
END:VCALENDAR