BEGIN:VCALENDAR
VERSION:2.0
PRODID:-//GoiásFomento - Agência de Fomento - ECPv6.15.20//NONSGML v1.0//EN
CALSCALE:GREGORIAN
METHOD:PUBLISH
X-WR-CALNAME:GoiásFomento - Agência de Fomento
X-ORIGINAL-URL:https://www.goiasfomento.com
X-WR-CALDESC:Eventos para GoiásFomento - Agência de Fomento
REFRESH-INTERVAL;VALUE=DURATION:PT1H
X-Robots-Tag:noindex
X-PUBLISHED-TTL:PT1H
BEGIN:VTIMEZONE
TZID:America/Sao_Paulo
BEGIN:STANDARD
TZOFFSETFROM:-0300
TZOFFSETTO:-0300
TZNAME:-03
DTSTART:20240101T000000
END:STANDARD
END:VTIMEZONE
BEGIN:VEVENT
DTSTART;TZID=America/Sao_Paulo:20250221T080000
DTEND;TZID=America/Sao_Paulo:20250221T100000
DTSTAMP:20260425T094504
CREATED:20250221T151344Z
LAST-MODIFIED:20250221T151509Z
UID:40368-1740124800-1740132000@www.goiasfomento.com
SUMMARY:Lucas Fernandes – Diretor Presidente (Interino): Despachos Internos.
DESCRIPTION:
URL:https://www.goiasfomento.com/agenda/lucas-fernandes-diretor-presidente-interino-despachos-internos-284/
LOCATION:Gabinete da Presidência.
CATEGORIES:Presidência
END:VEVENT
BEGIN:VEVENT
DTSTART;TZID=America/Sao_Paulo:20250221T080000
DTEND;TZID=America/Sao_Paulo:20250221T100000
DTSTAMP:20260425T094504
CREATED:20250221T151559Z
LAST-MODIFIED:20250221T151559Z
UID:40370-1740124800-1740132000@www.goiasfomento.com
SUMMARY:Lucas Fernandes – Despachos Internos.
DESCRIPTION:
URL:https://www.goiasfomento.com/agenda/lucas-fernandes-despachos-internos-726/
LOCATION:Gabinete da Presidência.
CATEGORIES:Diretoria Administrativa e Financeira
END:VEVENT
BEGIN:VEVENT
DTSTART;TZID=America/Sao_Paulo:20250221T080000
DTEND;TZID=America/Sao_Paulo:20250221T120000
DTSTAMP:20260425T094504
CREATED:20250221T173734Z
LAST-MODIFIED:20250221T173734Z
UID:40402-1740124800-1740139200@www.goiasfomento.com
SUMMARY:Rufino Veríssimo: Despachos Internos.
DESCRIPTION:
URL:https://www.goiasfomento.com/agenda/rufino-verissimo-despachos-internos-179/
LOCATION:Gabinete da Diretoria de Operações da GoiásFomento – Agência de Fomento de Goiás.
CATEGORIES:Diretoria de Operações
END:VEVENT
BEGIN:VEVENT
DTSTART;TZID=America/Sao_Paulo:20250221T080000
DTEND;TZID=America/Sao_Paulo:20250221T120000
DTSTAMP:20260425T094504
CREATED:20250221T174033Z
LAST-MODIFIED:20250221T174033Z
UID:40410-1740124800-1740139200@www.goiasfomento.com
SUMMARY:Fernando Dias: Despachos Internos.
DESCRIPTION:
URL:https://www.goiasfomento.com/agenda/fernando-dias-despachos-internos-74/
LOCATION:Chefia de Gabinete – Agência de Fomento de Goiás
CATEGORIES:Chefia de Gabinete
END:VEVENT
BEGIN:VEVENT
DTSTART;TZID=America/Sao_Paulo:20250221T100000
DTEND;TZID=America/Sao_Paulo:20250221T110000
DTSTAMP:20260425T094504
CREATED:20250221T152040Z
LAST-MODIFIED:20250221T152040Z
UID:40372-1740132000-1740135600@www.goiasfomento.com
SUMMARY:Lucas Fernandes – Diretor Presidente (Interino): Reunião com Serginho da Granja - Vice-Prefeito Por Bela Vista de Goiás.
DESCRIPTION:
URL:https://www.goiasfomento.com/agenda/lucas-fernandes-diretor-presidente-interino-reuniao-com-serginho-da-granja-vice-prefeito-por-bela-vista-de-goias/
LOCATION:Gabinete da Presidência.
CATEGORIES:Presidência
END:VEVENT
BEGIN:VEVENT
DTSTART;TZID=America/Sao_Paulo:20250221T100000
DTEND;TZID=America/Sao_Paulo:20250221T110000
DTSTAMP:20260425T094504
CREATED:20250221T152138Z
LAST-MODIFIED:20250221T152138Z
UID:40374-1740132000-1740135600@www.goiasfomento.com
SUMMARY:Lucas Fernandes – Reunião com Serginho da Granja - Vice-Prefeito Por Bela Vista de Goiás.
DESCRIPTION:
URL:https://www.goiasfomento.com/agenda/lucas-fernandes-reuniao-com-serginho-da-granja-vice-prefeito-por-bela-vista-de-goias/
LOCATION:Gabinete da Presidência.
CATEGORIES:Diretoria Administrativa e Financeira
END:VEVENT
BEGIN:VEVENT
DTSTART;TZID=America/Sao_Paulo:20250221T110000
DTEND;TZID=America/Sao_Paulo:20250221T120000
DTSTAMP:20260425T094504
CREATED:20250221T152314Z
LAST-MODIFIED:20250221T152314Z
UID:40376-1740135600-1740139200@www.goiasfomento.com
SUMMARY:Lucas Fernandes – Diretor Presidente (Interino): Despachos Internos.
DESCRIPTION:
URL:https://www.goiasfomento.com/agenda/lucas-fernandes-diretor-presidente-interino-despachos-internos-285/
LOCATION:Gabinete da Presidência.
CATEGORIES:Presidência
END:VEVENT
BEGIN:VEVENT
DTSTART;TZID=America/Sao_Paulo:20250221T110000
DTEND;TZID=America/Sao_Paulo:20250221T120000
DTSTAMP:20260425T094504
CREATED:20250221T152400Z
LAST-MODIFIED:20250221T152400Z
UID:40378-1740135600-1740139200@www.goiasfomento.com
SUMMARY:Lucas Fernandes – Despachos Internos.
DESCRIPTION:
URL:https://www.goiasfomento.com/agenda/lucas-fernandes-despachos-internos-727/
LOCATION:Gabinete da Presidência.
CATEGORIES:Diretoria Administrativa e Financeira
END:VEVENT
BEGIN:VEVENT
DTSTART;TZID=America/Sao_Paulo:20250221T140000
DTEND;TZID=America/Sao_Paulo:20250221T143000
DTSTAMP:20260425T094504
CREATED:20250221T173800Z
LAST-MODIFIED:20250221T173800Z
UID:40404-1740146400-1740148200@www.goiasfomento.com
SUMMARY:Rufino Veríssimo: Despachos Internos.
DESCRIPTION:
URL:https://www.goiasfomento.com/agenda/rufino-verissimo-despachos-internos-180/
LOCATION:Gabinete da Diretoria de Operações da GoiásFomento – Agência de Fomento de Goiás.
CATEGORIES:Diretoria de Operações
END:VEVENT
BEGIN:VEVENT
DTSTART;TZID=America/Sao_Paulo:20250221T140000
DTEND;TZID=America/Sao_Paulo:20250221T180000
DTSTAMP:20260425T094504
CREATED:20250221T152459Z
LAST-MODIFIED:20250221T152459Z
UID:40380-1740146400-1740160800@www.goiasfomento.com
SUMMARY:Lucas Fernandes – Diretor Presidente (Interino): Despachos Internos.
DESCRIPTION:
URL:https://www.goiasfomento.com/agenda/lucas-fernandes-diretor-presidente-interino-despachos-internos-286/
LOCATION:Gabinete da Presidência.
CATEGORIES:Presidência
END:VEVENT
BEGIN:VEVENT
DTSTART;TZID=America/Sao_Paulo:20250221T140000
DTEND;TZID=America/Sao_Paulo:20250221T180000
DTSTAMP:20260425T094504
CREATED:20250221T152602Z
LAST-MODIFIED:20250221T152602Z
UID:40382-1740146400-1740160800@www.goiasfomento.com
SUMMARY:Lucas Fernandes – Despachos Internos.
DESCRIPTION:
URL:https://www.goiasfomento.com/agenda/lucas-fernandes-despachos-internos-728/
LOCATION:Gabinete da Presidência.
CATEGORIES:Diretoria Administrativa e Financeira
END:VEVENT
BEGIN:VEVENT
DTSTART;TZID=America/Sao_Paulo:20250221T140000
DTEND;TZID=America/Sao_Paulo:20250221T180000
DTSTAMP:20260425T094504
CREATED:20250221T174054Z
LAST-MODIFIED:20250221T174054Z
UID:40412-1740146400-1740160800@www.goiasfomento.com
SUMMARY:Fernando Dias: Despachos Internos.
DESCRIPTION:
URL:https://www.goiasfomento.com/agenda/fernando-dias-despachos-internos-75/
LOCATION:Chefia de Gabinete – Agência de Fomento de Goiás
CATEGORIES:Chefia de Gabinete
END:VEVENT
BEGIN:VEVENT
DTSTART;TZID=America/Sao_Paulo:20250221T143000
DTEND;TZID=America/Sao_Paulo:20250221T160000
DTSTAMP:20260425T094504
CREATED:20250221T174448Z
LAST-MODIFIED:20250221T174448Z
UID:40414-1740148200-1740153600@www.goiasfomento.com
SUMMARY:Rufino Veríssimo:  Reunião com os Gerentes  Vânia Aparecida da Silveira -  Gerente de Análise de Crédito\,  Guido Juliano Martins de Araújo e o Wagner Viana - Agronegócio.
DESCRIPTION:
URL:https://www.goiasfomento.com/agenda/rufino-verissimo-reuniao-com-os-gerentes-vania-aparecida-da-silveira-gerente-de-analise-de-credito-guido-juliano-martins-de-araujo-e-o-wagner-viana-agronegocio/
LOCATION:Gabinete da Diretoria de Operações da GoiásFomento – Agência de Fomento de Goiás.
CATEGORIES:Diretoria de Operações
END:VEVENT
BEGIN:VEVENT
DTSTART;TZID=America/Sao_Paulo:20250221T160000
DTEND;TZID=America/Sao_Paulo:20250221T180000
DTSTAMP:20260425T094504
CREATED:20250221T174519Z
LAST-MODIFIED:20250221T174519Z
UID:40416-1740153600-1740160800@www.goiasfomento.com
SUMMARY:Rufino Veríssimo: Despachos Internos.
DESCRIPTION:
URL:https://www.goiasfomento.com/agenda/rufino-verissimo-despachos-internos-181/
LOCATION:Gabinete da Diretoria de Operações da GoiásFomento – Agência de Fomento de Goiás.
CATEGORIES:Diretoria de Operações
END:VEVENT
BEGIN:VEVENT
DTSTART;TZID=America/Sao_Paulo:20250224T063000
DTEND;TZID=America/Sao_Paulo:20250224T123000
DTSTAMP:20260425T094504
CREATED:20250225T114142Z
LAST-MODIFIED:20250225T120046Z
UID:40426-1740378600-1740400200@www.goiasfomento.com
SUMMARY:Lucas Fernandes – Diretor Presidente (Interino): Abertura da Semana do Crédito da GoiásFomento em Itumbiara-Goiás.
DESCRIPTION:
URL:https://www.goiasfomento.com/agenda/lucas-fernandes-diretor-presidente-interino-abertura-da-semana-do-credito-da-goiasfomento-em-itumbiara-goias/
LOCATION:Itumbiara – GO
CATEGORIES:Presidência
END:VEVENT
BEGIN:VEVENT
DTSTART;TZID=America/Sao_Paulo:20250224T063000
DTEND;TZID=America/Sao_Paulo:20250224T123000
DTSTAMP:20260425T094504
CREATED:20250225T114231Z
LAST-MODIFIED:20250225T120011Z
UID:40428-1740378600-1740400200@www.goiasfomento.com
SUMMARY:Lucas Fernandes: Abertura da Semana do Crédito da GoiásFomento em Itumbiara-Goiás.
DESCRIPTION:
URL:https://www.goiasfomento.com/agenda/lucas-fernandes-abertura-da-semana-do-credito-da-goiasfomento-em-itumbiara-goias/
LOCATION:Itumbiara – GO
CATEGORIES:Diretoria Administrativa e Financeira
END:VEVENT
BEGIN:VEVENT
DTSTART;TZID=America/Sao_Paulo:20250224T080000
DTEND;TZID=America/Sao_Paulo:20250224T120000
DTSTAMP:20260425T094504
CREATED:20250224T140027Z
LAST-MODIFIED:20250224T140027Z
UID:40418-1740384000-1740398400@www.goiasfomento.com
SUMMARY:Fernando Dias: Despachos Internos.
DESCRIPTION:
URL:https://www.goiasfomento.com/agenda/fernando-dias-despachos-internos-76/
LOCATION:Chefia de Gabinete – Agência de Fomento de Goiás
CATEGORIES:Chefia de Gabinete
END:VEVENT
BEGIN:VEVENT
DTSTART;TZID=America/Sao_Paulo:20250224T080000
DTEND;TZID=America/Sao_Paulo:20250224T120000
DTSTAMP:20260425T094504
CREATED:20250224T142615Z
LAST-MODIFIED:20250224T142615Z
UID:40420-1740384000-1740398400@www.goiasfomento.com
SUMMARY:Rufino Veríssimo: Despachos Internos.
DESCRIPTION:
URL:https://www.goiasfomento.com/agenda/rufino-verissimo-despachos-internos-182/
LOCATION:Gabinete da Diretoria de Operações da GoiásFomento – Agência de Fomento de Goiás.
CATEGORIES:Diretoria de Operações
END:VEVENT
BEGIN:VEVENT
DTSTART;TZID=America/Sao_Paulo:20250224T140000
DTEND;TZID=America/Sao_Paulo:20250224T153000
DTSTAMP:20260425T094504
CREATED:20250225T115922Z
LAST-MODIFIED:20250225T115922Z
UID:40438-1740405600-1740411000@www.goiasfomento.com
SUMMARY:Rufino Veríssimo: Reunião com a Gerência de Análise de Crédito e  Gerência de Agronegócio.
DESCRIPTION:
URL:https://www.goiasfomento.com/agenda/rufino-verissimo-reuniao-com-a-gerencia-de-analise-de-credito-e-gerencia-de-agronegocio/
LOCATION:Chefia de Gabinete – Agência de Fomento de Goiás
CATEGORIES:Diretoria de Operações
END:VEVENT
BEGIN:VEVENT
DTSTART;TZID=America/Sao_Paulo:20250224T140000
DTEND;TZID=America/Sao_Paulo:20250224T180000
DTSTAMP:20260425T094504
CREATED:20250225T112938Z
LAST-MODIFIED:20250225T112938Z
UID:40422-1740405600-1740420000@www.goiasfomento.com
SUMMARY:Fernando Dias: Despachos Internos.
DESCRIPTION:
URL:https://www.goiasfomento.com/agenda/fernando-dias-despachos-internos-77/
LOCATION:Chefia de Gabinete – Agência de Fomento de Goiás
CATEGORIES:Chefia de Gabinete
END:VEVENT
BEGIN:VEVENT
DTSTART;TZID=America/Sao_Paulo:20250224T140000
DTEND;TZID=America/Sao_Paulo:20250224T180000
DTSTAMP:20260425T094504
CREATED:20250225T114304Z
LAST-MODIFIED:20250225T114304Z
UID:40430-1740405600-1740420000@www.goiasfomento.com
SUMMARY:Lucas Fernandes – Diretor Presidente (Interino): Despachos Internos.
DESCRIPTION:
URL:https://www.goiasfomento.com/agenda/lucas-fernandes-diretor-presidente-interino-despachos-internos-287/
LOCATION:Gabinete da Presidência da GoiásFomento – Agência de Fomento de Goiás.
CATEGORIES:Presidência
END:VEVENT
BEGIN:VEVENT
DTSTART;TZID=America/Sao_Paulo:20250224T140000
DTEND;TZID=America/Sao_Paulo:20250224T180000
DTSTAMP:20260425T094504
CREATED:20250225T114333Z
LAST-MODIFIED:20250225T114333Z
UID:40432-1740405600-1740420000@www.goiasfomento.com
SUMMARY:Lucas Fernandes: Despachos Internos.
DESCRIPTION:
URL:https://www.goiasfomento.com/agenda/lucas-fernandes-despachos-internos-729/
LOCATION:Gabinete da Presidência da GoiásFomento – Agência de Fomento de Goiás.
CATEGORIES:Diretoria Administrativa e Financeira
END:VEVENT
BEGIN:VEVENT
DTSTART;TZID=America/Sao_Paulo:20250224T153000
DTEND;TZID=America/Sao_Paulo:20250224T180000
DTSTAMP:20260425T094504
CREATED:20250225T120150Z
LAST-MODIFIED:20250225T120150Z
UID:40441-1740411000-1740420000@www.goiasfomento.com
SUMMARY:Rufino Veríssimo: Despachos Internos.
DESCRIPTION:
URL:https://www.goiasfomento.com/agenda/rufino-verissimo-despachos-internos-183/
LOCATION:Gabinete da Diretoria de Operações da GoiásFomento – Agência de Fomento de Goiás.
CATEGORIES:Diretoria de Operações
END:VEVENT
BEGIN:VEVENT
DTSTART;TZID=America/Sao_Paulo:20250225T080000
DTEND;TZID=America/Sao_Paulo:20250225T083000
DTSTAMP:20260425T094504
CREATED:20250226T130316Z
LAST-MODIFIED:20250226T130323Z
UID:40467-1740470400-1740472200@www.goiasfomento.com
SUMMARY:Rufino Veríssimo: Despachos Internos.
DESCRIPTION:
URL:https://www.goiasfomento.com/agenda/rufino-verissimo-despachos-internos-184/
LOCATION:Gabinete da Diretoria de Operações da GoiásFomento – Agência de Fomento de Goiás.
CATEGORIES:Diretoria de Operações
END:VEVENT
BEGIN:VEVENT
DTSTART;TZID=America/Sao_Paulo:20250225T080000
DTEND;TZID=America/Sao_Paulo:20250225T103000
DTSTAMP:20260425T094504
CREATED:20250226T123257Z
LAST-MODIFIED:20250226T123257Z
UID:40453-1740470400-1740479400@www.goiasfomento.com
SUMMARY:Lucas Fernandes – Diretor Presidente (Interino): Despachos Internos.
DESCRIPTION:
URL:https://www.goiasfomento.com/agenda/lucas-fernandes-diretor-presidente-interino-despachos-internos-289/
LOCATION:Gabinete da Presidência da GoiásFomento – Agência de Fomento de Goiás.
CATEGORIES:Presidência
END:VEVENT
BEGIN:VEVENT
DTSTART;TZID=America/Sao_Paulo:20250225T080000
DTEND;TZID=America/Sao_Paulo:20250225T103000
DTSTAMP:20260425T094504
CREATED:20250226T123319Z
LAST-MODIFIED:20250226T125540Z
UID:40455-1740470400-1740479400@www.goiasfomento.com
SUMMARY:Lucas Fernandes: Despachos Internos.
DESCRIPTION:
URL:https://www.goiasfomento.com/agenda/lucas-fernandes-despachos-internos-731/
LOCATION:Gabinete da Presidência da GoiásFomento – Agência de Fomento de Goiás.
CATEGORIES:Diretoria Administrativa e Financeira
END:VEVENT
BEGIN:VEVENT
DTSTART;TZID=America/Sao_Paulo:20250225T080000
DTEND;TZID=America/Sao_Paulo:20250225T120000
DTSTAMP:20260425T094504
CREATED:20250226T121902Z
LAST-MODIFIED:20250226T125556Z
UID:40449-1740470400-1740484800@www.goiasfomento.com
SUMMARY:Fernando Dias: Despachos Internos.
DESCRIPTION:
URL:https://www.goiasfomento.com/agenda/fernando-dias-despachos-internos-80/
LOCATION:Chefia de Gabinete – Agência de Fomento de Goiás
CATEGORIES:Chefia de Gabinete
END:VEVENT
BEGIN:VEVENT
DTSTART;TZID=America/Sao_Paulo:20250225T083000
DTEND;TZID=America/Sao_Paulo:20250225T090000
DTSTAMP:20260425T094504
CREATED:20250226T130440Z
LAST-MODIFIED:20250226T131852Z
UID:40469-1740472200-1740474000@www.goiasfomento.com
SUMMARY:Rufino Veríssimo: Reunião com Rafael Soffa Rézio - Gerente de Programas e Políticas Sociais.
DESCRIPTION:
URL:https://www.goiasfomento.com/agenda/rufino-verissimo-reuniao-com-rafael-soffa-rezio-gerente-de-programas-e-politicas-sociais-10/
LOCATION:Gabinete da Diretoria de Operações da GoiásFomento – Agência de Fomento de Goiás.
CATEGORIES:Diretoria de Operações
END:VEVENT
BEGIN:VEVENT
DTSTART;TZID=America/Sao_Paulo:20250225T090000
DTEND;TZID=America/Sao_Paulo:20250225T093000
DTSTAMP:20260425T094504
CREATED:20250226T130542Z
LAST-MODIFIED:20250226T130940Z
UID:40471-1740474000-1740475800@www.goiasfomento.com
SUMMARY:Rufino Veríssimo: Reunião com Kamilla da Silva Vilarinho - Gerente de Cobrança Extrajudicial.
DESCRIPTION:
URL:https://www.goiasfomento.com/agenda/rufino-verissimo-reuniao-com-kamilla-da-silva-vilarinho-gerente-de-cobranca-extrajudicial-2/
LOCATION:Gabinete da Diretoria de Operações da GoiásFomento – Agência de Fomento de Goiás.
CATEGORIES:Diretoria de Operações
END:VEVENT
BEGIN:VEVENT
DTSTART;TZID=America/Sao_Paulo:20250225T093000
DTEND;TZID=America/Sao_Paulo:20250225T100000
DTSTAMP:20260425T094504
CREATED:20250226T132331Z
LAST-MODIFIED:20250226T132331Z
UID:40478-1740475800-1740477600@www.goiasfomento.com
SUMMARY:Rufino Veríssimo: Despachos Internos.
DESCRIPTION:
URL:https://www.goiasfomento.com/agenda/rufino-verissimo-despachos-internos-185/
LOCATION:Gabinete da Diretoria de Operações da GoiásFomento – Agência de Fomento de Goiás.
CATEGORIES:Diretoria de Operações
END:VEVENT
END:VCALENDAR