BEGIN:VCALENDAR
VERSION:2.0
PRODID:-//GoiásFomento - Agência de Fomento - ECPv6.15.20//NONSGML v1.0//EN
CALSCALE:GREGORIAN
METHOD:PUBLISH
X-WR-CALNAME:GoiásFomento - Agência de Fomento
X-ORIGINAL-URL:https://www.goiasfomento.com
X-WR-CALDESC:Eventos para GoiásFomento - Agência de Fomento
REFRESH-INTERVAL;VALUE=DURATION:PT1H
X-Robots-Tag:noindex
X-PUBLISHED-TTL:PT1H
BEGIN:VTIMEZONE
TZID:America/Sao_Paulo
BEGIN:STANDARD
TZOFFSETFROM:-0300
TZOFFSETTO:-0300
TZNAME:-03
DTSTART:20240101T000000
END:STANDARD
END:VTIMEZONE
BEGIN:VEVENT
DTSTART;TZID=America/Sao_Paulo:20250210T080000
DTEND;TZID=America/Sao_Paulo:20250210T090000
DTSTAMP:20260425T094938
CREATED:20250210T135651Z
LAST-MODIFIED:20250210T135651Z
UID:39988-1739174400-1739178000@www.goiasfomento.com
SUMMARY:Lucas Fernandes – Diretor Presidente (Interino): Despachos Internos.
DESCRIPTION:
URL:https://www.goiasfomento.com/agenda/lucas-fernandes-diretor-presidente-interino-despachos-internos-260/
LOCATION:Gabinete da Presidência.
CATEGORIES:Presidência
END:VEVENT
BEGIN:VEVENT
DTSTART;TZID=America/Sao_Paulo:20250210T080000
DTEND;TZID=America/Sao_Paulo:20250210T090000
DTSTAMP:20260425T094938
CREATED:20250210T142204Z
LAST-MODIFIED:20250210T142204Z
UID:40003-1739174400-1739178000@www.goiasfomento.com
SUMMARY:Lucas Fernandes – Despachos Internos.
DESCRIPTION:
URL:https://www.goiasfomento.com/agenda/lucas-fernandes-despachos-internos-706/
LOCATION:Gabinete da Presidência.
CATEGORIES:Diretoria Administrativa e Financeira
END:VEVENT
BEGIN:VEVENT
DTSTART;TZID=America/Sao_Paulo:20250210T080000
DTEND;TZID=America/Sao_Paulo:20250210T093000
DTSTAMP:20260425T094938
CREATED:20250210T135657Z
LAST-MODIFIED:20250210T135657Z
UID:39989-1739174400-1739179800@www.goiasfomento.com
SUMMARY:Fernando Dias: Despachos Internos.
DESCRIPTION:
URL:https://www.goiasfomento.com/agenda/fernando-dias-despachos-internos-52/
LOCATION:Chefia de Gabinete – Agência de Fomento de Goiás
CATEGORIES:Chefia de Gabinete
END:VEVENT
BEGIN:VEVENT
DTSTART;TZID=America/Sao_Paulo:20250210T080000
DTEND;TZID=America/Sao_Paulo:20250210T093000
DTSTAMP:20260425T094938
CREATED:20250210T142330Z
LAST-MODIFIED:20250210T142330Z
UID:40006-1739174400-1739179800@www.goiasfomento.com
SUMMARY:Rufino Veríssimo: Despachos Internos.
DESCRIPTION:
URL:https://www.goiasfomento.com/agenda/rufino-verissimo-despachos-internos-152/
LOCATION:Gabinete da Diretoria de Operações da GoiásFomento – Agência de Fomento de Goiás.
CATEGORIES:Diretoria de Operações
END:VEVENT
BEGIN:VEVENT
DTSTART;TZID=America/Sao_Paulo:20250210T090000
DTEND;TZID=America/Sao_Paulo:20250210T110000
DTSTAMP:20260425T094938
CREATED:20250210T140415Z
LAST-MODIFIED:20250210T140415Z
UID:39991-1739178000-1739185200@www.goiasfomento.com
SUMMARY:Lucas Fernandes – Diretor Presidente (Interino): GOIÁS SOCIAL em Bonfinópolis GO.
DESCRIPTION:
URL:https://www.goiasfomento.com/agenda/lucas-fernandes-diretor-presidente-interino-goias-social-em-bonfinopolis-go/
LOCATION:CRAS Bonfinopolis Rua Otoniel Monteiro N° 150 – Centro
CATEGORIES:Presidência
END:VEVENT
BEGIN:VEVENT
DTSTART;TZID=America/Sao_Paulo:20250210T090000
DTEND;TZID=America/Sao_Paulo:20250210T110000
DTSTAMP:20260425T094938
CREATED:20250210T142531Z
LAST-MODIFIED:20250210T142531Z
UID:40005-1739178000-1739185200@www.goiasfomento.com
SUMMARY:Lucas Fernandes – GOIÁS SOCIAL em Bonfinópolis GO.
DESCRIPTION:
URL:https://www.goiasfomento.com/agenda/lucas-fernandes-goias-social-em-bonfinopolis-go/
LOCATION:CRAS Bonfinopolis Rua Otoniel Monteiro N° 150 – Centro
CATEGORIES:Diretoria Administrativa e Financeira
END:VEVENT
BEGIN:VEVENT
DTSTART;TZID=America/Sao_Paulo:20250210T093000
DTEND;TZID=America/Sao_Paulo:20250210T100000
DTSTAMP:20260425T094938
CREATED:20250210T135959Z
LAST-MODIFIED:20250210T135959Z
UID:39993-1739179800-1739181600@www.goiasfomento.com
SUMMARY:Fernando Dias: Reunião com Porthos R. de Albuquerque Motta - Assessor de Gerenciamento de Riscos e Escritório de Projetos.
DESCRIPTION:
URL:https://www.goiasfomento.com/agenda/fernando-dias-reuniao-com-porthos-r-de-albuquerque-motta-assessor-de-gerenciamento-de-riscos-e-escritorio-de-projetos/
LOCATION:Chefia de Gabinete – Agência de Fomento de Goiás
CATEGORIES:Chefia de Gabinete
END:VEVENT
BEGIN:VEVENT
DTSTART;TZID=America/Sao_Paulo:20250210T093000
DTEND;TZID=America/Sao_Paulo:20250210T100000
DTSTAMP:20260425T094938
CREATED:20250210T141913Z
LAST-MODIFIED:20250210T141913Z
UID:40001-1739179800-1739181600@www.goiasfomento.com
SUMMARY:Rufino Veríssimo: Reunião com Wagner Siqueira Coelho – Gerente de Prospecção de Negócios.
DESCRIPTION:
URL:https://www.goiasfomento.com/agenda/rufino-verissimo-reuniao-com-wagner-siqueira-coelho-gerente-de-prospeccao-de-negocios-8/
LOCATION:Gabinete da Diretoria de Operações da GoiásFomento – Agência de Fomento de Goiás.
CATEGORIES:Diretoria de Operações
END:VEVENT
BEGIN:VEVENT
DTSTART;TZID=America/Sao_Paulo:20250210T100000
DTEND;TZID=America/Sao_Paulo:20250210T120000
DTSTAMP:20260425T094938
CREATED:20250210T173447Z
LAST-MODIFIED:20250210T173447Z
UID:40013-1739181600-1739188800@www.goiasfomento.com
SUMMARY:Fernando Dias: Despachos Internos.
DESCRIPTION:
URL:https://www.goiasfomento.com/agenda/fernando-dias-despachos-internos-53/
LOCATION:Chefia de Gabinete – Agência de Fomento de Goiás
CATEGORIES:Chefia de Gabinete
END:VEVENT
BEGIN:VEVENT
DTSTART;TZID=America/Sao_Paulo:20250210T100000
DTEND;TZID=America/Sao_Paulo:20250210T120000
DTSTAMP:20260425T094938
CREATED:20250210T192409Z
LAST-MODIFIED:20250210T192409Z
UID:40022-1739181600-1739188800@www.goiasfomento.com
SUMMARY:Rufino Veríssimo: Despachos Internos.
DESCRIPTION:
URL:https://www.goiasfomento.com/agenda/rufino-verissimo-despachos-internos-153/
LOCATION:Gabinete da Diretoria de Operações da GoiásFomento – Agência de Fomento de Goiás.
CATEGORIES:Diretoria de Operações
END:VEVENT
BEGIN:VEVENT
DTSTART;TZID=America/Sao_Paulo:20250210T110000
DTEND;TZID=America/Sao_Paulo:20250210T120000
DTSTAMP:20260425T094938
CREATED:20250210T140654Z
LAST-MODIFIED:20250210T140654Z
UID:39997-1739185200-1739188800@www.goiasfomento.com
SUMMARY:Lucas Fernandes – Diretor Presidente (Interino): Despachos Internos.
DESCRIPTION:
URL:https://www.goiasfomento.com/agenda/lucas-fernandes-diretor-presidente-interino-despachos-internos-261/
LOCATION:Gabinete da Presidência.
CATEGORIES:Presidência
END:VEVENT
BEGIN:VEVENT
DTSTART;TZID=America/Sao_Paulo:20250210T110000
DTEND;TZID=America/Sao_Paulo:20250210T120000
DTSTAMP:20260425T094938
CREATED:20250210T142642Z
LAST-MODIFIED:20250210T142642Z
UID:40009-1739185200-1739188800@www.goiasfomento.com
SUMMARY:Lucas Fernandes – Despachos Internos.
DESCRIPTION:
URL:https://www.goiasfomento.com/agenda/lucas-fernandes-despachos-internos-707/
LOCATION:Gabinete da Presidência.
CATEGORIES:Diretoria Administrativa e Financeira
END:VEVENT
BEGIN:VEVENT
DTSTART;TZID=America/Sao_Paulo:20250210T140000
DTEND;TZID=America/Sao_Paulo:20250210T150000
DTSTAMP:20260425T094938
CREATED:20250210T192457Z
LAST-MODIFIED:20250210T192457Z
UID:40024-1739196000-1739199600@www.goiasfomento.com
SUMMARY:Rufino Veríssimo: Despachos Internos.
DESCRIPTION:
URL:https://www.goiasfomento.com/agenda/rufino-verissimo-despachos-internos-154/
LOCATION:Gabinete da Diretoria de Operações da GoiásFomento – Agência de Fomento de Goiás.
CATEGORIES:Diretoria de Operações
END:VEVENT
BEGIN:VEVENT
DTSTART;TZID=America/Sao_Paulo:20250210T140000
DTEND;TZID=America/Sao_Paulo:20250210T180000
DTSTAMP:20260425T094938
CREATED:20250210T140740Z
LAST-MODIFIED:20250210T140740Z
UID:39999-1739196000-1739210400@www.goiasfomento.com
SUMMARY:Lucas Fernandes – Diretor Presidente (Interino): Despachos Internos.
DESCRIPTION:
URL:https://www.goiasfomento.com/agenda/lucas-fernandes-diretor-presidente-interino-despachos-internos-262/
LOCATION:Gabinete da Presidência.
CATEGORIES:Presidência
END:VEVENT
BEGIN:VEVENT
DTSTART;TZID=America/Sao_Paulo:20250210T140000
DTEND;TZID=America/Sao_Paulo:20250210T180000
DTSTAMP:20260425T094938
CREATED:20250210T142710Z
LAST-MODIFIED:20250210T142710Z
UID:40011-1739196000-1739210400@www.goiasfomento.com
SUMMARY:Lucas Fernandes – Despachos Internos.
DESCRIPTION:
URL:https://www.goiasfomento.com/agenda/lucas-fernandes-despachos-internos-708/
LOCATION:Gabinete da Presidência.
CATEGORIES:Diretoria Administrativa e Financeira
END:VEVENT
BEGIN:VEVENT
DTSTART;TZID=America/Sao_Paulo:20250210T140000
DTEND;TZID=America/Sao_Paulo:20250210T180000
DTSTAMP:20260425T094938
CREATED:20250210T173512Z
LAST-MODIFIED:20250210T173512Z
UID:40015-1739196000-1739210400@www.goiasfomento.com
SUMMARY:Fernando Dias: Despachos Internos.
DESCRIPTION:
URL:https://www.goiasfomento.com/agenda/fernando-dias-despachos-internos-54/
LOCATION:Chefia de Gabinete – Agência de Fomento de Goiás
CATEGORIES:Chefia de Gabinete
END:VEVENT
BEGIN:VEVENT
DTSTART;TZID=America/Sao_Paulo:20250210T150000
DTEND;TZID=America/Sao_Paulo:20250210T153000
DTSTAMP:20260425T094938
CREATED:20250210T192054Z
LAST-MODIFIED:20250210T192054Z
UID:40018-1739199600-1739201400@www.goiasfomento.com
SUMMARY:Rufino Veríssimo: Reunião com os Gerentes da Diretoria de Operações da Agência de Fomento de Goiás.
DESCRIPTION:
URL:https://www.goiasfomento.com/agenda/rufino-verissimo-reuniao-com-os-gerentes-da-diretoria-de-operacoes-da-agencia-de-fomento-de-goias-9/
LOCATION:Gabinete da Diretoria de Operações da GoiásFomento – Agência de Fomento de Goiás.
CATEGORIES:Diretoria de Operações
END:VEVENT
BEGIN:VEVENT
DTSTART;TZID=America/Sao_Paulo:20250210T153000
DTEND;TZID=America/Sao_Paulo:20250210T160000
DTSTAMP:20260425T094938
CREATED:20250210T192254Z
LAST-MODIFIED:20250210T192254Z
UID:40020-1739201400-1739203200@www.goiasfomento.com
SUMMARY:Rufino Veríssimo: Reunião comPhilippe e Paulo Cesar Paiva - Assessor de Estratégia e Planejamento.
DESCRIPTION:
URL:https://www.goiasfomento.com/agenda/rufino-verissimo-reuniao-comphilippe-e-paulo-cesar-paiva-assessor-de-estrategia-e-planejamento/
LOCATION:Gabinete da Diretoria de Operações da GoiásFomento – Agência de Fomento de Goiás.
END:VEVENT
BEGIN:VEVENT
DTSTART;TZID=America/Sao_Paulo:20250210T153000
DTEND;TZID=America/Sao_Paulo:20250210T160000
DTSTAMP:20260425T094938
CREATED:20250210T192724Z
LAST-MODIFIED:20250210T192850Z
UID:40028-1739201400-1739203200@www.goiasfomento.com
SUMMARY:Rufino Veríssimo: Reunião com Philippe e o Paulo Cesar Paiva - Assessoria de Estratégia e Planejamento.
DESCRIPTION:
URL:https://www.goiasfomento.com/agenda/rufino-verissimo-reuniao-com-philippe-e-o-paulo-cesar-paiva-assessoria-de-estrategia-e-planejamento/
CATEGORIES:Diretoria de Operações
END:VEVENT
BEGIN:VEVENT
DTSTART;TZID=America/Sao_Paulo:20250210T160000
DTEND;TZID=America/Sao_Paulo:20250210T180000
DTSTAMP:20260425T094938
CREATED:20250210T192559Z
LAST-MODIFIED:20250210T192559Z
UID:40026-1739203200-1739210400@www.goiasfomento.com
SUMMARY:Rufino Veríssimo: Despachos Internos.
DESCRIPTION:
URL:https://www.goiasfomento.com/agenda/rufino-verissimo-despachos-internos-155/
LOCATION:Gabinete da Diretoria de Operações da GoiásFomento – Agência de Fomento de Goiás.
CATEGORIES:Diretoria de Operações
END:VEVENT
BEGIN:VEVENT
DTSTART;TZID=America/Sao_Paulo:20250211T080000
DTEND;TZID=America/Sao_Paulo:20250211T093000
DTSTAMP:20260425T094938
CREATED:20250211T141417Z
LAST-MODIFIED:20250211T141417Z
UID:40033-1739260800-1739266200@www.goiasfomento.com
SUMMARY:Rufino Veríssimo: Despachos Internos.
DESCRIPTION:
URL:https://www.goiasfomento.com/agenda/rufino-verissimo-despachos-internos-156/
LOCATION:Gabinete da Diretoria de Operações da GoiásFomento – Agência de Fomento de Goiás.
CATEGORIES:Diretoria de Operações
END:VEVENT
BEGIN:VEVENT
DTSTART;TZID=America/Sao_Paulo:20250211T080000
DTEND;TZID=America/Sao_Paulo:20250211T093000
DTSTAMP:20260425T094938
CREATED:20250211T142009Z
LAST-MODIFIED:20250211T142009Z
UID:40035-1739260800-1739266200@www.goiasfomento.com
SUMMARY:Lucas Fernandes – Diretor Presidente (Interino): Despachos Internos.
DESCRIPTION:
URL:https://www.goiasfomento.com/agenda/lucas-fernandes-diretor-presidente-interino-despachos-internos-263/
LOCATION:Gabinete da Presidência.
CATEGORIES:Presidência
END:VEVENT
BEGIN:VEVENT
DTSTART;TZID=America/Sao_Paulo:20250211T080000
DTEND;TZID=America/Sao_Paulo:20250211T093000
DTSTAMP:20260425T094938
CREATED:20250211T142055Z
LAST-MODIFIED:20250211T142055Z
UID:40037-1739260800-1739266200@www.goiasfomento.com
SUMMARY:Lucas Fernandes – Despachos Internos.
DESCRIPTION:
URL:https://www.goiasfomento.com/agenda/lucas-fernandes-despachos-internos-709/
LOCATION:Gabinete da Presidência.
CATEGORIES:Diretoria Administrativa e Financeira
END:VEVENT
BEGIN:VEVENT
DTSTART;TZID=America/Sao_Paulo:20250211T080000
DTEND;TZID=America/Sao_Paulo:20250211T120000
DTSTAMP:20260425T094938
CREATED:20250211T151223Z
LAST-MODIFIED:20250211T151223Z
UID:40060-1739260800-1739275200@www.goiasfomento.com
SUMMARY:Fernando Dias: Despachos Internos.
DESCRIPTION:
URL:https://www.goiasfomento.com/agenda/fernando-dias-despachos-internos-55/
LOCATION:Chefia de Gabinete – Agência de Fomento de Goiás
CATEGORIES:Chefia de Gabinete
END:VEVENT
BEGIN:VEVENT
DTSTART;TZID=America/Sao_Paulo:20250211T093000
DTEND;TZID=America/Sao_Paulo:20250211T100000
DTSTAMP:20260425T094938
CREATED:20250211T141324Z
LAST-MODIFIED:20250211T141324Z
UID:40031-1739266200-1739268000@www.goiasfomento.com
SUMMARY:Rufino Veríssimo: Reunião da Direx com Rafael Soffa Rézio – Gerente de Programas e Políticas Sociais.
DESCRIPTION:
URL:https://www.goiasfomento.com/agenda/rufino-verissimo-reuniao-da-direx-com-rafael-soffa-rezio-gerente-de-programas-e-politicas-sociais-7/
LOCATION:Gabinete da Presidência da GoiásFomento – Agência de Fomento de Goiás.
CATEGORIES:Diretoria de Operações
END:VEVENT
BEGIN:VEVENT
DTSTART;TZID=America/Sao_Paulo:20250211T093000
DTEND;TZID=America/Sao_Paulo:20250211T100000
DTSTAMP:20260425T094938
CREATED:20250211T144124Z
LAST-MODIFIED:20250211T144124Z
UID:40043-1739266200-1739268000@www.goiasfomento.com
SUMMARY:Lucas Fernandes – Diretor Presidente (Interino): Reunião da Direx com Rafael Soffa Rézio – Gerente de Programas e Políticas Sociais.
DESCRIPTION:
URL:https://www.goiasfomento.com/agenda/lucas-fernandes-diretor-presidente-interino-reuniao-da-direx-com-rafael-soffa-rezio-gerente-de-programas-e-politicas-sociais-4/
LOCATION:Gabinete da Presidência.
CATEGORIES:Presidência
END:VEVENT
BEGIN:VEVENT
DTSTART;TZID=America/Sao_Paulo:20250211T093000
DTEND;TZID=America/Sao_Paulo:20250211T100000
DTSTAMP:20260425T094938
CREATED:20250211T144220Z
LAST-MODIFIED:20250211T144220Z
UID:40045-1739266200-1739268000@www.goiasfomento.com
SUMMARY:Lucas Fernandes – Reunião da Direx com Rafael Soffa Rézio – Gerente de Programas e Políticas Sociais.
DESCRIPTION:
URL:https://www.goiasfomento.com/agenda/lucas-fernandes-reuniao-da-direx-com-rafael-soffa-rezio-gerente-de-programas-e-politicas-sociais-3/
LOCATION:Gabinete da Presidência.
CATEGORIES:Diretoria Administrativa e Financeira
END:VEVENT
BEGIN:VEVENT
DTSTART;TZID=America/Sao_Paulo:20250211T100000
DTEND;TZID=America/Sao_Paulo:20250211T103000
DTSTAMP:20260425T094938
CREATED:20250211T150853Z
LAST-MODIFIED:20250211T150853Z
UID:40054-1739268000-1739269800@www.goiasfomento.com
SUMMARY:Rufino Veríssimo: Reunião com Rafael Soffa Rézio – Gerente de Programas e Políticas Sociais.
DESCRIPTION:
URL:https://www.goiasfomento.com/agenda/rufino-verissimo-reuniao-com-rafael-soffa-rezio-gerente-de-programas-e-politicas-sociais-8/
LOCATION:Gabinete da Diretoria de Operações da GoiásFomento – Agência de Fomento de Goiás.
CATEGORIES:Diretoria de Operações
END:VEVENT
BEGIN:VEVENT
DTSTART;TZID=America/Sao_Paulo:20250211T100000
DTEND;TZID=America/Sao_Paulo:20250211T110000
DTSTAMP:20260425T094938
CREATED:20250211T143457Z
LAST-MODIFIED:20250211T143457Z
UID:40039-1739268000-1739271600@www.goiasfomento.com
SUMMARY:Lucas Fernandes – Diretor Presidente (Interino): Reunião com Divino Lemes – Ex-Prefeito de Senador Canedo e a Empresária Cleo. Pauta: Linhas de Crédito.
DESCRIPTION:
URL:https://www.goiasfomento.com/agenda/lucas-fernandes-diretor-presidente-interino-reuniao-com-divino-lemes-ex-prefeito-de-senador-canedo-e-a-empresaria-cleo-pauta-linhas-de-credito/
LOCATION:Gabinete da Presidência.
CATEGORIES:Presidência
END:VEVENT
BEGIN:VEVENT
DTSTART;TZID=America/Sao_Paulo:20250211T100000
DTEND;TZID=America/Sao_Paulo:20250211T110000
DTSTAMP:20260425T094938
CREATED:20250211T143616Z
LAST-MODIFIED:20250211T143810Z
UID:40041-1739268000-1739271600@www.goiasfomento.com
SUMMARY:Lucas Fernandes – Reunião com Divino Lemes – Ex-Prefeito de Senador Canedo e a Empresária Cleo. Pauta: Linhas de Crédito.
DESCRIPTION:
URL:https://www.goiasfomento.com/agenda/lucas-fernandes-reuniao-com-divino-lemes-ex-prefeito-de-senador-canedo-e-a-empresaria-cleo-pauta-linhas-de-credito/
LOCATION:Gabinete da Presidência.
CATEGORIES:Diretoria Administrativa e Financeira
END:VEVENT
END:VCALENDAR