BEGIN:VCALENDAR
VERSION:2.0
PRODID:-//GoiásFomento - Agência de Fomento - ECPv6.15.20//NONSGML v1.0//EN
CALSCALE:GREGORIAN
METHOD:PUBLISH
X-WR-CALNAME:GoiásFomento - Agência de Fomento
X-ORIGINAL-URL:https://www.goiasfomento.com
X-WR-CALDESC:Eventos para GoiásFomento - Agência de Fomento
REFRESH-INTERVAL;VALUE=DURATION:PT1H
X-Robots-Tag:noindex
X-PUBLISHED-TTL:PT1H
BEGIN:VTIMEZONE
TZID:America/Sao_Paulo
BEGIN:STANDARD
TZOFFSETFROM:-0300
TZOFFSETTO:-0300
TZNAME:-03
DTSTART:20230101T000000
END:STANDARD
END:VTIMEZONE
BEGIN:VEVENT
DTSTART;VALUE=DATE:20241009
DTEND;VALUE=DATE:20241010
DTSTAMP:20260425T080317
CREATED:20241009T110819Z
LAST-MODIFIED:20241009T110819Z
UID:37318-1728432000-1728518399@www.goiasfomento.com
SUMMARY:Cargo Vago desde 02/07/2024.
DESCRIPTION:
URL:https://www.goiasfomento.com/agenda/cargo-vago-desde-02-07-2024-69/
LOCATION:Gabiente da Retomada – PPLT
CATEGORIES:Chefia de Gabinete
END:VEVENT
BEGIN:VEVENT
DTSTART;TZID=America/Sao_Paulo:20241009T080000
DTEND;TZID=America/Sao_Paulo:20241009T120000
DTSTAMP:20260425T080317
CREATED:20241009T110643Z
LAST-MODIFIED:20241009T110643Z
UID:37314-1728460800-1728475200@www.goiasfomento.com
SUMMARY:Vinícius Luz: Despachos Internos.
DESCRIPTION:
URL:https://www.goiasfomento.com/agenda/vinicius-luz-despachos-internos-100/
LOCATION:Gabinete da Diretoria de Operações da GoiásFomento – Agência de Fomento de Goiás.
CATEGORIES:Diretoria de Operações
END:VEVENT
BEGIN:VEVENT
DTSTART;TZID=America/Sao_Paulo:20241009T080000
DTEND;TZID=America/Sao_Paulo:20241009T120000
DTSTAMP:20260425T080317
CREATED:20241009T110913Z
LAST-MODIFIED:20241009T110913Z
UID:37320-1728460800-1728475200@www.goiasfomento.com
SUMMARY:Lucas Fernandes – Diretor Presidente (Interino): Despachos Internos.
DESCRIPTION:
URL:https://www.goiasfomento.com/agenda/lucas-fernandes-diretor-presidente-interino-despachos-internos-98/
LOCATION:Gabinete da Presidência da GoiásFomento – Agência de Fomento de Goiás.
CATEGORIES:Presidência
END:VEVENT
BEGIN:VEVENT
DTSTART;TZID=America/Sao_Paulo:20241009T080000
DTEND;TZID=America/Sao_Paulo:20241009T120000
DTSTAMP:20260425T080317
CREATED:20241009T111026Z
LAST-MODIFIED:20241009T111026Z
UID:37324-1728460800-1728475200@www.goiasfomento.com
SUMMARY:Lucas Fernandes: Despachos Internos.
DESCRIPTION:
URL:https://www.goiasfomento.com/agenda/lucas-fernandes-despachos-internos-547/
LOCATION:Gabinete da Diretoria Administrativa e Financeira – Agência de Fomento de Goiás.
CATEGORIES:Diretoria Administrativa e Financeira
END:VEVENT
BEGIN:VEVENT
DTSTART;TZID=America/Sao_Paulo:20241009T140000
DTEND;TZID=America/Sao_Paulo:20241009T180000
DTSTAMP:20260425T080317
CREATED:20241009T110728Z
LAST-MODIFIED:20241009T110728Z
UID:37316-1728482400-1728496800@www.goiasfomento.com
SUMMARY:Vinícius Luz: Despachos Internos.
DESCRIPTION:
URL:https://www.goiasfomento.com/agenda/vinicius-luz-despachos-internos-101/
LOCATION:Gabinete da Diretoria de Operações da GoiásFomento – Agência de Fomento de Goiás.
CATEGORIES:Diretoria de Operações
END:VEVENT
BEGIN:VEVENT
DTSTART;TZID=America/Sao_Paulo:20241009T140000
DTEND;TZID=America/Sao_Paulo:20241009T180000
DTSTAMP:20260425T080317
CREATED:20241009T110949Z
LAST-MODIFIED:20241009T110949Z
UID:37322-1728482400-1728496800@www.goiasfomento.com
SUMMARY:Lucas Fernandes – Diretor Presidente (Interino): Despachos Internos.
DESCRIPTION:
URL:https://www.goiasfomento.com/agenda/lucas-fernandes-diretor-presidente-interino-despachos-internos-99/
LOCATION:Gabinete da Presidência da GoiásFomento – Agência de Fomento de Goiás.
CATEGORIES:Presidência
END:VEVENT
BEGIN:VEVENT
DTSTART;TZID=America/Sao_Paulo:20241009T140000
DTEND;TZID=America/Sao_Paulo:20241009T180000
DTSTAMP:20260425T080317
CREATED:20241009T111056Z
LAST-MODIFIED:20241009T111056Z
UID:37326-1728482400-1728496800@www.goiasfomento.com
SUMMARY:Lucas Fernandes: Despachos Internos.
DESCRIPTION:
URL:https://www.goiasfomento.com/agenda/lucas-fernandes-despachos-internos-548/
LOCATION:Gabinete da Diretoria Administrativa e Financeira – Agência de Fomento de Goiás.
CATEGORIES:Diretoria Administrativa e Financeira
END:VEVENT
BEGIN:VEVENT
DTSTART;VALUE=DATE:20241010
DTEND;VALUE=DATE:20241011
DTSTAMP:20260425T080317
CREATED:20241010T110833Z
LAST-MODIFIED:20241010T110833Z
UID:37335-1728518400-1728604799@www.goiasfomento.com
SUMMARY:Cargo Vago desde 02/07/2024.
DESCRIPTION:
URL:https://www.goiasfomento.com/agenda/cargo-vago-desde-02-07-2024-70/
LOCATION:Chefia de Gabinete – Agência de Fomento de Goiás
CATEGORIES:Chefia de Gabinete
END:VEVENT
BEGIN:VEVENT
DTSTART;TZID=America/Sao_Paulo:20241010T080000
DTEND;TZID=America/Sao_Paulo:20241010T120000
DTSTAMP:20260425T080317
CREATED:20241010T110406Z
LAST-MODIFIED:20241010T110406Z
UID:37331-1728547200-1728561600@www.goiasfomento.com
SUMMARY:Vinícius Luz: Despachos Internos.
DESCRIPTION:
URL:https://www.goiasfomento.com/agenda/vinicius-luz-despachos-internos-102/
LOCATION:Gabinete da Diretoria de Operações da GoiásFomento – Agência de Fomento de Goiás.
CATEGORIES:Diretoria de Operações
END:VEVENT
BEGIN:VEVENT
DTSTART;TZID=America/Sao_Paulo:20241010T080000
DTEND;TZID=America/Sao_Paulo:20241010T120000
DTSTAMP:20260425T080317
CREATED:20241010T111000Z
LAST-MODIFIED:20241010T111000Z
UID:37339-1728547200-1728561600@www.goiasfomento.com
SUMMARY:Lucas Fernandes – Diretor Presidente (Interino): Despachos Internos.
DESCRIPTION:
URL:https://www.goiasfomento.com/agenda/lucas-fernandes-diretor-presidente-interino-despachos-internos-100/
LOCATION:Gabinete da Presidência da GoiásFomento – Agência de Fomento de Goiás.
CATEGORIES:Presidência
END:VEVENT
BEGIN:VEVENT
DTSTART;TZID=America/Sao_Paulo:20241010T080000
DTEND;TZID=America/Sao_Paulo:20241010T120000
DTSTAMP:20260425T080317
CREATED:20241010T111102Z
LAST-MODIFIED:20241010T111102Z
UID:37343-1728547200-1728561600@www.goiasfomento.com
SUMMARY:Lucas Fernandes: Despachos Internos.
DESCRIPTION:
URL:https://www.goiasfomento.com/agenda/lucas-fernandes-despachos-internos-549/
LOCATION:Gabinete da Diretoria Administrativa e Financeira – Agência de Fomento de Goiás.
CATEGORIES:Diretoria Administrativa e Financeira
END:VEVENT
BEGIN:VEVENT
DTSTART;TZID=America/Sao_Paulo:20241010T140000
DTEND;TZID=America/Sao_Paulo:20241010T180000
DTSTAMP:20260425T080317
CREATED:20241010T110435Z
LAST-MODIFIED:20241010T110435Z
UID:37333-1728568800-1728583200@www.goiasfomento.com
SUMMARY:Vinícius Luz: Despachos Internos.
DESCRIPTION:
URL:https://www.goiasfomento.com/agenda/vinicius-luz-despachos-internos-103/
LOCATION:Gabinete da Diretoria de Operações da GoiásFomento – Agência de Fomento de Goiás.
CATEGORIES:Diretoria de Operações
END:VEVENT
BEGIN:VEVENT
DTSTART;TZID=America/Sao_Paulo:20241010T140000
DTEND;TZID=America/Sao_Paulo:20241010T180000
DTSTAMP:20260425T080317
CREATED:20241010T111027Z
LAST-MODIFIED:20241010T111027Z
UID:37341-1728568800-1728583200@www.goiasfomento.com
SUMMARY:Lucas Fernandes – Diretor Presidente (Interino): Despachos Internos.
DESCRIPTION:
URL:https://www.goiasfomento.com/agenda/lucas-fernandes-diretor-presidente-interino-despachos-internos-101/
LOCATION:Chefia de Gabinete – Agência de Fomento de Goiás
CATEGORIES:Presidência
END:VEVENT
BEGIN:VEVENT
DTSTART;TZID=America/Sao_Paulo:20241010T140000
DTEND;TZID=America/Sao_Paulo:20241010T180000
DTSTAMP:20260425T080317
CREATED:20241010T111131Z
LAST-MODIFIED:20241010T111131Z
UID:37345-1728568800-1728583200@www.goiasfomento.com
SUMMARY:Lucas Fernandes: Despachos Internos.
DESCRIPTION:
URL:https://www.goiasfomento.com/agenda/lucas-fernandes-despachos-internos-550/
LOCATION:Gabinete da Diretoria Administrativa e Financeira – Agência de Fomento de Goiás.
CATEGORIES:Diretoria Administrativa e Financeira
END:VEVENT
BEGIN:VEVENT
DTSTART;VALUE=DATE:20241011
DTEND;VALUE=DATE:20241012
DTSTAMP:20260425T080317
CREATED:20241010T110903Z
LAST-MODIFIED:20241010T110903Z
UID:37337-1728604800-1728691199@www.goiasfomento.com
SUMMARY:Cargo Vago desde 02/07/2024.
DESCRIPTION:
URL:https://www.goiasfomento.com/agenda/cargo-vago-desde-02-07-2024-71/
LOCATION:Chefia de Gabinete – Agência de Fomento de Goiás
CATEGORIES:Chefia de Gabinete
END:VEVENT
BEGIN:VEVENT
DTSTART;TZID=America/Sao_Paulo:20241011T080000
DTEND;TZID=America/Sao_Paulo:20241011T090000
DTSTAMP:20260425T080317
CREATED:20241011T111314Z
LAST-MODIFIED:20241011T111314Z
UID:37351-1728633600-1728637200@www.goiasfomento.com
SUMMARY:Lucas Fernandes – Diretor Presidente (Interino): Despachos Internos.
DESCRIPTION:
URL:https://www.goiasfomento.com/agenda/lucas-fernandes-diretor-presidente-interino-despachos-internos-102/
LOCATION:Gabinete da Presidência da GoiásFomento – Agência de Fomento de Goiás.
CATEGORIES:Presidência
END:VEVENT
BEGIN:VEVENT
DTSTART;TZID=America/Sao_Paulo:20241011T080000
DTEND;TZID=America/Sao_Paulo:20241011T090000
DTSTAMP:20260425T080317
CREATED:20241011T111605Z
LAST-MODIFIED:20241011T111605Z
UID:37357-1728633600-1728637200@www.goiasfomento.com
SUMMARY:Lucas Fernandes: Despachos Internos.
DESCRIPTION:
URL:https://www.goiasfomento.com/agenda/lucas-fernandes-despachos-internos-551/
LOCATION:Gabinete da Diretoria Administrativa e Financeira – Agência de Fomento de Goiás.
CATEGORIES:Diretoria Administrativa e Financeira
END:VEVENT
BEGIN:VEVENT
DTSTART;TZID=America/Sao_Paulo:20241011T080000
DTEND;TZID=America/Sao_Paulo:20241011T120000
DTSTAMP:20260425T080317
CREATED:20241011T111045Z
LAST-MODIFIED:20241011T111045Z
UID:37347-1728633600-1728648000@www.goiasfomento.com
SUMMARY:Vinícius Luz: Despachos Internos.
DESCRIPTION:
URL:https://www.goiasfomento.com/agenda/vinicius-luz-despachos-internos-104/
LOCATION:Gabinete da Diretoria de Operações da GoiásFomento – Agência de Fomento de Goiás.
CATEGORIES:Diretoria de Operações
END:VEVENT
BEGIN:VEVENT
DTSTART;TZID=America/Sao_Paulo:20241011T090000
DTEND;TZID=America/Sao_Paulo:20241011T104500
DTSTAMP:20260425T080317
CREATED:20241011T115446Z
LAST-MODIFIED:20241011T115446Z
UID:37365-1728637200-1728643500@www.goiasfomento.com
SUMMARY:Lucas Fernandes – Diretor Presidente (Interino): Reunião do Conselho de Administração.
DESCRIPTION:
URL:https://www.goiasfomento.com/agenda/lucas-fernandes-diretor-presidente-interino-reuniao-do-conselho-de-administracao/
LOCATION:Sala de Reuniões da Diretoria – Agência de Fomento de Goiás.
CATEGORIES:Presidência
END:VEVENT
BEGIN:VEVENT
DTSTART;TZID=America/Sao_Paulo:20241011T090000
DTEND;TZID=America/Sao_Paulo:20241011T104500
DTSTAMP:20260425T080317
CREATED:20241011T115655Z
LAST-MODIFIED:20241011T115655Z
UID:37367-1728637200-1728643500@www.goiasfomento.com
SUMMARY:Lucas Fernandes: Reunião do Conselho de Administração.
DESCRIPTION:
URL:https://www.goiasfomento.com/agenda/lucas-fernandes-reuniao-do-conselho-de-administracao/
LOCATION:Sala de Reuniões da Diretoria – Agência de Fomento de Goiás.
CATEGORIES:Diretoria Administrativa e Financeira
END:VEVENT
BEGIN:VEVENT
DTSTART;TZID=America/Sao_Paulo:20241011T104500
DTEND;TZID=America/Sao_Paulo:20241011T120000
DTSTAMP:20260425T080317
CREATED:20241011T111431Z
LAST-MODIFIED:20241011T111431Z
UID:37353-1728643500-1728648000@www.goiasfomento.com
SUMMARY:Lucas Fernandes – Diretor Presidente (Interino): Despachos Internos.
DESCRIPTION:
URL:https://www.goiasfomento.com/agenda/lucas-fernandes-diretor-presidente-interino-despachos-internos-103/
LOCATION:Gabinete da Presidência da GoiásFomento – Agência de Fomento de Goiás.
CATEGORIES:Presidência
END:VEVENT
BEGIN:VEVENT
DTSTART;TZID=America/Sao_Paulo:20241011T104500
DTEND;TZID=America/Sao_Paulo:20241011T120000
DTSTAMP:20260425T080317
CREATED:20241011T111653Z
LAST-MODIFIED:20241011T111653Z
UID:37359-1728643500-1728648000@www.goiasfomento.com
SUMMARY:Lucas Fernandes: Despachos Internos.
DESCRIPTION:
URL:https://www.goiasfomento.com/agenda/lucas-fernandes-despachos-internos-552/
LOCATION:Gabinete da Diretoria Administrativa e Financeira – Agência de Fomento de Goiás.
CATEGORIES:Diretoria Administrativa e Financeira
END:VEVENT
BEGIN:VEVENT
DTSTART;TZID=America/Sao_Paulo:20241011T140000
DTEND;TZID=America/Sao_Paulo:20241011T180000
DTSTAMP:20260425T080317
CREATED:20241011T111112Z
LAST-MODIFIED:20241011T111112Z
UID:37349-1728655200-1728669600@www.goiasfomento.com
SUMMARY:Vinícius Luz: Despachos Internos.
DESCRIPTION:
URL:https://www.goiasfomento.com/agenda/vinicius-luz-despachos-internos-105/
LOCATION:Gabinete da Diretoria de Operações da GoiásFomento – Agência de Fomento de Goiás.
CATEGORIES:Diretoria de Operações
END:VEVENT
BEGIN:VEVENT
DTSTART;TZID=America/Sao_Paulo:20241011T140000
DTEND;TZID=America/Sao_Paulo:20241011T180000
DTSTAMP:20260425T080317
CREATED:20241011T111514Z
LAST-MODIFIED:20241011T111514Z
UID:37355-1728655200-1728669600@www.goiasfomento.com
SUMMARY:Lucas Fernandes – Diretor Presidente (Interino): Despachos Internos.
DESCRIPTION:
URL:https://www.goiasfomento.com/agenda/lucas-fernandes-diretor-presidente-interino-despachos-internos-104/
LOCATION:Gabinete da Presidência da GoiásFomento – Agência de Fomento de Goiás.
CATEGORIES:Presidência
END:VEVENT
BEGIN:VEVENT
DTSTART;TZID=America/Sao_Paulo:20241011T140000
DTEND;TZID=America/Sao_Paulo:20241011T180000
DTSTAMP:20260425T080317
CREATED:20241011T111736Z
LAST-MODIFIED:20241011T111736Z
UID:37361-1728655200-1728669600@www.goiasfomento.com
SUMMARY:Lucas Fernandes: Despachos Internos.
DESCRIPTION:
URL:https://www.goiasfomento.com/agenda/lucas-fernandes-despachos-internos-553/
LOCATION:Gabinete da Diretoria Administrativa e Financeira – Agência de Fomento de Goiás.
CATEGORIES:Diretoria Administrativa e Financeira
END:VEVENT
BEGIN:VEVENT
DTSTART;VALUE=DATE:20241014
DTEND;VALUE=DATE:20241015
DTSTAMP:20260425T080317
CREATED:20241014T112014Z
LAST-MODIFIED:20241014T112014Z
UID:37378-1728864000-1728950399@www.goiasfomento.com
SUMMARY:Cargo Vago desde 02/07/2024.
DESCRIPTION:
URL:https://www.goiasfomento.com/agenda/cargo-vago-desde-02-07-2024-72/
LOCATION:Chefia de Gabinete – Agência de Fomento de Goiás
CATEGORIES:Chefia de Gabinete
END:VEVENT
BEGIN:VEVENT
DTSTART;TZID=America/Sao_Paulo:20241014T080000
DTEND;TZID=America/Sao_Paulo:20241014T090000
DTSTAMP:20260425T080317
CREATED:20241014T112259Z
LAST-MODIFIED:20241014T191313Z
UID:37388-1728892800-1728896400@www.goiasfomento.com
SUMMARY:Lucas Fernandes – Diretor Presidente (Interino): Despachos Internos.
DESCRIPTION:
URL:https://www.goiasfomento.com/agenda/lucas-fernandes-diretor-presidente-interino-despachos-internos-105/
LOCATION:Gabinete da Presidência da GoiásFomento – Agência de Fomento de Goiás.
CATEGORIES:Presidência
END:VEVENT
BEGIN:VEVENT
DTSTART;TZID=America/Sao_Paulo:20241014T080000
DTEND;TZID=America/Sao_Paulo:20241014T090000
DTSTAMP:20260425T080317
CREATED:20241014T112435Z
LAST-MODIFIED:20241014T191355Z
UID:37394-1728892800-1728896400@www.goiasfomento.com
SUMMARY:Lucas Fernandes: Despachos Internos.
DESCRIPTION:
URL:https://www.goiasfomento.com/agenda/lucas-fernandes-despachos-internos-555/
LOCATION:Gabinete da Diretoria Administrativa e Financeira – Agência de Fomento de Goiás.
CATEGORIES:Diretoria Administrativa e Financeira
END:VEVENT
BEGIN:VEVENT
DTSTART;TZID=America/Sao_Paulo:20241014T080000
DTEND;TZID=America/Sao_Paulo:20241014T120000
DTSTAMP:20260425T080317
CREATED:20241014T111845Z
LAST-MODIFIED:20241014T111845Z
UID:37374-1728892800-1728907200@www.goiasfomento.com
SUMMARY:Vinícius Luz: Despachos Internos.
DESCRIPTION:
URL:https://www.goiasfomento.com/agenda/vinicius-luz-despachos-internos-106/
LOCATION:Gabinete da Diretoria de Operações da GoiásFomento – Agência de Fomento de Goiás.
CATEGORIES:Diretoria de Operações
END:VEVENT
BEGIN:VEVENT
DTSTART;TZID=America/Sao_Paulo:20241014T090000
DTEND;TZID=America/Sao_Paulo:20241014T100000
DTSTAMP:20260425T080317
CREATED:20241014T191856Z
LAST-MODIFIED:20241014T191856Z
UID:37397-1728896400-1728900000@www.goiasfomento.com
SUMMARY:Lucas Fernandes – Diretor Presidente (Interino): Reunião com os Gerentes.
DESCRIPTION:
URL:https://www.goiasfomento.com/agenda/lucas-fernandes-diretor-presidente-interino-reuniao-com-os-gerentes-3/
LOCATION:Gabinete da Presidência da GoiásFomento – Agência de Fomento de Goiás.
CATEGORIES:Presidência
END:VEVENT
END:VCALENDAR